{"text_format":"1","workbook":"xlsx","n_sheets":18,"sheets":["Tutorial(1)","Tutorial","Circuit1","Circuit2","Results","Efficiency","PowerLossComponents","Circuit1Details","Circuit2Details","Constants","Control1","Control2","MOSFETSelector","SelectorConstants","Duals","MOSFETs","Drivers","RevisionHistory"],"not_rendered":{"charts":6,"images":13,"macros":1,"external_links":2,"defined_names":33,"comments":0,"pivot_tables":0},"unopened":[{"sheet":"Efficiency","index":5,"reason":"not_a_worksheet"},{"sheet":"PowerLossComponents","index":6,"reason":"not_a_worksheet"}],"bounds":{"document_bytes":16777216,"sheet_cells":100000,"rows_first":2000,"rows_last":500,"rows_between":2000,"halvings":0,"cell_chars":16384,"cell_head_chars":4096},"cells_cut":0,"cells_raw":0,"read":"whole","date_system":"1900"}

{"sheet":"Tutorial(1)","index":0,"n_rows":36,"n_cols":3,"rows_kept":36,"cut":false,"hidden":true,"merged":[[20,11,20,14],[0,0,2,2]]}
["Parameter Definitions"]
[]
[]
[]
["Definition","Symbol","Expression"]
["ConductionPowerLossatHSMOSFET ","PHC=","(Iload)^2*RTHS*D*Ts*fs"]
["Switching Point at High Side MOSFET ","Vsp =","Vth+Iload/(gm*#HS)"]
["Driver Current for  High Side MOSFET at Turn-on interval ","Idr(LH) = ","(Vdr-Vsp)/(Rdr_source+Rgex+Rgin/#HS)"]
["Driver Current for  High Side MOSFET at Turn-oFF interval ","Idr(HL) = ","Vsp/(Rdr_sink+Rgex+Rgin/#HS)"]
["Gate Charge at Switching moment ","Qgs(sw)=","(Qgd+Qgs/2)*#HS"]
["Turn-on Time of Hiigh Side MOSFET"," tr =","Qgs(sw)/Idriver(L-H)"]
["Turn-off Time of High Side MOSFT ","tf=","Qgs(sw)/Idriver(H-L)"]
["Switching Loss at High Side MOSFET ","PswHS=","0.5*Vin*(Iload)*(tr+tf)*fs"]
["Conduction Loss at Low Side MOSFET ","PconLS=","Iload^2*RTLS*(1-D)*Ts*fs"]
["Diode Reverse Recovery Loss","PQrr=","Vin*IDS*(Qrr-Coss*VDSmea)/IDSmea*fs"]
["Power Loss at Deadtime Interval ","PDT=","VD*Iload*(tpdhDRVH+tpdlDRVH)*fs"]
["Total Gate Charge of MOSFET","Qg=","Qg(4.5V)+(Vdrive-4.5)r*(Qg(10V)-Qg(4.5V))/5.5"]
["Driver Loss for Both HS MOSFETs ","PdrHS=","Vdr*Qiss(HS)*#HS*fs"]
["Driver Loss for Both LS MOSFETs ","PdrLS=","Vdr*Qiss(LS)*#LS*fs"]
["Inductor Winding Loss ","Pw=","Iload^2*Rwinding"]
["Inductor Core Loss ","Pc=","Eloss@onecycle*fs"]
["Parasitic Capacitance of HS LS MOSFETs ","Pcsw=","(0.5*Coss@LS*#LS+Coss@HS*#HS)*Vin^2*fs"]
["Output Capacitance ESR Loss ","Pesr=","(Iripple/1.732)^2*ESR"]
["Total Powre Loss at High Side MOSFET ","PHS=","PHC+PswHC"]
["Total Powre Loss at Low Side MOSFET ","PLS=","PswLS"]
["Total Powr Loss in inductor Capacitor and PCB ","PLCR=","Pw+Pc+Pcsw+Pesr"]
["Output Power ","Pout=","Iload*Vout"]
["Temperature Increase of MOSFE die at HS","ΔTHS=","ThermalResistance*PHS/#HS"]
["Temperature Increase of MOSFE die at LS","ΔTLS=","ThermalResistance*PLS/#LS"]
[null,"RDSon=","RDSon(Vdr=4.5V)+(Vdr-4.5)*(RDSon(Vdr=10V)-RDSon(Vdr=4.5V))/5.5"]
["Total RDSon with thermal effect at HS","RTHS=","(RDSon+RDSon*ΔTHS*TemperatureCoefficient)/#HS"]
["Total RDSon with thermal effect at LS","RTLS=","(RDSon+RDSon*ΔTLS*TemperatureCoefficient)/#LS"]
["Temperature at HS MOSFET","TLS=","ΔTLS+25"]
["Temperature at LS MOSFET","THS=","ΔTHS+25"]
["Power Loss in each MOSFET at LS","PLOSS LS/EACH=","PLS/#LS"]
["Power Loss in each MOSFET at HS","PLOSS HS/EACH=","PHS/#HS"]

{"sheet":"Tutorial","index":1,"n_rows":274,"n_cols":9,"rows_kept":274,"cut":false,"hidden":false,"merged":[[265,0,266,18],[269,0,272,18],[273,0,281,18],[0,0,1,18],[190,0,190,18],[191,0,199,18],[220,0,221,18],[229,0,238,18],[105,0,108,18],[140,0,151,18],[3,0,11,18],[28,0,29,18],[37,0,43,18],[44,0,46,19],[69,0,70,18],[73,0,76,18]]}
[" Tutorial for Efficiency Simulator&MOSFET Selector for T3&T6"]
[]
["Efficiency Simulator"]
["This simulation tool includes macro programming. A security warning appears every time you open this tool. Click \"Options\" in the following figure and choose \"Enable this content\" to enable macro."]
[]
[]
[]
[]
[]
[]
[]
[]
[]
[]
[]
[]
[]
[]
[]
[]
[]
[]
[]
[]
[]
[]
[]
["Simulation Circuit"]
["This simulator models a basic synchronous Buck converter. The structure of the Buck converter circuit is shown below."]
[]
[]
[]
[]
[]
[]
[]
[]
["Circuit parameters can be entered into the two spreadsheets titled “Circuit 1” and “Circuit 2”. In each of these spreadsheets, the circuit parameters are organized into five major regions, as indicated in the diagram below. Area 1 contains the topology parameters of the synchronous Buck converter, including Vin, Vout, Iout, fs, Iripple, and Vripple. Area 2 contains parameters specific to the driver device. Note that in this circuit, both the high-side and low-side MOSFETs share the same driver. Area 3 contains parameters specific to the circuit’s output inductor and capacitor. Finally, Areas 4 and 5 contain the parameters of the high-side and low-side MOSFETs. In this simulator, parameter values for high side and low side MOSFETs are preloaded to the spreadsheet \"MOSFETs\". Users have the flexibiligy to define new MOSFETs in spreadsheet \"MOSFETs\" and then use the user defined MOSFETs in spreadsheet \"Circuit1\" or \"Circuit2\". MOSFETs that are not defined in spreadsheet \"MOSFETs\" can not be simulated in this simulator."]
[]
[]
[]
[]
[]
[]
["The simulator will automatically run each time a user-definable parameter (denoted by a yellow background) is altered. No additional buttons need to be pressed in order to start the simulation."]
[]
[]
[]
[]
[]
[]
[]
[]
[]
[]
[]
[]
[]
[]
[]
[]
[]
[]
[]
[]
[]
[]
[]
[]
["Any cell that is open to user input is marked with a yellow background. Cells with white backgrounds contain the simulator’s results based upon the user’s input parameters. As such, the white cells may not be directly edited by the user."]
[]
[]
["Efficiency simulation results"]
["The user may view the efficiency results for Circuits 1 and 2 by clicking the tab titled “Efficiency”. An example of an efficiency simulation curve is shown below. Above each simulation curve is a title that shows which MOSFETs, drivers, input voltages, output voltages, and switching frequencies were used in the circuit. The buttons “Show Circuit 1” and “Don’t Show Circuit 1” control whether the efficiency curve for Circuit 1 is displayed on the graph. Similar buttons exist to control whether the efficiency curve for Circuit 2 is displayed."]
[]
[]
[]
[]
[]
[]
[]
[]
[]
[]
[]
[]
[]
[]
[]
[]
[]
[]
[]
[]
[]
[]
[]
[]
[]
[]
[]
[]
[]
[]
["PowerLossComponents"]
["By clicking the tab titled “Power Loss Components,” the user may view a chart explaining the losses of power within the circuit. There are 9 components contributing to the circuit’s power loss, including conduction loss at the high-side MOSFET, switching loss at the high-side MOSFET, conduction loss of the low-side MOSFET, diode reverse recovery loss, deadtime power loss, driver loss for the high-side MOSFET, driver loss for the low-side MOSFET, winding loss, PCB loss, and ESR loss at the output capacitors. By using the pull-down menus above the chart, the user may select which circuit is shown in the chart, as well as the output current at which the simulation is run."]
[]
[]
[]
[]
[]
[]
[]
[]
[]
[]
[]
[]
[]
[]
[]
[]
[]
[]
[]
[]
[]
[]
[]
[]
[]
[]
[]
[]
[]
[]
[]
[]
[]
["MOSFET database and Driver database"]
["In this simulator, the parameter values for both the high-side and the low-side single MOSFETs have been pre-loaded into the spreadsheet titled “MOSFETs”.  Dual MOSFETs are categorized in another spreadsheet with title \"Duals\". Within the “MOSFETs”  and \"Duals\" spreadsheet, users have the ability to define new MOSFET devices for use in the simulator. Users who wish to define a new MOSFET device must enter both the device name and the device parameters, including RDSon (Vg=4.5V), Coss(Q1), Qgd, Qgs, Vth, diode forward voltage VSD, transconductance gm, internal Rgin, thermal resistance, RDSon temperature coefficient, RDSon (Vg=10V), and maximum drain-source current ID-Max. After the name and parameters of a user-defined MOSFET have been entered into the spreadsheet, this new device becomes available for selection from the pull-down menus in either “Circuit1” or “Circuit2”. Devices that have not been defined within this spreadsheet will not appear within the pull-down menus. \n\nSimilarly, a collection of driver devices has been pre-loaded into the spreadsheet titled “Drivers”.  Users may select from the pre-loaded driver devices, or may define a new device by entering the device name and parameters. For the driver database, the user-defined parameters include maximum driver voltage, high-side source resistance, high-side sinking resistance, rise delay time tpdh DRVH, fall delay time tpdl DRVH, external gate resistance Rgex, and quiescent current."]
[]
[]
[]
[]
[]
[]
[]
[]
[]
[]
[]
[null,null,null,null,null,null,null,"Single MOSFET database snapshot"]
[]
[]
[]
[]
[]
[]
[]
[]
[]
[]
[null,null,null,null,null,null,null,null,"Driver database snapshot"]
[]
[]
[]
[]
[]
[]
[]
[]
[]
[]
[]
[]
[]
[]
[]
[]
[]
[]
[]
[]
[]
[]
[]
[]
[]
[]
["ON SEMI T3/T6 MOSFET Selector Tutorial"]
["This selector includes macro programming. A security warning appears every time you open this tool. Click \"Options\" in the following figure and choose \"Enable this content\" to enable macro."]
[]
[]
[]
[]
[]
[]
[]
[]
[]
[]
[]
[]
[]
[]
[]
[]
[]
[]
[]
[]
[]
[]
[]
[]
[]
[]
[]
["Simulation Circuit"]
["This MOSFET selector is a basic synchronous Buck converter. The structure of the Buck converter circuit is shown below."]
[]
[]
[]
[]
[]
[]
[]
[]
["Circuit parameters can be entered into the spreadsheet titled “MOSFETSelector”. In this spreadsheet, the circuit parameters are organized into five major regions, as indicated in the diagram below. Area 1 contains the topology parameters of the synchronous Buck converter, including Vin, Vout, Iout, fs, Iripple, and Vripple. Area 2 contains parameters specific to the driver device. Note that in this circuit, both the high-side and low-side MOSFETs share the same driver. Areas 3 and 4 contain the parameters of the high-side and low-side MOSFETs, like numbers of MOSFETs and external gate resistance. Finally, Area 5 contains parameters specific to the circuit’s output inductor and capacitor.  \n\nThe section marked with red or blue border is the section to output selection results based on desied efficiency, load current where desired efficiency is specified and packages. The red section suggests MOSFET pairs, and blu section suggests single MOSFETs based on the MOSFET specified by users.\n\nDual T3 MOSFETs are also included in the selector."]
[]
[]
[]
[]
[]
[]
[]
[]
[]
[]
[]
[]
[]
[]
[]
[]
[]
[]
[]
[]
[]
[]
[]
[]
[]
[]
[]
[]
[]
[]
[]
[]
[]
[]
[]
["Any cell that is open to user input is marked with a yellow background. Cells with white backgrounds contain the simulator’s results based upon the user’s input parameters. As such, the white cells may not be directly edited by the user."]
[]
[]
[]
[]
[]
[]
[]
["For updates or suggestions, please contact \nZhiyang Chen \nZhiyang.Chen@onsemi.com"]

{"sheet":"Circuit1","index":2,"n_rows":1010,"n_cols":26,"rows_kept":1010,"cut":false,"hidden":false,"merged":[[30,7,33,10],[9,26,10,27],[5,23,7,23],[0,0,0,10],[4,12,4,13],[26,12,28,14],[26,16,28,18],[26,20,28,22],[19,0,19,2]]}
[{"$f":"CONCATENATE(Circuit1!F16,\"x\",Circuit1!F29,\"+\",Circuit1!J16,\"x\",Circuit1!J26,\"@\",Circuit1!B5,\"kHz;\",\" Vin=\",$B$3,\"V;\",\"Vout=\",B4,\"V;\",\"Driver=\",F3,\"(\",F4,\"V)\")","v":"NTD4804Nx1+NTMFS4897NFx1@300kHz; Vin=15V;Vout=1.2V;Driver=NCP5359A(5V)"},null,null,null,null,null,null,null,null,null,null,null,"Design Goal ",null,null,null,"Design Goal",null,null,null,"Design Goal"]
["Buck Circuit Parameters:",null,null,"Driver Parameters:",null,null,null,"Output L-C",null,null,null,null,"Target Effieciency","Load Current",null,null,"Target Effieciency","Load Current","HS MOSFET",null,"Target Effieciency","Load Current","LS MOSFET"]
["Input Voltage ",15,"V",null,"Driver ","NCP5359A",null,"Capacitor",null,null,null,null,90,30,null,null,95,30,"NTD4806N",null,90,30,"NTD4813NH",null,0.99357799999999996,0.80078245397990022]
["Output Voltage",1.2,"V","Driver Voltage Vdr","Vcc",5,"V",null,"ESR_Coutput",5,"mΩ",null,null,null,null,null,null,null,null,null,null,null,null,null,2.9871880000000002,0.88512301146984795]
["Switching Frequency",300,"kHz","Sourcing Resistance @ HS",null,{"$f":"IF(ISNUMBER(VLOOKUP(F3,Drivers!A1:J20,3,0)), VLOOKUP(F3,Drivers!A1:J20,3,0),0.001)","v":2},"Ω",null,"Capacitor Actual Value",88,"uF",null,"Display Number",null,null,null,null,null,null,null,null,null,null,null,4.9869899999999996,0.90014092537476131]
["Duty Cycle",{"$f":"B4/B3","v":0.08},null,"Sinking Resistance @ HS",null,{"$f":"IF(ISNUMBER(VLOOKUP(F3,Drivers!A1:J20,4,0)), VLOOKUP(F3,Drivers!A1:J20,4,0),0.7)","v":1},"Ω",null,null,null,null,null,10,null,null,null,null,null,null,null,null,null,null,null,6.9889400000000004,0.90116097945108331]
["Period Ts (s)",{"$f":"1/B5/1000*1000000","v":3.3333333333333339},"us","Rise Delay Time","tpdHDRVH",{"$f":"IF(ISNUMBER(VLOOKUP(F3,Drivers!A1:J20,5,0)), VLOOKUP(F3,Drivers!A1:J20,5,0),0.00000003)","v":20},"ns","Inductor",null,null,null,null,null,null,null,null,null,null,null,null,null,null,null,null,8.9895479999999992,0.89636256741781861]
["Current Ripple Peak-to-Avg",{"$f":"B6*B7*0.000001*(B3-B4)/J10/2*1000000","v":1.8400000000000005},"A","Fall Delay Time","tpdLDRVH",{"$f":"IF(ISNUMBER(VLOOKUP(F3,Drivers!A1:J20,6,0)), VLOOKUP(F3,Drivers!A1:J20,6,0),0.000000015)","v":20},"ns",null,"Core loss",30,"mW",null,"Suggestios for High Efficiency Pairs",null,null,null,"Suggestions for LS MOSFET",null,null,null,"Suggestions for HS MOSFET",null,null,null,10.997684,0.88928550087156721]
["Voltage Ripple",{"$f":"0.5*B8*0.5*B7*0.000001/J5*1000000*1000+B8*J4","v":26.624242424242436},"mV","Quiescent Current",null,{"$f":"IF(ISNUMBER(VLOOKUP(F3,Drivers!A1:J20,8,0)), VLOOKUP(F3,Drivers!A1:J20,8,0),0.001)","v":5},"mA",null,"WindingResistance",1.5,"mΩ",null,"HS MOSFET","LS MOSFET","Efficiency",null,"HS MOSFET","LS MOSFET","Efficiency",null,"HS MOSFET","LS MOSFET","Efficiency",null,12.991567999999999,0.88073667811364897]
["Maximum Output Current",30,"A","Maxim Driver Voltage","MAX-Vcc",{"$f":"IF(ISNUMBER(VLOOKUP(F3,Drivers!A1:J20,2,0)), VLOOKUP(F3,Drivers!A1:J20,2,0),0.001)","v":15},"V",null,"Inductor Actual Value",1,"uH",null,{"$f":"Control1!$X$17","v":"NTMFS4937N"},{"$f":"Control1!$Y$17","v":"NTMFS4825NFE"},{"$f":"Control1!$Z$17","v":0.95866834759264485},null,{"$f":"Control1!$X$26","v":"NTD4806N"},{"$f":"Control1!$Y$26","v":"NTMFS4825NFE"},{"$f":"Control1!$Z$26","v":0.93878064953170903},null,{"$f":"Control1!$X$37","v":"NTMFS4934N"},{"$f":"Control1!$Y$37","v":"NTD4813NH"},{"$f":"Control1!$Z$37","v":0.88633381922897603},null,14.967428,0.87094306502123775]
["Current Ripple Ratio",{"$f":"B8/B10*100","v":6.1333333333333346},"%",null,null,null,null,null,null,null,null,null,{"$f":"Control1!$X$18","v":"NTMFS4934N"},{"$f":"Control1!$Y$18","v":"NTMFS4825NFE"},{"$f":"Control1!$Z$18","v":0.9586399465477784},null,{"$f":"Control1!$X$20","v":"NTD4806N"},{"$f":"Control1!$Y$20","v":"NTMFS4897NF"},{"$f":"Control1!$Z$20","v":0.93873026148745431},null,{"$f":"Control1!$X$39","v":"NTMFS4937N"},{"$f":"Control1!$Y$39","v":"NTD4813NH"},{"$f":"Control1!$Z$39","v":0.88595990417786963},null,16.994394,0.8597879841251731]
["Voltage Ripple Ratio",{"$f":"B9/1000/B4*100","v":2.2186868686868695},"%",null,null,null,null,"PCB Resistance","R-PCB",1,"mΩ",null,{"$f":"Control1!$X$12","v":"NTMFS4937N"},{"$f":"Control1!$Y$12","v":"NTMFS4897NF"},{"$f":"Control1!$Z$12","v":0.95861487733662853},null,{"$f":"Control1!$X$29","v":"NTD4806N"},{"$f":"Control1!$Y$29","v":"NTMFS4933N"},{"$f":"Control1!$Z$29","v":0.93775560928660284},null,{"$f":"Control1!$X$30","v":"NTTFS4932N"},{"$f":"Control1!$Y$30","v":"NTD4813NH"},{"$f":"Control1!$Z$30","v":0.88575110948931235},null,17.982323999999998,0.8537634946163708]
[null,null,null,null,null,null,null,null,null,null,null,null,{"$f":"Control1!$X$11","v":"NTMFS4934N"},{"$f":"Control1!$Y$11","v":"NTMFS4897NF"},{"$f":"Control1!$Z$11","v":0.95858587485743862},null,{"$f":"Control1!$X$22","v":"NTD4806N"},{"$f":"Control1!$Y$22","v":"NTMFS4934N"},{"$f":"Control1!$Z$22","v":0.93655270473209951},null,{"$f":"Control1!$X$33","v":"NTMFS4936N"},{"$f":"Control1!$Y$33","v":"NTD4813NH"},{"$f":"Control1!$Z$33","v":0.88525301110723065},null,20.003641999999999,0.84160574257818965]
[null,"\n\n=IF(ISBLANK(B1), \"Default\", B1)",null,null,null,null,null,null,null,null,null,null,{"$f":"Control1!$X$10","v":"NTTFS4932N"},{"$f":"Control1!$Y$10","v":"NTMFS4825NFE"},{"$f":"Control1!$Z$10","v":0.9584376391651801},null,{"$f":"Control1!$X$27","v":"NTD4806N"},{"$f":"Control1!$Y$27","v":"NTMFS4833N"},{"$f":"Control1!$Z$27","v":0.9362240691639665},null,{"$f":"Control1!$X$38","v":"NTMFS4923NE"},{"$f":"Control1!$Y$38","v":"NTD4813NH"},{"$f":"Control1!$Z$38","v":0.88497957320625564},null,null,0.84]
[null,null,null,"High-Side MOSFET:",null,null,null,"Low-Side MOSFET:",null,null,null,null,{"$f":"Control1!$X$15","v":"NTTFS4932N"},{"$f":"Control1!$Y$15","v":"NTMFS4897NF"},{"$f":"Control1!$Z$15","v":0.95838472305391487},null,{"$f":"Control1!$X$21","v":"NTD4806N"},{"$f":"Control1!$Y$21","v":"NTMFS4852N"},{"$f":"Control1!$Z$21","v":0.93557752409543493},null,{"$f":"Control1!$X$36","v":"NTMFS4935N"},{"$f":"Control1!$Y$36","v":"NTD4813NH"},{"$f":"Control1!$Z$36","v":0.8849793430319427},null,null,0.82]
["Enable auto zoom in and out?","No",null,"MOSFET Selected",null,"NTD4804N",null,"MOSFET Selected",null,"NTMFS4897NF",null,null,{"$f":"Control1!$X$14","v":"NTMFS4936N"},{"$f":"Control1!$Y$14","v":"NTMFS4825NFE"},{"$f":"Control1!$Z$14","v":0.95786840659031203},null,{"$f":"Control1!$X$25","v":"NTD4806N"},{"$f":"Control1!$Y$25","v":"NTMFS4845N"},{"$f":"Control1!$Z$25","v":0.93179998017684351},null,{"$f":"Control1!$X$32","v":"NTMFS4825NFE"},{"$f":"Control1!$Y$32","v":"NTD4813NH"},{"$f":"Control1!$Z$32","v":0.88482145690769376},null,null,0.81]
[null,null,null,"Drain-to-Source On Resistance","RDS(on)",{"$f":"Constants!H17","v":4.5999999999999996},"mΩ","Drain-to-Source On Resistance","RDS(on)",{"$f":"Constants!I17","v":2},"mΩ",null,{"$f":"Control1!$X$13","v":"NTMFS4936N"},{"$f":"Control1!$Y$13","v":"NTMFS4897NF"},{"$f":"Control1!$Z$13","v":0.95781491773023508},null,{"$f":"Control1!$X$28","v":"NTD4806N"},{"$f":"Control1!$Y$28","v":"NTMFS4834N"},{"$f":"Control1!$Z$28","v":0.93168985942890459},null,{"$f":"Control1!$X$34","v":"NTMFS4897NF"},{"$f":"Control1!$Y$34","v":"NTD4813NH"},{"$f":"Control1!$Z$34","v":0.88476987637076432}]
[null,null,null,"Total Gate Charge","QG(TOT)",{"$f":"Constants!H18","v":30},"nC","Total Gate Charge","QG(TOT)",{"$f":"Constants!I18","v":40.200000000000003},"nC",null,{"$f":"Control1!$X$19","v":"NTMFS4937N"},{"$f":"Control1!$Y$19","v":"NTMFS4933N"},{"$f":"Control1!$Z$19","v":0.95764127310565439},null,{"$f":"Control1!$X$24","v":"NTD4806N"},{"$f":"Control1!$Y$24","v":"NTMFS4898N"},{"$f":"Control1!$Z$24","v":0.93154026210752694},null,{"$f":"Control1!$X$31","v":"NTMFS4852N"},{"$f":"Control1!$Y$31","v":"NTD4813NH"},{"$f":"Control1!$Z$31","v":0.88378204365107937}]
[null,null,null,"Output Capacitance","Coss",{"$f":"Constants!H19","v":952},"pF","Output Capacitance","Coss",{"$f":"Constants!I19","v":1150},"pF",null,{"$f":"Control1!$X$16","v":"NTMFS4934N"},{"$f":"Control1!$Y$16","v":"NTMFS4933N"},{"$f":"Control1!$Z$16","v":0.95760750115804882},null,{"$f":"Control1!$X$23","v":"NTD4806N"},{"$f":"Control1!$Y$23","v":"NTMFS4846N"},{"$f":"Control1!$Z$23","v":0.93043372816415415},null,{"$f":"Control1!$X$35","v":"NTD4904N"},{"$f":"Control1!$Y$35","v":"NTD4813NH"},{"$f":"Control1!$Z$35","v":0.88336370853285295}]
["Buck converter circuit",null,null,"Gate-to-Drain Charge","QGD",{"$f":"Constants!H20","v":13},"nC","Diode Reverse Recovery Charge","QRR",{"$f":"Constants!I20","v":34},"nC "]
[null,null,null,"Gate-to-Source Charge","QGS",{"$f":"Constants!H21","v":13},"nC","SD Forward Diode Voltage","VSD",{"$f":"Constants!I21","v":0.35},"V"]
[null,null,null,"Gate Threshold Voltage","VGS(TH)",{"$f":"Constants!H22","v":2},"V","Junction-to-Ambient  Thermal Resistance ","RѲJA",{"$f":"Constants!I22","v":45.7},"°C/W",null,null,{"$f":"Control1!$X$10","v":"NTTFS4932N"}]
[null,null,null,"Forward Transconductance","gFS",{"$f":"Constants!H23","v":23},"S","RDSon Temperature Coefficient",null,{"$f":"Constants!I23","v":0.52},"%/°C"]
[null,null,null,"Gate Resistance","RG",{"$f":"Constants!H24","v":0.6},"Ω"]
[null,null,null,"Junction-to-Ambient Thermal Resistance","RѲJA",{"$f":"Constants!H25","v":60},"°C/W","External Gate Resistance","Rgex",0,"Ω"]
[null,null,null,"RDS(on) Temperature Coefficient",null,{"$f":"Constants!H26","v":0.46666666666666662},"%/°C","Number of LS MOSFET",null,1,null,null,"Note:",null,null,null,"Note:",null,null,null,"Note:"]
[null,null,null,null,null,null,null,null,null,null,null,null,"1. All the cells with yellow background color except cell F16 and cell J16 must be filled before any MOSFET is suggested.",null,null,null,"1. All the cells with yellow background color except cell F16 and cell J16 must be filled before any MOSFET is suggested.",null,null,null,"1. All the cells with yellow background color except cell F16 and cell J16 must be filled before any MOSFET is suggested."]
[null,null,null,"External Gate Resistance","Rgex",0,"Ω"]
[null,null,null,"Number of HS MOSFET",null,1]
[]
["Note:",null,null,null,null,null,null,"For updates or suggestions, please contact\nZhiyang Chen\nZhiyang.Chen@onsemi.com"]
["1. Only single phase is simulated."]
["2. Simulaton is performed at 25 °C and selfheating of MOSFETs is not taken into account."]
[]
[]
[]
[]
[]
[]
[]
[null,null,null,null,null,null,null,null,null,null,null,null,null,null,null,null,null,null,null,null,null,null,null,"NTMFS4847N","NTMFS4933N"]
[null,null,null,null,null,null,null,null,null,null,null,null,null,null,null,null,null,null,null,null,null,null,null,"NTMFS4851","NTMFS4933N"]
[null,null,null,null,null,null,null,null,null,null,null,null,null,null,null,null,null,null,null,null,null,null,null,"NTMFS4852N","NTMFS4825NFE"]
[null,null,null,null,null,null,null,null,null,null,null,null,null,null,null,null,null,null,null,null,null,null,null,"NTMFS4852N","NTMFS4897"]
[null,null,null,null,null,null,null,null,null,null,null,null,null,null,null,null,null,null,null,null,null,null,null,"NTMFS4852N","NTMFS4933N"]
[null,null,null,null,null,null,null,null,null,null,null,null,null,null,null,null,null,null,null,null,null,null,null,"NTMFS4897","NTMFS4825NFE"]
[null,null,null,null,null,null,null,null,null,null,null,null,null,null,null,null,null,null,null,null,null,null,null,"NTMFS4897","NTMFS4897"]
[null,null,null,null,null,null,null,null,null,null,null,null,null,null,null,null,null,null,null,null,null,null,null,"NTMFS4897","NTMFS4933N"]
[null,null,null,null,null,null,null,null,null,null,null,null,null,null,null,null,null,null,null,null,null,null,null,"NTMFS4898N","NTMFS4825NFE"]
[null,null,null,null,null,null,null,null,null,null,null,null,null,null,null,null,null,null,null,null,null,null,null,"NTMFS4898N","NTMFS4897"]
[null,null,null,null,null,null,null,null,null,null,null,null,null,null,null,null,null,null,null,null,null,null,null,"NTMFS4898N","NTMFS4933N"]
[null,null,null,null,null,null,null,null,null,null,null,null,null,null,null,null,null,null,null,null,null,null,null,"NTMFS4899N","NTMFS4933N"]
[null,null,null,null,null,null,null,null,null,null,null,null,null,null,null,null,null,null,null,null,null,null,null,"NTMFS4921","NTMFS4933N"]
[null,null,null,null,null,null,null,null,null,null,null,null,null,null,null,null,null,null,null,null,null,null,null,"NTMFS4923NE","NTMFS4825NFE"]
[null,null,null,null,null,null,null,null,null,null,null,null,null,null,null,null,null,null,null,null,null,null,null,"NTMFS4923NE","NTMFS4897"]
[null,null,null,null,null,null,null,null,null,null,null,null,null,null,null,null,null,null,null,null,null,null,null,"NTMFS4923NE","NTMFS4933N"]
[null,null,null,null,null,null,null,null,null,null,null,null,null,null,null,null,null,null,null,null,null,null,null,"NTMFS4925","NTMFS4933N"]
[null,null,null,null,null,null,null,null,null,null,null,null,null,null,null,null,null,null,null,null,null,null,null,"NTMFS4926","NTMFS4933N"]
[null,null,null,null,null,null,null,null,null,null,null,null,null,null,null,null,null,null,null,null,null,null,null,"NTMFS4933N","NTMFS4825NFE"]
[null,null,null,null,null,null,null,null,null,null,null,null,null,null,null,null,null,null,null,null,null,null,null,"NTMFS4933N","NTMFS4897"]
[null,null,null,null,null,null,null,null,null,null,null,null,null,null,null,null,null,null,null,null,null,null,null,"NTMFS4933N","NTMFS4933N"]
[null,null,null,null,null,null,null,null,null,null,null,null,null,null,null,null,null,null,null,null,null,null,null,"NTMFS4933N","NTMFS4934N"]
[null,null,null,null,null,null,null,null,null,null,null,null,null,null,null,null,null,null,null,null,null,null,null,"NTMFS4934N","NTMFS4825NFE"]
[null,null,null,null,null,null,null,null,null,null,null,null,null,null,null,null,null,null,null,null,null,null,null,"NTMFS4934N","NTMFS4897"]
[null,null,null,null,null,null,null,null,null,null,null,null,null,null,null,null,null,null,null,null,null,null,null,"NTMFS4934N","NTMFS4933N"]
[null,null,null,null,null,null,null,null,null,null,null,null,null,null,null,null,null,null,null,null,null,null,null,"NTMFS4935N","NTMFS4825NFE"]
[null,null,null,null,null,null,null,null,null,null,null,null,null,null,null,null,null,null,null,null,null,null,null,"NTMFS4935N","NTMFS4897"]
[null,null,null,null,null,null,null,null,null,null,null,null,null,null,null,null,null,null,null,null,null,null,null,"NTMFS4935N","NTMFS4933N"]
[null,null,null,null,null,null,null,null,null,null,null,null,null,null,null,null,null,null,null,null,null,null,null,"NTMFS4936","NTMFS4933N"]
[null,null,null,null,null,null,null,null,null,null,null,null,null,null,null,null,null,null,null,null,null,null,null,"NTMFS4937N","NTMFS4933N"]
[null,null,null,null,null,null,null,null,null,null,null,null,null,null,null,null,null,null,null,null,null,null,null,"NTMFS4939N","NTMFS4933N"]
[null,null,null,null,null,null,null,null,null,null,null,null,null,null,null,null,null,null,null,null,null,null,null,"NTMFS4941N","NTMFS4933N"]
[null,null,null,null,null,null,null,null,null,null,null,null,null,null,null,null,null,null,null,null,null,null,null,"NTMFS4943N","NTMFS4933N"]
[null,null,null,null,null,null,null,null,null,null,null,null,null,null,null,null,null,null,null,null,null,null,null,"NTTFS4824N","NTMFS4933N"]
[null,null,null,null,null,null,null,null,null,null,null,null,null,null,null,null,null,null,null,null,null,null,null,"NTTFS4932N","NTMFS4825NFE"]
[null,null,null,null,null,null,null,null,null,null,null,null,null,null,null,null,null,null,null,null,null,null,null,"NTTFS4932N","NTMFS4897"]
[null,null,null,null,null,null,null,null,null,null,null,null,null,null,null,null,null,null,null,null,null,null,null,"NTTFS4932N","NTMFS4933N"]
[null,null,null,null,null,null,null,null,null,null,null,null,null,null,null,null,null,null,null,null,null,null,null,"NTTFS4937N","NTMFS4933N"]
[null,null,null,null,null,null,null,null,null,null,null,null,null,null,null,null,null,null,null,null,null,null,null,"NTTFS4939N","NTMFS4933N"]
[null,null,null,null,null,null,null,null,null,null,null,null,null,null,null,null,null,null,null,null,null,null,null,"NTTFS4941N","NTMFS4933N"]
[null,null,null,null,null,null,null,null,null,null,null,null,null,null,null,null,null,null,null,null,null,null,null,"NTD4809N","NTMFS4898N"]
[null,null,null,null,null,null,null,null,null,null,null,null,null,null,null,null,null,null,null,null,null,null,null,"NTD4809N","NTMFS4923NE"]
[null,null,null,null,null,null,null,null,null,null,null,null,null,null,null,null,null,null,null,null,null,null,null,"NTD4809N","NTMFS4933N"]
[null,null,null,null,null,null,null,null,null,null,null,null,null,null,null,null,null,null,null,null,null,null,null,"NTD4809N","NTMFS4934N"]
[null,null,null,null,null,null,null,null,null,null,null,null,null,null,null,null,null,null,null,null,null,null,null,"NTD4809N","NTMFS4935N"]
[null,null,null,null,null,null,null,null,null,null,null,null,null,null,null,null,null,null,null,null,null,null,null,"NTD4809N","NTTFS4932N"]
[null,null,null,null,null,null,null,null,null,null,null,null,null,null,null,null,null,null,null,null,null,null,null,"NTD4809NH","NTMFS4825NFE"]
[null,null,null,null,null,null,null,null,null,null,null,null,null,null,null,null,null,null,null,null,null,null,null,"NTD4809NH","NTMFS4833N"]
[null,null,null,null,null,null,null,null,null,null,null,null,null,null,null,null,null,null,null,null,null,null,null,"NTD4809NH","NTMFS4834N"]
[null,null,null,null,null,null,null,null,null,null,null,null,null,null,null,null,null,null,null,null,null,null,null,"NTD4809NH","NTMFS4835N"]
[null,null,null,null,null,null,null,null,null,null,null,null,null,null,null,null,null,null,null,null,null,null,null,"NTD4809NH","NTMFS4845"]
[null,null,null,null,null,null,null,null,null,null,null,null,null,null,null,null,null,null,null,null,null,null,null,"NTD4809NH","NTMFS4846"]
[null,null,null,null,null,null,null,null,null,null,null,null,null,null,null,null,null,null,null,null,null,null,null,"NTD4809NH","NTMFS4852N"]
[null,null,null,null,null,null,null,null,null,null,null,null,null,null,null,null,null,null,null,null,null,null,null,"NTD4809NH","NTMFS4897"]
[null,null,null,null,null,null,null,null,null,null,null,null,null,null,null,null,null,null,null,null,null,null,null,"NTD4809NH","NTMFS4898N"]
[null,null,null,null,null,null,null,null,null,null,null,null,null,null,null,null,null,null,null,null,null,null,null,"NTD4809NH","NTMFS4923NE"]
[null,null,null,null,null,null,null,null,null,null,null,null,null,null,null,null,null,null,null,null,null,null,null,"NTD4809NH","NTMFS4933N"]
[null,null,null,null,null,null,null,null,null,null,null,null,null,null,null,null,null,null,null,null,null,null,null,"NTD4809NH","NTMFS4934N"]
[null,null,null,null,null,null,null,null,null,null,null,null,null,null,null,null,null,null,null,null,null,null,null,"NTD4809NH","NTMFS4935N"]
[null,null,null,null,null,null,null,null,null,null,null,null,null,null,null,null,null,null,null,null,null,null,null,"NTD4809NH","NTMFS4936"]
[null,null,null,null,null,null,null,null,null,null,null,null,null,null,null,null,null,null,null,null,null,null,null,"NTD4809NH","NTTFS4932N"]
[null,null,null,null,null,null,null,null,null,null,null,null,null,null,null,null,null,null,null,null,null,null,null,"NTD4810N","NTMFS4825NFE"]
[null,null,null,null,null,null,null,null,null,null,null,null,null,null,null,null,null,null,null,null,null,null,null,"NTD4810N","NTMFS4833N"]
[null,null,null,null,null,null,null,null,null,null,null,null,null,null,null,null,null,null,null,null,null,null,null,"NTD4810N","NTMFS4834N"]
[null,null,null,null,null,null,null,null,null,null,null,null,null,null,null,null,null,null,null,null,null,null,null,"NTD4810N","NTMFS4845"]
[null,null,null,null,null,null,null,null,null,null,null,null,null,null,null,null,null,null,null,null,null,null,null,"NTD4810N","NTMFS4846"]
[null,null,null,null,null,null,null,null,null,null,null,null,null,null,null,null,null,null,null,null,null,null,null,"NTD4810N","NTMFS4852N"]
[null,null,null,null,null,null,null,null,null,null,null,null,null,null,null,null,null,null,null,null,null,null,null,"NTD4810N","NTMFS4897"]
[null,null,null,null,null,null,null,null,null,null,null,null,null,null,null,null,null,null,null,null,null,null,null,"NTD4810N","NTMFS4898N"]
[null,null,null,null,null,null,null,null,null,null,null,null,null,null,null,null,null,null,null,null,null,null,null,"NTD4810N","NTMFS4923NE"]
[null,null,null,null,null,null,null,null,null,null,null,null,null,null,null,null,null,null,null,null,null,null,null,"NTD4810N","NTMFS4933N"]
[null,null,null,null,null,null,null,null,null,null,null,null,null,null,null,null,null,null,null,null,null,null,null,"NTD4810N","NTMFS4934N"]
[null,null,null,null,null,null,null,null,null,null,null,null,null,null,null,null,null,null,null,null,null,null,null,"NTD4810N","NTMFS4935N"]
[null,null,null,null,null,null,null,null,null,null,null,null,null,null,null,null,null,null,null,null,null,null,null,"NTD4810N","NTTFS4932N"]
[null,null,null,null,null,null,null,null,null,null,null,null,null,null,null,null,null,null,null,null,null,null,null,"NTD4813NH","NTMFS4825NFE"]
[null,null,null,null,null,null,null,null,null,null,null,null,null,null,null,null,null,null,null,null,null,null,null,"NTD4813NH","NTMFS4833N"]
[null,null,null,null,null,null,null,null,null,null,null,null,null,null,null,null,null,null,null,null,null,null,null,"NTD4813NH","NTMFS4852N"]
[null,null,null,null,null,null,null,null,null,null,null,null,null,null,null,null,null,null,null,null,null,null,null,"NTD4813NH","NTMFS4897"]
[null,null,null,null,null,null,null,null,null,null,null,null,null,null,null,null,null,null,null,null,null,null,null,"NTD4813NH","NTMFS4933N"]
[null,null,null,null,null,null,null,null,null,null,null,null,null,null,null,null,null,null,null,null,null,null,null,"NTD4813NH","NTMFS4934N"]
[null,null,null,null,null,null,null,null,null,null,null,null,null,null,null,null,null,null,null,null,null,null,null,"NTD4815N","NTMFS4825NFE"]
[null,null,null,null,null,null,null,null,null,null,null,null,null,null,null,null,null,null,null,null,null,null,null,"NTD4815N","NTMFS4833N"]
[null,null,null,null,null,null,null,null,null,null,null,null,null,null,null,null,null,null,null,null,null,null,null,"NTD4815N","NTMFS4852N"]
[null,null,null,null,null,null,null,null,null,null,null,null,null,null,null,null,null,null,null,null,null,null,null,"NTD4815N","NTMFS4897"]
[null,null,null,null,null,null,null,null,null,null,null,null,null,null,null,null,null,null,null,null,null,null,null,"NTD4815N","NTMFS4933N"]
[null,null,null,null,null,null,null,null,null,null,null,null,null,null,null,null,null,null,null,null,null,null,null,"NTD4815N","NTMFS4934N"]
[null,null,null,null,null,null,null,null,null,null,null,null,null,null,null,null,null,null,null,null,null,null,null,"NTD4855N","NTD4904N"]
[null,null,null,null,null,null,null,null,null,null,null,null,null,null,null,null,null,null,null,null,null,null,null,"NTD4855N","NTMFS4825NFE"]
[null,null,null,null,null,null,null,null,null,null,null,null,null,null,null,null,null,null,null,null,null,null,null,"NTD4855N","NTMFS4833N"]
[null,null,null,null,null,null,null,null,null,null,null,null,null,null,null,null,null,null,null,null,null,null,null,"NTD4855N","NTMFS4834N"]
[null,null,null,null,null,null,null,null,null,null,null,null,null,null,null,null,null,null,null,null,null,null,null,"NTD4855N","NTMFS4835N"]
[null,null,null,null,null,null,null,null,null,null,null,null,null,null,null,null,null,null,null,null,null,null,null,"NTD4855N","NTMFS4845"]
[null,null,null,null,null,null,null,null,null,null,null,null,null,null,null,null,null,null,null,null,null,null,null,"NTD4855N","NTMFS4846"]
[null,null,null,null,null,null,null,null,null,null,null,null,null,null,null,null,null,null,null,null,null,null,null,"NTD4855N","NTMFS4852N"]
[null,null,null,null,null,null,null,null,null,null,null,null,null,null,null,null,null,null,null,null,null,null,null,"NTD4855N","NTMFS4897"]
[null,null,null,null,null,null,null,null,null,null,null,null,null,null,null,null,null,null,null,null,null,null,null,"NTD4855N","NTMFS4898N"]
[null,null,null,null,null,null,null,null,null,null,null,null,null,null,null,null,null,null,null,null,null,null,null,"NTD4855N","NTMFS4923NE"]
[null,null,null,null,null,null,null,null,null,null,null,null,null,null,null,null,null,null,null,null,null,null,null,"NTD4855N","NTMFS4933N"]
[null,null,null,null,null,null,null,null,null,null,null,null,null,null,null,null,null,null,null,null,null,null,null,"NTD4855N","NTMFS4934N"]
[null,null,null,null,null,null,null,null,null,null,null,null,null,null,null,null,null,null,null,null,null,null,null,"NTD4855N","NTMFS4935N"]
[null,null,null,null,null,null,null,null,null,null,null,null,null,null,null,null,null,null,null,null,null,null,null,"NTD4855N","NTMFS4936"]
[null,null,null,null,null,null,null,null,null,null,null,null,null,null,null,null,null,null,null,null,null,null,null,"NTD4855N","NTTFS4932N"]
[null,null,null,null,null,null,null,null,null,null,null,null,null,null,null,null,null,null,null,null,null,null,null,"NTD4856N","NTD4904N"]
[null,null,null,null,null,null,null,null,null,null,null,null,null,null,null,null,null,null,null,null,null,null,null,"NTD4856N","NTMFS4825NFE"]
[null,null,null,null,null,null,null,null,null,null,null,null,null,null,null,null,null,null,null,null,null,null,null,"NTD4856N","NTMFS4833N"]
[null,null,null,null,null,null,null,null,null,null,null,null,null,null,null,null,null,null,null,null,null,null,null,"NTD4856N","NTMFS4834N"]
[null,null,null,null,null,null,null,null,null,null,null,null,null,null,null,null,null,null,null,null,null,null,null,"NTD4856N","NTMFS4835N"]
[null,null,null,null,null,null,null,null,null,null,null,null,null,null,null,null,null,null,null,null,null,null,null,"NTD4856N","NTMFS4845"]
[null,null,null,null,null,null,null,null,null,null,null,null,null,null,null,null,null,null,null,null,null,null,null,"NTD4856N","NTMFS4846"]
[null,null,null,null,null,null,null,null,null,null,null,null,null,null,null,null,null,null,null,null,null,null,null,"NTD4856N","NTMFS4852N"]
[null,null,null,null,null,null,null,null,null,null,null,null,null,null,null,null,null,null,null,null,null,null,null,"NTD4856N","NTMFS4897"]
[null,null,null,null,null,null,null,null,null,null,null,null,null,null,null,null,null,null,null,null,null,null,null,"NTD4856N","NTMFS4898N"]
[null,null,null,null,null,null,null,null,null,null,null,null,null,null,null,null,null,null,null,null,null,null,null,"NTD4856N","NTMFS4923NE"]
[null,null,null,null,null,null,null,null,null,null,null,null,null,null,null,null,null,null,null,null,null,null,null,"NTD4856N","NTMFS4933N"]
[null,null,null,null,null,null,null,null,null,null,null,null,null,null,null,null,null,null,null,null,null,null,null,"NTD4856N","NTMFS4934N"]
[null,null,null,null,null,null,null,null,null,null,null,null,null,null,null,null,null,null,null,null,null,null,null,"NTD4856N","NTMFS4935N"]
[null,null,null,null,null,null,null,null,null,null,null,null,null,null,null,null,null,null,null,null,null,null,null,"NTD4856N","NTMFS4936"]
[null,null,null,null,null,null,null,null,null,null,null,null,null,null,null,null,null,null,null,null,null,null,null,"NTD4856N","NTTFS4932N"]
[null,null,null,null,null,null,null,null,null,null,null,null,null,null,null,null,null,null,null,null,null,null,null,"NTD4857N","NTD4904N"]
[null,null,null,null,null,null,null,null,null,null,null,null,null,null,null,null,null,null,null,null,null,null,null,"NTD4857N","NTMFS4825NFE"]
[null,null,null,null,null,null,null,null,null,null,null,null,null,null,null,null,null,null,null,null,null,null,null,"NTD4857N","NTMFS4833N"]
[null,null,null,null,null,null,null,null,null,null,null,null,null,null,null,null,null,null,null,null,null,null,null,"NTD4857N","NTMFS4834N"]
[null,null,null,null,null,null,null,null,null,null,null,null,null,null,null,null,null,null,null,null,null,null,null,"NTD4857N","NTMFS4835N"]
[null,null,null,null,null,null,null,null,null,null,null,null,null,null,null,null,null,null,null,null,null,null,null,"NTD4857N","NTMFS4845"]
[null,null,null,null,null,null,null,null,null,null,null,null,null,null,null,null,null,null,null,null,null,null,null,"NTD4857N","NTMFS4846"]
[null,null,null,null,null,null,null,null,null,null,null,null,null,null,null,null,null,null,null,null,null,null,null,"NTD4857N","NTMFS4852N"]
[null,null,null,null,null,null,null,null,null,null,null,null,null,null,null,null,null,null,null,null,null,null,null,"NTD4857N","NTMFS4897"]
[null,null,null,null,null,null,null,null,null,null,null,null,null,null,null,null,null,null,null,null,null,null,null,"NTD4857N","NTMFS4898N"]
[null,null,null,null,null,null,null,null,null,null,null,null,null,null,null,null,null,null,null,null,null,null,null,"NTD4857N","NTMFS4923NE"]
[null,null,null,null,null,null,null,null,null,null,null,null,null,null,null,null,null,null,null,null,null,null,null,"NTD4857N","NTMFS4933N"]
[null,null,null,null,null,null,null,null,null,null,null,null,null,null,null,null,null,null,null,null,null,null,null,"NTD4857N","NTMFS4934N"]
[null,null,null,null,null,null,null,null,null,null,null,null,null,null,null,null,null,null,null,null,null,null,null,"NTD4857N","NTMFS4935N"]
[null,null,null,null,null,null,null,null,null,null,null,null,null,null,null,null,null,null,null,null,null,null,null,"NTD4857N","NTMFS4936"]
[null,null,null,null,null,null,null,null,null,null,null,null,null,null,null,null,null,null,null,null,null,null,null,"NTD4857N","NTTFS4932N"]
[null,null,null,null,null,null,null,null,null,null,null,null,null,null,null,null,null,null,null,null,null,null,null,"NTD4858N","NTD4904N"]
[null,null,null,null,null,null,null,null,null,null,null,null,null,null,null,null,null,null,null,null,null,null,null,"NTD4858N","NTMFS4825NFE"]
[null,null,null,null,null,null,null,null,null,null,null,null,null,null,null,null,null,null,null,null,null,null,null,"NTD4858N","NTMFS4833N"]
[null,null,null,null,null,null,null,null,null,null,null,null,null,null,null,null,null,null,null,null,null,null,null,"NTD4858N","NTMFS4834N"]
[null,null,null,null,null,null,null,null,null,null,null,null,null,null,null,null,null,null,null,null,null,null,null,"NTD4858N","NTMFS4835N"]
[null,null,null,null,null,null,null,null,null,null,null,null,null,null,null,null,null,null,null,null,null,null,null,"NTD4858N","NTMFS4845"]
[null,null,null,null,null,null,null,null,null,null,null,null,null,null,null,null,null,null,null,null,null,null,null,"NTD4858N","NTMFS4846"]
[null,null,null,null,null,null,null,null,null,null,null,null,null,null,null,null,null,null,null,null,null,null,null,"NTD4858N","NTMFS4852N"]
[null,null,null,null,null,null,null,null,null,null,null,null,null,null,null,null,null,null,null,null,null,null,null,"NTD4858N","NTMFS4897"]
[null,null,null,null,null,null,null,null,null,null,null,null,null,null,null,null,null,null,null,null,null,null,null,"NTD4858N","NTMFS4898N"]
[null,null,null,null,null,null,null,null,null,null,null,null,null,null,null,null,null,null,null,null,null,null,null,"NTD4858N","NTMFS4923NE"]
[null,null,null,null,null,null,null,null,null,null,null,null,null,null,null,null,null,null,null,null,null,null,null,"NTD4858N","NTMFS4933N"]
[null,null,null,null,null,null,null,null,null,null,null,null,null,null,null,null,null,null,null,null,null,null,null,"NTD4858N","NTMFS4934N"]
[null,null,null,null,null,null,null,null,null,null,null,null,null,null,null,null,null,null,null,null,null,null,null,"NTD4858N","NTMFS4935N"]
[null,null,null,null,null,null,null,null,null,null,null,null,null,null,null,null,null,null,null,null,null,null,null,"NTD4858N","NTMFS4936"]
[null,null,null,null,null,null,null,null,null,null,null,null,null,null,null,null,null,null,null,null,null,null,null,"NTD4858N","NTTFS4932N"]
[null,null,null,null,null,null,null,null,null,null,null,null,null,null,null,null,null,null,null,null,null,null,null,"NTD4863N","NTMFS4825NFE"]
[null,null,null,null,null,null,null,null,null,null,null,null,null,null,null,null,null,null,null,null,null,null,null,"NTD4863N","NTMFS4833N"]
[null,null,null,null,null,null,null,null,null,null,null,null,null,null,null,null,null,null,null,null,null,null,null,"NTD4863N","NTMFS4834N"]
[null,null,null,null,null,null,null,null,null,null,null,null,null,null,null,null,null,null,null,null,null,null,null,"NTD4863N","NTMFS4845"]
[null,null,null,null,null,null,null,null,null,null,null,null,null,null,null,null,null,null,null,null,null,null,null,"NTD4863N","NTMFS4852N"]
[null,null,null,null,null,null,null,null,null,null,null,null,null,null,null,null,null,null,null,null,null,null,null,"NTD4863N","NTMFS4897"]
[null,null,null,null,null,null,null,null,null,null,null,null,null,null,null,null,null,null,null,null,null,null,null,"NTD4863N","NTMFS4898N"]
[null,null,null,null,null,null,null,null,null,null,null,null,null,null,null,null,null,null,null,null,null,null,null,"NTD4863N","NTMFS4933N"]
[null,null,null,null,null,null,null,null,null,null,null,null,null,null,null,null,null,null,null,null,null,null,null,"NTD4863N","NTMFS4934N"]
[null,null,null,null,null,null,null,null,null,null,null,null,null,null,null,null,null,null,null,null,null,null,null,"NTD4863N","NTTFS4932N"]
[null,null,null,null,null,null,null,null,null,null,null,null,null,null,null,null,null,null,null,null,null,null,null,"NTD4904N","NTD4804N"]
[null,null,null,null,null,null,null,null,null,null,null,null,null,null,null,null,null,null,null,null,null,null,null,"NTD4904N","NTD4855N"]
[null,null,null,null,null,null,null,null,null,null,null,null,null,null,null,null,null,null,null,null,null,null,null,"NTD4904N","NTD4904N"]
[null,null,null,null,null,null,null,null,null,null,null,null,null,null,null,null,null,null,null,null,null,null,null,"NTD4904N","NTMFS4825NFE"]
[null,null,null,null,null,null,null,null,null,null,null,null,null,null,null,null,null,null,null,null,null,null,null,"NTD4904N","NTMFS4833N"]
[null,null,null,null,null,null,null,null,null,null,null,null,null,null,null,null,null,null,null,null,null,null,null,"NTD4904N","NTMFS4834N"]
[null,null,null,null,null,null,null,null,null,null,null,null,null,null,null,null,null,null,null,null,null,null,null,"NTD4904N","NTMFS4835N"]
[null,null,null,null,null,null,null,null,null,null,null,null,null,null,null,null,null,null,null,null,null,null,null,"NTD4904N","NTMFS4845"]
[null,null,null,null,null,null,null,null,null,null,null,null,null,null,null,null,null,null,null,null,null,null,null,"NTD4904N","NTMFS4846"]
[null,null,null,null,null,null,null,null,null,null,null,null,null,null,null,null,null,null,null,null,null,null,null,"NTD4904N","NTMFS4852N"]
[null,null,null,null,null,null,null,null,null,null,null,null,null,null,null,null,null,null,null,null,null,null,null,"NTD4904N","NTMFS4897"]
[null,null,null,null,null,null,null,null,null,null,null,null,null,null,null,null,null,null,null,null,null,null,null,"NTD4904N","NTMFS4898N"]
[null,null,null,null,null,null,null,null,null,null,null,null,null,null,null,null,null,null,null,null,null,null,null,"NTD4904N","NTMFS4923NE"]
[null,null,null,null,null,null,null,null,null,null,null,null,null,null,null,null,null,null,null,null,null,null,null,"NTD4904N","NTMFS4933N"]
[null,null,null,null,null,null,null,null,null,null,null,null,null,null,null,null,null,null,null,null,null,null,null,"NTD4904N","NTMFS4934N"]
[null,null,null,null,null,null,null,null,null,null,null,null,null,null,null,null,null,null,null,null,null,null,null,"NTD4904N","NTMFS4935N"]
[null,null,null,null,null,null,null,null,null,null,null,null,null,null,null,null,null,null,null,null,null,null,null,"NTD4904N","NTMFS4936"]
[null,null,null,null,null,null,null,null,null,null,null,null,null,null,null,null,null,null,null,null,null,null,null,"NTD4904N","NTTFS4932N"]
[null,null,null,null,null,null,null,null,null,null,null,null,null,null,null,null,null,null,null,null,null,null,null,"NTD4906N","NTD4904N"]
[null,null,null,null,null,null,null,null,null,null,null,null,null,null,null,null,null,null,null,null,null,null,null,"NTD4906N","NTMFS4825NFE"]
[null,null,null,null,null,null,null,null,null,null,null,null,null,null,null,null,null,null,null,null,null,null,null,"NTD4906N","NTMFS4833N"]
[null,null,null,null,null,null,null,null,null,null,null,null,null,null,null,null,null,null,null,null,null,null,null,"NTD4906N","NTMFS4834N"]
[null,null,null,null,null,null,null,null,null,null,null,null,null,null,null,null,null,null,null,null,null,null,null,"NTD4906N","NTMFS4835N"]
[null,null,null,null,null,null,null,null,null,null,null,null,null,null,null,null,null,null,null,null,null,null,null,"NTD4906N","NTMFS4845"]
[null,null,null,null,null,null,null,null,null,null,null,null,null,null,null,null,null,null,null,null,null,null,null,"NTD4906N","NTMFS4846"]
[null,null,null,null,null,null,null,null,null,null,null,null,null,null,null,null,null,null,null,null,null,null,null,"NTD4906N","NTMFS4852N"]
[null,null,null,null,null,null,null,null,null,null,null,null,null,null,null,null,null,null,null,null,null,null,null,"NTD4906N","NTMFS4897"]
[null,null,null,null,null,null,null,null,null,null,null,null,null,null,null,null,null,null,null,null,null,null,null,"NTD4906N","NTMFS4898N"]
[null,null,null,null,null,null,null,null,null,null,null,null,null,null,null,null,null,null,null,null,null,null,null,"NTD4906N","NTMFS4923NE"]
[null,null,null,null,null,null,null,null,null,null,null,null,null,null,null,null,null,null,null,null,null,null,null,"NTD4906N","NTMFS4933N"]
[null,null,null,null,null,null,null,null,null,null,null,null,null,null,null,null,null,null,null,null,null,null,null,"NTD4906N","NTMFS4934N"]
[null,null,null,null,null,null,null,null,null,null,null,null,null,null,null,null,null,null,null,null,null,null,null,"NTD4906N","NTMFS4935N"]
[null,null,null,null,null,null,null,null,null,null,null,null,null,null,null,null,null,null,null,null,null,null,null,"NTD4906N","NTMFS4936"]
[null,null,null,null,null,null,null,null,null,null,null,null,null,null,null,null,null,null,null,null,null,null,null,"NTD4906N","NTTFS4932N"]
[null,null,null,null,null,null,null,null,null,null,null,null,null,null,null,null,null,null,null,null,null,null,null,"NTD4909N","NTD4904N"]
[null,null,null,null,null,null,null,null,null,null,null,null,null,null,null,null,null,null,null,null,null,null,null,"NTD4909N","NTMFS4825NFE"]
[null,null,null,null,null,null,null,null,null,null,null,null,null,null,null,null,null,null,null,null,null,null,null,"NTD4909N","NTMFS4833N"]
[null,null,null,null,null,null,null,null,null,null,null,null,null,null,null,null,null,null,null,null,null,null,null,"NTD4909N","NTMFS4834N"]
[null,null,null,null,null,null,null,null,null,null,null,null,null,null,null,null,null,null,null,null,null,null,null,"NTD4909N","NTMFS4835N"]
[null,null,null,null,null,null,null,null,null,null,null,null,null,null,null,null,null,null,null,null,null,null,null,"NTD4909N","NTMFS4845"]
[null,null,null,null,null,null,null,null,null,null,null,null,null,null,null,null,null,null,null,null,null,null,null,"NTD4909N","NTMFS4846"]
[null,null,null,null,null,null,null,null,null,null,null,null,null,null,null,null,null,null,null,null,null,null,null,"NTD4909N","NTMFS4852N"]
[null,null,null,null,null,null,null,null,null,null,null,null,null,null,null,null,null,null,null,null,null,null,null,"NTD4909N","NTMFS4897"]
[null,null,null,null,null,null,null,null,null,null,null,null,null,null,null,null,null,null,null,null,null,null,null,"NTD4909N","NTMFS4898N"]
[null,null,null,null,null,null,null,null,null,null,null,null,null,null,null,null,null,null,null,null,null,null,null,"NTD4909N","NTMFS4923NE"]
[null,null,null,null,null,null,null,null,null,null,null,null,null,null,null,null,null,null,null,null,null,null,null,"NTD4909N","NTMFS4933N"]
[null,null,null,null,null,null,null,null,null,null,null,null,null,null,null,null,null,null,null,null,null,null,null,"NTD4909N","NTMFS4934N"]
[null,null,null,null,null,null,null,null,null,null,null,null,null,null,null,null,null,null,null,null,null,null,null,"NTD4909N","NTMFS4935N"]
[null,null,null,null,null,null,null,null,null,null,null,null,null,null,null,null,null,null,null,null,null,null,null,"NTD4909N","NTMFS4936"]
[null,null,null,null,null,null,null,null,null,null,null,null,null,null,null,null,null,null,null,null,null,null,null,"NTD4909N","NTTFS4932N"]
[null,null,null,null,null,null,null,null,null,null,null,null,null,null,null,null,null,null,null,null,null,null,null,"NTD4910N","NTMFS4825NFE"]
[null,null,null,null,null,null,null,null,null,null,null,null,null,null,null,null,null,null,null,null,null,null,null,"NTD4910N","NTMFS4833N"]
[null,null,null,null,null,null,null,null,null,null,null,null,null,null,null,null,null,null,null,null,null,null,null,"NTD4910N","NTMFS4834N"]
[null,null,null,null,null,null,null,null,null,null,null,null,null,null,null,null,null,null,null,null,null,null,null,"NTD4910N","NTMFS4835N"]
[null,null,null,null,null,null,null,null,null,null,null,null,null,null,null,null,null,null,null,null,null,null,null,"NTD4910N","NTMFS4845"]
[null,null,null,null,null,null,null,null,null,null,null,null,null,null,null,null,null,null,null,null,null,null,null,"NTD4910N","NTMFS4846"]
[null,null,null,null,null,null,null,null,null,null,null,null,null,null,null,null,null,null,null,null,null,null,null,"NTD4910N","NTMFS4852N"]
[null,null,null,null,null,null,null,null,null,null,null,null,null,null,null,null,null,null,null,null,null,null,null,"NTD4910N","NTMFS4897"]
[null,null,null,null,null,null,null,null,null,null,null,null,null,null,null,null,null,null,null,null,null,null,null,"NTD4910N","NTMFS4898N"]
[null,null,null,null,null,null,null,null,null,null,null,null,null,null,null,null,null,null,null,null,null,null,null,"NTD4910N","NTMFS4923NE"]
[null,null,null,null,null,null,null,null,null,null,null,null,null,null,null,null,null,null,null,null,null,null,null,"NTD4910N","NTMFS4933N"]
[null,null,null,null,null,null,null,null,null,null,null,null,null,null,null,null,null,null,null,null,null,null,null,"NTD4910N","NTMFS4934N"]
[null,null,null,null,null,null,null,null,null,null,null,null,null,null,null,null,null,null,null,null,null,null,null,"NTD4910N","NTMFS4935N"]
[null,null,null,null,null,null,null,null,null,null,null,null,null,null,null,null,null,null,null,null,null,null,null,"NTD4910N","NTTFS4932N"]
[null,null,null,null,null,null,null,null,null,null,null,null,null,null,null,null,null,null,null,null,null,null,null,"NTD4913N","NTMFS4825NFE"]
[null,null,null,null,null,null,null,null,null,null,null,null,null,null,null,null,null,null,null,null,null,null,null,"NTD4913N","NTMFS4833N"]
[null,null,null,null,null,null,null,null,null,null,null,null,null,null,null,null,null,null,null,null,null,null,null,"NTD4913N","NTMFS4834N"]
[null,null,null,null,null,null,null,null,null,null,null,null,null,null,null,null,null,null,null,null,null,null,null,"NTD4913N","NTMFS4845"]
[null,null,null,null,null,null,null,null,null,null,null,null,null,null,null,null,null,null,null,null,null,null,null,"NTD4913N","NTMFS4852N"]
[null,null,null,null,null,null,null,null,null,null,null,null,null,null,null,null,null,null,null,null,null,null,null,"NTD4913N","NTMFS4897"]
[null,null,null,null,null,null,null,null,null,null,null,null,null,null,null,null,null,null,null,null,null,null,null,"NTD4913N","NTMFS4898N"]
[null,null,null,null,null,null,null,null,null,null,null,null,null,null,null,null,null,null,null,null,null,null,null,"NTD4913N","NTMFS4933N"]
[null,null,null,null,null,null,null,null,null,null,null,null,null,null,null,null,null,null,null,null,null,null,null,"NTD4913N","NTMFS4934N"]
[null,null,null,null,null,null,null,null,null,null,null,null,null,null,null,null,null,null,null,null,null,null,null,"NTD4913N","NTTFS4932N"]
[null,null,null,null,null,null,null,null,null,null,null,null,null,null,null,null,null,null,null,null,null,null,null,"NTD4960N","NTMFS4825NFE"]
[null,null,null,null,null,null,null,null,null,null,null,null,null,null,null,null,null,null,null,null,null,null,null,"NTD4960N","NTMFS4833N"]
[null,null,null,null,null,null,null,null,null,null,null,null,null,null,null,null,null,null,null,null,null,null,null,"NTD4960N","NTMFS4834N"]
[null,null,null,null,null,null,null,null,null,null,null,null,null,null,null,null,null,null,null,null,null,null,null,"NTD4960N","NTMFS4835N"]
[null,null,null,null,null,null,null,null,null,null,null,null,null,null,null,null,null,null,null,null,null,null,null,"NTD4960N","NTMFS4845"]
[null,null,null,null,null,null,null,null,null,null,null,null,null,null,null,null,null,null,null,null,null,null,null,"NTD4960N","NTMFS4846"]
[null,null,null,null,null,null,null,null,null,null,null,null,null,null,null,null,null,null,null,null,null,null,null,"NTD4960N","NTMFS4852N"]
[null,null,null,null,null,null,null,null,null,null,null,null,null,null,null,null,null,null,null,null,null,null,null,"NTD4960N","NTMFS4897"]
[null,null,null,null,null,null,null,null,null,null,null,null,null,null,null,null,null,null,null,null,null,null,null,"NTD4960N","NTMFS4898N"]
[null,null,null,null,null,null,null,null,null,null,null,null,null,null,null,null,null,null,null,null,null,null,null,"NTD4960N","NTMFS4923NE"]
[null,null,null,null,null,null,null,null,null,null,null,null,null,null,null,null,null,null,null,null,null,null,null,"NTD4960N","NTMFS4933N"]
[null,null,null,null,null,null,null,null,null,null,null,null,null,null,null,null,null,null,null,null,null,null,null,"NTD4960N","NTMFS4934N"]
[null,null,null,null,null,null,null,null,null,null,null,null,null,null,null,null,null,null,null,null,null,null,null,"NTD4960N","NTMFS4935N"]
[null,null,null,null,null,null,null,null,null,null,null,null,null,null,null,null,null,null,null,null,null,null,null,"NTD4960N","NTMFS4936"]
[null,null,null,null,null,null,null,null,null,null,null,null,null,null,null,null,null,null,null,null,null,null,null,"NTD4960N","NTTFS4932N"]
[null,null,null,null,null,null,null,null,null,null,null,null,null,null,null,null,null,null,null,null,null,null,null,"NTD4963N","NTMFS4825NFE"]
[null,null,null,null,null,null,null,null,null,null,null,null,null,null,null,null,null,null,null,null,null,null,null,"NTD4963N","NTMFS4833N"]
[null,null,null,null,null,null,null,null,null,null,null,null,null,null,null,null,null,null,null,null,null,null,null,"NTD4963N","NTMFS4834N"]
[null,null,null,null,null,null,null,null,null,null,null,null,null,null,null,null,null,null,null,null,null,null,null,"NTD4963N","NTMFS4845"]
[null,null,null,null,null,null,null,null,null,null,null,null,null,null,null,null,null,null,null,null,null,null,null,"NTD4963N","NTMFS4852N"]
[null,null,null,null,null,null,null,null,null,null,null,null,null,null,null,null,null,null,null,null,null,null,null,"NTD4963N","NTMFS4897"]
[null,null,null,null,null,null,null,null,null,null,null,null,null,null,null,null,null,null,null,null,null,null,null,"NTD4963N","NTMFS4898N"]
[null,null,null,null,null,null,null,null,null,null,null,null,null,null,null,null,null,null,null,null,null,null,null,"NTD4963N","NTMFS4933N"]
[null,null,null,null,null,null,null,null,null,null,null,null,null,null,null,null,null,null,null,null,null,null,null,"NTD4963N","NTMFS4934N"]
[null,null,null,null,null,null,null,null,null,null,null,null,null,null,null,null,null,null,null,null,null,null,null,"NTD4965N","NTD4904N"]
[null,null,null,null,null,null,null,null,null,null,null,null,null,null,null,null,null,null,null,null,null,null,null,"NTD4965N","NTMFS4825NFE"]
[null,null,null,null,null,null,null,null,null,null,null,null,null,null,null,null,null,null,null,null,null,null,null,"NTD4965N","NTMFS4833N"]
[null,null,null,null,null,null,null,null,null,null,null,null,null,null,null,null,null,null,null,null,null,null,null,"NTD4965N","NTMFS4834N"]
[null,null,null,null,null,null,null,null,null,null,null,null,null,null,null,null,null,null,null,null,null,null,null,"NTD4965N","NTMFS4835N"]
[null,null,null,null,null,null,null,null,null,null,null,null,null,null,null,null,null,null,null,null,null,null,null,"NTD4965N","NTMFS4845"]
[null,null,null,null,null,null,null,null,null,null,null,null,null,null,null,null,null,null,null,null,null,null,null,"NTD4965N","NTMFS4846"]
[null,null,null,null,null,null,null,null,null,null,null,null,null,null,null,null,null,null,null,null,null,null,null,"NTD4965N","NTMFS4852N"]
[null,null,null,null,null,null,null,null,null,null,null,null,null,null,null,null,null,null,null,null,null,null,null,"NTD4965N","NTMFS4897"]
[null,null,null,null,null,null,null,null,null,null,null,null,null,null,null,null,null,null,null,null,null,null,null,"NTD4965N","NTMFS4898N"]
[null,null,null,null,null,null,null,null,null,null,null,null,null,null,null,null,null,null,null,null,null,null,null,"NTD4965N","NTMFS4923NE"]
[null,null,null,null,null,null,null,null,null,null,null,null,null,null,null,null,null,null,null,null,null,null,null,"NTD4965N","NTMFS4933N"]
[null,null,null,null,null,null,null,null,null,null,null,null,null,null,null,null,null,null,null,null,null,null,null,"NTD4965N","NTMFS4934N"]
[null,null,null,null,null,null,null,null,null,null,null,null,null,null,null,null,null,null,null,null,null,null,null,"NTD4965N","NTMFS4935N"]
[null,null,null,null,null,null,null,null,null,null,null,null,null,null,null,null,null,null,null,null,null,null,null,"NTD4965N","NTMFS4936"]
[null,null,null,null,null,null,null,null,null,null,null,null,null,null,null,null,null,null,null,null,null,null,null,"NTD4965N","NTTFS4932N"]
[null,null,null,null,null,null,null,null,null,null,null,null,null,null,null,null,null,null,null,null,null,null,null,"NTD4969N","NTMFS4825NFE"]
[null,null,null,null,null,null,null,null,null,null,null,null,null,null,null,null,null,null,null,null,null,null,null,"NTD4969N","NTMFS4833N"]
[null,null,null,null,null,null,null,null,null,null,null,null,null,null,null,null,null,null,null,null,null,null,null,"NTD4969N","NTMFS4834N"]
[null,null,null,null,null,null,null,null,null,null,null,null,null,null,null,null,null,null,null,null,null,null,null,"NTD4969N","NTMFS4845"]
[null,null,null,null,null,null,null,null,null,null,null,null,null,null,null,null,null,null,null,null,null,null,null,"NTD4969N","NTMFS4852N"]
[null,null,null,null,null,null,null,null,null,null,null,null,null,null,null,null,null,null,null,null,null,null,null,"NTD4969N","NTMFS4897"]
[null,null,null,null,null,null,null,null,null,null,null,null,null,null,null,null,null,null,null,null,null,null,null,"NTD4969N","NTMFS4898N"]
[null,null,null,null,null,null,null,null,null,null,null,null,null,null,null,null,null,null,null,null,null,null,null,"NTD4969N","NTMFS4933N"]
[null,null,null,null,null,null,null,null,null,null,null,null,null,null,null,null,null,null,null,null,null,null,null,"NTD4969N","NTMFS4934N"]
[null,null,null,null,null,null,null,null,null,null,null,null,null,null,null,null,null,null,null,null,null,null,null,"NTD4969N","NTTFS4932N"]
[null,null,null,null,null,null,null,null,null,null,null,null,null,null,null,null,null,null,null,null,null,null,null,"NTD4970N","NTMFS4825NFE"]
[null,null,null,null,null,null,null,null,null,null,null,null,null,null,null,null,null,null,null,null,null,null,null,"NTD4970N","NTMFS4833N"]
[null,null,null,null,null,null,null,null,null,null,null,null,null,null,null,null,null,null,null,null,null,null,null,"NTD4970N","NTMFS4834N"]
[null,null,null,null,null,null,null,null,null,null,null,null,null,null,null,null,null,null,null,null,null,null,null,"NTD4970N","NTMFS4845"]
[null,null,null,null,null,null,null,null,null,null,null,null,null,null,null,null,null,null,null,null,null,null,null,"NTD4970N","NTMFS4852N"]
[null,null,null,null,null,null,null,null,null,null,null,null,null,null,null,null,null,null,null,null,null,null,null,"NTD4970N","NTMFS4897"]
[null,null,null,null,null,null,null,null,null,null,null,null,null,null,null,null,null,null,null,null,null,null,null,"NTD4970N","NTMFS4898N"]
[null,null,null,null,null,null,null,null,null,null,null,null,null,null,null,null,null,null,null,null,null,null,null,"NTD4970N","NTMFS4933N"]
[null,null,null,null,null,null,null,null,null,null,null,null,null,null,null,null,null,null,null,null,null,null,null,"NTD4970N","NTMFS4934N"]
[null,null,null,null,null,null,null,null,null,null,null,null,null,null,null,null,null,null,null,null,null,null,null,"NTD4970N","NTTFS4932N"]
[null,null,null,null,null,null,null,null,null,null,null,null,null,null,null,null,null,null,null,null,null,null,null,"NTMFS4821","NTD4904N"]
[null,null,null,null,null,null,null,null,null,null,null,null,null,null,null,null,null,null,null,null,null,null,null,"NTMFS4821","NTMFS4825NFE"]
[null,null,null,null,null,null,null,null,null,null,null,null,null,null,null,null,null,null,null,null,null,null,null,"NTMFS4821","NTMFS4833N"]
[null,null,null,null,null,null,null,null,null,null,null,null,null,null,null,null,null,null,null,null,null,null,null,"NTMFS4821","NTMFS4834N"]
[null,null,null,null,null,null,null,null,null,null,null,null,null,null,null,null,null,null,null,null,null,null,null,"NTMFS4821","NTMFS4835N"]
[null,null,null,null,null,null,null,null,null,null,null,null,null,null,null,null,null,null,null,null,null,null,null,"NTMFS4821","NTMFS4845"]
[null,null,null,null,null,null,null,null,null,null,null,null,null,null,null,null,null,null,null,null,null,null,null,"NTMFS4821","NTMFS4846"]
[null,null,null,null,null,null,null,null,null,null,null,null,null,null,null,null,null,null,null,null,null,null,null,"NTMFS4821","NTMFS4852N"]
[null,null,null,null,null,null,null,null,null,null,null,null,null,null,null,null,null,null,null,null,null,null,null,"NTMFS4821","NTMFS4897"]
[null,null,null,null,null,null,null,null,null,null,null,null,null,null,null,null,null,null,null,null,null,null,null,"NTMFS4821","NTMFS4898N"]
[null,null,null,null,null,null,null,null,null,null,null,null,null,null,null,null,null,null,null,null,null,null,null,"NTMFS4821","NTMFS4923NE"]
[null,null,null,null,null,null,null,null,null,null,null,null,null,null,null,null,null,null,null,null,null,null,null,"NTMFS4821","NTMFS4933N"]
[null,null,null,null,null,null,null,null,null,null,null,null,null,null,null,null,null,null,null,null,null,null,null,"NTMFS4821","NTMFS4934N"]
[null,null,null,null,null,null,null,null,null,null,null,null,null,null,null,null,null,null,null,null,null,null,null,"NTMFS4821","NTMFS4935N"]
[null,null,null,null,null,null,null,null,null,null,null,null,null,null,null,null,null,null,null,null,null,null,null,"NTMFS4821","NTMFS4936"]
[null,null,null,null,null,null,null,null,null,null,null,null,null,null,null,null,null,null,null,null,null,null,null,"NTMFS4821","NTTFS4932N"]
[null,null,null,null,null,null,null,null,null,null,null,null,null,null,null,null,null,null,null,null,null,null,null,"NTMFS4823","NTMFS4825NFE"]
[null,null,null,null,null,null,null,null,null,null,null,null,null,null,null,null,null,null,null,null,null,null,null,"NTMFS4823","NTMFS4833N"]
[null,null,null,null,null,null,null,null,null,null,null,null,null,null,null,null,null,null,null,null,null,null,null,"NTMFS4823","NTMFS4834N"]
[null,null,null,null,null,null,null,null,null,null,null,null,null,null,null,null,null,null,null,null,null,null,null,"NTMFS4823","NTMFS4845"]
[null,null,null,null,null,null,null,null,null,null,null,null,null,null,null,null,null,null,null,null,null,null,null,"NTMFS4823","NTMFS4852N"]
[null,null,null,null,null,null,null,null,null,null,null,null,null,null,null,null,null,null,null,null,null,null,null,"NTMFS4823","NTMFS4897"]
[null,null,null,null,null,null,null,null,null,null,null,null,null,null,null,null,null,null,null,null,null,null,null,"NTMFS4823","NTMFS4898N"]
[null,null,null,null,null,null,null,null,null,null,null,null,null,null,null,null,null,null,null,null,null,null,null,"NTMFS4823","NTMFS4933N"]
[null,null,null,null,null,null,null,null,null,null,null,null,null,null,null,null,null,null,null,null,null,null,null,"NTMFS4823","NTMFS4934N"]
[null,null,null,null,null,null,null,null,null,null,null,null,null,null,null,null,null,null,null,null,null,null,null,"NTMFS4825NFE","NTD4804N"]
[null,null,null,null,null,null,null,null,null,null,null,null,null,null,null,null,null,null,null,null,null,null,null,"NTMFS4825NFE","NTD4855N"]
[null,null,null,null,null,null,null,null,null,null,null,null,null,null,null,null,null,null,null,null,null,null,null,"NTMFS4825NFE","NTD4904N"]
[null,null,null,null,null,null,null,null,null,null,null,null,null,null,null,null,null,null,null,null,null,null,null,"NTMFS4825NFE","NTMFS4825NFE"]
[null,null,null,null,null,null,null,null,null,null,null,null,null,null,null,null,null,null,null,null,null,null,null,"NTMFS4825NFE","NTMFS4833N"]
[null,null,null,null,null,null,null,null,null,null,null,null,null,null,null,null,null,null,null,null,null,null,null,"NTMFS4825NFE","NTMFS4834N"]
[null,null,null,null,null,null,null,null,null,null,null,null,null,null,null,null,null,null,null,null,null,null,null,"NTMFS4825NFE","NTMFS4835N"]
[null,null,null,null,null,null,null,null,null,null,null,null,null,null,null,null,null,null,null,null,null,null,null,"NTMFS4825NFE","NTMFS4836N"]
[null,null,null,null,null,null,null,null,null,null,null,null,null,null,null,null,null,null,null,null,null,null,null,"NTMFS4825NFE","NTMFS4845"]
[null,null,null,null,null,null,null,null,null,null,null,null,null,null,null,null,null,null,null,null,null,null,null,"NTMFS4825NFE","NTMFS4846"]
[null,null,null,null,null,null,null,null,null,null,null,null,null,null,null,null,null,null,null,null,null,null,null,"NTMFS4825NFE","NTMFS4852N"]
[null,null,null,null,null,null,null,null,null,null,null,null,null,null,null,null,null,null,null,null,null,null,null,"NTMFS4825NFE","NTMFS4897"]
[null,null,null,null,null,null,null,null,null,null,null,null,null,null,null,null,null,null,null,null,null,null,null,"NTMFS4825NFE","NTMFS4898N"]
[null,null,null,null,null,null,null,null,null,null,null,null,null,null,null,null,null,null,null,null,null,null,null,"NTMFS4825NFE","NTMFS4923NE"]
[null,null,null,null,null,null,null,null,null,null,null,null,null,null,null,null,null,null,null,null,null,null,null,"NTMFS4825NFE","NTMFS4933N"]
[null,null,null,null,null,null,null,null,null,null,null,null,null,null,null,null,null,null,null,null,null,null,null,"NTMFS4825NFE","NTMFS4934N"]
[null,null,null,null,null,null,null,null,null,null,null,null,null,null,null,null,null,null,null,null,null,null,null,"NTMFS4825NFE","NTMFS4935N"]
[null,null,null,null,null,null,null,null,null,null,null,null,null,null,null,null,null,null,null,null,null,null,null,"NTMFS4825NFE","NTMFS4936"]
[null,null,null,null,null,null,null,null,null,null,null,null,null,null,null,null,null,null,null,null,null,null,null,"NTMFS4825NFE","NTTFS4932N"]
[null,null,null,null,null,null,null,null,null,null,null,null,null,null,null,null,null,null,null,null,null,null,null,"NTMFS4825NFE","NTTFS4937N"]
[null,null,null,null,null,null,null,null,null,null,null,null,null,null,null,null,null,null,null,null,null,null,null,"NTMFS4826NE","NTD4904N"]
[null,null,null,null,null,null,null,null,null,null,null,null,null,null,null,null,null,null,null,null,null,null,null,"NTMFS4826NE","NTMFS4825NFE"]
[null,null,null,null,null,null,null,null,null,null,null,null,null,null,null,null,null,null,null,null,null,null,null,"NTMFS4826NE","NTMFS4833N"]
[null,null,null,null,null,null,null,null,null,null,null,null,null,null,null,null,null,null,null,null,null,null,null,"NTMFS4826NE","NTMFS4834N"]
[null,null,null,null,null,null,null,null,null,null,null,null,null,null,null,null,null,null,null,null,null,null,null,"NTMFS4826NE","NTMFS4835N"]
[null,null,null,null,null,null,null,null,null,null,null,null,null,null,null,null,null,null,null,null,null,null,null,"NTMFS4826NE","NTMFS4845"]
[null,null,null,null,null,null,null,null,null,null,null,null,null,null,null,null,null,null,null,null,null,null,null,"NTMFS4826NE","NTMFS4846"]
[null,null,null,null,null,null,null,null,null,null,null,null,null,null,null,null,null,null,null,null,null,null,null,"NTMFS4826NE","NTMFS4852N"]
[null,null,null,null,null,null,null,null,null,null,null,null,null,null,null,null,null,null,null,null,null,null,null,"NTMFS4826NE","NTMFS4897"]
[null,null,null,null,null,null,null,null,null,null,null,null,null,null,null,null,null,null,null,null,null,null,null,"NTMFS4826NE","NTMFS4898N"]
[null,null,null,null,null,null,null,null,null,null,null,null,null,null,null,null,null,null,null,null,null,null,null,"NTMFS4826NE","NTMFS4923NE"]
[null,null,null,null,null,null,null,null,null,null,null,null,null,null,null,null,null,null,null,null,null,null,null,"NTMFS4826NE","NTMFS4933N"]
[null,null,null,null,null,null,null,null,null,null,null,null,null,null,null,null,null,null,null,null,null,null,null,"NTMFS4826NE","NTMFS4934N"]
[null,null,null,null,null,null,null,null,null,null,null,null,null,null,null,null,null,null,null,null,null,null,null,"NTMFS4826NE","NTMFS4935N"]
[null,null,null,null,null,null,null,null,null,null,null,null,null,null,null,null,null,null,null,null,null,null,null,"NTMFS4826NE","NTMFS4936"]
[null,null,null,null,null,null,null,null,null,null,null,null,null,null,null,null,null,null,null,null,null,null,null,"NTMFS4826NE","NTTFS4932N"]
[null,null,null,null,null,null,null,null,null,null,null,null,null,null,null,null,null,null,null,null,null,null,null,"NTMFS4833N","NTD4804N"]
[null,null,null,null,null,null,null,null,null,null,null,null,null,null,null,null,null,null,null,null,null,null,null,"NTMFS4833N","NTD4855N"]
[null,null,null,null,null,null,null,null,null,null,null,null,null,null,null,null,null,null,null,null,null,null,null,"NTMFS4833N","NTD4904N"]
[null,null,null,null,null,null,null,null,null,null,null,null,null,null,null,null,null,null,null,null,null,null,null,"NTMFS4833N","NTMFS4825NFE"]
[null,null,null,null,null,null,null,null,null,null,null,null,null,null,null,null,null,null,null,null,null,null,null,"NTMFS4833N","NTMFS4833N"]
[null,null,null,null,null,null,null,null,null,null,null,null,null,null,null,null,null,null,null,null,null,null,null,"NTMFS4833N","NTMFS4834N"]
[null,null,null,null,null,null,null,null,null,null,null,null,null,null,null,null,null,null,null,null,null,null,null,"NTMFS4833N","NTMFS4835N"]
[null,null,null,null,null,null,null,null,null,null,null,null,null,null,null,null,null,null,null,null,null,null,null,"NTMFS4833N","NTMFS4836N"]
[null,null,null,null,null,null,null,null,null,null,null,null,null,null,null,null,null,null,null,null,null,null,null,"NTMFS4833N","NTMFS4845"]
[null,null,null,null,null,null,null,null,null,null,null,null,null,null,null,null,null,null,null,null,null,null,null,"NTMFS4833N","NTMFS4846"]
[null,null,null,null,null,null,null,null,null,null,null,null,null,null,null,null,null,null,null,null,null,null,null,"NTMFS4833N","NTMFS4852N"]
[null,null,null,null,null,null,null,null,null,null,null,null,null,null,null,null,null,null,null,null,null,null,null,"NTMFS4833N","NTMFS4897"]
[null,null,null,null,null,null,null,null,null,null,null,null,null,null,null,null,null,null,null,null,null,null,null,"NTMFS4833N","NTMFS4898N"]
[null,null,null,null,null,null,null,null,null,null,null,null,null,null,null,null,null,null,null,null,null,null,null,"NTMFS4833N","NTMFS4923NE"]
[null,null,null,null,null,null,null,null,null,null,null,null,null,null,null,null,null,null,null,null,null,null,null,"NTMFS4833N","NTMFS4933N"]
[null,null,null,null,null,null,null,null,null,null,null,null,null,null,null,null,null,null,null,null,null,null,null,"NTMFS4833N","NTMFS4934N"]
[null,null,null,null,null,null,null,null,null,null,null,null,null,null,null,null,null,null,null,null,null,null,null,"NTMFS4833N","NTMFS4935N"]
[null,null,null,null,null,null,null,null,null,null,null,null,null,null,null,null,null,null,null,null,null,null,null,"NTMFS4833N","NTMFS4936"]
[null,null,null,null,null,null,null,null,null,null,null,null,null,null,null,null,null,null,null,null,null,null,null,"NTMFS4833N","NTTFS4932N"]
[null,null,null,null,null,null,null,null,null,null,null,null,null,null,null,null,null,null,null,null,null,null,null,"NTMFS4833N","NTTFS4937N"]
[null,null,null,null,null,null,null,null,null,null,null,null,null,null,null,null,null,null,null,null,null,null,null,"NTMFS4834N","NTD4804N"]
[null,null,null,null,null,null,null,null,null,null,null,null,null,null,null,null,null,null,null,null,null,null,null,"NTMFS4834N","NTD4855N"]
[null,null,null,null,null,null,null,null,null,null,null,null,null,null,null,null,null,null,null,null,null,null,null,"NTMFS4834N","NTD4904N"]
[null,null,null,null,null,null,null,null,null,null,null,null,null,null,null,null,null,null,null,null,null,null,null,"NTMFS4834N","NTMFS4825NFE"]
[null,null,null,null,null,null,null,null,null,null,null,null,null,null,null,null,null,null,null,null,null,null,null,"NTMFS4834N","NTMFS4833N"]
[null,null,null,null,null,null,null,null,null,null,null,null,null,null,null,null,null,null,null,null,null,null,null,"NTMFS4834N","NTMFS4834N"]
[null,null,null,null,null,null,null,null,null,null,null,null,null,null,null,null,null,null,null,null,null,null,null,"NTMFS4834N","NTMFS4835N"]
[null,null,null,null,null,null,null,null,null,null,null,null,null,null,null,null,null,null,null,null,null,null,null,"NTMFS4834N","NTMFS4845"]
[null,null,null,null,null,null,null,null,null,null,null,null,null,null,null,null,null,null,null,null,null,null,null,"NTMFS4834N","NTMFS4846"]
[null,null,null,null,null,null,null,null,null,null,null,null,null,null,null,null,null,null,null,null,null,null,null,"NTMFS4834N","NTMFS4852N"]
[null,null,null,null,null,null,null,null,null,null,null,null,null,null,null,null,null,null,null,null,null,null,null,"NTMFS4834N","NTMFS4897"]
[null,null,null,null,null,null,null,null,null,null,null,null,null,null,null,null,null,null,null,null,null,null,null,"NTMFS4834N","NTMFS4898N"]
[null,null,null,null,null,null,null,null,null,null,null,null,null,null,null,null,null,null,null,null,null,null,null,"NTMFS4834N","NTMFS4923NE"]
[null,null,null,null,null,null,null,null,null,null,null,null,null,null,null,null,null,null,null,null,null,null,null,"NTMFS4834N","NTMFS4933N"]
[null,null,null,null,null,null,null,null,null,null,null,null,null,null,null,null,null,null,null,null,null,null,null,"NTMFS4834N","NTMFS4934N"]
[null,null,null,null,null,null,null,null,null,null,null,null,null,null,null,null,null,null,null,null,null,null,null,"NTMFS4834N","NTMFS4935N"]
[null,null,null,null,null,null,null,null,null,null,null,null,null,null,null,null,null,null,null,null,null,null,null,"NTMFS4834N","NTMFS4936"]
[null,null,null,null,null,null,null,null,null,null,null,null,null,null,null,null,null,null,null,null,null,null,null,"NTMFS4834N","NTTFS4932N"]
[null,null,null,null,null,null,null,null,null,null,null,null,null,null,null,null,null,null,null,null,null,null,null,"NTMFS4835N","NTD4804N"]
[null,null,null,null,null,null,null,null,null,null,null,null,null,null,null,null,null,null,null,null,null,null,null,"NTMFS4835N","NTD4855N"]
[null,null,null,null,null,null,null,null,null,null,null,null,null,null,null,null,null,null,null,null,null,null,null,"NTMFS4835N","NTD4904N"]
[null,null,null,null,null,null,null,null,null,null,null,null,null,null,null,null,null,null,null,null,null,null,null,"NTMFS4835N","NTMFS4825NFE"]
[null,null,null,null,null,null,null,null,null,null,null,null,null,null,null,null,null,null,null,null,null,null,null,"NTMFS4835N","NTMFS4833N"]
[null,null,null,null,null,null,null,null,null,null,null,null,null,null,null,null,null,null,null,null,null,null,null,"NTMFS4835N","NTMFS4834N"]
[null,null,null,null,null,null,null,null,null,null,null,null,null,null,null,null,null,null,null,null,null,null,null,"NTMFS4835N","NTMFS4835N"]
[null,null,null,null,null,null,null,null,null,null,null,null,null,null,null,null,null,null,null,null,null,null,null,"NTMFS4835N","NTMFS4845"]
[null,null,null,null,null,null,null,null,null,null,null,null,null,null,null,null,null,null,null,null,null,null,null,"NTMFS4835N","NTMFS4846"]
[null,null,null,null,null,null,null,null,null,null,null,null,null,null,null,null,null,null,null,null,null,null,null,"NTMFS4835N","NTMFS4852N"]
[null,null,null,null,null,null,null,null,null,null,null,null,null,null,null,null,null,null,null,null,null,null,null,"NTMFS4835N","NTMFS4897"]
[null,null,null,null,null,null,null,null,null,null,null,null,null,null,null,null,null,null,null,null,null,null,null,"NTMFS4835N","NTMFS4898N"]
[null,null,null,null,null,null,null,null,null,null,null,null,null,null,null,null,null,null,null,null,null,null,null,"NTMFS4835N","NTMFS4923NE"]
[null,null,null,null,null,null,null,null,null,null,null,null,null,null,null,null,null,null,null,null,null,null,null,"NTMFS4835N","NTMFS4933N"]
[null,null,null,null,null,null,null,null,null,null,null,null,null,null,null,null,null,null,null,null,null,null,null,"NTMFS4835N","NTMFS4934N"]
[null,null,null,null,null,null,null,null,null,null,null,null,null,null,null,null,null,null,null,null,null,null,null,"NTMFS4835N","NTMFS4935N"]
[null,null,null,null,null,null,null,null,null,null,null,null,null,null,null,null,null,null,null,null,null,null,null,"NTMFS4835N","NTMFS4936"]
[null,null,null,null,null,null,null,null,null,null,null,null,null,null,null,null,null,null,null,null,null,null,null,"NTMFS4835N","NTTFS4932N"]
[null,null,null,null,null,null,null,null,null,null,null,null,null,null,null,null,null,null,null,null,null,null,null,"NTMFS4836N","NTD4904N"]
[null,null,null,null,null,null,null,null,null,null,null,null,null,null,null,null,null,null,null,null,null,null,null,"NTMFS4836N","NTMFS4825NFE"]
[null,null,null,null,null,null,null,null,null,null,null,null,null,null,null,null,null,null,null,null,null,null,null,"NTMFS4836N","NTMFS4833N"]
[null,null,null,null,null,null,null,null,null,null,null,null,null,null,null,null,null,null,null,null,null,null,null,"NTMFS4836N","NTMFS4834N"]
[null,null,null,null,null,null,null,null,null,null,null,null,null,null,null,null,null,null,null,null,null,null,null,"NTMFS4836N","NTMFS4835N"]
[null,null,null,null,null,null,null,null,null,null,null,null,null,null,null,null,null,null,null,null,null,null,null,"NTMFS4836N","NTMFS4845"]
[null,null,null,null,null,null,null,null,null,null,null,null,null,null,null,null,null,null,null,null,null,null,null,"NTMFS4836N","NTMFS4846"]
[null,null,null,null,null,null,null,null,null,null,null,null,null,null,null,null,null,null,null,null,null,null,null,"NTMFS4836N","NTMFS4852N"]
[null,null,null,null,null,null,null,null,null,null,null,null,null,null,null,null,null,null,null,null,null,null,null,"NTMFS4836N","NTMFS4897"]
[null,null,null,null,null,null,null,null,null,null,null,null,null,null,null,null,null,null,null,null,null,null,null,"NTMFS4836N","NTMFS4898N"]
[null,null,null,null,null,null,null,null,null,null,null,null,null,null,null,null,null,null,null,null,null,null,null,"NTMFS4836N","NTMFS4923NE"]
[null,null,null,null,null,null,null,null,null,null,null,null,null,null,null,null,null,null,null,null,null,null,null,"NTMFS4836N","NTMFS4933N"]
[null,null,null,null,null,null,null,null,null,null,null,null,null,null,null,null,null,null,null,null,null,null,null,"NTMFS4836N","NTMFS4934N"]
[null,null,null,null,null,null,null,null,null,null,null,null,null,null,null,null,null,null,null,null,null,null,null,"NTMFS4836N","NTMFS4935N"]
[null,null,null,null,null,null,null,null,null,null,null,null,null,null,null,null,null,null,null,null,null,null,null,"NTMFS4836N","NTMFS4936"]
[null,null,null,null,null,null,null,null,null,null,null,null,null,null,null,null,null,null,null,null,null,null,null,"NTMFS4836N","NTTFS4932N"]
[null,null,null,null,null,null,null,null,null,null,null,null,null,null,null,null,null,null,null,null,null,null,null,"NTMFS4837NH","NTD4904N"]
[null,null,null,null,null,null,null,null,null,null,null,null,null,null,null,null,null,null,null,null,null,null,null,"NTMFS4837NH","NTMFS4825NFE"]
[null,null,null,null,null,null,null,null,null,null,null,null,null,null,null,null,null,null,null,null,null,null,null,"NTMFS4837NH","NTMFS4833N"]
[null,null,null,null,null,null,null,null,null,null,null,null,null,null,null,null,null,null,null,null,null,null,null,"NTMFS4837NH","NTMFS4834N"]
[null,null,null,null,null,null,null,null,null,null,null,null,null,null,null,null,null,null,null,null,null,null,null,"NTMFS4837NH","NTMFS4835N"]
[null,null,null,null,null,null,null,null,null,null,null,null,null,null,null,null,null,null,null,null,null,null,null,"NTMFS4837NH","NTMFS4845"]
[null,null,null,null,null,null,null,null,null,null,null,null,null,null,null,null,null,null,null,null,null,null,null,"NTMFS4837NH","NTMFS4846"]
[null,null,null,null,null,null,null,null,null,null,null,null,null,null,null,null,null,null,null,null,null,null,null,"NTMFS4837NH","NTMFS4852N"]
[null,null,null,null,null,null,null,null,null,null,null,null,null,null,null,null,null,null,null,null,null,null,null,"NTMFS4837NH","NTMFS4897"]
[null,null,null,null,null,null,null,null,null,null,null,null,null,null,null,null,null,null,null,null,null,null,null,"NTMFS4837NH","NTMFS4898N"]
[null,null,null,null,null,null,null,null,null,null,null,null,null,null,null,null,null,null,null,null,null,null,null,"NTMFS4837NH","NTMFS4923NE"]
[null,null,null,null,null,null,null,null,null,null,null,null,null,null,null,null,null,null,null,null,null,null,null,"NTMFS4837NH","NTMFS4933N"]
[null,null,null,null,null,null,null,null,null,null,null,null,null,null,null,null,null,null,null,null,null,null,null,"NTMFS4837NH","NTMFS4934N"]
[null,null,null,null,null,null,null,null,null,null,null,null,null,null,null,null,null,null,null,null,null,null,null,"NTMFS4837NH","NTMFS4935N"]
[null,null,null,null,null,null,null,null,null,null,null,null,null,null,null,null,null,null,null,null,null,null,null,"NTMFS4837NH","NTMFS4936"]
[null,null,null,null,null,null,null,null,null,null,null,null,null,null,null,null,null,null,null,null,null,null,null,"NTMFS4837NH","NTTFS4932N"]
[null,null,null,null,null,null,null,null,null,null,null,null,null,null,null,null,null,null,null,null,null,null,null,"NTMFS4839NH","NTD4904N"]
[null,null,null,null,null,null,null,null,null,null,null,null,null,null,null,null,null,null,null,null,null,null,null,"NTMFS4839NH","NTMFS4825NFE"]
[null,null,null,null,null,null,null,null,null,null,null,null,null,null,null,null,null,null,null,null,null,null,null,"NTMFS4839NH","NTMFS4833N"]
[null,null,null,null,null,null,null,null,null,null,null,null,null,null,null,null,null,null,null,null,null,null,null,"NTMFS4839NH","NTMFS4834N"]
[null,null,null,null,null,null,null,null,null,null,null,null,null,null,null,null,null,null,null,null,null,null,null,"NTMFS4839NH","NTMFS4835N"]
[null,null,null,null,null,null,null,null,null,null,null,null,null,null,null,null,null,null,null,null,null,null,null,"NTMFS4839NH","NTMFS4845"]
[null,null,null,null,null,null,null,null,null,null,null,null,null,null,null,null,null,null,null,null,null,null,null,"NTMFS4839NH","NTMFS4846"]
[null,null,null,null,null,null,null,null,null,null,null,null,null,null,null,null,null,null,null,null,null,null,null,"NTMFS4839NH","NTMFS4852N"]
[null,null,null,null,null,null,null,null,null,null,null,null,null,null,null,null,null,null,null,null,null,null,null,"NTMFS4839NH","NTMFS4897"]
[null,null,null,null,null,null,null,null,null,null,null,null,null,null,null,null,null,null,null,null,null,null,null,"NTMFS4839NH","NTMFS4898N"]
[null,null,null,null,null,null,null,null,null,null,null,null,null,null,null,null,null,null,null,null,null,null,null,"NTMFS4839NH","NTMFS4923NE"]
[null,null,null,null,null,null,null,null,null,null,null,null,null,null,null,null,null,null,null,null,null,null,null,"NTMFS4839NH","NTMFS4933N"]
[null,null,null,null,null,null,null,null,null,null,null,null,null,null,null,null,null,null,null,null,null,null,null,"NTMFS4839NH","NTMFS4934N"]
[null,null,null,null,null,null,null,null,null,null,null,null,null,null,null,null,null,null,null,null,null,null,null,"NTMFS4839NH","NTMFS4935N"]
[null,null,null,null,null,null,null,null,null,null,null,null,null,null,null,null,null,null,null,null,null,null,null,"NTMFS4839NH","NTMFS4936"]
[null,null,null,null,null,null,null,null,null,null,null,null,null,null,null,null,null,null,null,null,null,null,null,"NTMFS4839NH","NTTFS4932N"]
[null,null,null,null,null,null,null,null,null,null,null,null,null,null,null,null,null,null,null,null,null,null,null,"NTMFS4841N","NTD4904N"]
[null,null,null,null,null,null,null,null,null,null,null,null,null,null,null,null,null,null,null,null,null,null,null,"NTMFS4841N","NTMFS4825NFE"]
[null,null,null,null,null,null,null,null,null,null,null,null,null,null,null,null,null,null,null,null,null,null,null,"NTMFS4841N","NTMFS4833N"]
[null,null,null,null,null,null,null,null,null,null,null,null,null,null,null,null,null,null,null,null,null,null,null,"NTMFS4841N","NTMFS4834N"]
[null,null,null,null,null,null,null,null,null,null,null,null,null,null,null,null,null,null,null,null,null,null,null,"NTMFS4841N","NTMFS4835N"]
[null,null,null,null,null,null,null,null,null,null,null,null,null,null,null,null,null,null,null,null,null,null,null,"NTMFS4841N","NTMFS4845"]
[null,null,null,null,null,null,null,null,null,null,null,null,null,null,null,null,null,null,null,null,null,null,null,"NTMFS4841N","NTMFS4846"]
[null,null,null,null,null,null,null,null,null,null,null,null,null,null,null,null,null,null,null,null,null,null,null,"NTMFS4841N","NTMFS4852N"]
[null,null,null,null,null,null,null,null,null,null,null,null,null,null,null,null,null,null,null,null,null,null,null,"NTMFS4841N","NTMFS4897"]
[null,null,null,null,null,null,null,null,null,null,null,null,null,null,null,null,null,null,null,null,null,null,null,"NTMFS4841N","NTMFS4898N"]
[null,null,null,null,null,null,null,null,null,null,null,null,null,null,null,null,null,null,null,null,null,null,null,"NTMFS4841N","NTMFS4923NE"]
[null,null,null,null,null,null,null,null,null,null,null,null,null,null,null,null,null,null,null,null,null,null,null,"NTMFS4841N","NTMFS4933N"]
[null,null,null,null,null,null,null,null,null,null,null,null,null,null,null,null,null,null,null,null,null,null,null,"NTMFS4841N","NTMFS4934N"]
[null,null,null,null,null,null,null,null,null,null,null,null,null,null,null,null,null,null,null,null,null,null,null,"NTMFS4841N","NTMFS4935N"]
[null,null,null,null,null,null,null,null,null,null,null,null,null,null,null,null,null,null,null,null,null,null,null,"NTMFS4841N","NTMFS4936"]
[null,null,null,null,null,null,null,null,null,null,null,null,null,null,null,null,null,null,null,null,null,null,null,"NTMFS4841N","NTTFS4932N"]
[null,null,null,null,null,null,null,null,null,null,null,null,null,null,null,null,null,null,null,null,null,null,null,"NTMFS4841NH","NTD4904N"]
[null,null,null,null,null,null,null,null,null,null,null,null,null,null,null,null,null,null,null,null,null,null,null,"NTMFS4841NH","NTMFS4825NFE"]
[null,null,null,null,null,null,null,null,null,null,null,null,null,null,null,null,null,null,null,null,null,null,null,"NTMFS4841NH","NTMFS4833N"]
[null,null,null,null,null,null,null,null,null,null,null,null,null,null,null,null,null,null,null,null,null,null,null,"NTMFS4841NH","NTMFS4834N"]
[null,null,null,null,null,null,null,null,null,null,null,null,null,null,null,null,null,null,null,null,null,null,null,"NTMFS4841NH","NTMFS4835N"]
[null,null,null,null,null,null,null,null,null,null,null,null,null,null,null,null,null,null,null,null,null,null,null,"NTMFS4841NH","NTMFS4845"]
[null,null,null,null,null,null,null,null,null,null,null,null,null,null,null,null,null,null,null,null,null,null,null,"NTMFS4841NH","NTMFS4846"]
[null,null,null,null,null,null,null,null,null,null,null,null,null,null,null,null,null,null,null,null,null,null,null,"NTMFS4841NH","NTMFS4852N"]
[null,null,null,null,null,null,null,null,null,null,null,null,null,null,null,null,null,null,null,null,null,null,null,"NTMFS4841NH","NTMFS4897"]
[null,null,null,null,null,null,null,null,null,null,null,null,null,null,null,null,null,null,null,null,null,null,null,"NTMFS4841NH","NTMFS4898N"]
[null,null,null,null,null,null,null,null,null,null,null,null,null,null,null,null,null,null,null,null,null,null,null,"NTMFS4841NH","NTMFS4923NE"]
[null,null,null,null,null,null,null,null,null,null,null,null,null,null,null,null,null,null,null,null,null,null,null,"NTMFS4841NH","NTMFS4933N"]
[null,null,null,null,null,null,null,null,null,null,null,null,null,null,null,null,null,null,null,null,null,null,null,"NTMFS4841NH","NTMFS4934N"]
[null,null,null,null,null,null,null,null,null,null,null,null,null,null,null,null,null,null,null,null,null,null,null,"NTMFS4841NH","NTMFS4935N"]
[null,null,null,null,null,null,null,null,null,null,null,null,null,null,null,null,null,null,null,null,null,null,null,"NTMFS4841NH","NTMFS4936"]
[null,null,null,null,null,null,null,null,null,null,null,null,null,null,null,null,null,null,null,null,null,null,null,"NTMFS4841NH","NTTFS4932N"]
[null,null,null,null,null,null,null,null,null,null,null,null,null,null,null,null,null,null,null,null,null,null,null,"NTMFS4845","NTD4804N"]
[null,null,null,null,null,null,null,null,null,null,null,null,null,null,null,null,null,null,null,null,null,null,null,"NTMFS4845","NTD4855N"]
[null,null,null,null,null,null,null,null,null,null,null,null,null,null,null,null,null,null,null,null,null,null,null,"NTMFS4845","NTD4904N"]
[null,null,null,null,null,null,null,null,null,null,null,null,null,null,null,null,null,null,null,null,null,null,null,"NTMFS4845","NTMFS4825NFE"]
[null,null,null,null,null,null,null,null,null,null,null,null,null,null,null,null,null,null,null,null,null,null,null,"NTMFS4845","NTMFS4833N"]
[null,null,null,null,null,null,null,null,null,null,null,null,null,null,null,null,null,null,null,null,null,null,null,"NTMFS4845","NTMFS4834N"]
[null,null,null,null,null,null,null,null,null,null,null,null,null,null,null,null,null,null,null,null,null,null,null,"NTMFS4845","NTMFS4835N"]
[null,null,null,null,null,null,null,null,null,null,null,null,null,null,null,null,null,null,null,null,null,null,null,"NTMFS4845","NTMFS4845"]
[null,null,null,null,null,null,null,null,null,null,null,null,null,null,null,null,null,null,null,null,null,null,null,"NTMFS4845","NTMFS4846"]
[null,null,null,null,null,null,null,null,null,null,null,null,null,null,null,null,null,null,null,null,null,null,null,"NTMFS4845","NTMFS4852N"]
[null,null,null,null,null,null,null,null,null,null,null,null,null,null,null,null,null,null,null,null,null,null,null,"NTMFS4845","NTMFS4897"]
[null,null,null,null,null,null,null,null,null,null,null,null,null,null,null,null,null,null,null,null,null,null,null,"NTMFS4845","NTMFS4898N"]
[null,null,null,null,null,null,null,null,null,null,null,null,null,null,null,null,null,null,null,null,null,null,null,"NTMFS4845","NTMFS4923NE"]
[null,null,null,null,null,null,null,null,null,null,null,null,null,null,null,null,null,null,null,null,null,null,null,"NTMFS4845","NTMFS4933N"]
[null,null,null,null,null,null,null,null,null,null,null,null,null,null,null,null,null,null,null,null,null,null,null,"NTMFS4845","NTMFS4934N"]
[null,null,null,null,null,null,null,null,null,null,null,null,null,null,null,null,null,null,null,null,null,null,null,"NTMFS4845","NTMFS4935N"]
[null,null,null,null,null,null,null,null,null,null,null,null,null,null,null,null,null,null,null,null,null,null,null,"NTMFS4845","NTMFS4936"]
[null,null,null,null,null,null,null,null,null,null,null,null,null,null,null,null,null,null,null,null,null,null,null,"NTMFS4845","NTTFS4932N"]
[null,null,null,null,null,null,null,null,null,null,null,null,null,null,null,null,null,null,null,null,null,null,null,"NTMFS4846","NTD4804N"]
[null,null,null,null,null,null,null,null,null,null,null,null,null,null,null,null,null,null,null,null,null,null,null,"NTMFS4846","NTD4855N"]
[null,null,null,null,null,null,null,null,null,null,null,null,null,null,null,null,null,null,null,null,null,null,null,"NTMFS4846","NTD4904N"]
[null,null,null,null,null,null,null,null,null,null,null,null,null,null,null,null,null,null,null,null,null,null,null,"NTMFS4846","NTMFS4825NFE"]
[null,null,null,null,null,null,null,null,null,null,null,null,null,null,null,null,null,null,null,null,null,null,null,"NTMFS4846","NTMFS4833N"]
[null,null,null,null,null,null,null,null,null,null,null,null,null,null,null,null,null,null,null,null,null,null,null,"NTMFS4846","NTMFS4834N"]
[null,null,null,null,null,null,null,null,null,null,null,null,null,null,null,null,null,null,null,null,null,null,null,"NTMFS4846","NTMFS4835N"]
[null,null,null,null,null,null,null,null,null,null,null,null,null,null,null,null,null,null,null,null,null,null,null,"NTMFS4846","NTMFS4845"]
[null,null,null,null,null,null,null,null,null,null,null,null,null,null,null,null,null,null,null,null,null,null,null,"NTMFS4846","NTMFS4846"]
[null,null,null,null,null,null,null,null,null,null,null,null,null,null,null,null,null,null,null,null,null,null,null,"NTMFS4846","NTMFS4852N"]
[null,null,null,null,null,null,null,null,null,null,null,null,null,null,null,null,null,null,null,null,null,null,null,"NTMFS4846","NTMFS4897"]
[null,null,null,null,null,null,null,null,null,null,null,null,null,null,null,null,null,null,null,null,null,null,null,"NTMFS4846","NTMFS4898N"]
[null,null,null,null,null,null,null,null,null,null,null,null,null,null,null,null,null,null,null,null,null,null,null,"NTMFS4846","NTMFS4923NE"]
[null,null,null,null,null,null,null,null,null,null,null,null,null,null,null,null,null,null,null,null,null,null,null,"NTMFS4846","NTMFS4933N"]
[null,null,null,null,null,null,null,null,null,null,null,null,null,null,null,null,null,null,null,null,null,null,null,"NTMFS4846","NTMFS4934N"]
[null,null,null,null,null,null,null,null,null,null,null,null,null,null,null,null,null,null,null,null,null,null,null,"NTMFS4846","NTMFS4935N"]
[null,null,null,null,null,null,null,null,null,null,null,null,null,null,null,null,null,null,null,null,null,null,null,"NTMFS4846","NTMFS4936"]
[null,null,null,null,null,null,null,null,null,null,null,null,null,null,null,null,null,null,null,null,null,null,null,"NTMFS4846","NTTFS4932N"]
[null,null,null,null,null,null,null,null,null,null,null,null,null,null,null,null,null,null,null,null,null,null,null,"NTMFS4847N","NTD4904N"]
[null,null,null,null,null,null,null,null,null,null,null,null,null,null,null,null,null,null,null,null,null,null,null,"NTMFS4847N","NTMFS4825NFE"]
[null,null,null,null,null,null,null,null,null,null,null,null,null,null,null,null,null,null,null,null,null,null,null,"NTMFS4847N","NTMFS4833N"]
[null,null,null,null,null,null,null,null,null,null,null,null,null,null,null,null,null,null,null,null,null,null,null,"NTMFS4847N","NTMFS4834N"]
[null,null,null,null,null,null,null,null,null,null,null,null,null,null,null,null,null,null,null,null,null,null,null,"NTMFS4847N","NTMFS4835N"]
[null,null,null,null,null,null,null,null,null,null,null,null,null,null,null,null,null,null,null,null,null,null,null,"NTMFS4847N","NTMFS4845"]
[null,null,null,null,null,null,null,null,null,null,null,null,null,null,null,null,null,null,null,null,null,null,null,"NTMFS4847N","NTMFS4846"]
[null,null,null,null,null,null,null,null,null,null,null,null,null,null,null,null,null,null,null,null,null,null,null,"NTMFS4847N","NTMFS4852N"]
[null,null,null,null,null,null,null,null,null,null,null,null,null,null,null,null,null,null,null,null,null,null,null,"NTMFS4847N","NTMFS4897"]
[null,null,null,null,null,null,null,null,null,null,null,null,null,null,null,null,null,null,null,null,null,null,null,"NTMFS4847N","NTMFS4898N"]
[null,null,null,null,null,null,null,null,null,null,null,null,null,null,null,null,null,null,null,null,null,null,null,"NTMFS4847N","NTMFS4923NE"]
[null,null,null,null,null,null,null,null,null,null,null,null,null,null,null,null,null,null,null,null,null,null,null,"NTMFS4847N","NTMFS4933N"]
[null,null,null,null,null,null,null,null,null,null,null,null,null,null,null,null,null,null,null,null,null,null,null,"NTMFS4847N","NTMFS4934N"]
[null,null,null,null,null,null,null,null,null,null,null,null,null,null,null,null,null,null,null,null,null,null,null,"NTMFS4847N","NTMFS4935N"]
[null,null,null,null,null,null,null,null,null,null,null,null,null,null,null,null,null,null,null,null,null,null,null,"NTMFS4847N","NTMFS4936"]
[null,null,null,null,null,null,null,null,null,null,null,null,null,null,null,null,null,null,null,null,null,null,null,"NTMFS4847N","NTTFS4932N"]
[null,null,null,null,null,null,null,null,null,null,null,null,null,null,null,null,null,null,null,null,null,null,null,"NTMFS4851","NTD4904N"]
[null,null,null,null,null,null,null,null,null,null,null,null,null,null,null,null,null,null,null,null,null,null,null,"NTMFS4851","NTMFS4825NFE"]
[null,null,null,null,null,null,null,null,null,null,null,null,null,null,null,null,null,null,null,null,null,null,null,"NTMFS4851","NTMFS4833N"]
[null,null,null,null,null,null,null,null,null,null,null,null,null,null,null,null,null,null,null,null,null,null,null,"NTMFS4851","NTMFS4834N"]
[null,null,null,null,null,null,null,null,null,null,null,null,null,null,null,null,null,null,null,null,null,null,null,"NTMFS4851","NTMFS4835N"]
[null,null,null,null,null,null,null,null,null,null,null,null,null,null,null,null,null,null,null,null,null,null,null,"NTMFS4851","NTMFS4845"]
[null,null,null,null,null,null,null,null,null,null,null,null,null,null,null,null,null,null,null,null,null,null,null,"NTMFS4851","NTMFS4846"]
[null,null,null,null,null,null,null,null,null,null,null,null,null,null,null,null,null,null,null,null,null,null,null,"NTMFS4851","NTMFS4852N"]
[null,null,null,null,null,null,null,null,null,null,null,null,null,null,null,null,null,null,null,null,null,null,null,"NTMFS4851","NTMFS4897"]
[null,null,null,null,null,null,null,null,null,null,null,null,null,null,null,null,null,null,null,null,null,null,null,"NTMFS4851","NTMFS4898N"]
[null,null,null,null,null,null,null,null,null,null,null,null,null,null,null,null,null,null,null,null,null,null,null,"NTMFS4851","NTMFS4923NE"]
[null,null,null,null,null,null,null,null,null,null,null,null,null,null,null,null,null,null,null,null,null,null,null,"NTMFS4851","NTMFS4933N"]
[null,null,null,null,null,null,null,null,null,null,null,null,null,null,null,null,null,null,null,null,null,null,null,"NTMFS4851","NTMFS4934N"]
[null,null,null,null,null,null,null,null,null,null,null,null,null,null,null,null,null,null,null,null,null,null,null,"NTMFS4851","NTMFS4935N"]
[null,null,null,null,null,null,null,null,null,null,null,null,null,null,null,null,null,null,null,null,null,null,null,"NTMFS4851","NTMFS4936"]
[null,null,null,null,null,null,null,null,null,null,null,null,null,null,null,null,null,null,null,null,null,null,null,"NTMFS4851","NTTFS4932N"]
[null,null,null,null,null,null,null,null,null,null,null,null,null,null,null,null,null,null,null,null,null,null,null,"NTMFS4852N","NTD4804N"]
[null,null,null,null,null,null,null,null,null,null,null,null,null,null,null,null,null,null,null,null,null,null,null,"NTMFS4852N","NTD4855N"]
[null,null,null,null,null,null,null,null,null,null,null,null,null,null,null,null,null,null,null,null,null,null,null,"NTMFS4852N","NTD4904N"]
[null,null,null,null,null,null,null,null,null,null,null,null,null,null,null,null,null,null,null,null,null,null,null,"NTMFS4852N","NTMFS4825NFE"]
[null,null,null,null,null,null,null,null,null,null,null,null,null,null,null,null,null,null,null,null,null,null,null,"NTMFS4852N","NTMFS4833N"]
[null,null,null,null,null,null,null,null,null,null,null,null,null,null,null,null,null,null,null,null,null,null,null,"NTMFS4852N","NTMFS4834N"]
[null,null,null,null,null,null,null,null,null,null,null,null,null,null,null,null,null,null,null,null,null,null,null,"NTMFS4852N","NTMFS4835N"]
[null,null,null,null,null,null,null,null,null,null,null,null,null,null,null,null,null,null,null,null,null,null,null,"NTMFS4852N","NTMFS4836N"]
[null,null,null,null,null,null,null,null,null,null,null,null,null,null,null,null,null,null,null,null,null,null,null,"NTMFS4852N","NTMFS4845"]
[null,null,null,null,null,null,null,null,null,null,null,null,null,null,null,null,null,null,null,null,null,null,null,"NTMFS4852N","NTMFS4846"]
[null,null,null,null,null,null,null,null,null,null,null,null,null,null,null,null,null,null,null,null,null,null,null,"NTMFS4852N","NTMFS4852N"]
[null,null,null,null,null,null,null,null,null,null,null,null,null,null,null,null,null,null,null,null,null,null,null,"NTMFS4852N","NTMFS4897"]
[null,null,null,null,null,null,null,null,null,null,null,null,null,null,null,null,null,null,null,null,null,null,null,"NTMFS4852N","NTMFS4898N"]
[null,null,null,null,null,null,null,null,null,null,null,null,null,null,null,null,null,null,null,null,null,null,null,"NTMFS4852N","NTMFS4923NE"]
[null,null,null,null,null,null,null,null,null,null,null,null,null,null,null,null,null,null,null,null,null,null,null,"NTMFS4852N","NTMFS4933N"]
[null,null,null,null,null,null,null,null,null,null,null,null,null,null,null,null,null,null,null,null,null,null,null,"NTMFS4852N","NTMFS4934N"]
[null,null,null,null,null,null,null,null,null,null,null,null,null,null,null,null,null,null,null,null,null,null,null,"NTMFS4852N","NTMFS4935N"]
[null,null,null,null,null,null,null,null,null,null,null,null,null,null,null,null,null,null,null,null,null,null,null,"NTMFS4852N","NTMFS4936"]
[null,null,null,null,null,null,null,null,null,null,null,null,null,null,null,null,null,null,null,null,null,null,null,"NTMFS4852N","NTTFS4932N"]
[null,null,null,null,null,null,null,null,null,null,null,null,null,null,null,null,null,null,null,null,null,null,null,"NTMFS4852N","NTTFS4937N"]
[null,null,null,null,null,null,null,null,null,null,null,null,null,null,null,null,null,null,null,null,null,null,null,"NTMFS4897","NTD4804N"]
[null,null,null,null,null,null,null,null,null,null,null,null,null,null,null,null,null,null,null,null,null,null,null,"NTMFS4897","NTD4855N"]
[null,null,null,null,null,null,null,null,null,null,null,null,null,null,null,null,null,null,null,null,null,null,null,"NTMFS4897","NTD4904N"]
[null,null,null,null,null,null,null,null,null,null,null,null,null,null,null,null,null,null,null,null,null,null,null,"NTMFS4897","NTMFS4825NFE"]
[null,null,null,null,null,null,null,null,null,null,null,null,null,null,null,null,null,null,null,null,null,null,null,"NTMFS4897","NTMFS4833N"]
[null,null,null,null,null,null,null,null,null,null,null,null,null,null,null,null,null,null,null,null,null,null,null,"NTMFS4897","NTMFS4834N"]
[null,null,null,null,null,null,null,null,null,null,null,null,null,null,null,null,null,null,null,null,null,null,null,"NTMFS4897","NTMFS4835N"]
[null,null,null,null,null,null,null,null,null,null,null,null,null,null,null,null,null,null,null,null,null,null,null,"NTMFS4897","NTMFS4836N"]
[null,null,null,null,null,null,null,null,null,null,null,null,null,null,null,null,null,null,null,null,null,null,null,"NTMFS4897","NTMFS4845"]
[null,null,null,null,null,null,null,null,null,null,null,null,null,null,null,null,null,null,null,null,null,null,null,"NTMFS4897","NTMFS4846"]
[null,null,null,null,null,null,null,null,null,null,null,null,null,null,null,null,null,null,null,null,null,null,null,"NTMFS4897","NTMFS4852N"]
[null,null,null,null,null,null,null,null,null,null,null,null,null,null,null,null,null,null,null,null,null,null,null,"NTMFS4897","NTMFS4897"]
[null,null,null,null,null,null,null,null,null,null,null,null,null,null,null,null,null,null,null,null,null,null,null,"NTMFS4897","NTMFS4898N"]
[null,null,null,null,null,null,null,null,null,null,null,null,null,null,null,null,null,null,null,null,null,null,null,"NTMFS4897","NTMFS4923NE"]
[null,null,null,null,null,null,null,null,null,null,null,null,null,null,null,null,null,null,null,null,null,null,null,"NTMFS4897","NTMFS4933N"]
[null,null,null,null,null,null,null,null,null,null,null,null,null,null,null,null,null,null,null,null,null,null,null,"NTMFS4897","NTMFS4934N"]
[null,null,null,null,null,null,null,null,null,null,null,null,null,null,null,null,null,null,null,null,null,null,null,"NTMFS4897","NTMFS4935N"]
[null,null,null,null,null,null,null,null,null,null,null,null,null,null,null,null,null,null,null,null,null,null,null,"NTMFS4897","NTMFS4936"]
[null,null,null,null,null,null,null,null,null,null,null,null,null,null,null,null,null,null,null,null,null,null,null,"NTMFS4897","NTTFS4932N"]
[null,null,null,null,null,null,null,null,null,null,null,null,null,null,null,null,null,null,null,null,null,null,null,"NTMFS4897","NTTFS4937N"]
[null,null,null,null,null,null,null,null,null,null,null,null,null,null,null,null,null,null,null,null,null,null,null,"NTMFS4898N","NTD4804N"]
[null,null,null,null,null,null,null,null,null,null,null,null,null,null,null,null,null,null,null,null,null,null,null,"NTMFS4898N","NTD4855N"]
[null,null,null,null,null,null,null,null,null,null,null,null,null,null,null,null,null,null,null,null,null,null,null,"NTMFS4898N","NTD4904N"]
[null,null,null,null,null,null,null,null,null,null,null,null,null,null,null,null,null,null,null,null,null,null,null,"NTMFS4898N","NTMFS4825NFE"]
[null,null,null,null,null,null,null,null,null,null,null,null,null,null,null,null,null,null,null,null,null,null,null,"NTMFS4898N","NTMFS4833N"]
[null,null,null,null,null,null,null,null,null,null,null,null,null,null,null,null,null,null,null,null,null,null,null,"NTMFS4898N","NTMFS4834N"]
[null,null,null,null,null,null,null,null,null,null,null,null,null,null,null,null,null,null,null,null,null,null,null,"NTMFS4898N","NTMFS4835N"]
[null,null,null,null,null,null,null,null,null,null,null,null,null,null,null,null,null,null,null,null,null,null,null,"NTMFS4898N","NTMFS4845"]
[null,null,null,null,null,null,null,null,null,null,null,null,null,null,null,null,null,null,null,null,null,null,null,"NTMFS4898N","NTMFS4846"]
[null,null,null,null,null,null,null,null,null,null,null,null,null,null,null,null,null,null,null,null,null,null,null,"NTMFS4898N","NTMFS4852N"]
[null,null,null,null,null,null,null,null,null,null,null,null,null,null,null,null,null,null,null,null,null,null,null,"NTMFS4898N","NTMFS4897"]
[null,null,null,null,null,null,null,null,null,null,null,null,null,null,null,null,null,null,null,null,null,null,null,"NTMFS4898N","NTMFS4898N"]
[null,null,null,null,null,null,null,null,null,null,null,null,null,null,null,null,null,null,null,null,null,null,null,"NTMFS4898N","NTMFS4923NE"]
[null,null,null,null,null,null,null,null,null,null,null,null,null,null,null,null,null,null,null,null,null,null,null,"NTMFS4898N","NTMFS4933N"]
[null,null,null,null,null,null,null,null,null,null,null,null,null,null,null,null,null,null,null,null,null,null,null,"NTMFS4898N","NTMFS4934N"]
[null,null,null,null,null,null,null,null,null,null,null,null,null,null,null,null,null,null,null,null,null,null,null,"NTMFS4898N","NTMFS4935N"]
[null,null,null,null,null,null,null,null,null,null,null,null,null,null,null,null,null,null,null,null,null,null,null,"NTMFS4898N","NTMFS4936"]
[null,null,null,null,null,null,null,null,null,null,null,null,null,null,null,null,null,null,null,null,null,null,null,"NTMFS4898N","NTTFS4932N"]
[null,null,null,null,null,null,null,null,null,null,null,null,null,null,null,null,null,null,null,null,null,null,null,"NTMFS4899N","NTD4904N"]
[null,null,null,null,null,null,null,null,null,null,null,null,null,null,null,null,null,null,null,null,null,null,null,"NTMFS4899N","NTMFS4825NFE"]
[null,null,null,null,null,null,null,null,null,null,null,null,null,null,null,null,null,null,null,null,null,null,null,"NTMFS4899N","NTMFS4833N"]
[null,null,null,null,null,null,null,null,null,null,null,null,null,null,null,null,null,null,null,null,null,null,null,"NTMFS4899N","NTMFS4834N"]
[null,null,null,null,null,null,null,null,null,null,null,null,null,null,null,null,null,null,null,null,null,null,null,"NTMFS4899N","NTMFS4835N"]
[null,null,null,null,null,null,null,null,null,null,null,null,null,null,null,null,null,null,null,null,null,null,null,"NTMFS4899N","NTMFS4845"]
[null,null,null,null,null,null,null,null,null,null,null,null,null,null,null,null,null,null,null,null,null,null,null,"NTMFS4899N","NTMFS4846"]
[null,null,null,null,null,null,null,null,null,null,null,null,null,null,null,null,null,null,null,null,null,null,null,"NTMFS4899N","NTMFS4852N"]
[null,null,null,null,null,null,null,null,null,null,null,null,null,null,null,null,null,null,null,null,null,null,null,"NTMFS4899N","NTMFS4897"]
[null,null,null,null,null,null,null,null,null,null,null,null,null,null,null,null,null,null,null,null,null,null,null,"NTMFS4899N","NTMFS4898N"]
[null,null,null,null,null,null,null,null,null,null,null,null,null,null,null,null,null,null,null,null,null,null,null,"NTMFS4899N","NTMFS4923NE"]
[null,null,null,null,null,null,null,null,null,null,null,null,null,null,null,null,null,null,null,null,null,null,null,"NTMFS4899N","NTMFS4933N"]
[null,null,null,null,null,null,null,null,null,null,null,null,null,null,null,null,null,null,null,null,null,null,null,"NTMFS4899N","NTMFS4934N"]
[null,null,null,null,null,null,null,null,null,null,null,null,null,null,null,null,null,null,null,null,null,null,null,"NTMFS4899N","NTMFS4935N"]
[null,null,null,null,null,null,null,null,null,null,null,null,null,null,null,null,null,null,null,null,null,null,null,"NTMFS4899N","NTMFS4936"]
[null,null,null,null,null,null,null,null,null,null,null,null,null,null,null,null,null,null,null,null,null,null,null,"NTMFS4899N","NTTFS4932N"]
[null,null,null,null,null,null,null,null,null,null,null,null,null,null,null,null,null,null,null,null,null,null,null,"NTMFS4921","NTD4904N"]
[null,null,null,null,null,null,null,null,null,null,null,null,null,null,null,null,null,null,null,null,null,null,null,"NTMFS4921","NTMFS4825NFE"]
[null,null,null,null,null,null,null,null,null,null,null,null,null,null,null,null,null,null,null,null,null,null,null,"NTMFS4921","NTMFS4833N"]
[null,null,null,null,null,null,null,null,null,null,null,null,null,null,null,null,null,null,null,null,null,null,null,"NTMFS4921","NTMFS4834N"]
[null,null,null,null,null,null,null,null,null,null,null,null,null,null,null,null,null,null,null,null,null,null,null,"NTMFS4921","NTMFS4835N"]
[null,null,null,null,null,null,null,null,null,null,null,null,null,null,null,null,null,null,null,null,null,null,null,"NTMFS4921","NTMFS4845"]
[null,null,null,null,null,null,null,null,null,null,null,null,null,null,null,null,null,null,null,null,null,null,null,"NTMFS4921","NTMFS4846"]
[null,null,null,null,null,null,null,null,null,null,null,null,null,null,null,null,null,null,null,null,null,null,null,"NTMFS4921","NTMFS4852N"]
[null,null,null,null,null,null,null,null,null,null,null,null,null,null,null,null,null,null,null,null,null,null,null,"NTMFS4921","NTMFS4897"]
[null,null,null,null,null,null,null,null,null,null,null,null,null,null,null,null,null,null,null,null,null,null,null,"NTMFS4921","NTMFS4898N"]
[null,null,null,null,null,null,null,null,null,null,null,null,null,null,null,null,null,null,null,null,null,null,null,"NTMFS4921","NTMFS4923NE"]
[null,null,null,null,null,null,null,null,null,null,null,null,null,null,null,null,null,null,null,null,null,null,null,"NTMFS4921","NTMFS4933N"]
[null,null,null,null,null,null,null,null,null,null,null,null,null,null,null,null,null,null,null,null,null,null,null,"NTMFS4921","NTMFS4934N"]
[null,null,null,null,null,null,null,null,null,null,null,null,null,null,null,null,null,null,null,null,null,null,null,"NTMFS4921","NTMFS4935N"]
[null,null,null,null,null,null,null,null,null,null,null,null,null,null,null,null,null,null,null,null,null,null,null,"NTMFS4921","NTMFS4936"]
[null,null,null,null,null,null,null,null,null,null,null,null,null,null,null,null,null,null,null,null,null,null,null,"NTMFS4921","NTTFS4932N"]
[null,null,null,null,null,null,null,null,null,null,null,null,null,null,null,null,null,null,null,null,null,null,null,"NTMFS4923NE","NTD4804N"]
[null,null,null,null,null,null,null,null,null,null,null,null,null,null,null,null,null,null,null,null,null,null,null,"NTMFS4923NE","NTD4855N"]
[null,null,null,null,null,null,null,null,null,null,null,null,null,null,null,null,null,null,null,null,null,null,null,"NTMFS4923NE","NTD4904N"]
[null,null,null,null,null,null,null,null,null,null,null,null,null,null,null,null,null,null,null,null,null,null,null,"NTMFS4923NE","NTMFS4825NFE"]
[null,null,null,null,null,null,null,null,null,null,null,null,null,null,null,null,null,null,null,null,null,null,null,"NTMFS4923NE","NTMFS4833N"]
[null,null,null,null,null,null,null,null,null,null,null,null,null,null,null,null,null,null,null,null,null,null,null,"NTMFS4923NE","NTMFS4834N"]
[null,null,null,null,null,null,null,null,null,null,null,null,null,null,null,null,null,null,null,null,null,null,null,"NTMFS4923NE","NTMFS4835N"]
[null,null,null,null,null,null,null,null,null,null,null,null,null,null,null,null,null,null,null,null,null,null,null,"NTMFS4923NE","NTMFS4845"]
[null,null,null,null,null,null,null,null,null,null,null,null,null,null,null,null,null,null,null,null,null,null,null,"NTMFS4923NE","NTMFS4846"]
[null,null,null,null,null,null,null,null,null,null,null,null,null,null,null,null,null,null,null,null,null,null,null,"NTMFS4923NE","NTMFS4852N"]
[null,null,null,null,null,null,null,null,null,null,null,null,null,null,null,null,null,null,null,null,null,null,null,"NTMFS4923NE","NTMFS4897"]
[null,null,null,null,null,null,null,null,null,null,null,null,null,null,null,null,null,null,null,null,null,null,null,"NTMFS4923NE","NTMFS4898N"]
[null,null,null,null,null,null,null,null,null,null,null,null,null,null,null,null,null,null,null,null,null,null,null,"NTMFS4923NE","NTMFS4923NE"]
[null,null,null,null,null,null,null,null,null,null,null,null,null,null,null,null,null,null,null,null,null,null,null,"NTMFS4923NE","NTMFS4933N"]
[null,null,null,null,null,null,null,null,null,null,null,null,null,null,null,null,null,null,null,null,null,null,null,"NTMFS4923NE","NTMFS4934N"]
[null,null,null,null,null,null,null,null,null,null,null,null,null,null,null,null,null,null,null,null,null,null,null,"NTMFS4923NE","NTMFS4935N"]
[null,null,null,null,null,null,null,null,null,null,null,null,null,null,null,null,null,null,null,null,null,null,null,"NTMFS4923NE","NTMFS4936"]
[null,null,null,null,null,null,null,null,null,null,null,null,null,null,null,null,null,null,null,null,null,null,null,"NTMFS4923NE","NTTFS4932N"]
[null,null,null,null,null,null,null,null,null,null,null,null,null,null,null,null,null,null,null,null,null,null,null,"NTMFS4925","NTD4904N"]
[null,null,null,null,null,null,null,null,null,null,null,null,null,null,null,null,null,null,null,null,null,null,null,"NTMFS4925","NTMFS4825NFE"]
[null,null,null,null,null,null,null,null,null,null,null,null,null,null,null,null,null,null,null,null,null,null,null,"NTMFS4925","NTMFS4833N"]
[null,null,null,null,null,null,null,null,null,null,null,null,null,null,null,null,null,null,null,null,null,null,null,"NTMFS4925","NTMFS4834N"]
[null,null,null,null,null,null,null,null,null,null,null,null,null,null,null,null,null,null,null,null,null,null,null,"NTMFS4925","NTMFS4835N"]
[null,null,null,null,null,null,null,null,null,null,null,null,null,null,null,null,null,null,null,null,null,null,null,"NTMFS4925","NTMFS4845"]
[null,null,null,null,null,null,null,null,null,null,null,null,null,null,null,null,null,null,null,null,null,null,null,"NTMFS4925","NTMFS4846"]
[null,null,null,null,null,null,null,null,null,null,null,null,null,null,null,null,null,null,null,null,null,null,null,"NTMFS4925","NTMFS4852N"]
[null,null,null,null,null,null,null,null,null,null,null,null,null,null,null,null,null,null,null,null,null,null,null,"NTMFS4925","NTMFS4897"]
[null,null,null,null,null,null,null,null,null,null,null,null,null,null,null,null,null,null,null,null,null,null,null,"NTMFS4925","NTMFS4898N"]
[null,null,null,null,null,null,null,null,null,null,null,null,null,null,null,null,null,null,null,null,null,null,null,"NTMFS4925","NTMFS4923NE"]
[null,null,null,null,null,null,null,null,null,null,null,null,null,null,null,null,null,null,null,null,null,null,null,"NTMFS4925","NTMFS4933N"]
[null,null,null,null,null,null,null,null,null,null,null,null,null,null,null,null,null,null,null,null,null,null,null,"NTMFS4925","NTMFS4934N"]
[null,null,null,null,null,null,null,null,null,null,null,null,null,null,null,null,null,null,null,null,null,null,null,"NTMFS4925","NTMFS4935N"]
[null,null,null,null,null,null,null,null,null,null,null,null,null,null,null,null,null,null,null,null,null,null,null,"NTMFS4925","NTMFS4936"]
[null,null,null,null,null,null,null,null,null,null,null,null,null,null,null,null,null,null,null,null,null,null,null,"NTMFS4925","NTTFS4932N"]
[null,null,null,null,null,null,null,null,null,null,null,null,null,null,null,null,null,null,null,null,null,null,null,"NTMFS4926","NTD4904N"]
[null,null,null,null,null,null,null,null,null,null,null,null,null,null,null,null,null,null,null,null,null,null,null,"NTMFS4926","NTMFS4825NFE"]
[null,null,null,null,null,null,null,null,null,null,null,null,null,null,null,null,null,null,null,null,null,null,null,"NTMFS4926","NTMFS4833N"]
[null,null,null,null,null,null,null,null,null,null,null,null,null,null,null,null,null,null,null,null,null,null,null,"NTMFS4926","NTMFS4834N"]
[null,null,null,null,null,null,null,null,null,null,null,null,null,null,null,null,null,null,null,null,null,null,null,"NTMFS4926","NTMFS4835N"]
[null,null,null,null,null,null,null,null,null,null,null,null,null,null,null,null,null,null,null,null,null,null,null,"NTMFS4926","NTMFS4845"]
[null,null,null,null,null,null,null,null,null,null,null,null,null,null,null,null,null,null,null,null,null,null,null,"NTMFS4926","NTMFS4846"]
[null,null,null,null,null,null,null,null,null,null,null,null,null,null,null,null,null,null,null,null,null,null,null,"NTMFS4926","NTMFS4852N"]
[null,null,null,null,null,null,null,null,null,null,null,null,null,null,null,null,null,null,null,null,null,null,null,"NTMFS4926","NTMFS4897"]
[null,null,null,null,null,null,null,null,null,null,null,null,null,null,null,null,null,null,null,null,null,null,null,"NTMFS4926","NTMFS4898N"]
[null,null,null,null,null,null,null,null,null,null,null,null,null,null,null,null,null,null,null,null,null,null,null,"NTMFS4926","NTMFS4923NE"]
[null,null,null,null,null,null,null,null,null,null,null,null,null,null,null,null,null,null,null,null,null,null,null,"NTMFS4926","NTMFS4933N"]
[null,null,null,null,null,null,null,null,null,null,null,null,null,null,null,null,null,null,null,null,null,null,null,"NTMFS4926","NTMFS4934N"]
[null,null,null,null,null,null,null,null,null,null,null,null,null,null,null,null,null,null,null,null,null,null,null,"NTMFS4926","NTMFS4935N"]
[null,null,null,null,null,null,null,null,null,null,null,null,null,null,null,null,null,null,null,null,null,null,null,"NTMFS4926","NTMFS4936"]
[null,null,null,null,null,null,null,null,null,null,null,null,null,null,null,null,null,null,null,null,null,null,null,"NTMFS4926","NTTFS4932N"]
[null,null,null,null,null,null,null,null,null,null,null,null,null,null,null,null,null,null,null,null,null,null,null,"NTMFS4927","NTD4904N"]
[null,null,null,null,null,null,null,null,null,null,null,null,null,null,null,null,null,null,null,null,null,null,null,"NTMFS4927","NTMFS4825NFE"]
[null,null,null,null,null,null,null,null,null,null,null,null,null,null,null,null,null,null,null,null,null,null,null,"NTMFS4927","NTMFS4833N"]
[null,null,null,null,null,null,null,null,null,null,null,null,null,null,null,null,null,null,null,null,null,null,null,"NTMFS4927","NTMFS4834N"]
[null,null,null,null,null,null,null,null,null,null,null,null,null,null,null,null,null,null,null,null,null,null,null,"NTMFS4927","NTMFS4835N"]
[null,null,null,null,null,null,null,null,null,null,null,null,null,null,null,null,null,null,null,null,null,null,null,"NTMFS4927","NTMFS4845"]
[null,null,null,null,null,null,null,null,null,null,null,null,null,null,null,null,null,null,null,null,null,null,null,"NTMFS4927","NTMFS4846"]
[null,null,null,null,null,null,null,null,null,null,null,null,null,null,null,null,null,null,null,null,null,null,null,"NTMFS4927","NTMFS4852N"]
[null,null,null,null,null,null,null,null,null,null,null,null,null,null,null,null,null,null,null,null,null,null,null,"NTMFS4927","NTMFS4897"]
[null,null,null,null,null,null,null,null,null,null,null,null,null,null,null,null,null,null,null,null,null,null,null,"NTMFS4927","NTMFS4898N"]
[null,null,null,null,null,null,null,null,null,null,null,null,null,null,null,null,null,null,null,null,null,null,null,"NTMFS4927","NTMFS4923NE"]
[null,null,null,null,null,null,null,null,null,null,null,null,null,null,null,null,null,null,null,null,null,null,null,"NTMFS4927","NTMFS4933N"]
[null,null,null,null,null,null,null,null,null,null,null,null,null,null,null,null,null,null,null,null,null,null,null,"NTMFS4927","NTMFS4934N"]
[null,null,null,null,null,null,null,null,null,null,null,null,null,null,null,null,null,null,null,null,null,null,null,"NTMFS4927","NTMFS4935N"]
[null,null,null,null,null,null,null,null,null,null,null,null,null,null,null,null,null,null,null,null,null,null,null,"NTMFS4927","NTMFS4936"]
[null,null,null,null,null,null,null,null,null,null,null,null,null,null,null,null,null,null,null,null,null,null,null,"NTMFS4927","NTTFS4932N"]
[null,null,null,null,null,null,null,null,null,null,null,null,null,null,null,null,null,null,null,null,null,null,null,"NTMFS4933N","NTD4804N"]
[null,null,null,null,null,null,null,null,null,null,null,null,null,null,null,null,null,null,null,null,null,null,null,"NTMFS4933N","NTD4855N"]
[null,null,null,null,null,null,null,null,null,null,null,null,null,null,null,null,null,null,null,null,null,null,null,"NTMFS4933N","NTD4904N"]
[null,null,null,null,null,null,null,null,null,null,null,null,null,null,null,null,null,null,null,null,null,null,null,"NTMFS4933N","NTMFS4825NFE"]
[null,null,null,null,null,null,null,null,null,null,null,null,null,null,null,null,null,null,null,null,null,null,null,"NTMFS4933N","NTMFS4833N"]
[null,null,null,null,null,null,null,null,null,null,null,null,null,null,null,null,null,null,null,null,null,null,null,"NTMFS4933N","NTMFS4834N"]
[null,null,null,null,null,null,null,null,null,null,null,null,null,null,null,null,null,null,null,null,null,null,null,"NTMFS4933N","NTMFS4835N"]
[null,null,null,null,null,null,null,null,null,null,null,null,null,null,null,null,null,null,null,null,null,null,null,"NTMFS4933N","NTMFS4836N"]
[null,null,null,null,null,null,null,null,null,null,null,null,null,null,null,null,null,null,null,null,null,null,null,"NTMFS4933N","NTMFS4845"]
[null,null,null,null,null,null,null,null,null,null,null,null,null,null,null,null,null,null,null,null,null,null,null,"NTMFS4933N","NTMFS4846"]
[null,null,null,null,null,null,null,null,null,null,null,null,null,null,null,null,null,null,null,null,null,null,null,"NTMFS4933N","NTMFS4852N"]
[null,null,null,null,null,null,null,null,null,null,null,null,null,null,null,null,null,null,null,null,null,null,null,"NTMFS4933N","NTMFS4897"]
[null,null,null,null,null,null,null,null,null,null,null,null,null,null,null,null,null,null,null,null,null,null,null,"NTMFS4933N","NTMFS4898N"]
[null,null,null,null,null,null,null,null,null,null,null,null,null,null,null,null,null,null,null,null,null,null,null,"NTMFS4933N","NTMFS4923NE"]
[null,null,null,null,null,null,null,null,null,null,null,null,null,null,null,null,null,null,null,null,null,null,null,"NTMFS4933N","NTMFS4933N"]
[null,null,null,null,null,null,null,null,null,null,null,null,null,null,null,null,null,null,null,null,null,null,null,"NTMFS4933N","NTMFS4934N"]
[null,null,null,null,null,null,null,null,null,null,null,null,null,null,null,null,null,null,null,null,null,null,null,"NTMFS4933N","NTMFS4935N"]
[null,null,null,null,null,null,null,null,null,null,null,null,null,null,null,null,null,null,null,null,null,null,null,"NTMFS4933N","NTMFS4936"]
[null,null,null,null,null,null,null,null,null,null,null,null,null,null,null,null,null,null,null,null,null,null,null,"NTMFS4933N","NTTFS4932N"]
[null,null,null,null,null,null,null,null,null,null,null,null,null,null,null,null,null,null,null,null,null,null,null,"NTMFS4933N","NTTFS4937N"]
[null,null,null,null,null,null,null,null,null,null,null,null,null,null,null,null,null,null,null,null,null,null,null,"NTMFS4934N","NTD4804N"]
[null,null,null,null,null,null,null,null,null,null,null,null,null,null,null,null,null,null,null,null,null,null,null,"NTMFS4934N","NTD4855N"]
[null,null,null,null,null,null,null,null,null,null,null,null,null,null,null,null,null,null,null,null,null,null,null,"NTMFS4934N","NTD4904N"]
[null,null,null,null,null,null,null,null,null,null,null,null,null,null,null,null,null,null,null,null,null,null,null,"NTMFS4934N","NTMFS4825NFE"]
[null,null,null,null,null,null,null,null,null,null,null,null,null,null,null,null,null,null,null,null,null,null,null,"NTMFS4934N","NTMFS4833N"]
[null,null,null,null,null,null,null,null,null,null,null,null,null,null,null,null,null,null,null,null,null,null,null,"NTMFS4934N","NTMFS4834N"]
[null,null,null,null,null,null,null,null,null,null,null,null,null,null,null,null,null,null,null,null,null,null,null,"NTMFS4934N","NTMFS4835N"]
[null,null,null,null,null,null,null,null,null,null,null,null,null,null,null,null,null,null,null,null,null,null,null,"NTMFS4934N","NTMFS4836N"]
[null,null,null,null,null,null,null,null,null,null,null,null,null,null,null,null,null,null,null,null,null,null,null,"NTMFS4934N","NTMFS4845"]
[null,null,null,null,null,null,null,null,null,null,null,null,null,null,null,null,null,null,null,null,null,null,null,"NTMFS4934N","NTMFS4846"]
[null,null,null,null,null,null,null,null,null,null,null,null,null,null,null,null,null,null,null,null,null,null,null,"NTMFS4934N","NTMFS4852N"]
[null,null,null,null,null,null,null,null,null,null,null,null,null,null,null,null,null,null,null,null,null,null,null,"NTMFS4934N","NTMFS4897"]
[null,null,null,null,null,null,null,null,null,null,null,null,null,null,null,null,null,null,null,null,null,null,null,"NTMFS4934N","NTMFS4898N"]
[null,null,null,null,null,null,null,null,null,null,null,null,null,null,null,null,null,null,null,null,null,null,null,"NTMFS4934N","NTMFS4923NE"]
[null,null,null,null,null,null,null,null,null,null,null,null,null,null,null,null,null,null,null,null,null,null,null,"NTMFS4934N","NTMFS4933N"]
[null,null,null,null,null,null,null,null,null,null,null,null,null,null,null,null,null,null,null,null,null,null,null,"NTMFS4934N","NTMFS4934N"]
[null,null,null,null,null,null,null,null,null,null,null,null,null,null,null,null,null,null,null,null,null,null,null,"NTMFS4934N","NTMFS4935N"]
[null,null,null,null,null,null,null,null,null,null,null,null,null,null,null,null,null,null,null,null,null,null,null,"NTMFS4934N","NTMFS4936"]
[null,null,null,null,null,null,null,null,null,null,null,null,null,null,null,null,null,null,null,null,null,null,null,"NTMFS4934N","NTTFS4932N"]
[null,null,null,null,null,null,null,null,null,null,null,null,null,null,null,null,null,null,null,null,null,null,null,"NTMFS4934N","NTTFS4937N"]
[null,null,null,null,null,null,null,null,null,null,null,null,null,null,null,null,null,null,null,null,null,null,null,"NTMFS4935N","NTD4804N"]
[null,null,null,null,null,null,null,null,null,null,null,null,null,null,null,null,null,null,null,null,null,null,null,"NTMFS4935N","NTD4855N"]
[null,null,null,null,null,null,null,null,null,null,null,null,null,null,null,null,null,null,null,null,null,null,null,"NTMFS4935N","NTD4904N"]
[null,null,null,null,null,null,null,null,null,null,null,null,null,null,null,null,null,null,null,null,null,null,null,"NTMFS4935N","NTMFS4825NFE"]
[null,null,null,null,null,null,null,null,null,null,null,null,null,null,null,null,null,null,null,null,null,null,null,"NTMFS4935N","NTMFS4833N"]
[null,null,null,null,null,null,null,null,null,null,null,null,null,null,null,null,null,null,null,null,null,null,null,"NTMFS4935N","NTMFS4834N"]
[null,null,null,null,null,null,null,null,null,null,null,null,null,null,null,null,null,null,null,null,null,null,null,"NTMFS4935N","NTMFS4835N"]
[null,null,null,null,null,null,null,null,null,null,null,null,null,null,null,null,null,null,null,null,null,null,null,"NTMFS4935N","NTMFS4845"]
[null,null,null,null,null,null,null,null,null,null,null,null,null,null,null,null,null,null,null,null,null,null,null,"NTMFS4935N","NTMFS4846"]
[null,null,null,null,null,null,null,null,null,null,null,null,null,null,null,null,null,null,null,null,null,null,null,"NTMFS4935N","NTMFS4852N"]
[null,null,null,null,null,null,null,null,null,null,null,null,null,null,null,null,null,null,null,null,null,null,null,"NTMFS4935N","NTMFS4897"]
[null,null,null,null,null,null,null,null,null,null,null,null,null,null,null,null,null,null,null,null,null,null,null,"NTMFS4935N","NTMFS4898N"]
[null,null,null,null,null,null,null,null,null,null,null,null,null,null,null,null,null,null,null,null,null,null,null,"NTMFS4935N","NTMFS4923NE"]
[null,null,null,null,null,null,null,null,null,null,null,null,null,null,null,null,null,null,null,null,null,null,null,"NTMFS4935N","NTMFS4933N"]
[null,null,null,null,null,null,null,null,null,null,null,null,null,null,null,null,null,null,null,null,null,null,null,"NTMFS4935N","NTMFS4934N"]
[null,null,null,null,null,null,null,null,null,null,null,null,null,null,null,null,null,null,null,null,null,null,null,"NTMFS4935N","NTMFS4935N"]
[null,null,null,null,null,null,null,null,null,null,null,null,null,null,null,null,null,null,null,null,null,null,null,"NTMFS4935N","NTMFS4936"]
[null,null,null,null,null,null,null,null,null,null,null,null,null,null,null,null,null,null,null,null,null,null,null,"NTMFS4935N","NTTFS4932N"]
[null,null,null,null,null,null,null,null,null,null,null,null,null,null,null,null,null,null,null,null,null,null,null,"NTMFS4936","NTD4804N"]
[null,null,null,null,null,null,null,null,null,null,null,null,null,null,null,null,null,null,null,null,null,null,null,"NTMFS4936","NTD4855N"]
[null,null,null,null,null,null,null,null,null,null,null,null,null,null,null,null,null,null,null,null,null,null,null,"NTMFS4936","NTD4904N"]
[null,null,null,null,null,null,null,null,null,null,null,null,null,null,null,null,null,null,null,null,null,null,null,"NTMFS4936","NTMFS4825NFE"]
[null,null,null,null,null,null,null,null,null,null,null,null,null,null,null,null,null,null,null,null,null,null,null,"NTMFS4936","NTMFS4833N"]
[null,null,null,null,null,null,null,null,null,null,null,null,null,null,null,null,null,null,null,null,null,null,null,"NTMFS4936","NTMFS4834N"]
[null,null,null,null,null,null,null,null,null,null,null,null,null,null,null,null,null,null,null,null,null,null,null,"NTMFS4936","NTMFS4835N"]
[null,null,null,null,null,null,null,null,null,null,null,null,null,null,null,null,null,null,null,null,null,null,null,"NTMFS4936","NTMFS4845"]
[null,null,null,null,null,null,null,null,null,null,null,null,null,null,null,null,null,null,null,null,null,null,null,"NTMFS4936","NTMFS4846"]
[null,null,null,null,null,null,null,null,null,null,null,null,null,null,null,null,null,null,null,null,null,null,null,"NTMFS4936","NTMFS4852N"]
[null,null,null,null,null,null,null,null,null,null,null,null,null,null,null,null,null,null,null,null,null,null,null,"NTMFS4936","NTMFS4897"]
[null,null,null,null,null,null,null,null,null,null,null,null,null,null,null,null,null,null,null,null,null,null,null,"NTMFS4936","NTMFS4898N"]
[null,null,null,null,null,null,null,null,null,null,null,null,null,null,null,null,null,null,null,null,null,null,null,"NTMFS4936","NTMFS4923NE"]
[null,null,null,null,null,null,null,null,null,null,null,null,null,null,null,null,null,null,null,null,null,null,null,"NTMFS4936","NTMFS4933N"]
[null,null,null,null,null,null,null,null,null,null,null,null,null,null,null,null,null,null,null,null,null,null,null,"NTMFS4936","NTMFS4934N"]
[null,null,null,null,null,null,null,null,null,null,null,null,null,null,null,null,null,null,null,null,null,null,null,"NTMFS4936","NTMFS4935N"]
[null,null,null,null,null,null,null,null,null,null,null,null,null,null,null,null,null,null,null,null,null,null,null,"NTMFS4936","NTMFS4936"]
[null,null,null,null,null,null,null,null,null,null,null,null,null,null,null,null,null,null,null,null,null,null,null,"NTMFS4936","NTTFS4932N"]
[null,null,null,null,null,null,null,null,null,null,null,null,null,null,null,null,null,null,null,null,null,null,null,"NTMFS4937N","NTD4904N"]
[null,null,null,null,null,null,null,null,null,null,null,null,null,null,null,null,null,null,null,null,null,null,null,"NTMFS4937N","NTMFS4825NFE"]
[null,null,null,null,null,null,null,null,null,null,null,null,null,null,null,null,null,null,null,null,null,null,null,"NTMFS4937N","NTMFS4833N"]
[null,null,null,null,null,null,null,null,null,null,null,null,null,null,null,null,null,null,null,null,null,null,null,"NTMFS4937N","NTMFS4834N"]
[null,null,null,null,null,null,null,null,null,null,null,null,null,null,null,null,null,null,null,null,null,null,null,"NTMFS4937N","NTMFS4835N"]
[null,null,null,null,null,null,null,null,null,null,null,null,null,null,null,null,null,null,null,null,null,null,null,"NTMFS4937N","NTMFS4845"]
[null,null,null,null,null,null,null,null,null,null,null,null,null,null,null,null,null,null,null,null,null,null,null,"NTMFS4937N","NTMFS4846"]
[null,null,null,null,null,null,null,null,null,null,null,null,null,null,null,null,null,null,null,null,null,null,null,"NTMFS4937N","NTMFS4852N"]
[null,null,null,null,null,null,null,null,null,null,null,null,null,null,null,null,null,null,null,null,null,null,null,"NTMFS4937N","NTMFS4897"]
[null,null,null,null,null,null,null,null,null,null,null,null,null,null,null,null,null,null,null,null,null,null,null,"NTMFS4937N","NTMFS4898N"]
[null,null,null,null,null,null,null,null,null,null,null,null,null,null,null,null,null,null,null,null,null,null,null,"NTMFS4937N","NTMFS4923NE"]
[null,null,null,null,null,null,null,null,null,null,null,null,null,null,null,null,null,null,null,null,null,null,null,"NTMFS4937N","NTMFS4933N"]
[null,null,null,null,null,null,null,null,null,null,null,null,null,null,null,null,null,null,null,null,null,null,null,"NTMFS4937N","NTMFS4934N"]
[null,null,null,null,null,null,null,null,null,null,null,null,null,null,null,null,null,null,null,null,null,null,null,"NTMFS4937N","NTMFS4935N"]
[null,null,null,null,null,null,null,null,null,null,null,null,null,null,null,null,null,null,null,null,null,null,null,"NTMFS4937N","NTMFS4936"]
[null,null,null,null,null,null,null,null,null,null,null,null,null,null,null,null,null,null,null,null,null,null,null,"NTMFS4937N","NTTFS4932N"]
[null,null,null,null,null,null,null,null,null,null,null,null,null,null,null,null,null,null,null,null,null,null,null,"NTMFS4939N","NTD4904N"]
[null,null,null,null,null,null,null,null,null,null,null,null,null,null,null,null,null,null,null,null,null,null,null,"NTMFS4939N","NTMFS4825NFE"]
[null,null,null,null,null,null,null,null,null,null,null,null,null,null,null,null,null,null,null,null,null,null,null,"NTMFS4939N","NTMFS4833N"]
[null,null,null,null,null,null,null,null,null,null,null,null,null,null,null,null,null,null,null,null,null,null,null,"NTMFS4939N","NTMFS4834N"]
[null,null,null,null,null,null,null,null,null,null,null,null,null,null,null,null,null,null,null,null,null,null,null,"NTMFS4939N","NTMFS4835N"]
[null,null,null,null,null,null,null,null,null,null,null,null,null,null,null,null,null,null,null,null,null,null,null,"NTMFS4939N","NTMFS4845"]
[null,null,null,null,null,null,null,null,null,null,null,null,null,null,null,null,null,null,null,null,null,null,null,"NTMFS4939N","NTMFS4846"]
[null,null,null,null,null,null,null,null,null,null,null,null,null,null,null,null,null,null,null,null,null,null,null,"NTMFS4939N","NTMFS4852N"]
[null,null,null,null,null,null,null,null,null,null,null,null,null,null,null,null,null,null,null,null,null,null,null,"NTMFS4939N","NTMFS4897"]
[null,null,null,null,null,null,null,null,null,null,null,null,null,null,null,null,null,null,null,null,null,null,null,"NTMFS4939N","NTMFS4898N"]
[null,null,null,null,null,null,null,null,null,null,null,null,null,null,null,null,null,null,null,null,null,null,null,"NTMFS4939N","NTMFS4923NE"]
[null,null,null,null,null,null,null,null,null,null,null,null,null,null,null,null,null,null,null,null,null,null,null,"NTMFS4939N","NTMFS4933N"]
[null,null,null,null,null,null,null,null,null,null,null,null,null,null,null,null,null,null,null,null,null,null,null,"NTMFS4939N","NTMFS4934N"]
[null,null,null,null,null,null,null,null,null,null,null,null,null,null,null,null,null,null,null,null,null,null,null,"NTMFS4939N","NTMFS4935N"]
[null,null,null,null,null,null,null,null,null,null,null,null,null,null,null,null,null,null,null,null,null,null,null,"NTMFS4939N","NTMFS4936"]
[null,null,null,null,null,null,null,null,null,null,null,null,null,null,null,null,null,null,null,null,null,null,null,"NTMFS4939N","NTTFS4932N"]
[null,null,null,null,null,null,null,null,null,null,null,null,null,null,null,null,null,null,null,null,null,null,null,"NTMFS4941N","NTD4904N"]
[null,null,null,null,null,null,null,null,null,null,null,null,null,null,null,null,null,null,null,null,null,null,null,"NTMFS4941N","NTMFS4825NFE"]
[null,null,null,null,null,null,null,null,null,null,null,null,null,null,null,null,null,null,null,null,null,null,null,"NTMFS4941N","NTMFS4833N"]
[null,null,null,null,null,null,null,null,null,null,null,null,null,null,null,null,null,null,null,null,null,null,null,"NTMFS4941N","NTMFS4834N"]
[null,null,null,null,null,null,null,null,null,null,null,null,null,null,null,null,null,null,null,null,null,null,null,"NTMFS4941N","NTMFS4835N"]
[null,null,null,null,null,null,null,null,null,null,null,null,null,null,null,null,null,null,null,null,null,null,null,"NTMFS4941N","NTMFS4845"]
[null,null,null,null,null,null,null,null,null,null,null,null,null,null,null,null,null,null,null,null,null,null,null,"NTMFS4941N","NTMFS4846"]
[null,null,null,null,null,null,null,null,null,null,null,null,null,null,null,null,null,null,null,null,null,null,null,"NTMFS4941N","NTMFS4852N"]
[null,null,null,null,null,null,null,null,null,null,null,null,null,null,null,null,null,null,null,null,null,null,null,"NTMFS4941N","NTMFS4897"]
[null,null,null,null,null,null,null,null,null,null,null,null,null,null,null,null,null,null,null,null,null,null,null,"NTMFS4941N","NTMFS4898N"]
[null,null,null,null,null,null,null,null,null,null,null,null,null,null,null,null,null,null,null,null,null,null,null,"NTMFS4941N","NTMFS4923NE"]
[null,null,null,null,null,null,null,null,null,null,null,null,null,null,null,null,null,null,null,null,null,null,null,"NTMFS4941N","NTMFS4933N"]
[null,null,null,null,null,null,null,null,null,null,null,null,null,null,null,null,null,null,null,null,null,null,null,"NTMFS4941N","NTMFS4934N"]
[null,null,null,null,null,null,null,null,null,null,null,null,null,null,null,null,null,null,null,null,null,null,null,"NTMFS4941N","NTMFS4935N"]
[null,null,null,null,null,null,null,null,null,null,null,null,null,null,null,null,null,null,null,null,null,null,null,"NTMFS4941N","NTMFS4936"]
[null,null,null,null,null,null,null,null,null,null,null,null,null,null,null,null,null,null,null,null,null,null,null,"NTMFS4941N","NTTFS4932N"]
[null,null,null,null,null,null,null,null,null,null,null,null,null,null,null,null,null,null,null,null,null,null,null,"NTMFS4943N","NTD4904N"]
[null,null,null,null,null,null,null,null,null,null,null,null,null,null,null,null,null,null,null,null,null,null,null,"NTMFS4943N","NTMFS4825NFE"]
[null,null,null,null,null,null,null,null,null,null,null,null,null,null,null,null,null,null,null,null,null,null,null,"NTMFS4943N","NTMFS4833N"]
[null,null,null,null,null,null,null,null,null,null,null,null,null,null,null,null,null,null,null,null,null,null,null,"NTMFS4943N","NTMFS4834N"]
[null,null,null,null,null,null,null,null,null,null,null,null,null,null,null,null,null,null,null,null,null,null,null,"NTMFS4943N","NTMFS4835N"]
[null,null,null,null,null,null,null,null,null,null,null,null,null,null,null,null,null,null,null,null,null,null,null,"NTMFS4943N","NTMFS4845"]
[null,null,null,null,null,null,null,null,null,null,null,null,null,null,null,null,null,null,null,null,null,null,null,"NTMFS4943N","NTMFS4846"]
[null,null,null,null,null,null,null,null,null,null,null,null,null,null,null,null,null,null,null,null,null,null,null,"NTMFS4943N","NTMFS4852N"]
[null,null,null,null,null,null,null,null,null,null,null,null,null,null,null,null,null,null,null,null,null,null,null,"NTMFS4943N","NTMFS4897"]
[null,null,null,null,null,null,null,null,null,null,null,null,null,null,null,null,null,null,null,null,null,null,null,"NTMFS4943N","NTMFS4898N"]
[null,null,null,null,null,null,null,null,null,null,null,null,null,null,null,null,null,null,null,null,null,null,null,"NTMFS4943N","NTMFS4923NE"]
[null,null,null,null,null,null,null,null,null,null,null,null,null,null,null,null,null,null,null,null,null,null,null,"NTMFS4943N","NTMFS4933N"]
[null,null,null,null,null,null,null,null,null,null,null,null,null,null,null,null,null,null,null,null,null,null,null,"NTMFS4943N","NTMFS4934N"]
[null,null,null,null,null,null,null,null,null,null,null,null,null,null,null,null,null,null,null,null,null,null,null,"NTMFS4943N","NTMFS4935N"]
[null,null,null,null,null,null,null,null,null,null,null,null,null,null,null,null,null,null,null,null,null,null,null,"NTMFS4943N","NTMFS4936"]
[null,null,null,null,null,null,null,null,null,null,null,null,null,null,null,null,null,null,null,null,null,null,null,"NTMFS4943N","NTTFS4932N"]
[null,null,null,null,null,null,null,null,null,null,null,null,null,null,null,null,null,null,null,null,null,null,null,"NTTFS4821N","NTD4904N"]
[null,null,null,null,null,null,null,null,null,null,null,null,null,null,null,null,null,null,null,null,null,null,null,"NTTFS4821N","NTMFS4825NFE"]
[null,null,null,null,null,null,null,null,null,null,null,null,null,null,null,null,null,null,null,null,null,null,null,"NTTFS4821N","NTMFS4833N"]
[null,null,null,null,null,null,null,null,null,null,null,null,null,null,null,null,null,null,null,null,null,null,null,"NTTFS4821N","NTMFS4834N"]
[null,null,null,null,null,null,null,null,null,null,null,null,null,null,null,null,null,null,null,null,null,null,null,"NTTFS4821N","NTMFS4835N"]
[null,null,null,null,null,null,null,null,null,null,null,null,null,null,null,null,null,null,null,null,null,null,null,"NTTFS4821N","NTMFS4845"]
[null,null,null,null,null,null,null,null,null,null,null,null,null,null,null,null,null,null,null,null,null,null,null,"NTTFS4821N","NTMFS4846"]
[null,null,null,null,null,null,null,null,null,null,null,null,null,null,null,null,null,null,null,null,null,null,null,"NTTFS4821N","NTMFS4852N"]
[null,null,null,null,null,null,null,null,null,null,null,null,null,null,null,null,null,null,null,null,null,null,null,"NTTFS4821N","NTMFS4897"]
[null,null,null,null,null,null,null,null,null,null,null,null,null,null,null,null,null,null,null,null,null,null,null,"NTTFS4821N","NTMFS4898N"]
[null,null,null,null,null,null,null,null,null,null,null,null,null,null,null,null,null,null,null,null,null,null,null,"NTTFS4821N","NTMFS4923NE"]
[null,null,null,null,null,null,null,null,null,null,null,null,null,null,null,null,null,null,null,null,null,null,null,"NTTFS4821N","NTMFS4933N"]
[null,null,null,null,null,null,null,null,null,null,null,null,null,null,null,null,null,null,null,null,null,null,null,"NTTFS4821N","NTMFS4934N"]
[null,null,null,null,null,null,null,null,null,null,null,null,null,null,null,null,null,null,null,null,null,null,null,"NTTFS4821N","NTMFS4935N"]
[null,null,null,null,null,null,null,null,null,null,null,null,null,null,null,null,null,null,null,null,null,null,null,"NTTFS4821N","NTMFS4936"]
[null,null,null,null,null,null,null,null,null,null,null,null,null,null,null,null,null,null,null,null,null,null,null,"NTTFS4821N","NTTFS4932N"]
[null,null,null,null,null,null,null,null,null,null,null,null,null,null,null,null,null,null,null,null,null,null,null,"NTTFS4823N","NTMFS4825NFE"]
[null,null,null,null,null,null,null,null,null,null,null,null,null,null,null,null,null,null,null,null,null,null,null,"NTTFS4823N","NTMFS4833N"]
[null,null,null,null,null,null,null,null,null,null,null,null,null,null,null,null,null,null,null,null,null,null,null,"NTTFS4823N","NTMFS4834N"]
[null,null,null,null,null,null,null,null,null,null,null,null,null,null,null,null,null,null,null,null,null,null,null,"NTTFS4823N","NTMFS4845"]
[null,null,null,null,null,null,null,null,null,null,null,null,null,null,null,null,null,null,null,null,null,null,null,"NTTFS4823N","NTMFS4852N"]
[null,null,null,null,null,null,null,null,null,null,null,null,null,null,null,null,null,null,null,null,null,null,null,"NTTFS4823N","NTMFS4897"]
[null,null,null,null,null,null,null,null,null,null,null,null,null,null,null,null,null,null,null,null,null,null,null,"NTTFS4823N","NTMFS4898N"]
[null,null,null,null,null,null,null,null,null,null,null,null,null,null,null,null,null,null,null,null,null,null,null,"NTTFS4823N","NTMFS4933N"]
[null,null,null,null,null,null,null,null,null,null,null,null,null,null,null,null,null,null,null,null,null,null,null,"NTTFS4823N","NTMFS4934N"]
[null,null,null,null,null,null,null,null,null,null,null,null,null,null,null,null,null,null,null,null,null,null,null,"NTTFS4823N","NTTFS4932N"]
[null,null,null,null,null,null,null,null,null,null,null,null,null,null,null,null,null,null,null,null,null,null,null,"NTTFS4824N","NTD4904N"]
[null,null,null,null,null,null,null,null,null,null,null,null,null,null,null,null,null,null,null,null,null,null,null,"NTTFS4824N","NTMFS4825NFE"]
[null,null,null,null,null,null,null,null,null,null,null,null,null,null,null,null,null,null,null,null,null,null,null,"NTTFS4824N","NTMFS4833N"]
[null,null,null,null,null,null,null,null,null,null,null,null,null,null,null,null,null,null,null,null,null,null,null,"NTTFS4824N","NTMFS4834N"]
[null,null,null,null,null,null,null,null,null,null,null,null,null,null,null,null,null,null,null,null,null,null,null,"NTTFS4824N","NTMFS4835N"]
[null,null,null,null,null,null,null,null,null,null,null,null,null,null,null,null,null,null,null,null,null,null,null,"NTTFS4824N","NTMFS4845"]
[null,null,null,null,null,null,null,null,null,null,null,null,null,null,null,null,null,null,null,null,null,null,null,"NTTFS4824N","NTMFS4846"]
[null,null,null,null,null,null,null,null,null,null,null,null,null,null,null,null,null,null,null,null,null,null,null,"NTTFS4824N","NTMFS4852N"]
[null,null,null,null,null,null,null,null,null,null,null,null,null,null,null,null,null,null,null,null,null,null,null,"NTTFS4824N","NTMFS4897"]
[null,null,null,null,null,null,null,null,null,null,null,null,null,null,null,null,null,null,null,null,null,null,null,"NTTFS4824N","NTMFS4898N"]
[null,null,null,null,null,null,null,null,null,null,null,null,null,null,null,null,null,null,null,null,null,null,null,"NTTFS4824N","NTMFS4923NE"]
[null,null,null,null,null,null,null,null,null,null,null,null,null,null,null,null,null,null,null,null,null,null,null,"NTTFS4824N","NTMFS4933N"]
[null,null,null,null,null,null,null,null,null,null,null,null,null,null,null,null,null,null,null,null,null,null,null,"NTTFS4824N","NTMFS4934N"]
[null,null,null,null,null,null,null,null,null,null,null,null,null,null,null,null,null,null,null,null,null,null,null,"NTTFS4824N","NTMFS4935N"]
[null,null,null,null,null,null,null,null,null,null,null,null,null,null,null,null,null,null,null,null,null,null,null,"NTTFS4824N","NTMFS4936"]
[null,null,null,null,null,null,null,null,null,null,null,null,null,null,null,null,null,null,null,null,null,null,null,"NTTFS4824N","NTTFS4932N"]
[null,null,null,null,null,null,null,null,null,null,null,null,null,null,null,null,null,null,null,null,null,null,null,"NTTFS4928N","NTD4904N"]
[null,null,null,null,null,null,null,null,null,null,null,null,null,null,null,null,null,null,null,null,null,null,null,"NTTFS4928N","NTMFS4825NFE"]
[null,null,null,null,null,null,null,null,null,null,null,null,null,null,null,null,null,null,null,null,null,null,null,"NTTFS4928N","NTMFS4833N"]
[null,null,null,null,null,null,null,null,null,null,null,null,null,null,null,null,null,null,null,null,null,null,null,"NTTFS4928N","NTMFS4834N"]
[null,null,null,null,null,null,null,null,null,null,null,null,null,null,null,null,null,null,null,null,null,null,null,"NTTFS4928N","NTMFS4835N"]
[null,null,null,null,null,null,null,null,null,null,null,null,null,null,null,null,null,null,null,null,null,null,null,"NTTFS4928N","NTMFS4845"]
[null,null,null,null,null,null,null,null,null,null,null,null,null,null,null,null,null,null,null,null,null,null,null,"NTTFS4928N","NTMFS4846"]
[null,null,null,null,null,null,null,null,null,null,null,null,null,null,null,null,null,null,null,null,null,null,null,"NTTFS4928N","NTMFS4852N"]
[null,null,null,null,null,null,null,null,null,null,null,null,null,null,null,null,null,null,null,null,null,null,null,"NTTFS4928N","NTMFS4897"]
[null,null,null,null,null,null,null,null,null,null,null,null,null,null,null,null,null,null,null,null,null,null,null,"NTTFS4928N","NTMFS4898N"]
[null,null,null,null,null,null,null,null,null,null,null,null,null,null,null,null,null,null,null,null,null,null,null,"NTTFS4928N","NTMFS4923NE"]
[null,null,null,null,null,null,null,null,null,null,null,null,null,null,null,null,null,null,null,null,null,null,null,"NTTFS4928N","NTMFS4933N"]
[null,null,null,null,null,null,null,null,null,null,null,null,null,null,null,null,null,null,null,null,null,null,null,"NTTFS4928N","NTMFS4934N"]
[null,null,null,null,null,null,null,null,null,null,null,null,null,null,null,null,null,null,null,null,null,null,null,"NTTFS4928N","NTMFS4935N"]
[null,null,null,null,null,null,null,null,null,null,null,null,null,null,null,null,null,null,null,null,null,null,null,"NTTFS4928N","NTMFS4936"]
[null,null,null,null,null,null,null,null,null,null,null,null,null,null,null,null,null,null,null,null,null,null,null,"NTTFS4928N","NTTFS4932N"]
[null,null,null,null,null,null,null,null,null,null,null,null,null,null,null,null,null,null,null,null,null,null,null,"NTTFS4929N","NTMFS4825NFE"]
[null,null,null,null,null,null,null,null,null,null,null,null,null,null,null,null,null,null,null,null,null,null,null,"NTTFS4929N","NTMFS4833N"]
[null,null,null,null,null,null,null,null,null,null,null,null,null,null,null,null,null,null,null,null,null,null,null,"NTTFS4929N","NTMFS4834N"]
[null,null,null,null,null,null,null,null,null,null,null,null,null,null,null,null,null,null,null,null,null,null,null,"NTTFS4929N","NTMFS4845"]
[null,null,null,null,null,null,null,null,null,null,null,null,null,null,null,null,null,null,null,null,null,null,null,"NTTFS4929N","NTMFS4852N"]
[null,null,null,null,null,null,null,null,null,null,null,null,null,null,null,null,null,null,null,null,null,null,null,"NTTFS4929N","NTMFS4897"]
[null,null,null,null,null,null,null,null,null,null,null,null,null,null,null,null,null,null,null,null,null,null,null,"NTTFS4929N","NTMFS4898N"]
[null,null,null,null,null,null,null,null,null,null,null,null,null,null,null,null,null,null,null,null,null,null,null,"NTTFS4929N","NTMFS4933N"]
[null,null,null,null,null,null,null,null,null,null,null,null,null,null,null,null,null,null,null,null,null,null,null,"NTTFS4929N","NTMFS4934N"]
[null,null,null,null,null,null,null,null,null,null,null,null,null,null,null,null,null,null,null,null,null,null,null,"NTTFS4929N","NTTFS4932N"]
[null,null,null,null,null,null,null,null,null,null,null,null,null,null,null,null,null,null,null,null,null,null,null,"NTTFS4932N","NTD4804N"]
[null,null,null,null,null,null,null,null,null,null,null,null,null,null,null,null,null,null,null,null,null,null,null,"NTTFS4932N","NTD4855N"]
[null,null,null,null,null,null,null,null,null,null,null,null,null,null,null,null,null,null,null,null,null,null,null,"NTTFS4932N","NTD4904N"]
[null,null,null,null,null,null,null,null,null,null,null,null,null,null,null,null,null,null,null,null,null,null,null,"NTTFS4932N","NTMFS4825NFE"]
[null,null,null,null,null,null,null,null,null,null,null,null,null,null,null,null,null,null,null,null,null,null,null,"NTTFS4932N","NTMFS4833N"]
[null,null,null,null,null,null,null,null,null,null,null,null,null,null,null,null,null,null,null,null,null,null,null,"NTTFS4932N","NTMFS4834N"]
[null,null,null,null,null,null,null,null,null,null,null,null,null,null,null,null,null,null,null,null,null,null,null,"NTTFS4932N","NTMFS4835N"]
[null,null,null,null,null,null,null,null,null,null,null,null,null,null,null,null,null,null,null,null,null,null,null,"NTTFS4932N","NTMFS4845"]
[null,null,null,null,null,null,null,null,null,null,null,null,null,null,null,null,null,null,null,null,null,null,null,"NTTFS4932N","NTMFS4846"]
[null,null,null,null,null,null,null,null,null,null,null,null,null,null,null,null,null,null,null,null,null,null,null,"NTTFS4932N","NTMFS4852N"]
[null,null,null,null,null,null,null,null,null,null,null,null,null,null,null,null,null,null,null,null,null,null,null,"NTTFS4932N","NTMFS4897"]
[null,null,null,null,null,null,null,null,null,null,null,null,null,null,null,null,null,null,null,null,null,null,null,"NTTFS4932N","NTMFS4898N"]
[null,null,null,null,null,null,null,null,null,null,null,null,null,null,null,null,null,null,null,null,null,null,null,"NTTFS4932N","NTMFS4923NE"]
[null,null,null,null,null,null,null,null,null,null,null,null,null,null,null,null,null,null,null,null,null,null,null,"NTTFS4932N","NTMFS4933N"]
[null,null,null,null,null,null,null,null,null,null,null,null,null,null,null,null,null,null,null,null,null,null,null,"NTTFS4932N","NTMFS4934N"]
[null,null,null,null,null,null,null,null,null,null,null,null,null,null,null,null,null,null,null,null,null,null,null,"NTTFS4932N","NTMFS4935N"]
[null,null,null,null,null,null,null,null,null,null,null,null,null,null,null,null,null,null,null,null,null,null,null,"NTTFS4932N","NTMFS4936"]
[null,null,null,null,null,null,null,null,null,null,null,null,null,null,null,null,null,null,null,null,null,null,null,"NTTFS4932N","NTTFS4932N"]
[null,null,null,null,null,null,null,null,null,null,null,null,null,null,null,null,null,null,null,null,null,null,null,"NTTFS4937N","NTD4904N"]
[null,null,null,null,null,null,null,null,null,null,null,null,null,null,null,null,null,null,null,null,null,null,null,"NTTFS4937N","NTMFS4825NFE"]
[null,null,null,null,null,null,null,null,null,null,null,null,null,null,null,null,null,null,null,null,null,null,null,"NTTFS4937N","NTMFS4833N"]
[null,null,null,null,null,null,null,null,null,null,null,null,null,null,null,null,null,null,null,null,null,null,null,"NTTFS4937N","NTMFS4834N"]
[null,null,null,null,null,null,null,null,null,null,null,null,null,null,null,null,null,null,null,null,null,null,null,"NTTFS4937N","NTMFS4835N"]
[null,null,null,null,null,null,null,null,null,null,null,null,null,null,null,null,null,null,null,null,null,null,null,"NTTFS4937N","NTMFS4845"]
[null,null,null,null,null,null,null,null,null,null,null,null,null,null,null,null,null,null,null,null,null,null,null,"NTTFS4937N","NTMFS4846"]
[null,null,null,null,null,null,null,null,null,null,null,null,null,null,null,null,null,null,null,null,null,null,null,"NTTFS4937N","NTMFS4852N"]
[null,null,null,null,null,null,null,null,null,null,null,null,null,null,null,null,null,null,null,null,null,null,null,"NTTFS4937N","NTMFS4897"]
[null,null,null,null,null,null,null,null,null,null,null,null,null,null,null,null,null,null,null,null,null,null,null,"NTTFS4937N","NTMFS4898N"]
[null,null,null,null,null,null,null,null,null,null,null,null,null,null,null,null,null,null,null,null,null,null,null,"NTTFS4937N","NTMFS4923NE"]
[null,null,null,null,null,null,null,null,null,null,null,null,null,null,null,null,null,null,null,null,null,null,null,"NTTFS4937N","NTMFS4933N"]
[null,null,null,null,null,null,null,null,null,null,null,null,null,null,null,null,null,null,null,null,null,null,null,"NTTFS4937N","NTMFS4934N"]
[null,null,null,null,null,null,null,null,null,null,null,null,null,null,null,null,null,null,null,null,null,null,null,"NTTFS4937N","NTMFS4935N"]
[null,null,null,null,null,null,null,null,null,null,null,null,null,null,null,null,null,null,null,null,null,null,null,"NTTFS4937N","NTMFS4936"]
[null,null,null,null,null,null,null,null,null,null,null,null,null,null,null,null,null,null,null,null,null,null,null,"NTTFS4937N","NTTFS4932N"]
[null,null,null,null,null,null,null,null,null,null,null,null,null,null,null,null,null,null,null,null,null,null,null,"NTTFS4939N","NTD4904N"]
[null,null,null,null,null,null,null,null,null,null,null,null,null,null,null,null,null,null,null,null,null,null,null,"NTTFS4939N","NTMFS4825NFE"]
[null,null,null,null,null,null,null,null,null,null,null,null,null,null,null,null,null,null,null,null,null,null,null,"NTTFS4939N","NTMFS4833N"]
[null,null,null,null,null,null,null,null,null,null,null,null,null,null,null,null,null,null,null,null,null,null,null,"NTTFS4939N","NTMFS4834N"]
[null,null,null,null,null,null,null,null,null,null,null,null,null,null,null,null,null,null,null,null,null,null,null,"NTTFS4939N","NTMFS4835N"]
[null,null,null,null,null,null,null,null,null,null,null,null,null,null,null,null,null,null,null,null,null,null,null,"NTTFS4939N","NTMFS4845"]
[null,null,null,null,null,null,null,null,null,null,null,null,null,null,null,null,null,null,null,null,null,null,null,"NTTFS4939N","NTMFS4846"]
[null,null,null,null,null,null,null,null,null,null,null,null,null,null,null,null,null,null,null,null,null,null,null,"NTTFS4939N","NTMFS4852N"]
[null,null,null,null,null,null,null,null,null,null,null,null,null,null,null,null,null,null,null,null,null,null,null,"NTTFS4939N","NTMFS4897"]
[null,null,null,null,null,null,null,null,null,null,null,null,null,null,null,null,null,null,null,null,null,null,null,"NTTFS4939N","NTMFS4898N"]
[null,null,null,null,null,null,null,null,null,null,null,null,null,null,null,null,null,null,null,null,null,null,null,"NTTFS4939N","NTMFS4923NE"]
[null,null,null,null,null,null,null,null,null,null,null,null,null,null,null,null,null,null,null,null,null,null,null,"NTTFS4939N","NTMFS4933N"]
[null,null,null,null,null,null,null,null,null,null,null,null,null,null,null,null,null,null,null,null,null,null,null,"NTTFS4939N","NTMFS4934N"]

{"sheet":"Circuit2","index":3,"n_rows":1010,"n_cols":13,"rows_kept":1010,"cut":false,"hidden":false,"merged":[[0,0,0,19],[9,14,10,15],[19,0,19,2],[2,11,2,12],[30,7,33,10]]}
[{"$f":"CONCATENATE(Circuit2!F16,\"x\",Circuit2!F29,\"+\",Circuit2!J16,\"x\",Circuit2!J26,\"@\",Circuit2!B5,\"kHz;\",\" Vin=\",$B$3,\"V;\",\"Vout=\",B4,\"V;\",\"Driver=\",F3,\"(\",F4,\"V)\")","v":"NTD4804Nx1+NTMFS4897NFx1@300kHz; Vin=12V;Vout=1.2V;Driver=NCP5901(5V)"}]
["Buck Circuit Parameters:",null,null,"Driver Parameters:",null,null,null,"Output L-C"]
["Input Voltage ",12,"V",null,"Driver ","NCP5901",null,"Capacitor"]
["Output Voltage",1.2,"V","Driver Voltage Vdr","Vcc",5,"V",null,"ESR_Coutput",5,"mΩ"]
["Switching Frequency",300,"kHz","Sourcing Resistance @ HS",null,{"$f":"IF(ISNUMBER(VLOOKUP(F3,Drivers!A1:J20,3,0)), VLOOKUP(F3,Drivers!A1:J20,3,0),0.001)","v":2},"Ω",null,"Capacitor Actual Value",88,"uF"]
["Duty Cycle",{"$f":"B4/B3","v":9.9999999999999992E-2},null,"Sinking Resistance @ HS",null,{"$f":"IF(ISNUMBER(VLOOKUP(F3,Drivers!A1:J20,4,0)), VLOOKUP(F3,Drivers!A1:J20,4,0),0.7)","v":1},"Ω"]
["Period Ts (s)",{"$f":"1/B5/1000*1000000","v":3.3333333333333339},"us","Rise Delay Time","tpdHDRVH",{"$f":"IF(ISNUMBER(VLOOKUP(F3,Drivers!A1:J20,5,0)), VLOOKUP(F3,Drivers!A1:J20,5,0),0.00000003)","v":27},"ns","Inductor"]
["Current Ripple Peak-to-Avg",{"$f":"B6*B7*0.000001*(B3-B4)/2/J10*1000000","v":1.8},"A","Fall Delay Time","tpdLDRVH",{"$f":"IF(ISNUMBER(VLOOKUP(F3,Drivers!A1:J20,6,0)), VLOOKUP(F3,Drivers!A1:J20,6,0),0.000000015)","v":20},"ns",null,"Core loss",30,"mW"]
["Voltage Ripple",{"$f":"0.5*B8*0.5*B7*0.000001/J5*1000000*1000","v":17.04545454545455},"mV","Quiescent Current",null,{"$f":"IF(ISNUMBER(VLOOKUP(F3,Drivers!A1:J20,8,0)), VLOOKUP(F3,Drivers!A1:J20,8,0),0.001)","v":2.2000000000000002},"mA",null,"WindingResistance",1.5,"mΩ"]
["Maximum Output Current",{"$f":"Circuit1!$B$10","v":30},"A","Maxim Driver Voltage","MAX-Vcc",{"$f":"IF(ISNUMBER(VLOOKUP(F3,Drivers!A1:J20,2,0)), VLOOKUP(F3,Drivers!A1:J20,2,0),0.001)","v":15},"V",null,"Inductor Actual Value",1,"uH"]
["Current Ripple Ratio",{"$f":"B8/B10*100","v":6.0000000000000009},"%"]
["Voltage Ripple Ratio",{"$f":"B9/1000/B4*100","v":1.4204545454545459},"%",null,null,null,null,"PCB Resistance","R-PCB",1,"mΩ"]
[]
[null,"\n\n=IF(ISBLANK(B1), \"Default\", B1)"]
[null,null,null,"High-Side MOSFET:",null,null,null,"Low-Side MOSFET:"]
["Enable auto zoom in and out?","No",null,"MOSFET Selected",null,"NTD4804N",null,"MOSFET Selected",null,"NTMFS4897NF"]
[null,null,null,"Drain-to-Source On Resistance","RDS(on)",{"$f":"Constants!J17","v":4.5999999999999996},"mΩ","Drain-to-Source On Resistance","RDS(on)",{"$f":"Constants!K17","v":2},"mΩ"]
[null,null,null,"Total Gate Charge","QG(TOT)",{"$f":"Constants!J18","v":30},"nC","Total Gate Charge","QG(TOT)",{"$f":"Constants!K18","v":40.200000000000003},"nC"]
[null,null,null,"Output Capacitance","Coss",{"$f":"Constants!J19","v":952},"pF","Output Capacitance","Coss",{"$f":"Constants!K19","v":1150},"pF"]
["Buck converter circuit",null,null,"Gate-to-Drain Charge","QGD",{"$f":"Constants!J20","v":13},"nC","Diode Reverse Recovery Charge","QRR",{"$f":"Constants!K20","v":34},"nC "]
[null,null,null,"Gate-to-Source Charge","QGS",{"$f":"Constants!J21","v":13},"nC","SD Forward Diode Voltage","VSD",{"$f":"Constants!K21","v":0.35},"V"]
[null,null,null,"Gate Threshold Voltage","VGS(TH)",{"$f":"Constants!J22","v":2},"V","Junction-to-Ambient  Thermal Resistance ","RѲJA",{"$f":"Constants!K22","v":45.7},"°C/W"]
[null,null,null,"Forward Transconductance","gFS",{"$f":"Constants!J23","v":23},"S","RDSon Temperature Coefficient",null,{"$f":"Constants!K23","v":0.52},"%/°C"]
[null,null,null,"Gate Resistance","RG",{"$f":"Constants!J24","v":0.6},"Ω"]
[null,null,null,"Junction-to-Ambient Thermal Resistance","RѲJA",{"$f":"Constants!J25","v":60},"°C/W","External Gate Resistance","Rgex",0,"Ω"]
[null,null,null,"RDS(on) Temperature Coefficient",null,{"$f":"Constants!J26","v":0.46666666666666662},"%/°C","Number of LS MOSFET",null,1]
[]
[null,null,null,"External Gate Resistance","Rgex",0,"Ω"]
[null,null,null,"Number of HS MOSFET",null,1]
[]
["Note:",null,null,null,null,null,null,"For updates or suggestions, please contact\nZhiyang Chen\nZhiyang.Chen@onsemi.com"]
["1. Only single phase is simulated."]
["2. Simulaton is performed at 25 °C and selfheating of MOSFETs is not taken into account."]
[]
[]
[]
[]
[]
[]
[]
[null,null,null,null,null,null,null,null,null,null,null,"NTMFS4847N","NTMFS4933N"]
[null,null,null,null,null,null,null,null,null,null,null,"NTMFS4851","NTMFS4933N"]
[null,null,null,null,null,null,null,null,null,null,null,"NTMFS4852N","NTMFS4825NFE"]
[null,null,null,null,null,null,null,null,null,null,null,"NTMFS4852N","NTMFS4897"]
[null,null,null,null,null,null,null,null,null,null,null,"NTMFS4852N","NTMFS4933N"]
[null,null,null,null,null,null,null,null,null,null,null,"NTMFS4897","NTMFS4825NFE"]
[null,null,null,null,null,null,null,null,null,null,null,"NTMFS4897","NTMFS4897"]
[null,null,null,null,null,null,null,null,null,null,null,"NTMFS4897","NTMFS4933N"]
[null,null,null,null,null,null,null,null,null,null,null,"NTMFS4898N","NTMFS4825NFE"]
[null,null,null,null,null,null,null,null,null,null,null,"NTMFS4898N","NTMFS4897"]
[null,null,null,null,null,null,null,null,null,null,null,"NTMFS4898N","NTMFS4933N"]
[null,null,null,null,null,null,null,null,null,null,null,"NTMFS4899N","NTMFS4933N"]
[null,null,null,null,null,null,null,null,null,null,null,"NTMFS4921","NTMFS4933N"]
[null,null,null,null,null,null,null,null,null,null,null,"NTMFS4923NE","NTMFS4825NFE"]
[null,null,null,null,null,null,null,null,null,null,null,"NTMFS4923NE","NTMFS4897"]
[null,null,null,null,null,null,null,null,null,null,null,"NTMFS4923NE","NTMFS4933N"]
[null,null,null,null,null,null,null,null,null,null,null,"NTMFS4925","NTMFS4933N"]
[null,null,null,null,null,null,null,null,null,null,null,"NTMFS4926","NTMFS4933N"]
[null,null,null,null,null,null,null,null,null,null,null,"NTMFS4933N","NTMFS4825NFE"]
[null,null,null,null,null,null,null,null,null,null,null,"NTMFS4933N","NTMFS4897"]
[null,null,null,null,null,null,null,null,null,null,null,"NTMFS4933N","NTMFS4933N"]
[null,null,null,null,null,null,null,null,null,null,null,"NTMFS4933N","NTMFS4934N"]
[null,null,null,null,null,null,null,null,null,null,null,"NTMFS4934N","NTMFS4825NFE"]
[null,null,null,null,null,null,null,null,null,null,null,"NTMFS4934N","NTMFS4897"]
[null,null,null,null,null,null,null,null,null,null,null,"NTMFS4934N","NTMFS4933N"]
[null,null,null,null,null,null,null,null,null,null,null,"NTMFS4935N","NTMFS4825NFE"]
[null,null,null,null,null,null,null,null,null,null,null,"NTMFS4935N","NTMFS4897"]
[null,null,null,null,null,null,null,null,null,null,null,"NTMFS4935N","NTMFS4933N"]
[null,null,null,null,null,null,null,null,null,null,null,"NTMFS4936","NTMFS4933N"]
[null,null,null,null,null,null,null,null,null,null,null,"NTMFS4937N","NTMFS4933N"]
[null,null,null,null,null,null,null,null,null,null,null,"NTMFS4939N","NTMFS4933N"]
[null,null,null,null,null,null,null,null,null,null,null,"NTMFS4941N","NTMFS4933N"]
[null,null,null,null,null,null,null,null,null,null,null,"NTMFS4943N","NTMFS4933N"]
[null,null,null,null,null,null,null,null,null,null,null,"NTTFS4824N","NTMFS4933N"]
[null,null,null,null,null,null,null,null,null,null,null,"NTTFS4932N","NTMFS4825NFE"]
[null,null,null,null,null,null,null,null,null,null,null,"NTTFS4932N","NTMFS4897"]
[null,null,null,null,null,null,null,null,null,null,null,"NTTFS4932N","NTMFS4933N"]
[null,null,null,null,null,null,null,null,null,null,null,"NTTFS4937N","NTMFS4933N"]
[null,null,null,null,null,null,null,null,null,null,null,"NTTFS4939N","NTMFS4933N"]
[null,null,null,null,null,null,null,null,null,null,null,"NTTFS4941N","NTMFS4933N"]
[null,null,null,null,null,null,null,null,null,null,null,"NTD4809N","NTMFS4898N"]
[null,null,null,null,null,null,null,null,null,null,null,"NTD4809N","NTMFS4923NE"]
[null,null,null,null,null,null,null,null,null,null,null,"NTD4809N","NTMFS4933N"]
[null,null,null,null,null,null,null,null,null,null,null,"NTD4809N","NTMFS4934N"]
[null,null,null,null,null,null,null,null,null,null,null,"NTD4809N","NTMFS4935N"]
[null,null,null,null,null,null,null,null,null,null,null,"NTD4809N","NTTFS4932N"]
[null,null,null,null,null,null,null,null,null,null,null,"NTD4809NH","NTMFS4825NFE"]
[null,null,null,null,null,null,null,null,null,null,null,"NTD4809NH","NTMFS4833N"]
[null,null,null,null,null,null,null,null,null,null,null,"NTD4809NH","NTMFS4834N"]
[null,null,null,null,null,null,null,null,null,null,null,"NTD4809NH","NTMFS4835N"]
[null,null,null,null,null,null,null,null,null,null,null,"NTD4809NH","NTMFS4845"]
[null,null,null,null,null,null,null,null,null,null,null,"NTD4809NH","NTMFS4846"]
[null,null,null,null,null,null,null,null,null,null,null,"NTD4809NH","NTMFS4852N"]
[null,null,null,null,null,null,null,null,null,null,null,"NTD4809NH","NTMFS4897"]
[null,null,null,null,null,null,null,null,null,null,null,"NTD4809NH","NTMFS4898N"]
[null,null,null,null,null,null,null,null,null,null,null,"NTD4809NH","NTMFS4923NE"]
[null,null,null,null,null,null,null,null,null,null,null,"NTD4809NH","NTMFS4933N"]
[null,null,null,null,null,null,null,null,null,null,null,"NTD4809NH","NTMFS4934N"]
[null,null,null,null,null,null,null,null,null,null,null,"NTD4809NH","NTMFS4935N"]
[null,null,null,null,null,null,null,null,null,null,null,"NTD4809NH","NTMFS4936"]
[null,null,null,null,null,null,null,null,null,null,null,"NTD4809NH","NTTFS4932N"]
[null,null,null,null,null,null,null,null,null,null,null,"NTD4810N","NTMFS4825NFE"]
[null,null,null,null,null,null,null,null,null,null,null,"NTD4810N","NTMFS4833N"]
[null,null,null,null,null,null,null,null,null,null,null,"NTD4810N","NTMFS4834N"]
[null,null,null,null,null,null,null,null,null,null,null,"NTD4810N","NTMFS4845"]
[null,null,null,null,null,null,null,null,null,null,null,"NTD4810N","NTMFS4846"]
[null,null,null,null,null,null,null,null,null,null,null,"NTD4810N","NTMFS4852N"]
[null,null,null,null,null,null,null,null,null,null,null,"NTD4810N","NTMFS4897"]
[null,null,null,null,null,null,null,null,null,null,null,"NTD4810N","NTMFS4898N"]
[null,null,null,null,null,null,null,null,null,null,null,"NTD4810N","NTMFS4923NE"]
[null,null,null,null,null,null,null,null,null,null,null,"NTD4810N","NTMFS4933N"]
[null,null,null,null,null,null,null,null,null,null,null,"NTD4810N","NTMFS4934N"]
[null,null,null,null,null,null,null,null,null,null,null,"NTD4810N","NTMFS4935N"]
[null,null,null,null,null,null,null,null,null,null,null,"NTD4810N","NTTFS4932N"]
[null,null,null,null,null,null,null,null,null,null,null,"NTD4813NH","NTMFS4825NFE"]
[null,null,null,null,null,null,null,null,null,null,null,"NTD4813NH","NTMFS4833N"]
[null,null,null,null,null,null,null,null,null,null,null,"NTD4813NH","NTMFS4852N"]
[null,null,null,null,null,null,null,null,null,null,null,"NTD4813NH","NTMFS4897"]
[null,null,null,null,null,null,null,null,null,null,null,"NTD4813NH","NTMFS4933N"]
[null,null,null,null,null,null,null,null,null,null,null,"NTD4813NH","NTMFS4934N"]
[null,null,null,null,null,null,null,null,null,null,null,"NTD4815N","NTMFS4825NFE"]
[null,null,null,null,null,null,null,null,null,null,null,"NTD4815N","NTMFS4833N"]
[null,null,null,null,null,null,null,null,null,null,null,"NTD4815N","NTMFS4852N"]
[null,null,null,null,null,null,null,null,null,null,null,"NTD4815N","NTMFS4897"]
[null,null,null,null,null,null,null,null,null,null,null,"NTD4815N","NTMFS4933N"]
[null,null,null,null,null,null,null,null,null,null,null,"NTD4815N","NTMFS4934N"]
[null,null,null,null,null,null,null,null,null,null,null,"NTD4855N","NTD4904N"]
[null,null,null,null,null,null,null,null,null,null,null,"NTD4855N","NTMFS4825NFE"]
[null,null,null,null,null,null,null,null,null,null,null,"NTD4855N","NTMFS4833N"]
[null,null,null,null,null,null,null,null,null,null,null,"NTD4855N","NTMFS4834N"]
[null,null,null,null,null,null,null,null,null,null,null,"NTD4855N","NTMFS4835N"]
[null,null,null,null,null,null,null,null,null,null,null,"NTD4855N","NTMFS4845"]
[null,null,null,null,null,null,null,null,null,null,null,"NTD4855N","NTMFS4846"]
[null,null,null,null,null,null,null,null,null,null,null,"NTD4855N","NTMFS4852N"]
[null,null,null,null,null,null,null,null,null,null,null,"NTD4855N","NTMFS4897"]
[null,null,null,null,null,null,null,null,null,null,null,"NTD4855N","NTMFS4898N"]
[null,null,null,null,null,null,null,null,null,null,null,"NTD4855N","NTMFS4923NE"]
[null,null,null,null,null,null,null,null,null,null,null,"NTD4855N","NTMFS4933N"]
[null,null,null,null,null,null,null,null,null,null,null,"NTD4855N","NTMFS4934N"]
[null,null,null,null,null,null,null,null,null,null,null,"NTD4855N","NTMFS4935N"]
[null,null,null,null,null,null,null,null,null,null,null,"NTD4855N","NTMFS4936"]
[null,null,null,null,null,null,null,null,null,null,null,"NTD4855N","NTTFS4932N"]
[null,null,null,null,null,null,null,null,null,null,null,"NTD4856N","NTD4904N"]
[null,null,null,null,null,null,null,null,null,null,null,"NTD4856N","NTMFS4825NFE"]
[null,null,null,null,null,null,null,null,null,null,null,"NTD4856N","NTMFS4833N"]
[null,null,null,null,null,null,null,null,null,null,null,"NTD4856N","NTMFS4834N"]
[null,null,null,null,null,null,null,null,null,null,null,"NTD4856N","NTMFS4835N"]
[null,null,null,null,null,null,null,null,null,null,null,"NTD4856N","NTMFS4845"]
[null,null,null,null,null,null,null,null,null,null,null,"NTD4856N","NTMFS4846"]
[null,null,null,null,null,null,null,null,null,null,null,"NTD4856N","NTMFS4852N"]
[null,null,null,null,null,null,null,null,null,null,null,"NTD4856N","NTMFS4897"]
[null,null,null,null,null,null,null,null,null,null,null,"NTD4856N","NTMFS4898N"]
[null,null,null,null,null,null,null,null,null,null,null,"NTD4856N","NTMFS4923NE"]
[null,null,null,null,null,null,null,null,null,null,null,"NTD4856N","NTMFS4933N"]
[null,null,null,null,null,null,null,null,null,null,null,"NTD4856N","NTMFS4934N"]
[null,null,null,null,null,null,null,null,null,null,null,"NTD4856N","NTMFS4935N"]
[null,null,null,null,null,null,null,null,null,null,null,"NTD4856N","NTMFS4936"]
[null,null,null,null,null,null,null,null,null,null,null,"NTD4856N","NTTFS4932N"]
[null,null,null,null,null,null,null,null,null,null,null,"NTD4857N","NTD4904N"]
[null,null,null,null,null,null,null,null,null,null,null,"NTD4857N","NTMFS4825NFE"]
[null,null,null,null,null,null,null,null,null,null,null,"NTD4857N","NTMFS4833N"]
[null,null,null,null,null,null,null,null,null,null,null,"NTD4857N","NTMFS4834N"]
[null,null,null,null,null,null,null,null,null,null,null,"NTD4857N","NTMFS4835N"]
[null,null,null,null,null,null,null,null,null,null,null,"NTD4857N","NTMFS4845"]
[null,null,null,null,null,null,null,null,null,null,null,"NTD4857N","NTMFS4846"]
[null,null,null,null,null,null,null,null,null,null,null,"NTD4857N","NTMFS4852N"]
[null,null,null,null,null,null,null,null,null,null,null,"NTD4857N","NTMFS4897"]
[null,null,null,null,null,null,null,null,null,null,null,"NTD4857N","NTMFS4898N"]
[null,null,null,null,null,null,null,null,null,null,null,"NTD4857N","NTMFS4923NE"]
[null,null,null,null,null,null,null,null,null,null,null,"NTD4857N","NTMFS4933N"]
[null,null,null,null,null,null,null,null,null,null,null,"NTD4857N","NTMFS4934N"]
[null,null,null,null,null,null,null,null,null,null,null,"NTD4857N","NTMFS4935N"]
[null,null,null,null,null,null,null,null,null,null,null,"NTD4857N","NTMFS4936"]
[null,null,null,null,null,null,null,null,null,null,null,"NTD4857N","NTTFS4932N"]
[null,null,null,null,null,null,null,null,null,null,null,"NTD4858N","NTD4904N"]
[null,null,null,null,null,null,null,null,null,null,null,"NTD4858N","NTMFS4825NFE"]
[null,null,null,null,null,null,null,null,null,null,null,"NTD4858N","NTMFS4833N"]
[null,null,null,null,null,null,null,null,null,null,null,"NTD4858N","NTMFS4834N"]
[null,null,null,null,null,null,null,null,null,null,null,"NTD4858N","NTMFS4835N"]
[null,null,null,null,null,null,null,null,null,null,null,"NTD4858N","NTMFS4845"]
[null,null,null,null,null,null,null,null,null,null,null,"NTD4858N","NTMFS4846"]
[null,null,null,null,null,null,null,null,null,null,null,"NTD4858N","NTMFS4852N"]
[null,null,null,null,null,null,null,null,null,null,null,"NTD4858N","NTMFS4897"]
[null,null,null,null,null,null,null,null,null,null,null,"NTD4858N","NTMFS4898N"]
[null,null,null,null,null,null,null,null,null,null,null,"NTD4858N","NTMFS4923NE"]
[null,null,null,null,null,null,null,null,null,null,null,"NTD4858N","NTMFS4933N"]
[null,null,null,null,null,null,null,null,null,null,null,"NTD4858N","NTMFS4934N"]
[null,null,null,null,null,null,null,null,null,null,null,"NTD4858N","NTMFS4935N"]
[null,null,null,null,null,null,null,null,null,null,null,"NTD4858N","NTMFS4936"]
[null,null,null,null,null,null,null,null,null,null,null,"NTD4858N","NTTFS4932N"]
[null,null,null,null,null,null,null,null,null,null,null,"NTD4863N","NTMFS4825NFE"]
[null,null,null,null,null,null,null,null,null,null,null,"NTD4863N","NTMFS4833N"]
[null,null,null,null,null,null,null,null,null,null,null,"NTD4863N","NTMFS4834N"]
[null,null,null,null,null,null,null,null,null,null,null,"NTD4863N","NTMFS4845"]
[null,null,null,null,null,null,null,null,null,null,null,"NTD4863N","NTMFS4852N"]
[null,null,null,null,null,null,null,null,null,null,null,"NTD4863N","NTMFS4897"]
[null,null,null,null,null,null,null,null,null,null,null,"NTD4863N","NTMFS4898N"]
[null,null,null,null,null,null,null,null,null,null,null,"NTD4863N","NTMFS4933N"]
[null,null,null,null,null,null,null,null,null,null,null,"NTD4863N","NTMFS4934N"]
[null,null,null,null,null,null,null,null,null,null,null,"NTD4863N","NTTFS4932N"]
[null,null,null,null,null,null,null,null,null,null,null,"NTD4904N","NTD4804N"]
[null,null,null,null,null,null,null,null,null,null,null,"NTD4904N","NTD4855N"]
[null,null,null,null,null,null,null,null,null,null,null,"NTD4904N","NTD4904N"]
[null,null,null,null,null,null,null,null,null,null,null,"NTD4904N","NTMFS4825NFE"]
[null,null,null,null,null,null,null,null,null,null,null,"NTD4904N","NTMFS4833N"]
[null,null,null,null,null,null,null,null,null,null,null,"NTD4904N","NTMFS4834N"]
[null,null,null,null,null,null,null,null,null,null,null,"NTD4904N","NTMFS4835N"]
[null,null,null,null,null,null,null,null,null,null,null,"NTD4904N","NTMFS4845"]
[null,null,null,null,null,null,null,null,null,null,null,"NTD4904N","NTMFS4846"]
[null,null,null,null,null,null,null,null,null,null,null,"NTD4904N","NTMFS4852N"]
[null,null,null,null,null,null,null,null,null,null,null,"NTD4904N","NTMFS4897"]
[null,null,null,null,null,null,null,null,null,null,null,"NTD4904N","NTMFS4898N"]
[null,null,null,null,null,null,null,null,null,null,null,"NTD4904N","NTMFS4923NE"]
[null,null,null,null,null,null,null,null,null,null,null,"NTD4904N","NTMFS4933N"]
[null,null,null,null,null,null,null,null,null,null,null,"NTD4904N","NTMFS4934N"]
[null,null,null,null,null,null,null,null,null,null,null,"NTD4904N","NTMFS4935N"]
[null,null,null,null,null,null,null,null,null,null,null,"NTD4904N","NTMFS4936"]
[null,null,null,null,null,null,null,null,null,null,null,"NTD4904N","NTTFS4932N"]
[null,null,null,null,null,null,null,null,null,null,null,"NTD4906N","NTD4904N"]
[null,null,null,null,null,null,null,null,null,null,null,"NTD4906N","NTMFS4825NFE"]
[null,null,null,null,null,null,null,null,null,null,null,"NTD4906N","NTMFS4833N"]
[null,null,null,null,null,null,null,null,null,null,null,"NTD4906N","NTMFS4834N"]
[null,null,null,null,null,null,null,null,null,null,null,"NTD4906N","NTMFS4835N"]
[null,null,null,null,null,null,null,null,null,null,null,"NTD4906N","NTMFS4845"]
[null,null,null,null,null,null,null,null,null,null,null,"NTD4906N","NTMFS4846"]
[null,null,null,null,null,null,null,null,null,null,null,"NTD4906N","NTMFS4852N"]
[null,null,null,null,null,null,null,null,null,null,null,"NTD4906N","NTMFS4897"]
[null,null,null,null,null,null,null,null,null,null,null,"NTD4906N","NTMFS4898N"]
[null,null,null,null,null,null,null,null,null,null,null,"NTD4906N","NTMFS4923NE"]
[null,null,null,null,null,null,null,null,null,null,null,"NTD4906N","NTMFS4933N"]
[null,null,null,null,null,null,null,null,null,null,null,"NTD4906N","NTMFS4934N"]
[null,null,null,null,null,null,null,null,null,null,null,"NTD4906N","NTMFS4935N"]
[null,null,null,null,null,null,null,null,null,null,null,"NTD4906N","NTMFS4936"]
[null,null,null,null,null,null,null,null,null,null,null,"NTD4906N","NTTFS4932N"]
[null,null,null,null,null,null,null,null,null,null,null,"NTD4909N","NTD4904N"]
[null,null,null,null,null,null,null,null,null,null,null,"NTD4909N","NTMFS4825NFE"]
[null,null,null,null,null,null,null,null,null,null,null,"NTD4909N","NTMFS4833N"]
[null,null,null,null,null,null,null,null,null,null,null,"NTD4909N","NTMFS4834N"]
[null,null,null,null,null,null,null,null,null,null,null,"NTD4909N","NTMFS4835N"]
[null,null,null,null,null,null,null,null,null,null,null,"NTD4909N","NTMFS4845"]
[null,null,null,null,null,null,null,null,null,null,null,"NTD4909N","NTMFS4846"]
[null,null,null,null,null,null,null,null,null,null,null,"NTD4909N","NTMFS4852N"]
[null,null,null,null,null,null,null,null,null,null,null,"NTD4909N","NTMFS4897"]
[null,null,null,null,null,null,null,null,null,null,null,"NTD4909N","NTMFS4898N"]
[null,null,null,null,null,null,null,null,null,null,null,"NTD4909N","NTMFS4923NE"]
[null,null,null,null,null,null,null,null,null,null,null,"NTD4909N","NTMFS4933N"]
[null,null,null,null,null,null,null,null,null,null,null,"NTD4909N","NTMFS4934N"]
[null,null,null,null,null,null,null,null,null,null,null,"NTD4909N","NTMFS4935N"]
[null,null,null,null,null,null,null,null,null,null,null,"NTD4909N","NTMFS4936"]
[null,null,null,null,null,null,null,null,null,null,null,"NTD4909N","NTTFS4932N"]
[null,null,null,null,null,null,null,null,null,null,null,"NTD4910N","NTMFS4825NFE"]
[null,null,null,null,null,null,null,null,null,null,null,"NTD4910N","NTMFS4833N"]
[null,null,null,null,null,null,null,null,null,null,null,"NTD4910N","NTMFS4834N"]
[null,null,null,null,null,null,null,null,null,null,null,"NTD4910N","NTMFS4835N"]
[null,null,null,null,null,null,null,null,null,null,null,"NTD4910N","NTMFS4845"]
[null,null,null,null,null,null,null,null,null,null,null,"NTD4910N","NTMFS4846"]
[null,null,null,null,null,null,null,null,null,null,null,"NTD4910N","NTMFS4852N"]
[null,null,null,null,null,null,null,null,null,null,null,"NTD4910N","NTMFS4897"]
[null,null,null,null,null,null,null,null,null,null,null,"NTD4910N","NTMFS4898N"]
[null,null,null,null,null,null,null,null,null,null,null,"NTD4910N","NTMFS4923NE"]
[null,null,null,null,null,null,null,null,null,null,null,"NTD4910N","NTMFS4933N"]
[null,null,null,null,null,null,null,null,null,null,null,"NTD4910N","NTMFS4934N"]
[null,null,null,null,null,null,null,null,null,null,null,"NTD4910N","NTMFS4935N"]
[null,null,null,null,null,null,null,null,null,null,null,"NTD4910N","NTTFS4932N"]
[null,null,null,null,null,null,null,null,null,null,null,"NTD4913N","NTMFS4825NFE"]
[null,null,null,null,null,null,null,null,null,null,null,"NTD4913N","NTMFS4833N"]
[null,null,null,null,null,null,null,null,null,null,null,"NTD4913N","NTMFS4834N"]
[null,null,null,null,null,null,null,null,null,null,null,"NTD4913N","NTMFS4845"]
[null,null,null,null,null,null,null,null,null,null,null,"NTD4913N","NTMFS4852N"]
[null,null,null,null,null,null,null,null,null,null,null,"NTD4913N","NTMFS4897"]
[null,null,null,null,null,null,null,null,null,null,null,"NTD4913N","NTMFS4898N"]
[null,null,null,null,null,null,null,null,null,null,null,"NTD4913N","NTMFS4933N"]
[null,null,null,null,null,null,null,null,null,null,null,"NTD4913N","NTMFS4934N"]
[null,null,null,null,null,null,null,null,null,null,null,"NTD4913N","NTTFS4932N"]
[null,null,null,null,null,null,null,null,null,null,null,"NTD4960N","NTMFS4825NFE"]
[null,null,null,null,null,null,null,null,null,null,null,"NTD4960N","NTMFS4833N"]
[null,null,null,null,null,null,null,null,null,null,null,"NTD4960N","NTMFS4834N"]
[null,null,null,null,null,null,null,null,null,null,null,"NTD4960N","NTMFS4835N"]
[null,null,null,null,null,null,null,null,null,null,null,"NTD4960N","NTMFS4845"]
[null,null,null,null,null,null,null,null,null,null,null,"NTD4960N","NTMFS4846"]
[null,null,null,null,null,null,null,null,null,null,null,"NTD4960N","NTMFS4852N"]
[null,null,null,null,null,null,null,null,null,null,null,"NTD4960N","NTMFS4897"]
[null,null,null,null,null,null,null,null,null,null,null,"NTD4960N","NTMFS4898N"]
[null,null,null,null,null,null,null,null,null,null,null,"NTD4960N","NTMFS4923NE"]
[null,null,null,null,null,null,null,null,null,null,null,"NTD4960N","NTMFS4933N"]
[null,null,null,null,null,null,null,null,null,null,null,"NTD4960N","NTMFS4934N"]
[null,null,null,null,null,null,null,null,null,null,null,"NTD4960N","NTMFS4935N"]
[null,null,null,null,null,null,null,null,null,null,null,"NTD4960N","NTMFS4936"]
[null,null,null,null,null,null,null,null,null,null,null,"NTD4960N","NTTFS4932N"]
[null,null,null,null,null,null,null,null,null,null,null,"NTD4963N","NTMFS4825NFE"]
[null,null,null,null,null,null,null,null,null,null,null,"NTD4963N","NTMFS4833N"]
[null,null,null,null,null,null,null,null,null,null,null,"NTD4963N","NTMFS4834N"]
[null,null,null,null,null,null,null,null,null,null,null,"NTD4963N","NTMFS4845"]
[null,null,null,null,null,null,null,null,null,null,null,"NTD4963N","NTMFS4852N"]
[null,null,null,null,null,null,null,null,null,null,null,"NTD4963N","NTMFS4897"]
[null,null,null,null,null,null,null,null,null,null,null,"NTD4963N","NTMFS4898N"]
[null,null,null,null,null,null,null,null,null,null,null,"NTD4963N","NTMFS4933N"]
[null,null,null,null,null,null,null,null,null,null,null,"NTD4963N","NTMFS4934N"]
[null,null,null,null,null,null,null,null,null,null,null,"NTD4965N","NTD4904N"]
[null,null,null,null,null,null,null,null,null,null,null,"NTD4965N","NTMFS4825NFE"]
[null,null,null,null,null,null,null,null,null,null,null,"NTD4965N","NTMFS4833N"]
[null,null,null,null,null,null,null,null,null,null,null,"NTD4965N","NTMFS4834N"]
[null,null,null,null,null,null,null,null,null,null,null,"NTD4965N","NTMFS4835N"]
[null,null,null,null,null,null,null,null,null,null,null,"NTD4965N","NTMFS4845"]
[null,null,null,null,null,null,null,null,null,null,null,"NTD4965N","NTMFS4846"]
[null,null,null,null,null,null,null,null,null,null,null,"NTD4965N","NTMFS4852N"]
[null,null,null,null,null,null,null,null,null,null,null,"NTD4965N","NTMFS4897"]
[null,null,null,null,null,null,null,null,null,null,null,"NTD4965N","NTMFS4898N"]
[null,null,null,null,null,null,null,null,null,null,null,"NTD4965N","NTMFS4923NE"]
[null,null,null,null,null,null,null,null,null,null,null,"NTD4965N","NTMFS4933N"]
[null,null,null,null,null,null,null,null,null,null,null,"NTD4965N","NTMFS4934N"]
[null,null,null,null,null,null,null,null,null,null,null,"NTD4965N","NTMFS4935N"]
[null,null,null,null,null,null,null,null,null,null,null,"NTD4965N","NTMFS4936"]
[null,null,null,null,null,null,null,null,null,null,null,"NTD4965N","NTTFS4932N"]
[null,null,null,null,null,null,null,null,null,null,null,"NTD4969N","NTMFS4825NFE"]
[null,null,null,null,null,null,null,null,null,null,null,"NTD4969N","NTMFS4833N"]
[null,null,null,null,null,null,null,null,null,null,null,"NTD4969N","NTMFS4834N"]
[null,null,null,null,null,null,null,null,null,null,null,"NTD4969N","NTMFS4845"]
[null,null,null,null,null,null,null,null,null,null,null,"NTD4969N","NTMFS4852N"]
[null,null,null,null,null,null,null,null,null,null,null,"NTD4969N","NTMFS4897"]
[null,null,null,null,null,null,null,null,null,null,null,"NTD4969N","NTMFS4898N"]
[null,null,null,null,null,null,null,null,null,null,null,"NTD4969N","NTMFS4933N"]
[null,null,null,null,null,null,null,null,null,null,null,"NTD4969N","NTMFS4934N"]
[null,null,null,null,null,null,null,null,null,null,null,"NTD4969N","NTTFS4932N"]
[null,null,null,null,null,null,null,null,null,null,null,"NTD4970N","NTMFS4825NFE"]
[null,null,null,null,null,null,null,null,null,null,null,"NTD4970N","NTMFS4833N"]
[null,null,null,null,null,null,null,null,null,null,null,"NTD4970N","NTMFS4834N"]
[null,null,null,null,null,null,null,null,null,null,null,"NTD4970N","NTMFS4845"]
[null,null,null,null,null,null,null,null,null,null,null,"NTD4970N","NTMFS4852N"]
[null,null,null,null,null,null,null,null,null,null,null,"NTD4970N","NTMFS4897"]
[null,null,null,null,null,null,null,null,null,null,null,"NTD4970N","NTMFS4898N"]
[null,null,null,null,null,null,null,null,null,null,null,"NTD4970N","NTMFS4933N"]
[null,null,null,null,null,null,null,null,null,null,null,"NTD4970N","NTMFS4934N"]
[null,null,null,null,null,null,null,null,null,null,null,"NTD4970N","NTTFS4932N"]
[null,null,null,null,null,null,null,null,null,null,null,"NTMFS4821","NTD4904N"]
[null,null,null,null,null,null,null,null,null,null,null,"NTMFS4821","NTMFS4825NFE"]
[null,null,null,null,null,null,null,null,null,null,null,"NTMFS4821","NTMFS4833N"]
[null,null,null,null,null,null,null,null,null,null,null,"NTMFS4821","NTMFS4834N"]
[null,null,null,null,null,null,null,null,null,null,null,"NTMFS4821","NTMFS4835N"]
[null,null,null,null,null,null,null,null,null,null,null,"NTMFS4821","NTMFS4845"]
[null,null,null,null,null,null,null,null,null,null,null,"NTMFS4821","NTMFS4846"]
[null,null,null,null,null,null,null,null,null,null,null,"NTMFS4821","NTMFS4852N"]
[null,null,null,null,null,null,null,null,null,null,null,"NTMFS4821","NTMFS4897"]
[null,null,null,null,null,null,null,null,null,null,null,"NTMFS4821","NTMFS4898N"]
[null,null,null,null,null,null,null,null,null,null,null,"NTMFS4821","NTMFS4923NE"]
[null,null,null,null,null,null,null,null,null,null,null,"NTMFS4821","NTMFS4933N"]
[null,null,null,null,null,null,null,null,null,null,null,"NTMFS4821","NTMFS4934N"]
[null,null,null,null,null,null,null,null,null,null,null,"NTMFS4821","NTMFS4935N"]
[null,null,null,null,null,null,null,null,null,null,null,"NTMFS4821","NTMFS4936"]
[null,null,null,null,null,null,null,null,null,null,null,"NTMFS4821","NTTFS4932N"]
[null,null,null,null,null,null,null,null,null,null,null,"NTMFS4823","NTMFS4825NFE"]
[null,null,null,null,null,null,null,null,null,null,null,"NTMFS4823","NTMFS4833N"]
[null,null,null,null,null,null,null,null,null,null,null,"NTMFS4823","NTMFS4834N"]
[null,null,null,null,null,null,null,null,null,null,null,"NTMFS4823","NTMFS4845"]
[null,null,null,null,null,null,null,null,null,null,null,"NTMFS4823","NTMFS4852N"]
[null,null,null,null,null,null,null,null,null,null,null,"NTMFS4823","NTMFS4897"]
[null,null,null,null,null,null,null,null,null,null,null,"NTMFS4823","NTMFS4898N"]
[null,null,null,null,null,null,null,null,null,null,null,"NTMFS4823","NTMFS4933N"]
[null,null,null,null,null,null,null,null,null,null,null,"NTMFS4823","NTMFS4934N"]
[null,null,null,null,null,null,null,null,null,null,null,"NTMFS4825NFE","NTD4804N"]
[null,null,null,null,null,null,null,null,null,null,null,"NTMFS4825NFE","NTD4855N"]
[null,null,null,null,null,null,null,null,null,null,null,"NTMFS4825NFE","NTD4904N"]
[null,null,null,null,null,null,null,null,null,null,null,"NTMFS4825NFE","NTMFS4825NFE"]
[null,null,null,null,null,null,null,null,null,null,null,"NTMFS4825NFE","NTMFS4833N"]
[null,null,null,null,null,null,null,null,null,null,null,"NTMFS4825NFE","NTMFS4834N"]
[null,null,null,null,null,null,null,null,null,null,null,"NTMFS4825NFE","NTMFS4835N"]
[null,null,null,null,null,null,null,null,null,null,null,"NTMFS4825NFE","NTMFS4836N"]
[null,null,null,null,null,null,null,null,null,null,null,"NTMFS4825NFE","NTMFS4845"]
[null,null,null,null,null,null,null,null,null,null,null,"NTMFS4825NFE","NTMFS4846"]
[null,null,null,null,null,null,null,null,null,null,null,"NTMFS4825NFE","NTMFS4852N"]
[null,null,null,null,null,null,null,null,null,null,null,"NTMFS4825NFE","NTMFS4897"]
[null,null,null,null,null,null,null,null,null,null,null,"NTMFS4825NFE","NTMFS4898N"]
[null,null,null,null,null,null,null,null,null,null,null,"NTMFS4825NFE","NTMFS4923NE"]
[null,null,null,null,null,null,null,null,null,null,null,"NTMFS4825NFE","NTMFS4933N"]
[null,null,null,null,null,null,null,null,null,null,null,"NTMFS4825NFE","NTMFS4934N"]
[null,null,null,null,null,null,null,null,null,null,null,"NTMFS4825NFE","NTMFS4935N"]
[null,null,null,null,null,null,null,null,null,null,null,"NTMFS4825NFE","NTMFS4936"]
[null,null,null,null,null,null,null,null,null,null,null,"NTMFS4825NFE","NTTFS4932N"]
[null,null,null,null,null,null,null,null,null,null,null,"NTMFS4825NFE","NTTFS4937N"]
[null,null,null,null,null,null,null,null,null,null,null,"NTMFS4826NE","NTD4904N"]
[null,null,null,null,null,null,null,null,null,null,null,"NTMFS4826NE","NTMFS4825NFE"]
[null,null,null,null,null,null,null,null,null,null,null,"NTMFS4826NE","NTMFS4833N"]
[null,null,null,null,null,null,null,null,null,null,null,"NTMFS4826NE","NTMFS4834N"]
[null,null,null,null,null,null,null,null,null,null,null,"NTMFS4826NE","NTMFS4835N"]
[null,null,null,null,null,null,null,null,null,null,null,"NTMFS4826NE","NTMFS4845"]
[null,null,null,null,null,null,null,null,null,null,null,"NTMFS4826NE","NTMFS4846"]
[null,null,null,null,null,null,null,null,null,null,null,"NTMFS4826NE","NTMFS4852N"]
[null,null,null,null,null,null,null,null,null,null,null,"NTMFS4826NE","NTMFS4897"]
[null,null,null,null,null,null,null,null,null,null,null,"NTMFS4826NE","NTMFS4898N"]
[null,null,null,null,null,null,null,null,null,null,null,"NTMFS4826NE","NTMFS4923NE"]
[null,null,null,null,null,null,null,null,null,null,null,"NTMFS4826NE","NTMFS4933N"]
[null,null,null,null,null,null,null,null,null,null,null,"NTMFS4826NE","NTMFS4934N"]
[null,null,null,null,null,null,null,null,null,null,null,"NTMFS4826NE","NTMFS4935N"]
[null,null,null,null,null,null,null,null,null,null,null,"NTMFS4826NE","NTMFS4936"]
[null,null,null,null,null,null,null,null,null,null,null,"NTMFS4826NE","NTTFS4932N"]
[null,null,null,null,null,null,null,null,null,null,null,"NTMFS4833N","NTD4804N"]
[null,null,null,null,null,null,null,null,null,null,null,"NTMFS4833N","NTD4855N"]
[null,null,null,null,null,null,null,null,null,null,null,"NTMFS4833N","NTD4904N"]
[null,null,null,null,null,null,null,null,null,null,null,"NTMFS4833N","NTMFS4825NFE"]
[null,null,null,null,null,null,null,null,null,null,null,"NTMFS4833N","NTMFS4833N"]
[null,null,null,null,null,null,null,null,null,null,null,"NTMFS4833N","NTMFS4834N"]
[null,null,null,null,null,null,null,null,null,null,null,"NTMFS4833N","NTMFS4835N"]
[null,null,null,null,null,null,null,null,null,null,null,"NTMFS4833N","NTMFS4836N"]
[null,null,null,null,null,null,null,null,null,null,null,"NTMFS4833N","NTMFS4845"]
[null,null,null,null,null,null,null,null,null,null,null,"NTMFS4833N","NTMFS4846"]
[null,null,null,null,null,null,null,null,null,null,null,"NTMFS4833N","NTMFS4852N"]
[null,null,null,null,null,null,null,null,null,null,null,"NTMFS4833N","NTMFS4897"]
[null,null,null,null,null,null,null,null,null,null,null,"NTMFS4833N","NTMFS4898N"]
[null,null,null,null,null,null,null,null,null,null,null,"NTMFS4833N","NTMFS4923NE"]
[null,null,null,null,null,null,null,null,null,null,null,"NTMFS4833N","NTMFS4933N"]
[null,null,null,null,null,null,null,null,null,null,null,"NTMFS4833N","NTMFS4934N"]
[null,null,null,null,null,null,null,null,null,null,null,"NTMFS4833N","NTMFS4935N"]
[null,null,null,null,null,null,null,null,null,null,null,"NTMFS4833N","NTMFS4936"]
[null,null,null,null,null,null,null,null,null,null,null,"NTMFS4833N","NTTFS4932N"]
[null,null,null,null,null,null,null,null,null,null,null,"NTMFS4833N","NTTFS4937N"]
[null,null,null,null,null,null,null,null,null,null,null,"NTMFS4834N","NTD4804N"]
[null,null,null,null,null,null,null,null,null,null,null,"NTMFS4834N","NTD4855N"]
[null,null,null,null,null,null,null,null,null,null,null,"NTMFS4834N","NTD4904N"]
[null,null,null,null,null,null,null,null,null,null,null,"NTMFS4834N","NTMFS4825NFE"]
[null,null,null,null,null,null,null,null,null,null,null,"NTMFS4834N","NTMFS4833N"]
[null,null,null,null,null,null,null,null,null,null,null,"NTMFS4834N","NTMFS4834N"]
[null,null,null,null,null,null,null,null,null,null,null,"NTMFS4834N","NTMFS4835N"]
[null,null,null,null,null,null,null,null,null,null,null,"NTMFS4834N","NTMFS4845"]
[null,null,null,null,null,null,null,null,null,null,null,"NTMFS4834N","NTMFS4846"]
[null,null,null,null,null,null,null,null,null,null,null,"NTMFS4834N","NTMFS4852N"]
[null,null,null,null,null,null,null,null,null,null,null,"NTMFS4834N","NTMFS4897"]
[null,null,null,null,null,null,null,null,null,null,null,"NTMFS4834N","NTMFS4898N"]
[null,null,null,null,null,null,null,null,null,null,null,"NTMFS4834N","NTMFS4923NE"]
[null,null,null,null,null,null,null,null,null,null,null,"NTMFS4834N","NTMFS4933N"]
[null,null,null,null,null,null,null,null,null,null,null,"NTMFS4834N","NTMFS4934N"]
[null,null,null,null,null,null,null,null,null,null,null,"NTMFS4834N","NTMFS4935N"]
[null,null,null,null,null,null,null,null,null,null,null,"NTMFS4834N","NTMFS4936"]
[null,null,null,null,null,null,null,null,null,null,null,"NTMFS4834N","NTTFS4932N"]
[null,null,null,null,null,null,null,null,null,null,null,"NTMFS4835N","NTD4804N"]
[null,null,null,null,null,null,null,null,null,null,null,"NTMFS4835N","NTD4855N"]
[null,null,null,null,null,null,null,null,null,null,null,"NTMFS4835N","NTD4904N"]
[null,null,null,null,null,null,null,null,null,null,null,"NTMFS4835N","NTMFS4825NFE"]
[null,null,null,null,null,null,null,null,null,null,null,"NTMFS4835N","NTMFS4833N"]
[null,null,null,null,null,null,null,null,null,null,null,"NTMFS4835N","NTMFS4834N"]
[null,null,null,null,null,null,null,null,null,null,null,"NTMFS4835N","NTMFS4835N"]
[null,null,null,null,null,null,null,null,null,null,null,"NTMFS4835N","NTMFS4845"]
[null,null,null,null,null,null,null,null,null,null,null,"NTMFS4835N","NTMFS4846"]
[null,null,null,null,null,null,null,null,null,null,null,"NTMFS4835N","NTMFS4852N"]
[null,null,null,null,null,null,null,null,null,null,null,"NTMFS4835N","NTMFS4897"]
[null,null,null,null,null,null,null,null,null,null,null,"NTMFS4835N","NTMFS4898N"]
[null,null,null,null,null,null,null,null,null,null,null,"NTMFS4835N","NTMFS4923NE"]
[null,null,null,null,null,null,null,null,null,null,null,"NTMFS4835N","NTMFS4933N"]
[null,null,null,null,null,null,null,null,null,null,null,"NTMFS4835N","NTMFS4934N"]
[null,null,null,null,null,null,null,null,null,null,null,"NTMFS4835N","NTMFS4935N"]
[null,null,null,null,null,null,null,null,null,null,null,"NTMFS4835N","NTMFS4936"]
[null,null,null,null,null,null,null,null,null,null,null,"NTMFS4835N","NTTFS4932N"]
[null,null,null,null,null,null,null,null,null,null,null,"NTMFS4836N","NTD4904N"]
[null,null,null,null,null,null,null,null,null,null,null,"NTMFS4836N","NTMFS4825NFE"]
[null,null,null,null,null,null,null,null,null,null,null,"NTMFS4836N","NTMFS4833N"]
[null,null,null,null,null,null,null,null,null,null,null,"NTMFS4836N","NTMFS4834N"]
[null,null,null,null,null,null,null,null,null,null,null,"NTMFS4836N","NTMFS4835N"]
[null,null,null,null,null,null,null,null,null,null,null,"NTMFS4836N","NTMFS4845"]
[null,null,null,null,null,null,null,null,null,null,null,"NTMFS4836N","NTMFS4846"]
[null,null,null,null,null,null,null,null,null,null,null,"NTMFS4836N","NTMFS4852N"]
[null,null,null,null,null,null,null,null,null,null,null,"NTMFS4836N","NTMFS4897"]
[null,null,null,null,null,null,null,null,null,null,null,"NTMFS4836N","NTMFS4898N"]
[null,null,null,null,null,null,null,null,null,null,null,"NTMFS4836N","NTMFS4923NE"]
[null,null,null,null,null,null,null,null,null,null,null,"NTMFS4836N","NTMFS4933N"]
[null,null,null,null,null,null,null,null,null,null,null,"NTMFS4836N","NTMFS4934N"]
[null,null,null,null,null,null,null,null,null,null,null,"NTMFS4836N","NTMFS4935N"]
[null,null,null,null,null,null,null,null,null,null,null,"NTMFS4836N","NTMFS4936"]
[null,null,null,null,null,null,null,null,null,null,null,"NTMFS4836N","NTTFS4932N"]
[null,null,null,null,null,null,null,null,null,null,null,"NTMFS4837NH","NTD4904N"]
[null,null,null,null,null,null,null,null,null,null,null,"NTMFS4837NH","NTMFS4825NFE"]
[null,null,null,null,null,null,null,null,null,null,null,"NTMFS4837NH","NTMFS4833N"]
[null,null,null,null,null,null,null,null,null,null,null,"NTMFS4837NH","NTMFS4834N"]
[null,null,null,null,null,null,null,null,null,null,null,"NTMFS4837NH","NTMFS4835N"]
[null,null,null,null,null,null,null,null,null,null,null,"NTMFS4837NH","NTMFS4845"]
[null,null,null,null,null,null,null,null,null,null,null,"NTMFS4837NH","NTMFS4846"]
[null,null,null,null,null,null,null,null,null,null,null,"NTMFS4837NH","NTMFS4852N"]
[null,null,null,null,null,null,null,null,null,null,null,"NTMFS4837NH","NTMFS4897"]
[null,null,null,null,null,null,null,null,null,null,null,"NTMFS4837NH","NTMFS4898N"]
[null,null,null,null,null,null,null,null,null,null,null,"NTMFS4837NH","NTMFS4923NE"]
[null,null,null,null,null,null,null,null,null,null,null,"NTMFS4837NH","NTMFS4933N"]
[null,null,null,null,null,null,null,null,null,null,null,"NTMFS4837NH","NTMFS4934N"]
[null,null,null,null,null,null,null,null,null,null,null,"NTMFS4837NH","NTMFS4935N"]
[null,null,null,null,null,null,null,null,null,null,null,"NTMFS4837NH","NTMFS4936"]
[null,null,null,null,null,null,null,null,null,null,null,"NTMFS4837NH","NTTFS4932N"]
[null,null,null,null,null,null,null,null,null,null,null,"NTMFS4839NH","NTD4904N"]
[null,null,null,null,null,null,null,null,null,null,null,"NTMFS4839NH","NTMFS4825NFE"]
[null,null,null,null,null,null,null,null,null,null,null,"NTMFS4839NH","NTMFS4833N"]
[null,null,null,null,null,null,null,null,null,null,null,"NTMFS4839NH","NTMFS4834N"]
[null,null,null,null,null,null,null,null,null,null,null,"NTMFS4839NH","NTMFS4835N"]
[null,null,null,null,null,null,null,null,null,null,null,"NTMFS4839NH","NTMFS4845"]
[null,null,null,null,null,null,null,null,null,null,null,"NTMFS4839NH","NTMFS4846"]
[null,null,null,null,null,null,null,null,null,null,null,"NTMFS4839NH","NTMFS4852N"]
[null,null,null,null,null,null,null,null,null,null,null,"NTMFS4839NH","NTMFS4897"]
[null,null,null,null,null,null,null,null,null,null,null,"NTMFS4839NH","NTMFS4898N"]
[null,null,null,null,null,null,null,null,null,null,null,"NTMFS4839NH","NTMFS4923NE"]
[null,null,null,null,null,null,null,null,null,null,null,"NTMFS4839NH","NTMFS4933N"]
[null,null,null,null,null,null,null,null,null,null,null,"NTMFS4839NH","NTMFS4934N"]
[null,null,null,null,null,null,null,null,null,null,null,"NTMFS4839NH","NTMFS4935N"]
[null,null,null,null,null,null,null,null,null,null,null,"NTMFS4839NH","NTMFS4936"]
[null,null,null,null,null,null,null,null,null,null,null,"NTMFS4839NH","NTTFS4932N"]
[null,null,null,null,null,null,null,null,null,null,null,"NTMFS4841N","NTD4904N"]
[null,null,null,null,null,null,null,null,null,null,null,"NTMFS4841N","NTMFS4825NFE"]
[null,null,null,null,null,null,null,null,null,null,null,"NTMFS4841N","NTMFS4833N"]
[null,null,null,null,null,null,null,null,null,null,null,"NTMFS4841N","NTMFS4834N"]
[null,null,null,null,null,null,null,null,null,null,null,"NTMFS4841N","NTMFS4835N"]
[null,null,null,null,null,null,null,null,null,null,null,"NTMFS4841N","NTMFS4845"]
[null,null,null,null,null,null,null,null,null,null,null,"NTMFS4841N","NTMFS4846"]
[null,null,null,null,null,null,null,null,null,null,null,"NTMFS4841N","NTMFS4852N"]
[null,null,null,null,null,null,null,null,null,null,null,"NTMFS4841N","NTMFS4897"]
[null,null,null,null,null,null,null,null,null,null,null,"NTMFS4841N","NTMFS4898N"]
[null,null,null,null,null,null,null,null,null,null,null,"NTMFS4841N","NTMFS4923NE"]
[null,null,null,null,null,null,null,null,null,null,null,"NTMFS4841N","NTMFS4933N"]
[null,null,null,null,null,null,null,null,null,null,null,"NTMFS4841N","NTMFS4934N"]
[null,null,null,null,null,null,null,null,null,null,null,"NTMFS4841N","NTMFS4935N"]
[null,null,null,null,null,null,null,null,null,null,null,"NTMFS4841N","NTMFS4936"]
[null,null,null,null,null,null,null,null,null,null,null,"NTMFS4841N","NTTFS4932N"]
[null,null,null,null,null,null,null,null,null,null,null,"NTMFS4841NH","NTD4904N"]
[null,null,null,null,null,null,null,null,null,null,null,"NTMFS4841NH","NTMFS4825NFE"]
[null,null,null,null,null,null,null,null,null,null,null,"NTMFS4841NH","NTMFS4833N"]
[null,null,null,null,null,null,null,null,null,null,null,"NTMFS4841NH","NTMFS4834N"]
[null,null,null,null,null,null,null,null,null,null,null,"NTMFS4841NH","NTMFS4835N"]
[null,null,null,null,null,null,null,null,null,null,null,"NTMFS4841NH","NTMFS4845"]
[null,null,null,null,null,null,null,null,null,null,null,"NTMFS4841NH","NTMFS4846"]
[null,null,null,null,null,null,null,null,null,null,null,"NTMFS4841NH","NTMFS4852N"]
[null,null,null,null,null,null,null,null,null,null,null,"NTMFS4841NH","NTMFS4897"]
[null,null,null,null,null,null,null,null,null,null,null,"NTMFS4841NH","NTMFS4898N"]
[null,null,null,null,null,null,null,null,null,null,null,"NTMFS4841NH","NTMFS4923NE"]
[null,null,null,null,null,null,null,null,null,null,null,"NTMFS4841NH","NTMFS4933N"]
[null,null,null,null,null,null,null,null,null,null,null,"NTMFS4841NH","NTMFS4934N"]
[null,null,null,null,null,null,null,null,null,null,null,"NTMFS4841NH","NTMFS4935N"]
[null,null,null,null,null,null,null,null,null,null,null,"NTMFS4841NH","NTMFS4936"]
[null,null,null,null,null,null,null,null,null,null,null,"NTMFS4841NH","NTTFS4932N"]
[null,null,null,null,null,null,null,null,null,null,null,"NTMFS4845","NTD4804N"]
[null,null,null,null,null,null,null,null,null,null,null,"NTMFS4845","NTD4855N"]
[null,null,null,null,null,null,null,null,null,null,null,"NTMFS4845","NTD4904N"]
[null,null,null,null,null,null,null,null,null,null,null,"NTMFS4845","NTMFS4825NFE"]
[null,null,null,null,null,null,null,null,null,null,null,"NTMFS4845","NTMFS4833N"]
[null,null,null,null,null,null,null,null,null,null,null,"NTMFS4845","NTMFS4834N"]
[null,null,null,null,null,null,null,null,null,null,null,"NTMFS4845","NTMFS4835N"]
[null,null,null,null,null,null,null,null,null,null,null,"NTMFS4845","NTMFS4845"]
[null,null,null,null,null,null,null,null,null,null,null,"NTMFS4845","NTMFS4846"]
[null,null,null,null,null,null,null,null,null,null,null,"NTMFS4845","NTMFS4852N"]
[null,null,null,null,null,null,null,null,null,null,null,"NTMFS4845","NTMFS4897"]
[null,null,null,null,null,null,null,null,null,null,null,"NTMFS4845","NTMFS4898N"]
[null,null,null,null,null,null,null,null,null,null,null,"NTMFS4845","NTMFS4923NE"]
[null,null,null,null,null,null,null,null,null,null,null,"NTMFS4845","NTMFS4933N"]
[null,null,null,null,null,null,null,null,null,null,null,"NTMFS4845","NTMFS4934N"]
[null,null,null,null,null,null,null,null,null,null,null,"NTMFS4845","NTMFS4935N"]
[null,null,null,null,null,null,null,null,null,null,null,"NTMFS4845","NTMFS4936"]
[null,null,null,null,null,null,null,null,null,null,null,"NTMFS4845","NTTFS4932N"]
[null,null,null,null,null,null,null,null,null,null,null,"NTMFS4846","NTD4804N"]
[null,null,null,null,null,null,null,null,null,null,null,"NTMFS4846","NTD4855N"]
[null,null,null,null,null,null,null,null,null,null,null,"NTMFS4846","NTD4904N"]
[null,null,null,null,null,null,null,null,null,null,null,"NTMFS4846","NTMFS4825NFE"]
[null,null,null,null,null,null,null,null,null,null,null,"NTMFS4846","NTMFS4833N"]
[null,null,null,null,null,null,null,null,null,null,null,"NTMFS4846","NTMFS4834N"]
[null,null,null,null,null,null,null,null,null,null,null,"NTMFS4846","NTMFS4835N"]
[null,null,null,null,null,null,null,null,null,null,null,"NTMFS4846","NTMFS4845"]
[null,null,null,null,null,null,null,null,null,null,null,"NTMFS4846","NTMFS4846"]
[null,null,null,null,null,null,null,null,null,null,null,"NTMFS4846","NTMFS4852N"]
[null,null,null,null,null,null,null,null,null,null,null,"NTMFS4846","NTMFS4897"]
[null,null,null,null,null,null,null,null,null,null,null,"NTMFS4846","NTMFS4898N"]
[null,null,null,null,null,null,null,null,null,null,null,"NTMFS4846","NTMFS4923NE"]
[null,null,null,null,null,null,null,null,null,null,null,"NTMFS4846","NTMFS4933N"]
[null,null,null,null,null,null,null,null,null,null,null,"NTMFS4846","NTMFS4934N"]
[null,null,null,null,null,null,null,null,null,null,null,"NTMFS4846","NTMFS4935N"]
[null,null,null,null,null,null,null,null,null,null,null,"NTMFS4846","NTMFS4936"]
[null,null,null,null,null,null,null,null,null,null,null,"NTMFS4846","NTTFS4932N"]
[null,null,null,null,null,null,null,null,null,null,null,"NTMFS4847N","NTD4904N"]
[null,null,null,null,null,null,null,null,null,null,null,"NTMFS4847N","NTMFS4825NFE"]
[null,null,null,null,null,null,null,null,null,null,null,"NTMFS4847N","NTMFS4833N"]
[null,null,null,null,null,null,null,null,null,null,null,"NTMFS4847N","NTMFS4834N"]
[null,null,null,null,null,null,null,null,null,null,null,"NTMFS4847N","NTMFS4835N"]
[null,null,null,null,null,null,null,null,null,null,null,"NTMFS4847N","NTMFS4845"]
[null,null,null,null,null,null,null,null,null,null,null,"NTMFS4847N","NTMFS4846"]
[null,null,null,null,null,null,null,null,null,null,null,"NTMFS4847N","NTMFS4852N"]
[null,null,null,null,null,null,null,null,null,null,null,"NTMFS4847N","NTMFS4897"]
[null,null,null,null,null,null,null,null,null,null,null,"NTMFS4847N","NTMFS4898N"]
[null,null,null,null,null,null,null,null,null,null,null,"NTMFS4847N","NTMFS4923NE"]
[null,null,null,null,null,null,null,null,null,null,null,"NTMFS4847N","NTMFS4933N"]
[null,null,null,null,null,null,null,null,null,null,null,"NTMFS4847N","NTMFS4934N"]
[null,null,null,null,null,null,null,null,null,null,null,"NTMFS4847N","NTMFS4935N"]
[null,null,null,null,null,null,null,null,null,null,null,"NTMFS4847N","NTMFS4936"]
[null,null,null,null,null,null,null,null,null,null,null,"NTMFS4847N","NTTFS4932N"]
[null,null,null,null,null,null,null,null,null,null,null,"NTMFS4851","NTD4904N"]
[null,null,null,null,null,null,null,null,null,null,null,"NTMFS4851","NTMFS4825NFE"]
[null,null,null,null,null,null,null,null,null,null,null,"NTMFS4851","NTMFS4833N"]
[null,null,null,null,null,null,null,null,null,null,null,"NTMFS4851","NTMFS4834N"]
[null,null,null,null,null,null,null,null,null,null,null,"NTMFS4851","NTMFS4835N"]
[null,null,null,null,null,null,null,null,null,null,null,"NTMFS4851","NTMFS4845"]
[null,null,null,null,null,null,null,null,null,null,null,"NTMFS4851","NTMFS4846"]
[null,null,null,null,null,null,null,null,null,null,null,"NTMFS4851","NTMFS4852N"]
[null,null,null,null,null,null,null,null,null,null,null,"NTMFS4851","NTMFS4897"]
[null,null,null,null,null,null,null,null,null,null,null,"NTMFS4851","NTMFS4898N"]
[null,null,null,null,null,null,null,null,null,null,null,"NTMFS4851","NTMFS4923NE"]
[null,null,null,null,null,null,null,null,null,null,null,"NTMFS4851","NTMFS4933N"]
[null,null,null,null,null,null,null,null,null,null,null,"NTMFS4851","NTMFS4934N"]
[null,null,null,null,null,null,null,null,null,null,null,"NTMFS4851","NTMFS4935N"]
[null,null,null,null,null,null,null,null,null,null,null,"NTMFS4851","NTMFS4936"]
[null,null,null,null,null,null,null,null,null,null,null,"NTMFS4851","NTTFS4932N"]
[null,null,null,null,null,null,null,null,null,null,null,"NTMFS4852N","NTD4804N"]
[null,null,null,null,null,null,null,null,null,null,null,"NTMFS4852N","NTD4855N"]
[null,null,null,null,null,null,null,null,null,null,null,"NTMFS4852N","NTD4904N"]
[null,null,null,null,null,null,null,null,null,null,null,"NTMFS4852N","NTMFS4825NFE"]
[null,null,null,null,null,null,null,null,null,null,null,"NTMFS4852N","NTMFS4833N"]
[null,null,null,null,null,null,null,null,null,null,null,"NTMFS4852N","NTMFS4834N"]
[null,null,null,null,null,null,null,null,null,null,null,"NTMFS4852N","NTMFS4835N"]
[null,null,null,null,null,null,null,null,null,null,null,"NTMFS4852N","NTMFS4836N"]
[null,null,null,null,null,null,null,null,null,null,null,"NTMFS4852N","NTMFS4845"]
[null,null,null,null,null,null,null,null,null,null,null,"NTMFS4852N","NTMFS4846"]
[null,null,null,null,null,null,null,null,null,null,null,"NTMFS4852N","NTMFS4852N"]
[null,null,null,null,null,null,null,null,null,null,null,"NTMFS4852N","NTMFS4897"]
[null,null,null,null,null,null,null,null,null,null,null,"NTMFS4852N","NTMFS4898N"]
[null,null,null,null,null,null,null,null,null,null,null,"NTMFS4852N","NTMFS4923NE"]
[null,null,null,null,null,null,null,null,null,null,null,"NTMFS4852N","NTMFS4933N"]
[null,null,null,null,null,null,null,null,null,null,null,"NTMFS4852N","NTMFS4934N"]
[null,null,null,null,null,null,null,null,null,null,null,"NTMFS4852N","NTMFS4935N"]
[null,null,null,null,null,null,null,null,null,null,null,"NTMFS4852N","NTMFS4936"]
[null,null,null,null,null,null,null,null,null,null,null,"NTMFS4852N","NTTFS4932N"]
[null,null,null,null,null,null,null,null,null,null,null,"NTMFS4852N","NTTFS4937N"]
[null,null,null,null,null,null,null,null,null,null,null,"NTMFS4897","NTD4804N"]
[null,null,null,null,null,null,null,null,null,null,null,"NTMFS4897","NTD4855N"]
[null,null,null,null,null,null,null,null,null,null,null,"NTMFS4897","NTD4904N"]
[null,null,null,null,null,null,null,null,null,null,null,"NTMFS4897","NTMFS4825NFE"]
[null,null,null,null,null,null,null,null,null,null,null,"NTMFS4897","NTMFS4833N"]
[null,null,null,null,null,null,null,null,null,null,null,"NTMFS4897","NTMFS4834N"]
[null,null,null,null,null,null,null,null,null,null,null,"NTMFS4897","NTMFS4835N"]
[null,null,null,null,null,null,null,null,null,null,null,"NTMFS4897","NTMFS4836N"]
[null,null,null,null,null,null,null,null,null,null,null,"NTMFS4897","NTMFS4845"]
[null,null,null,null,null,null,null,null,null,null,null,"NTMFS4897","NTMFS4846"]
[null,null,null,null,null,null,null,null,null,null,null,"NTMFS4897","NTMFS4852N"]
[null,null,null,null,null,null,null,null,null,null,null,"NTMFS4897","NTMFS4897"]
[null,null,null,null,null,null,null,null,null,null,null,"NTMFS4897","NTMFS4898N"]
[null,null,null,null,null,null,null,null,null,null,null,"NTMFS4897","NTMFS4923NE"]
[null,null,null,null,null,null,null,null,null,null,null,"NTMFS4897","NTMFS4933N"]
[null,null,null,null,null,null,null,null,null,null,null,"NTMFS4897","NTMFS4934N"]
[null,null,null,null,null,null,null,null,null,null,null,"NTMFS4897","NTMFS4935N"]
[null,null,null,null,null,null,null,null,null,null,null,"NTMFS4897","NTMFS4936"]
[null,null,null,null,null,null,null,null,null,null,null,"NTMFS4897","NTTFS4932N"]
[null,null,null,null,null,null,null,null,null,null,null,"NTMFS4897","NTTFS4937N"]
[null,null,null,null,null,null,null,null,null,null,null,"NTMFS4898N","NTD4804N"]
[null,null,null,null,null,null,null,null,null,null,null,"NTMFS4898N","NTD4855N"]
[null,null,null,null,null,null,null,null,null,null,null,"NTMFS4898N","NTD4904N"]
[null,null,null,null,null,null,null,null,null,null,null,"NTMFS4898N","NTMFS4825NFE"]
[null,null,null,null,null,null,null,null,null,null,null,"NTMFS4898N","NTMFS4833N"]
[null,null,null,null,null,null,null,null,null,null,null,"NTMFS4898N","NTMFS4834N"]
[null,null,null,null,null,null,null,null,null,null,null,"NTMFS4898N","NTMFS4835N"]
[null,null,null,null,null,null,null,null,null,null,null,"NTMFS4898N","NTMFS4845"]
[null,null,null,null,null,null,null,null,null,null,null,"NTMFS4898N","NTMFS4846"]
[null,null,null,null,null,null,null,null,null,null,null,"NTMFS4898N","NTMFS4852N"]
[null,null,null,null,null,null,null,null,null,null,null,"NTMFS4898N","NTMFS4897"]
[null,null,null,null,null,null,null,null,null,null,null,"NTMFS4898N","NTMFS4898N"]
[null,null,null,null,null,null,null,null,null,null,null,"NTMFS4898N","NTMFS4923NE"]
[null,null,null,null,null,null,null,null,null,null,null,"NTMFS4898N","NTMFS4933N"]
[null,null,null,null,null,null,null,null,null,null,null,"NTMFS4898N","NTMFS4934N"]
[null,null,null,null,null,null,null,null,null,null,null,"NTMFS4898N","NTMFS4935N"]
[null,null,null,null,null,null,null,null,null,null,null,"NTMFS4898N","NTMFS4936"]
[null,null,null,null,null,null,null,null,null,null,null,"NTMFS4898N","NTTFS4932N"]
[null,null,null,null,null,null,null,null,null,null,null,"NTMFS4899N","NTD4904N"]
[null,null,null,null,null,null,null,null,null,null,null,"NTMFS4899N","NTMFS4825NFE"]
[null,null,null,null,null,null,null,null,null,null,null,"NTMFS4899N","NTMFS4833N"]
[null,null,null,null,null,null,null,null,null,null,null,"NTMFS4899N","NTMFS4834N"]
[null,null,null,null,null,null,null,null,null,null,null,"NTMFS4899N","NTMFS4835N"]
[null,null,null,null,null,null,null,null,null,null,null,"NTMFS4899N","NTMFS4845"]
[null,null,null,null,null,null,null,null,null,null,null,"NTMFS4899N","NTMFS4846"]
[null,null,null,null,null,null,null,null,null,null,null,"NTMFS4899N","NTMFS4852N"]
[null,null,null,null,null,null,null,null,null,null,null,"NTMFS4899N","NTMFS4897"]
[null,null,null,null,null,null,null,null,null,null,null,"NTMFS4899N","NTMFS4898N"]
[null,null,null,null,null,null,null,null,null,null,null,"NTMFS4899N","NTMFS4923NE"]
[null,null,null,null,null,null,null,null,null,null,null,"NTMFS4899N","NTMFS4933N"]
[null,null,null,null,null,null,null,null,null,null,null,"NTMFS4899N","NTMFS4934N"]
[null,null,null,null,null,null,null,null,null,null,null,"NTMFS4899N","NTMFS4935N"]
[null,null,null,null,null,null,null,null,null,null,null,"NTMFS4899N","NTMFS4936"]
[null,null,null,null,null,null,null,null,null,null,null,"NTMFS4899N","NTTFS4932N"]
[null,null,null,null,null,null,null,null,null,null,null,"NTMFS4921","NTD4904N"]
[null,null,null,null,null,null,null,null,null,null,null,"NTMFS4921","NTMFS4825NFE"]
[null,null,null,null,null,null,null,null,null,null,null,"NTMFS4921","NTMFS4833N"]
[null,null,null,null,null,null,null,null,null,null,null,"NTMFS4921","NTMFS4834N"]
[null,null,null,null,null,null,null,null,null,null,null,"NTMFS4921","NTMFS4835N"]
[null,null,null,null,null,null,null,null,null,null,null,"NTMFS4921","NTMFS4845"]
[null,null,null,null,null,null,null,null,null,null,null,"NTMFS4921","NTMFS4846"]
[null,null,null,null,null,null,null,null,null,null,null,"NTMFS4921","NTMFS4852N"]
[null,null,null,null,null,null,null,null,null,null,null,"NTMFS4921","NTMFS4897"]
[null,null,null,null,null,null,null,null,null,null,null,"NTMFS4921","NTMFS4898N"]
[null,null,null,null,null,null,null,null,null,null,null,"NTMFS4921","NTMFS4923NE"]
[null,null,null,null,null,null,null,null,null,null,null,"NTMFS4921","NTMFS4933N"]
[null,null,null,null,null,null,null,null,null,null,null,"NTMFS4921","NTMFS4934N"]
[null,null,null,null,null,null,null,null,null,null,null,"NTMFS4921","NTMFS4935N"]
[null,null,null,null,null,null,null,null,null,null,null,"NTMFS4921","NTMFS4936"]
[null,null,null,null,null,null,null,null,null,null,null,"NTMFS4921","NTTFS4932N"]
[null,null,null,null,null,null,null,null,null,null,null,"NTMFS4923NE","NTD4804N"]
[null,null,null,null,null,null,null,null,null,null,null,"NTMFS4923NE","NTD4855N"]
[null,null,null,null,null,null,null,null,null,null,null,"NTMFS4923NE","NTD4904N"]
[null,null,null,null,null,null,null,null,null,null,null,"NTMFS4923NE","NTMFS4825NFE"]
[null,null,null,null,null,null,null,null,null,null,null,"NTMFS4923NE","NTMFS4833N"]
[null,null,null,null,null,null,null,null,null,null,null,"NTMFS4923NE","NTMFS4834N"]
[null,null,null,null,null,null,null,null,null,null,null,"NTMFS4923NE","NTMFS4835N"]
[null,null,null,null,null,null,null,null,null,null,null,"NTMFS4923NE","NTMFS4845"]
[null,null,null,null,null,null,null,null,null,null,null,"NTMFS4923NE","NTMFS4846"]
[null,null,null,null,null,null,null,null,null,null,null,"NTMFS4923NE","NTMFS4852N"]
[null,null,null,null,null,null,null,null,null,null,null,"NTMFS4923NE","NTMFS4897"]
[null,null,null,null,null,null,null,null,null,null,null,"NTMFS4923NE","NTMFS4898N"]
[null,null,null,null,null,null,null,null,null,null,null,"NTMFS4923NE","NTMFS4923NE"]
[null,null,null,null,null,null,null,null,null,null,null,"NTMFS4923NE","NTMFS4933N"]
[null,null,null,null,null,null,null,null,null,null,null,"NTMFS4923NE","NTMFS4934N"]
[null,null,null,null,null,null,null,null,null,null,null,"NTMFS4923NE","NTMFS4935N"]
[null,null,null,null,null,null,null,null,null,null,null,"NTMFS4923NE","NTMFS4936"]
[null,null,null,null,null,null,null,null,null,null,null,"NTMFS4923NE","NTTFS4932N"]
[null,null,null,null,null,null,null,null,null,null,null,"NTMFS4925","NTD4904N"]
[null,null,null,null,null,null,null,null,null,null,null,"NTMFS4925","NTMFS4825NFE"]
[null,null,null,null,null,null,null,null,null,null,null,"NTMFS4925","NTMFS4833N"]
[null,null,null,null,null,null,null,null,null,null,null,"NTMFS4925","NTMFS4834N"]
[null,null,null,null,null,null,null,null,null,null,null,"NTMFS4925","NTMFS4835N"]
[null,null,null,null,null,null,null,null,null,null,null,"NTMFS4925","NTMFS4845"]
[null,null,null,null,null,null,null,null,null,null,null,"NTMFS4925","NTMFS4846"]
[null,null,null,null,null,null,null,null,null,null,null,"NTMFS4925","NTMFS4852N"]
[null,null,null,null,null,null,null,null,null,null,null,"NTMFS4925","NTMFS4897"]
[null,null,null,null,null,null,null,null,null,null,null,"NTMFS4925","NTMFS4898N"]
[null,null,null,null,null,null,null,null,null,null,null,"NTMFS4925","NTMFS4923NE"]
[null,null,null,null,null,null,null,null,null,null,null,"NTMFS4925","NTMFS4933N"]
[null,null,null,null,null,null,null,null,null,null,null,"NTMFS4925","NTMFS4934N"]
[null,null,null,null,null,null,null,null,null,null,null,"NTMFS4925","NTMFS4935N"]
[null,null,null,null,null,null,null,null,null,null,null,"NTMFS4925","NTMFS4936"]
[null,null,null,null,null,null,null,null,null,null,null,"NTMFS4925","NTTFS4932N"]
[null,null,null,null,null,null,null,null,null,null,null,"NTMFS4926","NTD4904N"]
[null,null,null,null,null,null,null,null,null,null,null,"NTMFS4926","NTMFS4825NFE"]
[null,null,null,null,null,null,null,null,null,null,null,"NTMFS4926","NTMFS4833N"]
[null,null,null,null,null,null,null,null,null,null,null,"NTMFS4926","NTMFS4834N"]
[null,null,null,null,null,null,null,null,null,null,null,"NTMFS4926","NTMFS4835N"]
[null,null,null,null,null,null,null,null,null,null,null,"NTMFS4926","NTMFS4845"]
[null,null,null,null,null,null,null,null,null,null,null,"NTMFS4926","NTMFS4846"]
[null,null,null,null,null,null,null,null,null,null,null,"NTMFS4926","NTMFS4852N"]
[null,null,null,null,null,null,null,null,null,null,null,"NTMFS4926","NTMFS4897"]
[null,null,null,null,null,null,null,null,null,null,null,"NTMFS4926","NTMFS4898N"]
[null,null,null,null,null,null,null,null,null,null,null,"NTMFS4926","NTMFS4923NE"]
[null,null,null,null,null,null,null,null,null,null,null,"NTMFS4926","NTMFS4933N"]
[null,null,null,null,null,null,null,null,null,null,null,"NTMFS4926","NTMFS4934N"]
[null,null,null,null,null,null,null,null,null,null,null,"NTMFS4926","NTMFS4935N"]
[null,null,null,null,null,null,null,null,null,null,null,"NTMFS4926","NTMFS4936"]
[null,null,null,null,null,null,null,null,null,null,null,"NTMFS4926","NTTFS4932N"]
[null,null,null,null,null,null,null,null,null,null,null,"NTMFS4927","NTD4904N"]
[null,null,null,null,null,null,null,null,null,null,null,"NTMFS4927","NTMFS4825NFE"]
[null,null,null,null,null,null,null,null,null,null,null,"NTMFS4927","NTMFS4833N"]
[null,null,null,null,null,null,null,null,null,null,null,"NTMFS4927","NTMFS4834N"]
[null,null,null,null,null,null,null,null,null,null,null,"NTMFS4927","NTMFS4835N"]
[null,null,null,null,null,null,null,null,null,null,null,"NTMFS4927","NTMFS4845"]
[null,null,null,null,null,null,null,null,null,null,null,"NTMFS4927","NTMFS4846"]
[null,null,null,null,null,null,null,null,null,null,null,"NTMFS4927","NTMFS4852N"]
[null,null,null,null,null,null,null,null,null,null,null,"NTMFS4927","NTMFS4897"]
[null,null,null,null,null,null,null,null,null,null,null,"NTMFS4927","NTMFS4898N"]
[null,null,null,null,null,null,null,null,null,null,null,"NTMFS4927","NTMFS4923NE"]
[null,null,null,null,null,null,null,null,null,null,null,"NTMFS4927","NTMFS4933N"]
[null,null,null,null,null,null,null,null,null,null,null,"NTMFS4927","NTMFS4934N"]
[null,null,null,null,null,null,null,null,null,null,null,"NTMFS4927","NTMFS4935N"]
[null,null,null,null,null,null,null,null,null,null,null,"NTMFS4927","NTMFS4936"]
[null,null,null,null,null,null,null,null,null,null,null,"NTMFS4927","NTTFS4932N"]
[null,null,null,null,null,null,null,null,null,null,null,"NTMFS4933N","NTD4804N"]
[null,null,null,null,null,null,null,null,null,null,null,"NTMFS4933N","NTD4855N"]
[null,null,null,null,null,null,null,null,null,null,null,"NTMFS4933N","NTD4904N"]
[null,null,null,null,null,null,null,null,null,null,null,"NTMFS4933N","NTMFS4825NFE"]
[null,null,null,null,null,null,null,null,null,null,null,"NTMFS4933N","NTMFS4833N"]
[null,null,null,null,null,null,null,null,null,null,null,"NTMFS4933N","NTMFS4834N"]
[null,null,null,null,null,null,null,null,null,null,null,"NTMFS4933N","NTMFS4835N"]
[null,null,null,null,null,null,null,null,null,null,null,"NTMFS4933N","NTMFS4836N"]
[null,null,null,null,null,null,null,null,null,null,null,"NTMFS4933N","NTMFS4845"]
[null,null,null,null,null,null,null,null,null,null,null,"NTMFS4933N","NTMFS4846"]
[null,null,null,null,null,null,null,null,null,null,null,"NTMFS4933N","NTMFS4852N"]
[null,null,null,null,null,null,null,null,null,null,null,"NTMFS4933N","NTMFS4897"]
[null,null,null,null,null,null,null,null,null,null,null,"NTMFS4933N","NTMFS4898N"]
[null,null,null,null,null,null,null,null,null,null,null,"NTMFS4933N","NTMFS4923NE"]
[null,null,null,null,null,null,null,null,null,null,null,"NTMFS4933N","NTMFS4933N"]
[null,null,null,null,null,null,null,null,null,null,null,"NTMFS4933N","NTMFS4934N"]
[null,null,null,null,null,null,null,null,null,null,null,"NTMFS4933N","NTMFS4935N"]
[null,null,null,null,null,null,null,null,null,null,null,"NTMFS4933N","NTMFS4936"]
[null,null,null,null,null,null,null,null,null,null,null,"NTMFS4933N","NTTFS4932N"]
[null,null,null,null,null,null,null,null,null,null,null,"NTMFS4933N","NTTFS4937N"]
[null,null,null,null,null,null,null,null,null,null,null,"NTMFS4934N","NTD4804N"]
[null,null,null,null,null,null,null,null,null,null,null,"NTMFS4934N","NTD4855N"]
[null,null,null,null,null,null,null,null,null,null,null,"NTMFS4934N","NTD4904N"]
[null,null,null,null,null,null,null,null,null,null,null,"NTMFS4934N","NTMFS4825NFE"]
[null,null,null,null,null,null,null,null,null,null,null,"NTMFS4934N","NTMFS4833N"]
[null,null,null,null,null,null,null,null,null,null,null,"NTMFS4934N","NTMFS4834N"]
[null,null,null,null,null,null,null,null,null,null,null,"NTMFS4934N","NTMFS4835N"]
[null,null,null,null,null,null,null,null,null,null,null,"NTMFS4934N","NTMFS4836N"]
[null,null,null,null,null,null,null,null,null,null,null,"NTMFS4934N","NTMFS4845"]
[null,null,null,null,null,null,null,null,null,null,null,"NTMFS4934N","NTMFS4846"]
[null,null,null,null,null,null,null,null,null,null,null,"NTMFS4934N","NTMFS4852N"]
[null,null,null,null,null,null,null,null,null,null,null,"NTMFS4934N","NTMFS4897"]
[null,null,null,null,null,null,null,null,null,null,null,"NTMFS4934N","NTMFS4898N"]
[null,null,null,null,null,null,null,null,null,null,null,"NTMFS4934N","NTMFS4923NE"]
[null,null,null,null,null,null,null,null,null,null,null,"NTMFS4934N","NTMFS4933N"]
[null,null,null,null,null,null,null,null,null,null,null,"NTMFS4934N","NTMFS4934N"]
[null,null,null,null,null,null,null,null,null,null,null,"NTMFS4934N","NTMFS4935N"]
[null,null,null,null,null,null,null,null,null,null,null,"NTMFS4934N","NTMFS4936"]
[null,null,null,null,null,null,null,null,null,null,null,"NTMFS4934N","NTTFS4932N"]
[null,null,null,null,null,null,null,null,null,null,null,"NTMFS4934N","NTTFS4937N"]
[null,null,null,null,null,null,null,null,null,null,null,"NTMFS4935N","NTD4804N"]
[null,null,null,null,null,null,null,null,null,null,null,"NTMFS4935N","NTD4855N"]
[null,null,null,null,null,null,null,null,null,null,null,"NTMFS4935N","NTD4904N"]
[null,null,null,null,null,null,null,null,null,null,null,"NTMFS4935N","NTMFS4825NFE"]
[null,null,null,null,null,null,null,null,null,null,null,"NTMFS4935N","NTMFS4833N"]
[null,null,null,null,null,null,null,null,null,null,null,"NTMFS4935N","NTMFS4834N"]
[null,null,null,null,null,null,null,null,null,null,null,"NTMFS4935N","NTMFS4835N"]
[null,null,null,null,null,null,null,null,null,null,null,"NTMFS4935N","NTMFS4845"]
[null,null,null,null,null,null,null,null,null,null,null,"NTMFS4935N","NTMFS4846"]
[null,null,null,null,null,null,null,null,null,null,null,"NTMFS4935N","NTMFS4852N"]
[null,null,null,null,null,null,null,null,null,null,null,"NTMFS4935N","NTMFS4897"]
[null,null,null,null,null,null,null,null,null,null,null,"NTMFS4935N","NTMFS4898N"]
[null,null,null,null,null,null,null,null,null,null,null,"NTMFS4935N","NTMFS4923NE"]
[null,null,null,null,null,null,null,null,null,null,null,"NTMFS4935N","NTMFS4933N"]
[null,null,null,null,null,null,null,null,null,null,null,"NTMFS4935N","NTMFS4934N"]
[null,null,null,null,null,null,null,null,null,null,null,"NTMFS4935N","NTMFS4935N"]
[null,null,null,null,null,null,null,null,null,null,null,"NTMFS4935N","NTMFS4936"]
[null,null,null,null,null,null,null,null,null,null,null,"NTMFS4935N","NTTFS4932N"]
[null,null,null,null,null,null,null,null,null,null,null,"NTMFS4936","NTD4804N"]
[null,null,null,null,null,null,null,null,null,null,null,"NTMFS4936","NTD4855N"]
[null,null,null,null,null,null,null,null,null,null,null,"NTMFS4936","NTD4904N"]
[null,null,null,null,null,null,null,null,null,null,null,"NTMFS4936","NTMFS4825NFE"]
[null,null,null,null,null,null,null,null,null,null,null,"NTMFS4936","NTMFS4833N"]
[null,null,null,null,null,null,null,null,null,null,null,"NTMFS4936","NTMFS4834N"]
[null,null,null,null,null,null,null,null,null,null,null,"NTMFS4936","NTMFS4835N"]
[null,null,null,null,null,null,null,null,null,null,null,"NTMFS4936","NTMFS4845"]
[null,null,null,null,null,null,null,null,null,null,null,"NTMFS4936","NTMFS4846"]
[null,null,null,null,null,null,null,null,null,null,null,"NTMFS4936","NTMFS4852N"]
[null,null,null,null,null,null,null,null,null,null,null,"NTMFS4936","NTMFS4897"]
[null,null,null,null,null,null,null,null,null,null,null,"NTMFS4936","NTMFS4898N"]
[null,null,null,null,null,null,null,null,null,null,null,"NTMFS4936","NTMFS4923NE"]
[null,null,null,null,null,null,null,null,null,null,null,"NTMFS4936","NTMFS4933N"]
[null,null,null,null,null,null,null,null,null,null,null,"NTMFS4936","NTMFS4934N"]
[null,null,null,null,null,null,null,null,null,null,null,"NTMFS4936","NTMFS4935N"]
[null,null,null,null,null,null,null,null,null,null,null,"NTMFS4936","NTMFS4936"]
[null,null,null,null,null,null,null,null,null,null,null,"NTMFS4936","NTTFS4932N"]
[null,null,null,null,null,null,null,null,null,null,null,"NTMFS4937N","NTD4904N"]
[null,null,null,null,null,null,null,null,null,null,null,"NTMFS4937N","NTMFS4825NFE"]
[null,null,null,null,null,null,null,null,null,null,null,"NTMFS4937N","NTMFS4833N"]
[null,null,null,null,null,null,null,null,null,null,null,"NTMFS4937N","NTMFS4834N"]
[null,null,null,null,null,null,null,null,null,null,null,"NTMFS4937N","NTMFS4835N"]
[null,null,null,null,null,null,null,null,null,null,null,"NTMFS4937N","NTMFS4845"]
[null,null,null,null,null,null,null,null,null,null,null,"NTMFS4937N","NTMFS4846"]
[null,null,null,null,null,null,null,null,null,null,null,"NTMFS4937N","NTMFS4852N"]
[null,null,null,null,null,null,null,null,null,null,null,"NTMFS4937N","NTMFS4897"]
[null,null,null,null,null,null,null,null,null,null,null,"NTMFS4937N","NTMFS4898N"]
[null,null,null,null,null,null,null,null,null,null,null,"NTMFS4937N","NTMFS4923NE"]
[null,null,null,null,null,null,null,null,null,null,null,"NTMFS4937N","NTMFS4933N"]
[null,null,null,null,null,null,null,null,null,null,null,"NTMFS4937N","NTMFS4934N"]
[null,null,null,null,null,null,null,null,null,null,null,"NTMFS4937N","NTMFS4935N"]
[null,null,null,null,null,null,null,null,null,null,null,"NTMFS4937N","NTMFS4936"]
[null,null,null,null,null,null,null,null,null,null,null,"NTMFS4937N","NTTFS4932N"]
[null,null,null,null,null,null,null,null,null,null,null,"NTMFS4939N","NTD4904N"]
[null,null,null,null,null,null,null,null,null,null,null,"NTMFS4939N","NTMFS4825NFE"]
[null,null,null,null,null,null,null,null,null,null,null,"NTMFS4939N","NTMFS4833N"]
[null,null,null,null,null,null,null,null,null,null,null,"NTMFS4939N","NTMFS4834N"]
[null,null,null,null,null,null,null,null,null,null,null,"NTMFS4939N","NTMFS4835N"]
[null,null,null,null,null,null,null,null,null,null,null,"NTMFS4939N","NTMFS4845"]
[null,null,null,null,null,null,null,null,null,null,null,"NTMFS4939N","NTMFS4846"]
[null,null,null,null,null,null,null,null,null,null,null,"NTMFS4939N","NTMFS4852N"]
[null,null,null,null,null,null,null,null,null,null,null,"NTMFS4939N","NTMFS4897"]
[null,null,null,null,null,null,null,null,null,null,null,"NTMFS4939N","NTMFS4898N"]
[null,null,null,null,null,null,null,null,null,null,null,"NTMFS4939N","NTMFS4923NE"]
[null,null,null,null,null,null,null,null,null,null,null,"NTMFS4939N","NTMFS4933N"]
[null,null,null,null,null,null,null,null,null,null,null,"NTMFS4939N","NTMFS4934N"]
[null,null,null,null,null,null,null,null,null,null,null,"NTMFS4939N","NTMFS4935N"]
[null,null,null,null,null,null,null,null,null,null,null,"NTMFS4939N","NTMFS4936"]
[null,null,null,null,null,null,null,null,null,null,null,"NTMFS4939N","NTTFS4932N"]
[null,null,null,null,null,null,null,null,null,null,null,"NTMFS4941N","NTD4904N"]
[null,null,null,null,null,null,null,null,null,null,null,"NTMFS4941N","NTMFS4825NFE"]
[null,null,null,null,null,null,null,null,null,null,null,"NTMFS4941N","NTMFS4833N"]
[null,null,null,null,null,null,null,null,null,null,null,"NTMFS4941N","NTMFS4834N"]
[null,null,null,null,null,null,null,null,null,null,null,"NTMFS4941N","NTMFS4835N"]
[null,null,null,null,null,null,null,null,null,null,null,"NTMFS4941N","NTMFS4845"]
[null,null,null,null,null,null,null,null,null,null,null,"NTMFS4941N","NTMFS4846"]
[null,null,null,null,null,null,null,null,null,null,null,"NTMFS4941N","NTMFS4852N"]
[null,null,null,null,null,null,null,null,null,null,null,"NTMFS4941N","NTMFS4897"]
[null,null,null,null,null,null,null,null,null,null,null,"NTMFS4941N","NTMFS4898N"]
[null,null,null,null,null,null,null,null,null,null,null,"NTMFS4941N","NTMFS4923NE"]
[null,null,null,null,null,null,null,null,null,null,null,"NTMFS4941N","NTMFS4933N"]
[null,null,null,null,null,null,null,null,null,null,null,"NTMFS4941N","NTMFS4934N"]
[null,null,null,null,null,null,null,null,null,null,null,"NTMFS4941N","NTMFS4935N"]
[null,null,null,null,null,null,null,null,null,null,null,"NTMFS4941N","NTMFS4936"]
[null,null,null,null,null,null,null,null,null,null,null,"NTMFS4941N","NTTFS4932N"]
[null,null,null,null,null,null,null,null,null,null,null,"NTMFS4943N","NTD4904N"]
[null,null,null,null,null,null,null,null,null,null,null,"NTMFS4943N","NTMFS4825NFE"]
[null,null,null,null,null,null,null,null,null,null,null,"NTMFS4943N","NTMFS4833N"]
[null,null,null,null,null,null,null,null,null,null,null,"NTMFS4943N","NTMFS4834N"]
[null,null,null,null,null,null,null,null,null,null,null,"NTMFS4943N","NTMFS4835N"]
[null,null,null,null,null,null,null,null,null,null,null,"NTMFS4943N","NTMFS4845"]
[null,null,null,null,null,null,null,null,null,null,null,"NTMFS4943N","NTMFS4846"]
[null,null,null,null,null,null,null,null,null,null,null,"NTMFS4943N","NTMFS4852N"]
[null,null,null,null,null,null,null,null,null,null,null,"NTMFS4943N","NTMFS4897"]
[null,null,null,null,null,null,null,null,null,null,null,"NTMFS4943N","NTMFS4898N"]
[null,null,null,null,null,null,null,null,null,null,null,"NTMFS4943N","NTMFS4923NE"]
[null,null,null,null,null,null,null,null,null,null,null,"NTMFS4943N","NTMFS4933N"]
[null,null,null,null,null,null,null,null,null,null,null,"NTMFS4943N","NTMFS4934N"]
[null,null,null,null,null,null,null,null,null,null,null,"NTMFS4943N","NTMFS4935N"]
[null,null,null,null,null,null,null,null,null,null,null,"NTMFS4943N","NTMFS4936"]
[null,null,null,null,null,null,null,null,null,null,null,"NTMFS4943N","NTTFS4932N"]
[null,null,null,null,null,null,null,null,null,null,null,"NTTFS4821N","NTD4904N"]
[null,null,null,null,null,null,null,null,null,null,null,"NTTFS4821N","NTMFS4825NFE"]
[null,null,null,null,null,null,null,null,null,null,null,"NTTFS4821N","NTMFS4833N"]
[null,null,null,null,null,null,null,null,null,null,null,"NTTFS4821N","NTMFS4834N"]
[null,null,null,null,null,null,null,null,null,null,null,"NTTFS4821N","NTMFS4835N"]
[null,null,null,null,null,null,null,null,null,null,null,"NTTFS4821N","NTMFS4845"]
[null,null,null,null,null,null,null,null,null,null,null,"NTTFS4821N","NTMFS4846"]
[null,null,null,null,null,null,null,null,null,null,null,"NTTFS4821N","NTMFS4852N"]
[null,null,null,null,null,null,null,null,null,null,null,"NTTFS4821N","NTMFS4897"]
[null,null,null,null,null,null,null,null,null,null,null,"NTTFS4821N","NTMFS4898N"]
[null,null,null,null,null,null,null,null,null,null,null,"NTTFS4821N","NTMFS4923NE"]
[null,null,null,null,null,null,null,null,null,null,null,"NTTFS4821N","NTMFS4933N"]
[null,null,null,null,null,null,null,null,null,null,null,"NTTFS4821N","NTMFS4934N"]
[null,null,null,null,null,null,null,null,null,null,null,"NTTFS4821N","NTMFS4935N"]
[null,null,null,null,null,null,null,null,null,null,null,"NTTFS4821N","NTMFS4936"]
[null,null,null,null,null,null,null,null,null,null,null,"NTTFS4821N","NTTFS4932N"]
[null,null,null,null,null,null,null,null,null,null,null,"NTTFS4823N","NTMFS4825NFE"]
[null,null,null,null,null,null,null,null,null,null,null,"NTTFS4823N","NTMFS4833N"]
[null,null,null,null,null,null,null,null,null,null,null,"NTTFS4823N","NTMFS4834N"]
[null,null,null,null,null,null,null,null,null,null,null,"NTTFS4823N","NTMFS4845"]
[null,null,null,null,null,null,null,null,null,null,null,"NTTFS4823N","NTMFS4852N"]
[null,null,null,null,null,null,null,null,null,null,null,"NTTFS4823N","NTMFS4897"]
[null,null,null,null,null,null,null,null,null,null,null,"NTTFS4823N","NTMFS4898N"]
[null,null,null,null,null,null,null,null,null,null,null,"NTTFS4823N","NTMFS4933N"]
[null,null,null,null,null,null,null,null,null,null,null,"NTTFS4823N","NTMFS4934N"]
[null,null,null,null,null,null,null,null,null,null,null,"NTTFS4823N","NTTFS4932N"]
[null,null,null,null,null,null,null,null,null,null,null,"NTTFS4824N","NTD4904N"]
[null,null,null,null,null,null,null,null,null,null,null,"NTTFS4824N","NTMFS4825NFE"]
[null,null,null,null,null,null,null,null,null,null,null,"NTTFS4824N","NTMFS4833N"]
[null,null,null,null,null,null,null,null,null,null,null,"NTTFS4824N","NTMFS4834N"]
[null,null,null,null,null,null,null,null,null,null,null,"NTTFS4824N","NTMFS4835N"]
[null,null,null,null,null,null,null,null,null,null,null,"NTTFS4824N","NTMFS4845"]
[null,null,null,null,null,null,null,null,null,null,null,"NTTFS4824N","NTMFS4846"]
[null,null,null,null,null,null,null,null,null,null,null,"NTTFS4824N","NTMFS4852N"]
[null,null,null,null,null,null,null,null,null,null,null,"NTTFS4824N","NTMFS4897"]
[null,null,null,null,null,null,null,null,null,null,null,"NTTFS4824N","NTMFS4898N"]
[null,null,null,null,null,null,null,null,null,null,null,"NTTFS4824N","NTMFS4923NE"]
[null,null,null,null,null,null,null,null,null,null,null,"NTTFS4824N","NTMFS4933N"]
[null,null,null,null,null,null,null,null,null,null,null,"NTTFS4824N","NTMFS4934N"]
[null,null,null,null,null,null,null,null,null,null,null,"NTTFS4824N","NTMFS4935N"]
[null,null,null,null,null,null,null,null,null,null,null,"NTTFS4824N","NTMFS4936"]
[null,null,null,null,null,null,null,null,null,null,null,"NTTFS4824N","NTTFS4932N"]
[null,null,null,null,null,null,null,null,null,null,null,"NTTFS4928N","NTD4904N"]
[null,null,null,null,null,null,null,null,null,null,null,"NTTFS4928N","NTMFS4825NFE"]
[null,null,null,null,null,null,null,null,null,null,null,"NTTFS4928N","NTMFS4833N"]
[null,null,null,null,null,null,null,null,null,null,null,"NTTFS4928N","NTMFS4834N"]
[null,null,null,null,null,null,null,null,null,null,null,"NTTFS4928N","NTMFS4835N"]
[null,null,null,null,null,null,null,null,null,null,null,"NTTFS4928N","NTMFS4845"]
[null,null,null,null,null,null,null,null,null,null,null,"NTTFS4928N","NTMFS4846"]
[null,null,null,null,null,null,null,null,null,null,null,"NTTFS4928N","NTMFS4852N"]
[null,null,null,null,null,null,null,null,null,null,null,"NTTFS4928N","NTMFS4897"]
[null,null,null,null,null,null,null,null,null,null,null,"NTTFS4928N","NTMFS4898N"]
[null,null,null,null,null,null,null,null,null,null,null,"NTTFS4928N","NTMFS4923NE"]
[null,null,null,null,null,null,null,null,null,null,null,"NTTFS4928N","NTMFS4933N"]
[null,null,null,null,null,null,null,null,null,null,null,"NTTFS4928N","NTMFS4934N"]
[null,null,null,null,null,null,null,null,null,null,null,"NTTFS4928N","NTMFS4935N"]
[null,null,null,null,null,null,null,null,null,null,null,"NTTFS4928N","NTMFS4936"]
[null,null,null,null,null,null,null,null,null,null,null,"NTTFS4928N","NTTFS4932N"]
[null,null,null,null,null,null,null,null,null,null,null,"NTTFS4929N","NTMFS4825NFE"]
[null,null,null,null,null,null,null,null,null,null,null,"NTTFS4929N","NTMFS4833N"]
[null,null,null,null,null,null,null,null,null,null,null,"NTTFS4929N","NTMFS4834N"]
[null,null,null,null,null,null,null,null,null,null,null,"NTTFS4929N","NTMFS4845"]
[null,null,null,null,null,null,null,null,null,null,null,"NTTFS4929N","NTMFS4852N"]
[null,null,null,null,null,null,null,null,null,null,null,"NTTFS4929N","NTMFS4897"]
[null,null,null,null,null,null,null,null,null,null,null,"NTTFS4929N","NTMFS4898N"]
[null,null,null,null,null,null,null,null,null,null,null,"NTTFS4929N","NTMFS4933N"]
[null,null,null,null,null,null,null,null,null,null,null,"NTTFS4929N","NTMFS4934N"]
[null,null,null,null,null,null,null,null,null,null,null,"NTTFS4929N","NTTFS4932N"]
[null,null,null,null,null,null,null,null,null,null,null,"NTTFS4932N","NTD4804N"]
[null,null,null,null,null,null,null,null,null,null,null,"NTTFS4932N","NTD4855N"]
[null,null,null,null,null,null,null,null,null,null,null,"NTTFS4932N","NTD4904N"]
[null,null,null,null,null,null,null,null,null,null,null,"NTTFS4932N","NTMFS4825NFE"]
[null,null,null,null,null,null,null,null,null,null,null,"NTTFS4932N","NTMFS4833N"]
[null,null,null,null,null,null,null,null,null,null,null,"NTTFS4932N","NTMFS4834N"]
[null,null,null,null,null,null,null,null,null,null,null,"NTTFS4932N","NTMFS4835N"]
[null,null,null,null,null,null,null,null,null,null,null,"NTTFS4932N","NTMFS4845"]
[null,null,null,null,null,null,null,null,null,null,null,"NTTFS4932N","NTMFS4846"]
[null,null,null,null,null,null,null,null,null,null,null,"NTTFS4932N","NTMFS4852N"]
[null,null,null,null,null,null,null,null,null,null,null,"NTTFS4932N","NTMFS4897"]
[null,null,null,null,null,null,null,null,null,null,null,"NTTFS4932N","NTMFS4898N"]
[null,null,null,null,null,null,null,null,null,null,null,"NTTFS4932N","NTMFS4923NE"]
[null,null,null,null,null,null,null,null,null,null,null,"NTTFS4932N","NTMFS4933N"]
[null,null,null,null,null,null,null,null,null,null,null,"NTTFS4932N","NTMFS4934N"]
[null,null,null,null,null,null,null,null,null,null,null,"NTTFS4932N","NTMFS4935N"]
[null,null,null,null,null,null,null,null,null,null,null,"NTTFS4932N","NTMFS4936"]
[null,null,null,null,null,null,null,null,null,null,null,"NTTFS4932N","NTTFS4932N"]
[null,null,null,null,null,null,null,null,null,null,null,"NTTFS4937N","NTD4904N"]
[null,null,null,null,null,null,null,null,null,null,null,"NTTFS4937N","NTMFS4825NFE"]
[null,null,null,null,null,null,null,null,null,null,null,"NTTFS4937N","NTMFS4833N"]
[null,null,null,null,null,null,null,null,null,null,null,"NTTFS4937N","NTMFS4834N"]
[null,null,null,null,null,null,null,null,null,null,null,"NTTFS4937N","NTMFS4835N"]
[null,null,null,null,null,null,null,null,null,null,null,"NTTFS4937N","NTMFS4845"]
[null,null,null,null,null,null,null,null,null,null,null,"NTTFS4937N","NTMFS4846"]
[null,null,null,null,null,null,null,null,null,null,null,"NTTFS4937N","NTMFS4852N"]
[null,null,null,null,null,null,null,null,null,null,null,"NTTFS4937N","NTMFS4897"]
[null,null,null,null,null,null,null,null,null,null,null,"NTTFS4937N","NTMFS4898N"]
[null,null,null,null,null,null,null,null,null,null,null,"NTTFS4937N","NTMFS4923NE"]
[null,null,null,null,null,null,null,null,null,null,null,"NTTFS4937N","NTMFS4933N"]
[null,null,null,null,null,null,null,null,null,null,null,"NTTFS4937N","NTMFS4934N"]
[null,null,null,null,null,null,null,null,null,null,null,"NTTFS4937N","NTMFS4935N"]
[null,null,null,null,null,null,null,null,null,null,null,"NTTFS4937N","NTMFS4936"]
[null,null,null,null,null,null,null,null,null,null,null,"NTTFS4937N","NTTFS4932N"]
[null,null,null,null,null,null,null,null,null,null,null,"NTTFS4939N","NTD4904N"]
[null,null,null,null,null,null,null,null,null,null,null,"NTTFS4939N","NTMFS4825NFE"]
[null,null,null,null,null,null,null,null,null,null,null,"NTTFS4939N","NTMFS4833N"]
[null,null,null,null,null,null,null,null,null,null,null,"NTTFS4939N","NTMFS4834N"]
[null,null,null,null,null,null,null,null,null,null,null,"NTTFS4939N","NTMFS4835N"]
[null,null,null,null,null,null,null,null,null,null,null,"NTTFS4939N","NTMFS4845"]
[null,null,null,null,null,null,null,null,null,null,null,"NTTFS4939N","NTMFS4846"]
[null,null,null,null,null,null,null,null,null,null,null,"NTTFS4939N","NTMFS4852N"]
[null,null,null,null,null,null,null,null,null,null,null,"NTTFS4939N","NTMFS4897"]
[null,null,null,null,null,null,null,null,null,null,null,"NTTFS4939N","NTMFS4898N"]
[null,null,null,null,null,null,null,null,null,null,null,"NTTFS4939N","NTMFS4923NE"]
[null,null,null,null,null,null,null,null,null,null,null,"NTTFS4939N","NTMFS4933N"]
[null,null,null,null,null,null,null,null,null,null,null,"NTTFS4939N","NTMFS4934N"]

{"sheet":"Results","index":4,"n_rows":37,"n_cols":11,"rows_kept":37,"cut":false,"hidden":true,"merged":[[0,0,0,2],[0,3,0,7]]}
["Simulation Summary",null,null,{"$f":"Circuit1!$A$1","v":"NTD4804Nx1+NTMFS4897NFx1@300kHz; Vin=15V;Vout=1.2V;Driver=NCP5359A(5V)"}]
["Iout (A)","Power Loss in Each Highside MOSFET","Power Loss in Each Lowside MOSFET","PCB&Inductor Winding Loss (W)","Driver Loss (W)","Overall Efficiency","Temperature at HS MOSFET","Temperature at LS MOSFET"]
[{"$f":"Circuit1Details!A2","v":0.6},{"$f":"Circuit1Details!W2/MAX(Circuit1!$F$29,1)","v":0.14952346991805671},{"$f":"Circuit1Details!X2/MAX(Circuit1!$J$26,1)","v":5.1949936355555571E-3},{"$f":"Circuit1Details!Y2","v":3.9364000000000003E-2},{"$f":"Circuit1Details!Z2","v":6.3363636363636358E-2},{"$f":"Circuit1Details!V2","v":0.59545258727509998},{"$f":"Circuit1Details!AA2","v":8.9714081950834021},{"$f":"Circuit1Details!AD2","v":0.23741120914488897}]
[{"$f":"Circuit1Details!A3","v":1.2},{"$f":"Circuit1Details!W3/MAX(Circuit1!$F$29,1)","v":0.17010447273921911},{"$f":"Circuit1Details!X3/MAX(Circuit1!$J$26,1)","v":9.3876830545206943E-3},{"$f":"Circuit1Details!Y3","v":4.2067044174880386E-2},{"$f":"Circuit1Details!Z3","v":6.3363636363636358E-2},{"$f":"Circuit1Details!V3","v":0.73595513261865186},{"$f":"Circuit1Details!AA3","v":10.206268364353146},{"$f":"Circuit1Details!AD3","v":0.42901711559159578}]
[{"$f":"Circuit1Details!A4","v":1.7999999999999998},{"$f":"Circuit1Details!W4/MAX(Circuit1!$F$29,1)","v":0.18974415544127582},{"$f":"Circuit1Details!X4/MAX(Circuit1!$J$26,1)","v":1.518000437383683E-2},{"$f":"Circuit1Details!Y4","v":4.6573344152507787E-2},{"$f":"Circuit1Details!Z4","v":6.3363636363636358E-2},{"$f":"Circuit1Details!V4","v":0.79805531000829089},{"$f":"Circuit1Details!AA4","v":11.384649326476548},{"$f":"Circuit1Details!AD4","v":0.69372619988434314}]
[{"$f":"Circuit1Details!A5","v":2.4},{"$f":"Circuit1Details!W5/MAX(Circuit1!$F$29,1)","v":0.22324221756121509},{"$f":"Circuit1Details!X5/MAX(Circuit1!$J$26,1)","v":2.2223714463110219E-2},{"$f":"Circuit1Details!Y5","v":5.288778378403311E-2},{"$f":"Circuit1Details!Z5","v":6.3363636363636358E-2},{"$f":"Circuit1Details!V5","v":0.82915026688045201},{"$f":"Circuit1Details!AA5","v":13.394533053672905},{"$f":"Circuit1Details!AD5","v":1.015623750964137}]
[{"$f":"Circuit1Details!A6","v":3},{"$f":"Circuit1Details!W6/MAX(Circuit1!$F$29,1)","v":0.25780512097991737},{"$f":"Circuit1Details!X6/MAX(Circuit1!$J$26,1)","v":3.0555221767720048E-2},{"$f":"Circuit1Details!Y6","v":6.1015087987257181E-2},{"$f":"Circuit1Details!Z6","v":6.3363636363636358E-2},{"$f":"Circuit1Details!V6","v":0.84816498055641998},{"$f":"Circuit1Details!AA6","v":15.468307258795042},{"$f":"Circuit1Details!AD6","v":1.3963736347848064}]
[{"$f":"Circuit1Details!A7","v":3.5999999999999996},{"$f":"Circuit1Details!W7/MAX(Circuit1!$F$29,1)","v":0.29243540524620365},{"$f":"Circuit1Details!X7/MAX(Circuit1!$J$26,1)","v":4.0196328820955952E-2},{"$f":"Circuit1Details!Y7","v":7.0961457039560152E-2},{"$f":"Circuit1Details!Z7","v":6.3363636363636358E-2},{"$f":"Circuit1Details!V7","v":0.86078496655084591},{"$f":"Circuit1Details!AA7","v":17.546124314772218},{"$f":"Circuit1Details!AD7","v":1.8369722271176872}]
[{"$f":"Circuit1Details!A8","v":4.2},{"$f":"Circuit1Details!W8/MAX(Circuit1!$F$29,1)","v":0.32715138034577523},{"$f":"Circuit1Details!X8/MAX(Circuit1!$J$26,1)","v":5.1160703641287136E-2},{"$f":"Circuit1Details!Y8","v":8.2734300786946144E-2},{"$f":"Circuit1Details!Z8","v":6.3363636363636358E-2},{"$f":"Circuit1Details!V8","v":0.86954598371888558},{"$f":"Circuit1Details!AA8","v":19.629082820746515},{"$f":"Circuit1Details!AD8","v":2.3380441564068222}]
[{"$f":"Circuit1Details!A9","v":4.8},{"$f":"Circuit1Details!W9/MAX(Circuit1!$F$29,1)","v":0.36197544923474256},{"$f":"Circuit1Details!X9/MAX(Circuit1!$J$26,1)","v":6.3462042807234734E-2},{"$f":"Circuit1Details!Y9","v":9.6342199210390153E-2},{"$f":"Circuit1Details!Z9","v":6.3363636363636358E-2},{"$f":"Circuit1Details!V9","v":0.87579767214765913},{"$f":"Circuit1Details!AA9","v":21.718526954084552},{"$f":"Circuit1Details!AD9","v":2.9002153562906274}]
[{"$f":"Circuit1Details!A10","v":5.3999999999999995},{"$f":"Circuit1Details!W10/MAX(Circuit1!$F$29,1)","v":0.39693041642215987},{"$f":"Circuit1Details!X10/MAX(Circuit1!$J$26,1)","v":7.7115351002689014E-2},{"$f":"Circuit1Details!Y10","v":0.11179488528009014},{"$f":"Circuit1Details!Z10","v":6.3363636363636358E-2},{"$f":"Circuit1Details!V10","v":0.88032444651184671},{"$f":"Circuit1Details!AA10","v":23.815824985329591},{"$f":"Circuit1Details!AD10","v":3.5241715408228882}]
[{"$f":"Circuit1Details!A11","v":6},{"$f":"Circuit1Details!W11/MAX(Circuit1!$F$29,1)","v":0.43203890637999637},{"$f":"Circuit1Details!X11/MAX(Circuit1!$J$26,1)","v":9.213716707260991E-2},{"$f":"Circuit1Details!Y11","v":0.12910321849836054},{"$f":"Circuit1Details!Z11","v":6.3363636363636358E-2},{"$f":"Circuit1Details!V11","v":0.88361326930473627},{"$f":"Circuit1Details!AA11","v":25.922334382799782},{"$f":"Circuit1Details!AD11","v":4.2106685352182733}]
[{"$f":"Circuit1Details!A12","v":6.6},{"$f":"Circuit1Details!W12/MAX(Circuit1!$F$29,1)","v":0.46732316301065518},{"$f":"Circuit1Details!X12/MAX(Circuit1!$J$26,1)","v":0.10854561971386428},{"$f":"Circuit1Details!Y12","v":0.14827915361572769},{"$f":"Circuit1Details!Z12","v":6.3363636363636358E-2},{"$f":"Circuit1Details!V12","v":0.88598237403994762},{"$f":"Circuit1Details!AA12","v":28.039389780639311},{"$f":"Circuit1Details!AD12","v":4.9605348209235984}]
[{"$f":"Circuit1Details!A13","v":7.1999999999999993},{"$f":"Circuit1Details!W13/MAX(Circuit1!$F$29,1)","v":0.50280498370122828},{"$f":"Circuit1Details!X13/MAX(Circuit1!$J$26,1)","v":0.126360418475398},{"$f":"Circuit1Details!Y13","v":0.16933570566839917},{"$f":"Circuit1Details!Z13","v":6.3363636363636358E-2},{"$f":"Circuit1Details!V13","v":0.88764847083156928},{"$f":"Circuit1Details!AA13","v":30.168299022073697},{"$f":"Circuit1Details!AD13","v":5.774671124325689}]
[{"$f":"Circuit1Details!A14","v":7.8},{"$f":"Circuit1Details!W14/MAX(Circuit1!$F$29,1)","v":0.53850570723803015},{"$f":"Circuit1Details!X14/MAX(Circuit1!$J$26,1)","v":0.1456028142226993},{"$f":"Circuit1Details!Y14","v":0.1922869111967016},{"$f":"Circuit1Details!Z14","v":6.3363636363636358E-2},{"$f":"Circuit1Details!V14","v":0.8887642044001095},{"$f":"Circuit1Details!AA14","v":32.310342434281807},{"$f":"Circuit1Details!AD14","v":6.6540486099773588}]
[{"$f":"Circuit1Details!A15","v":8.4},{"$f":"Circuit1Details!W15/MAX(Circuit1!$F$29,1)","v":0.57444622474136631},{"$f":"Circuit1Details!X15/MAX(Circuit1!$J$26,1)","v":0.16629554201092481},{"$f":"Circuit1Details!Y15","v":0.21714778546458263},{"$f":"Circuit1Details!Z15","v":6.3363636363636358E-2},{"$f":"Circuit1Details!V15","v":0.88944017156247235},{"$f":"Circuit1Details!AA15","v":34.466773484481976},{"$f":"Circuit1Details!AD15","v":7.5997062698992641}]
[{"$f":"Circuit1Details!A16","v":9},{"$f":"Circuit1Details!W16/MAX(Circuit1!$F$29,1)","v":0.61064700056150534},{"$f":"Circuit1Details!X16/MAX(Circuit1!$J$26,1)","v":0.1884627517704616},{"$f":"Circuit1Details!Y16","v":0.24393427550598068},{"$f":"Circuit1Details!Z16","v":6.3363636363636358E-2},{"$f":"Circuit1Details!V16","v":0.88975844681503657},{"$f":"Circuit1Details!AA16","v":36.638820033690322},{"$f":"Circuit1Details!AD16","v":8.612747755910096}]
[{"$f":"Circuit1Details!A17","v":9.6},{"$f":"Circuit1Details!W17/MAX(Circuit1!$F$29,1)","v":0.64712809716665054},{"$f":"Circuit1Details!X17/MAX(Circuit1!$J$26,1)","v":0.21212992922760521},{"$f":"Circuit1Details!Y17","v":0.27266320884742801},{"$f":"Circuit1Details!Z17","v":6.3363636363636358E-2},{"$f":"Circuit1Details!V17","v":0.88978120669816563},{"$f":"Circuit1Details!AA17","v":38.827685829999034},{"$f":"Circuit1Details!AD17","v":9.6943377657015581}]
[{"$f":"Circuit1Details!A18","v":10.199999999999999},{"$f":"Circuit1Details!W18/MAX(Circuit1!$F$29,1)","v":0.68390920113859632},{"$f":"Circuit1Details!X18/MAX(Circuit1!$J$26,1)","v":0.23732380822079813},{"$f":"Circuit1Details!Y18","v":0.30335223779252873},{"$f":"Circuit1Details!Z18","v":6.3363636363636358E-2},{"$f":"Circuit1Details!V18","v":0.88955640727947505},{"$f":"Circuit1Details!AA18","v":41.034552068315776},{"$f":"Circuit1Details!AD18","v":10.845698035690475}]
[{"$f":"Circuit1Details!A19","v":10.799999999999999},{"$f":"Circuit1Details!W19/MAX(Circuit1!$F$29,1)","v":0.72100964883021013},{"$f":"Circuit1Details!X19/MAX(Circuit1!$J$26,1)","v":0.26407227502740316},{"$f":"Circuit1Details!Y19","v":0.33601977920130033},{"$f":"Circuit1Details!Z19","v":6.3363636363636358E-2},{"$f":"Circuit1Details!V19","v":0.88912162646102832},{"$f":"Circuit1Details!AA19","v":43.26057892981261},{"$f":"Circuit1Details!AD19","v":12.068102968752324},null,null,{"$f":"Circuit1!B10","v":30}]
[{"$f":"Circuit1Details!A20","v":11.4},{"$f":"Circuit1Details!W20/MAX(Circuit1!$F$29,1)","v":0.75844845094761948},{"$f":"Circuit1Details!X20/MAX(Circuit1!$J$26,1)","v":0.29240426509731215},{"$f":"Circuit1Details!Y20","v":0.37068494975496702},{"$f":"Circuit1Details!Z20","v":6.3363636363636358E-2},{"$f":"Circuit1Details!V20","v":0.88850672800171182},{"$f":"Circuit1Details!AA20","v":45.506907056857166},{"$f":"Circuit1Details!AD20","v":13.362874914947167}]
[{"$f":"Circuit1Details!A21","v":12},{"$f":"Circuit1Details!W21/MAX(Circuit1!$F$29,1)","v":0.79624431568463971},{"$f":"Circuit1Details!X21/MAX(Circuit1!$J$26,1)","v":0.32234965253293296},{"$f":"Circuit1Details!Y21","v":0.40736749676387352},{"$f":"Circuit1Details!Z21","v":6.3363636363636358E-2},{"$f":"Circuit1Details!V21","v":0.88773574847350123},{"$f":"Circuit1Details!AA21","v":47.774658941078386},{"$f":"Circuit1Details!AD21","v":14.731379120755037}]
[{"$f":"Circuit1Details!A22","v":12.6},{"$f":"Circuit1Details!W22/MAX(Circuit1!$F$29,1)","v":0.8344156702309613},{"$f":"Circuit1Details!X22/MAX(Circuit1!$J$26,1)","v":0.35393913268499583},{"$f":"Circuit1Details!Y22","v":0.44608772465176272},{"$f":"Circuit1Details!Z22","v":6.3363636363636358E-2},{"$f":"Circuit1Details!V22","v":0.88682825945050081},{"$f":"Circuit1Details!AA22","v":50.064940213857682},{"$f":"Circuit1Details!AD22","v":16.175018363704311}]
[{"$f":"Circuit1Details!A23","v":13.2},{"$f":"Circuit1Details!W23/MAX(Circuit1!$F$29,1)","v":0.87298068058130618},{"$f":"Circuit1Details!X23/MAX(Circuit1!$J$26,1)","v":0.38720409831299885},{"$f":"Circuit1Details!Y23","v":0.48686641733240321},{"$f":"Circuit1Details!Z23","v":6.3363636363636358E-2},{"$f":"Circuit1Details!V23","v":0.88580036773224546},{"$f":"Circuit1Details!AA23","v":52.378840834878368},{"$f":"Circuit1Details!AD23","v":17.695227292904047}]
[{"$f":"Circuit1Details!A24","v":13.799999999999999},{"$f":"Circuit1Details!W24/MAX(Circuit1!$F$29,1)","v":0.91195726963130719},{"$f":"Circuit1Details!X24/MAX(Circuit1!$J$26,1)","v":0.42217650986770994},{"$f":"Circuit1Details!Y24","v":0.5297247567828125},{"$f":"Circuit1Details!Z24","v":6.3363636363636358E-2},{"$f":"Circuit1Details!V24","v":0.88466546110080235},{"$f":"Circuit1Details!AA24","v":54.717436177878433},{"$f":"Circuit1Details!AD24","v":19.293466500954345}]
[{"$f":"Circuit1Details!A25","v":14.399999999999999},{"$f":"Circuit1Details!W25/MAX(Circuit1!$F$29,1)","v":0.95136313357859958},{"$f":"Circuit1Details!X25/MAX(Circuit1!$J$26,1)","v":0.45888876057853067},{"$f":"Circuit1Details!Y25","v":0.57468423820900261},{"$f":"Circuit1Details!Z25","v":6.3363636363636358E-2},{"$f":"Circuit1Details!V25","v":0.88343477207882226},{"$f":"Circuit1Details!AA25","v":57.081788014715976},{"$f":"Circuit1Details!AD25","v":20.971216358438852}]
[{"$f":"Circuit1Details!A26","v":15},{"$f":"Circuit1Details!W26/MAX(Circuit1!$F$29,1)","v":0.99121575666603756},{"$f":"Circuit1Details!X26/MAX(Circuit1!$J$26,1)","v":0.49737353716187016},{"$f":"Circuit1Details!Y26","v":0.6217665822928925},{"$f":"Circuit1Details!Z26","v":6.3363636363636358E-2},{"$f":"Circuit1Details!V26","v":0.88211780946143392},{"$f":"Circuit1Details!AA26","v":59.472945399962256},{"$f":"Circuit1Details!AD26","v":22.729970648297467}]
[{"$f":"Circuit1Details!A27","v":15.6},{"$f":"Circuit1Details!W27/MAX(Circuit1!$F$29,1)","v":1.0315324243144472},{"$f":"Circuit1Details!X27/MAX(Circuit1!$J$26,1)","v":0.53766367710089624},{"$f":"Circuit1Details!Y27","v":0.67099364510004134},{"$f":"Circuit1Details!Z27","v":6.3363636363636358E-2},{"$f":"Circuit1Details!V27","v":0.88072269239278878},{"$f":"Circuit1Details!AA27","v":61.891945458866836},{"$f":"Circuit1Details!AD27","v":24.571230043510958}]
[{"$f":"Circuit1Details!A28","v":16.2},{"$f":"Circuit1Details!W28/MAX(Circuit1!$F$29,1)","v":1.0723302346984784},{"$f":"Circuit1Details!X28/MAX(Circuit1!$J$26,1)","v":0.57979202357582138},{"$f":"Circuit1Details!Y28","v":0.72238732631420699},{"$f":"Circuit1Details!Z28","v":6.3363636363636358E-2},{"$f":"Circuit1Details!V28","v":0.87925641165689639},{"$f":"Circuit1Details!AA28","v":64.339814081908713},{"$f":"Circuit1Details!AD28","v":26.496495477415039}]
[{"$f":"Circuit1Details!A29","v":16.8},{"$f":"Circuit1Details!W29/MAX(Circuit1!$F$29,1)","v":1.1136261088230013},{"$f":"Circuit1Details!X29/MAX(Circuit1!$J$26,1)","v":0.62379127924141931},{"$f":"Circuit1Details!Y29","v":0.77596947654331128},{"$f":"Circuit1Details!Z29","v":6.3363636363636358E-2},{"$f":"Circuit1Details!V29","v":0.87772503593615903},{"$f":"Circuit1Details!AA29","v":66.817566529380073},{"$f":"Circuit1Details!AD29","v":28.507261461332863}]
[{"$f":"Circuit1Details!A30","v":17.399999999999999},{"$f":"Circuit1Details!W30/MAX(Circuit1!$F$29,1)","v":1.1554367991602859},{"$f":"Circuit1Details!X30/MAX(Circuit1!$J$26,1)","v":0.66969386014930543},{"$f":"Circuit1Details!Y30","v":0.83176180450910731},{"$f":"Circuit1Details!Z30","v":6.3363636363636358E-2},{"$f":"Circuit1Details!V30","v":0.87613387598231662},{"$f":"Circuit1Details!AA30","v":69.326207949617157},{"$f":"Circuit1Details!AD30","v":30.60500940882326}]
[{"$f":"Circuit1Details!A31","v":18},{"$f":"Circuit1Details!W31/MAX(Circuit1!$F$29,1)","v":1.1977788969105632},{"$f":"Circuit1Details!X31/MAX(Circuit1!$J$26,1)","v":0.71753175119162271},{"$f":"Circuit1Details!Y31","v":0.88978578498667438},{"$f":"Circuit1Details!Z31","v":6.3363636363636358E-2},{"$f":"Circuit1Details!V31","v":0.87448761625389493},{"$f":"Circuit1Details!AA31","v":71.86673381463379},{"$f":"Circuit1Details!AD31","v":32.791201029457163}]
[{"$f":"Circuit1Details!A32","v":18.599999999999998},{"$f":"Circuit1Details!W32/MAX(Circuit1!$F$29,1)","v":1.2406688379508148},{"$f":"Circuit1Details!X32/MAX(Circuit1!$J$26,1)","v":0.76733636449573639},{"$f":"Circuit1Details!Y32","v":0.95006256839711301},{"$f":"Circuit1Details!Z32","v":6.3363636363636358E-2},{"$f":"Circuit1Details!V32","v":0.8727904211524441},{"$f":"Circuit1Details!AA32","v":74.440130277048894},{"$f":"Circuit1Details!AD32","v":35.067271857455154}]
[{"$f":"Circuit1Details!A33","v":19.2},{"$f":"Circuit1Details!W33/MAX(Circuit1!$F$29,1)","v":1.2841229075389493},{"$f":"Circuit1Details!X33/MAX(Circuit1!$J$26,1)","v":0.81913840222270506},{"$f":"Circuit1Details!Y33","v":1.0126128929751983},{"$f":"Circuit1Details!Z33","v":6.3363636363636358E-2},{"$f":"Circuit1Details!V33","v":0.87104602123941666},{"$f":"Circuit1Details!AA33","v":77.047374452336953},{"$f":"Circuit1Details!AD33","v":37.43462498157762}]
[{"$f":"Circuit1Details!A34","v":19.8},{"$f":"Circuit1Details!W34/MAX(Circuit1!$F$29,1)","v":1.3281572438428542},{"$f":"Circuit1Details!X34/MAX(Circuit1!$J$26,1)","v":0.8729677252129534},{"$f":"Circuit1Details!Y34","v":1.0774570004314981},{"$f":"Circuit1Details!Z34","v":6.3363636363636358E-2},{"$f":"Circuit1Details!V34","v":0.86925778353645777},{"$f":"Circuit1Details!AA34","v":79.689434630571256},{"$f":"Circuit1Details!AD34","v":39.894625042231972}]
[{"$f":"Circuit1Details!A35","v":20.399999999999999},{"$f":"Circuit1Details!W35/MAX(Circuit1!$F$29,1)","v":1.3727878403661755},{"$f":"Circuit1Details!X35/MAX(Circuit1!$J$26,1)","v":0.92885322887923438},{"$f":"Circuit1Details!Y35","v":1.1446145560046284},{"$f":"Circuit1Details!Z35","v":6.3363636363636358E-2},{"$f":"Circuit1Details!V35","v":0.86742876906768995},{"$f":"Circuit1Details!AA35","v":82.367270421970531},{"$f":"Circuit1Details!AD35","v":42.448592559781012}]
[{"$f":"Circuit1Details!A36","v":21},{"$f":"Circuit1Details!W36/MAX(Circuit1!$F$29,1)","v":1.418030547344884},{"$f":"Circuit1Details!X36/MAX(Circuit1!$J$26,1)","v":0.98682272766930534},{"$f":"Circuit1Details!Y36","v":1.2141045737535741},{"$f":"Circuit1Details!Z36","v":6.3363636363636358E-2},{"$f":"Circuit1Details!V36","v":0.86556178009907636},{"$f":"Circuit1Details!AA36","v":85.081832840693039},{"$f":"Circuit1Details!AD36","v":45.097798654487256}]

{"sheet":"Circuit1Details","index":7,"n_rows":51,"n_cols":40,"rows_kept":51,"cut":false,"hidden":true,"merged":[]}
["I(Load)","PHC","Vsp","Idr(LH)","Idr(HL) ","Qgs(sw)","tr","tf","PswHS","PconLS","PQrr","PDT","Pout","PdrHS","PdrLS","Pw","Pc",null,"Pcsw",null,"Pesr","Circuit1 Efficiency","PHS","PLS","PLCR","Pdr",0,{"$f":"AA1/((1+(AA1/150)^(1))^(1/1))","v":0},"RTHS",0,{"$f":"AD1/((1+(AD1/150)^(1))^(1))","v":0},"RTLS",{"$f":"Circuit1!$B$6","v":0.08},"Rdson Correction Factor for HS"]
[{"$f":"Circuit1!$B$10/50*1","v":0.6},{"$f":"AG1*Circuit1!$B$7/1000000*AC2*(A2*A2+((Circuit1!$B$8)^2)/3)*Circuit1!$B$5*1000","v":5.3825365333333376E-4},{"$f":"(Circuit1!$F$22+A2/(Circuit1!$F$23*Circuit1!$F$29))/(1+((Circuit1!$F$22+A2/(Circuit1!$F$23*Circuit1!$F$29))/Circuit1!$F$4)^(5))^(0.2)","v":2.0216885545008445},{"$f":"MAX((Circuit1!$F$4-C2), 0.001)/(Circuit1!$F$5+Circuit1!$F$28+Circuit1!$F$24/Circuit1!$F$29)","v":1.1455044021150598},{"$f":"C2/(Circuit1!$F$6+Circuit1!$F$28+Circuit1!$F$24/Circuit1!$F$29)","v":1.2635553465630278},{"$f":"(Circuit1!$F$20/1000000000+Circuit1!$F$21/2/1000000000)*MAX(Circuit1!$F$29,1)","v":1.9500000000000003E-8},{"$f":"F2/D2/(1+F2/D2/0.00000003)","v":1.0860457917579864E-8},{"$f":"F2/E2","v":1.5432644128364911E-8},{"$f":"0.5*Circuit1!$B$3*(G2*MAX(A2-Circuit1!$B$8, 0)+H2*(A2+Circuit1!$B$8))*Circuit1!$B$5*1000","v":8.4725216264723374E-2},{"$f":"MIN(MAX((1-AG1-Circuit1!$F$7/1000000000+Circuit1!$F$8/1000000000),0.001),1)*Circuit1!$B$7/1000000*AF2*(A2*A2+Circuit1!$B$8^2/3)*Circuit1!$B$5*1000","v":2.6749936355555575E-3},{"$f":"Circuit1!$B$3*$AN$2*Circuit1!$J$26*0.000000001*Circuit1!$B$5*1000","v":0.153},{"$f":"Circuit1!$J$21*A2*(Circuit1!$F$7/1000000000+Circuit1!$F$8/1000000000)*Circuit1!$B$5*1000","v":2.5199999999999997E-3},{"$f":"A2*Circuit1!$B$4","v":0.72},{"$f":"Circuit1!$F$4*($AN$3/1000000000*Circuit1!$F$29)*Circuit1!$B$5*1000+Circuit1!$F$4*Circuit1!$F$9/1000/2","v":6.3363636363636358E-2},{"$f":"Circuit1!$F$4*($AN$4/1000000000*Circuit1!$J$26)*Circuit1!$B$5*1000+Circuit1!$F$4*Circuit1!$F$9/1000/2","v":7.8718181818181826E-2},{"$f":"(A2*A2+((Circuit1!$B$8)^2)/3)*(Circuit1!$J$9+Circuit1!$J$12)/1000*(1+0.002*AE1)","v":3.7213333333333356E-3},{"$f":"Circuit1!$J$8/1000","v":0.03},{"$f":"0","v":0},{"$f":"(Circuit1!$F$19/1000000000000*Circuit1!$F$29)*Circuit1!$B$3*Circuit1!$B$3*Circuit1!$B$5*1000","v":6.4259999999999998E-2},0,{"$f":"Circuit1!$B$8*Circuit1!$B$8/3*Circuit1!$J$4/1000","v":5.6426666666666708E-3},{"$f":"M2/(U2+T2+S2+R2+Q2+P2+N2+M2+L2+J2+I2+B2+O2+K2)","v":0.59545258727509998},{"$f":"B2+I2+S2+T2","v":0.14952346991805671},{"$f":"J2+L2","v":5.1949936355555571E-3},{"$f":"P2+Q2+U2","v":3.9364000000000003E-2},{"$f":"N2","v":6.3363636363636358E-2},{"$f":"W2*Circuit1!$F$25/MAX(Circuit1!$F$29,1)","v":8.9714081950834021},{"$f":"AA2/((1+(AA2/150)^(1))^(1/1))","v":8.4651148564470589},{"$f":"$AN$6*(1+AB1*0.85*Circuit1!$F$26/100)/1000/MAX(Circuit1!$F$29,1)","v":4.5199999999999997E-3},{"$f":"X2*Circuit1!$J$22/MAX(Circuit1!$J$26,1)","v":0.23741120914488897},{"$f":"AD2/((1+(AD2/150)^(1))^(1))","v":0.23703604238865958},{"$f":"$AN$7*(1+AE1*Circuit1!$J$23*0.85/100)/MAX(Circuit1!$J$26,1)/1000","v":1.9533333333333334E-3},{"$f":"(U2+T2+S2+R2+Q2+P2+N2+M2+L2+J2+I2+B2+O2+K2)/A2/Circuit1!$B$3","v":0.13435158685949228},5.0000000000000001E-3,{"$f":"(A2*A2+((Circuit1!$B$8)^2)/3)*Circuit1!$J$9/1000*50","v":0.11164000000000004},null,0.86567415542122716,null,"Qrr",{"$f":"VLOOKUP(Circuit1!$J$16,MOSFETs!$A$2:$S$120,14,0)","v":34}]
[{"$f":"Circuit1!$B$10/50*2","v":1.2},{"$f":"AG2*Circuit1!$B$7/1000000*AC3*(A3*A3+((Circuit1!$B$8)^2)/3)*Circuit1!$B$5*1000","v":1.6121662287762782E-3},{"$f":"(Circuit1!$F$22+A3/(Circuit1!$F$23*Circuit1!$F$29))/(1+((Circuit1!$F$22+A3/(Circuit1!$F$23*Circuit1!$F$29))/Circuit1!$F$4)^(5))^(0.2)","v":2.0474266294646291},{"$f":"MAX((Circuit1!$F$4-C3), 0.001)/(Circuit1!$F$5+Circuit1!$F$28+Circuit1!$F$24/Circuit1!$F$29)","v":1.1356051425136042},{"$f":"C3/(Circuit1!$F$6+Circuit1!$F$28+Circuit1!$F$24/Circuit1!$F$29)","v":1.279641643415393},{"$f":"(Circuit1!$F$20/1000000000+Circuit1!$F$21/2/1000000000)*MAX(Circuit1!$F$29,1)","v":1.9500000000000003E-8},{"$f":"F3/D3/(1+F3/D3/0.00000003)","v":1.0920667473296905E-8},{"$f":"F3/E3","v":1.5238641302696319E-8},{"$f":"0.5*Circuit1!$B$3*(G3*MAX(A3-Circuit1!$B$8, 0)+H3*(A3+Circuit1!$B$8))*Circuit1!$B$5*1000","v":0.10423230651044284},{"$f":"MIN(MAX((1-AG2-Circuit1!$F$7/1000000000+Circuit1!$F$8/1000000000),0.001),1)*Circuit1!$B$7/1000000*AF3*(A3*A3+Circuit1!$B$8^2/3)*Circuit1!$B$5*1000","v":4.3476830545206959E-3},{"$f":"Circuit1!$B$3*$AN$2*Circuit1!$J$26*0.000000001*Circuit1!$B$5*1000","v":0.153},{"$f":"Circuit1!$J$21*A3*(Circuit1!$F$7/1000000000+Circuit1!$F$8/1000000000)*Circuit1!$B$5*1000","v":5.0399999999999993E-3},{"$f":"A3*Circuit1!$B$4","v":1.44},{"$f":"Circuit1!$F$4*($AN$3/1000000000*Circuit1!$F$29)*Circuit1!$B$5*1000+Circuit1!$F$4*Circuit1!$F$9/1000/2","v":6.3363636363636358E-2},{"$f":"Circuit1!$F$4*($AN$4/1000000000*Circuit1!$J$26)*Circuit1!$B$5*1000+Circuit1!$F$4*Circuit1!$F$9/1000/2","v":7.8718181818181826E-2},{"$f":"(A3*A3+((Circuit1!$B$8)^2)/3)*(Circuit1!$J$9+Circuit1!$J$12)/1000*(1+0.002*AE2)","v":6.4243775082137187E-3},{"$f":"Circuit1!$J$8/1000","v":0.03},{"$f":"0","v":0},{"$f":"(Circuit1!$F$19/1000000000000*Circuit1!$F$29)*Circuit1!$B$3*Circuit1!$B$3*Circuit1!$B$5*1000","v":6.4259999999999998E-2},0,{"$f":"Circuit1!$B$8*Circuit1!$B$8/3*Circuit1!$J$4/1000","v":5.6426666666666708E-3},{"$f":"M3/(U3+T3+S3+R3+Q3+P3+N3+M3+L3+J3+I3+B3+O3+K3)","v":0.73595513261865186},{"$f":"B3+I3+S3+T3","v":0.17010447273921911},{"$f":"J3+L3","v":9.3876830545206943E-3},{"$f":"P3+Q3+U3","v":4.2067044174880386E-2},{"$f":"N3","v":6.3363636363636358E-2},{"$f":"W3*Circuit1!$F$25/MAX(Circuit1!$F$29,1)","v":10.206268364353146},9.5560571398566783,{"$f":"$AN$6*(1+AB2*0.85*Circuit1!$F$26/100)/1000/MAX(Circuit1!$F$29,1)","v":4.6717738659661908E-3},{"$f":"X3*Circuit1!$J$22/MAX(Circuit1!$J$26,1)","v":0.42901711559159578},0.42779357714801808,{"$f":"$AN$7*(1+AE2*Circuit1!$J$23*0.85/100)/MAX(Circuit1!$J$26,1)/1000","v":1.9553798393137055E-3},{"$f":"(U3+T3+S3+R3+Q3+P3+N3+M3+L3+J3+I3+B3+O3+K3)/A3/Circuit1!$B$3","v":0.10870227878613546},null,{"$f":"(A3*A3+((Circuit1!$B$8)^2)/3)*Circuit1!$J$9/1000*50","v":0.19264000000000003},null,0.92314564737029248,null,"QTOT_HS",{"$f":"(VLOOKUP(Circuit1!$F$16, MOSFETs!$A$2:$S$120,17,0)+(Circuit1!$F$4-4.5)*(VLOOKUP(Circuit1!$F$16, MOSFETs!$A$2:$S$120,18,0)-VLOOKUP(Circuit1!$F$16, MOSFETs!$A$2:$S$120,17,0))/5.5)","v":33.909090909090907}]
[{"$f":"Circuit1!$B$10/50*3","v":1.7999999999999998},{"$f":"AG3*Circuit1!$B$7/1000000*AC4*(A4*A4+((Circuit1!$B$8)^2)/3)*Circuit1!$B$5*1000","v":2.2277714372103828E-3},{"$f":"(Circuit1!$F$22+A4/(Circuit1!$F$23*Circuit1!$F$29))/(1+((Circuit1!$F$22+A4/(Circuit1!$F$23*Circuit1!$F$29))/Circuit1!$F$4)^(5))^(0.2)","v":2.0731421099581495},{"$f":"MAX((Circuit1!$F$4-C4), 0.001)/(Circuit1!$F$5+Circuit1!$F$28+Circuit1!$F$24/Circuit1!$F$29)","v":1.1257145730930194},{"$f":"C4/(Circuit1!$F$6+Circuit1!$F$28+Circuit1!$F$24/Circuit1!$F$29)","v":1.2957138187238433},{"$f":"(Circuit1!$F$20/1000000000+Circuit1!$F$21/2/1000000000)*MAX(Circuit1!$F$29,1)","v":1.9500000000000003E-8},1.0981494602499108E-8,1.5049619536515923E-8,{"$f":"0.5*Circuit1!$B$3*(G4*MAX(A4-Circuit1!$B$8, 0)+H4*(A4+Circuit1!$B$8))*Circuit1!$B$5*1000","v":0.12325638400406544},{"$f":"MIN(MAX((1-AG3-Circuit1!$F$7/1000000000+Circuit1!$F$8/1000000000),0.001),1)*Circuit1!$B$7/1000000*AF4*(A4*A4+Circuit1!$B$8^2/3)*Circuit1!$B$5*1000","v":7.6200043738368292E-3},{"$f":"Circuit1!$B$3*$AN$2*Circuit1!$J$26*0.000000001*Circuit1!$B$5*1000","v":0.153},{"$f":"Circuit1!$J$21*A4*(Circuit1!$F$7/1000000000+Circuit1!$F$8/1000000000)*Circuit1!$B$5*1000","v":7.5599999999999999E-3},{"$f":"A4*Circuit1!$B$4","v":2.1599999999999997},{"$f":"Circuit1!$F$4*($AN$3/1000000000*Circuit1!$F$29)*Circuit1!$B$5*1000+Circuit1!$F$4*Circuit1!$F$9/1000/2","v":6.3363636363636358E-2},{"$f":"Circuit1!$F$4*($AN$4/1000000000*Circuit1!$J$26)*Circuit1!$B$5*1000+Circuit1!$F$4*Circuit1!$F$9/1000/2","v":7.8718181818181826E-2},{"$f":"(A4*A4+((Circuit1!$B$8)^2)/3)*(Circuit1!$J$9+Circuit1!$J$12)/1000*(1+0.002*AE3)","v":1.0930677485841119E-2},{"$f":"Circuit1!$J$8/1000","v":0.03},{"$f":"0","v":0},{"$f":"(Circuit1!$F$19/1000000000000*Circuit1!$F$29)*Circuit1!$B$3*Circuit1!$B$3*Circuit1!$B$5*1000","v":6.4259999999999998E-2},0,{"$f":"Circuit1!$B$8*Circuit1!$B$8/3*Circuit1!$J$4/1000","v":5.6426666666666708E-3},0.79805531000829089,0.18974415544127582,1.518000437383683E-2,4.6573344152507787E-2,6.3363636363636358E-2,{"$f":"W4*Circuit1!$F$25/MAX(Circuit1!$F$29,1)","v":11.384649326476548},10.581535518392824,{"$f":"$AN$6*(1+AB3*0.85*Circuit1!$F$26/100)/1000/MAX(Circuit1!$F$29,1)","v":4.6913337338128696E-3},{"$f":"X4*Circuit1!$J$22/MAX(Circuit1!$J$26,1)","v":0.69372619988434314},0.69053259619199292,{"$f":"$AN$7*(1+AE3*Circuit1!$J$23*0.85/100)/MAX(Circuit1!$J$26,1)/1000","v":1.9570267890001419E-3},{"$f":"(U4+T4+S4+R4+Q4+P4+N4+M4+L4+J4+I4+B4+O4+K4)/A4/Circuit1!$B$3","v":0.10024367859812736},"Rdson Correction Factor for LS",{"$f":"(A4*A4+((Circuit1!$B$8)^2)/3)*Circuit1!$J$9/1000*50","v":0.32763999999999999},null,0.94376615807465825,null,"QTOT_LS",{"$f":"(VLOOKUP(Circuit1!$J$16, MOSFETs!$A$2:$S$120,17,0)+(Circuit1!$F$4-4.5)*(VLOOKUP(Circuit1!$J$16, MOSFETs!$A$2:$S$120,18,0)-VLOOKUP(Circuit1!$J$16, MOSFETs!$A$2:$S4120,17,0))/5.5)","v":44.145454545454548}]
[{"$f":"Circuit1!$B$10/50*4","v":2.4},{"$f":"AG4*Circuit1!$B$7/1000000*AC5*(A5*A5+((Circuit1!$B$8)^2)/3)*Circuit1!$B$5*1000","v":3.2522119166301946E-3},{"$f":"(Circuit1!$F$22+A5/(Circuit1!$F$23*Circuit1!$F$29))/(1+((Circuit1!$F$22+A5/(Circuit1!$F$23*Circuit1!$F$29))/Circuit1!$F$4)^(5))^(0.2)","v":2.0988338643281512},{"$f":"MAX((Circuit1!$F$4-C5), 0.001)/(Circuit1!$F$5+Circuit1!$F$28+Circuit1!$F$24/Circuit1!$F$29)","v":1.1158331291045571},{"$f":"C5/(Circuit1!$F$6+Circuit1!$F$28+Circuit1!$F$24/Circuit1!$F$29)","v":1.3117711652050945},{"$f":"(Circuit1!$F$20/1000000000+Circuit1!$F$21/2/1000000000)*MAX(Circuit1!$F$29,1)","v":1.9500000000000003E-8},1.104294606245627E-8,1.4865397652609013E-8,{"$f":"0.5*Circuit1!$B$3*(G5*MAX(A5-Circuit1!$B$8, 0)+H5*(A5+Circuit1!$B$8))*Circuit1!$B$5*1000","v":0.15573000564458489},{"$f":"MIN(MAX((1-AG4-Circuit1!$F$7/1000000000+Circuit1!$F$8/1000000000),0.001),1)*Circuit1!$B$7/1000000*AF5*(A5*A5+Circuit1!$B$8^2/3)*Circuit1!$B$5*1000","v":1.214371446311022E-2},{"$f":"Circuit1!$B$3*$AN$2*Circuit1!$J$26*0.000000001*Circuit1!$B$5*1000","v":0.153},{"$f":"Circuit1!$J$21*A5*(Circuit1!$F$7/1000000000+Circuit1!$F$8/1000000000)*Circuit1!$B$5*1000","v":1.0079999999999999E-2},{"$f":"A5*Circuit1!$B$4","v":2.88},{"$f":"Circuit1!$F$4*($AN$3/1000000000*Circuit1!$F$29)*Circuit1!$B$5*1000+Circuit1!$F$4*Circuit1!$F$9/1000/2","v":6.3363636363636358E-2},{"$f":"Circuit1!$F$4*($AN$4/1000000000*Circuit1!$J$26)*Circuit1!$B$5*1000+Circuit1!$F$4*Circuit1!$F$9/1000/2","v":7.8718181818181826E-2},{"$f":"(A5*A5+((Circuit1!$B$8)^2)/3)*(Circuit1!$J$9+Circuit1!$J$12)/1000*(1+0.002*AE4)","v":1.7245117117366444E-2},{"$f":"Circuit1!$J$8/1000","v":0.03},{"$f":"0","v":0},{"$f":"(Circuit1!$F$19/1000000000000*Circuit1!$F$29)*Circuit1!$B$3*Circuit1!$B$3*Circuit1!$B$5*1000","v":6.4259999999999998E-2},0,{"$f":"Circuit1!$B$8*Circuit1!$B$8/3*Circuit1!$J$4/1000","v":5.6426666666666708E-3},0.82915026688045201,0.22324221756121509,2.2223714463110219E-2,5.288778378403311E-2,6.3363636363636358E-2,{"$f":"W5*Circuit1!$F$25/MAX(Circuit1!$F$29,1)","v":13.394533053672905},12.29649438387848,{"$f":"$AN$6*(1+AB4*0.85*Circuit1!$F$26/100)/1000/MAX(Circuit1!$F$29,1)","v":4.7097198774877702E-3},{"$f":"X5*Circuit1!$J$22/MAX(Circuit1!$J$26,1)","v":1.015623750964137},1.0087933874699369,{"$f":"$AN$7*(1+AE4*Circuit1!$J$23*0.85/100)/MAX(Circuit1!$J$26,1)/1000","v":1.9592952076268296E-3},{"$f":"(U5+T5+S5+R5+Q5+P5+N5+M5+L5+J5+I5+B5+O5+K5)/A5/Circuit1!$B$3","v":9.6484320388616013E-2},5.0000000000000001E-3,{"$f":"(A5*A5+((Circuit1!$B$8)^2)/3)*Circuit1!$J$9/1000*50","v":0.5166400000000001},null,0.95415337562144731]
[{"$f":"Circuit1!$B$10/50*5","v":3},{"$f":"AG5*Circuit1!$B$7/1000000*AC6*(A6*A6+((Circuit1!$B$8)^2)/3)*Circuit1!$B$5*1000","v":4.6325969640013996E-3},{"$f":"(Circuit1!$F$22+A6/(Circuit1!$F$23*Circuit1!$F$29))/(1+((Circuit1!$F$22+A6/(Circuit1!$F$23*Circuit1!$F$29))/Circuit1!$F$4)^(5))^(0.2)","v":2.1245007220200764},{"$f":"MAX((Circuit1!$F$4-C6), 0.001)/(Circuit1!$F$5+Circuit1!$F$28+Circuit1!$F$24/Circuit1!$F$29)","v":1.105961260761509},{"$f":"C6/(Circuit1!$F$6+Circuit1!$F$28+Circuit1!$F$24/Circuit1!$F$29)","v":1.3278129512625476},{"$f":"(Circuit1!$F$20/1000000000+Circuit1!$F$21/2/1000000000)*MAX(Circuit1!$F$29,1)","v":1.9500000000000003E-8},1.1105028587899157E-8,1.4685803434481097E-8,{"$f":"0.5*Circuit1!$B$3*(G6*MAX(A6-Circuit1!$B$8, 0)+H6*(A6+Circuit1!$B$8))*Circuit1!$B$5*1000","v":0.18891252401591599},{"$f":"MIN(MAX((1-AG5-Circuit1!$F$7/1000000000+Circuit1!$F$8/1000000000),0.001),1)*Circuit1!$B$7/1000000*AF6*(A6*A6+Circuit1!$B$8^2/3)*Circuit1!$B$5*1000","v":1.7955221767720048E-2},{"$f":"Circuit1!$B$3*$AN$2*Circuit1!$J$26*0.000000001*Circuit1!$B$5*1000","v":0.153},{"$f":"Circuit1!$J$21*A6*(Circuit1!$F$7/1000000000+Circuit1!$F$8/1000000000)*Circuit1!$B$5*1000","v":1.2599999999999998E-2},{"$f":"A6*Circuit1!$B$4","v":3.5999999999999996},{"$f":"Circuit1!$F$4*($AN$3/1000000000*Circuit1!$F$29)*Circuit1!$B$5*1000+Circuit1!$F$4*Circuit1!$F$9/1000/2","v":6.3363636363636358E-2},{"$f":"Circuit1!$F$4*($AN$4/1000000000*Circuit1!$J$26)*Circuit1!$B$5*1000+Circuit1!$F$4*Circuit1!$F$9/1000/2","v":7.8718181818181826E-2},{"$f":"(A6*A6+((Circuit1!$B$8)^2)/3)*(Circuit1!$J$9+Circuit1!$J$12)/1000*(1+0.002*AE5)","v":2.5372421320590512E-2},{"$f":"Circuit1!$J$8/1000","v":0.03},{"$f":"0","v":0},{"$f":"(Circuit1!$F$19/1000000000000*Circuit1!$F$29)*Circuit1!$B$3*Circuit1!$B$3*Circuit1!$B$5*1000","v":6.4259999999999998E-2},0,{"$f":"Circuit1!$B$8*Circuit1!$B$8/3*Circuit1!$J$4/1000","v":5.6426666666666708E-3},0.84816498055641998,0.25780512097991737,3.0555221767720048E-2,6.1015087987257181E-2,6.3363636363636358E-2,{"$f":"W6*Circuit1!$F$25/MAX(Circuit1!$F$29,1)","v":15.468307258795042},14.022299056884377,{"$f":"$AN$6*(1+AB5*0.85*Circuit1!$F$26/100)/1000/MAX(Circuit1!$F$29,1)","v":4.7404679466400189E-3},{"$f":"X6*Circuit1!$J$22/MAX(Circuit1!$J$26,1)","v":1.3963736347848064},1.3834944668027134,{"$f":"$AN$7*(1+AE5*Circuit1!$J$23*0.85/100)/MAX(Circuit1!$J$26,1)/1000","v":1.962042986429179E-3},{"$f":"(U6+T6+S6+R6+Q6+P6+N6+M6+L6+J6+I6+B6+O6+K6)/A6/Circuit1!$B$3","v":9.4321272198149175E-2},null,{"$f":"(A6*A6+((Circuit1!$B$8)^2)/3)*Circuit1!$J$9/1000*50","v":0.75963999999999998},null,0.96027539078623703,null,"RonHS(VGS)",{"$f":"(VLOOKUP(Circuit1!$F$16,MOSFETs!$A$1:$S$120,2,0)+(Circuit1!$F$4-4.5)*(VLOOKUP(Circuit1!$F$16,MOSFETs!$A$1:$S$120,13,0)-VLOOKUP(Circuit1!$F$16,MOSFETs!$A$1:$S$120,2,0))/7.5)","v":4.5199999999999996}]
[{"$f":"Circuit1!$B$10/50*6","v":3.5999999999999996},{"$f":"AG6*Circuit1!$B$7/1000000*AC7*(A7*A7+((Circuit1!$B$8)^2)/3)*Circuit1!$B$5*1000","v":6.3404811138817246E-3},{"$f":"(Circuit1!$F$22+A7/(Circuit1!$F$23*Circuit1!$F$29))/(1+((Circuit1!$F$22+A7/(Circuit1!$F$23*Circuit1!$F$29))/Circuit1!$F$4)^(5))^(0.2)","v":2.1501414730445241},{"$f":"MAX((Circuit1!$F$4-C7), 0.001)/(Circuit1!$F$5+Circuit1!$F$28+Circuit1!$F$24/Circuit1!$F$29)","v":1.0960994334444139},{"$f":"C7/(Circuit1!$F$6+Circuit1!$F$28+Circuit1!$F$24/Circuit1!$F$29)","v":1.3438384206528275},{"$f":"(Circuit1!$F$20/1000000000+Circuit1!$F$21/2/1000000000)*MAX(Circuit1!$F$29,1)","v":1.9500000000000003E-8},1.1167748884457085E-8,1.4510673084139859E-8,{"$f":"0.5*Circuit1!$B$3*(G7*MAX(A7-Circuit1!$B$8, 0)+H7*(A7+Circuit1!$B$8))*Circuit1!$B$5*1000","v":0.22183492413232195},{"$f":"MIN(MAX((1-AG6-Circuit1!$F$7/1000000000+Circuit1!$F$8/1000000000),0.001),1)*Circuit1!$B$7/1000000*AF7*(A7*A7+Circuit1!$B$8^2/3)*Circuit1!$B$5*1000","v":2.5076328820955954E-2},{"$f":"Circuit1!$B$3*$AN$2*Circuit1!$J$26*0.000000001*Circuit1!$B$5*1000","v":0.153},{"$f":"Circuit1!$J$21*A7*(Circuit1!$F$7/1000000000+Circuit1!$F$8/1000000000)*Circuit1!$B$5*1000","v":1.512E-2},{"$f":"A7*Circuit1!$B$4","v":4.3199999999999994},{"$f":"Circuit1!$F$4*($AN$3/1000000000*Circuit1!$F$29)*Circuit1!$B$5*1000+Circuit1!$F$4*Circuit1!$F$9/1000/2","v":6.3363636363636358E-2},{"$f":"Circuit1!$F$4*($AN$4/1000000000*Circuit1!$J$26)*Circuit1!$B$5*1000+Circuit1!$F$4*Circuit1!$F$9/1000/2","v":7.8718181818181826E-2},{"$f":"(A7*A7+((Circuit1!$B$8)^2)/3)*(Circuit1!$J$9+Circuit1!$J$12)/1000*(1+0.002*AE6)","v":3.531879037289349E-2},{"$f":"Circuit1!$J$8/1000","v":0.03},{"$f":"0","v":0},{"$f":"(Circuit1!$F$19/1000000000000*Circuit1!$F$29)*Circuit1!$B$3*Circuit1!$B$3*Circuit1!$B$5*1000","v":6.4259999999999998E-2},0,{"$f":"Circuit1!$B$8*Circuit1!$B$8/3*Circuit1!$J$4/1000","v":5.6426666666666708E-3},0.86078496655084591,0.29243540524620365,4.0196328820955952E-2,7.0961457039560152E-2,6.3363636363636358E-2,{"$f":"W7*Circuit1!$F$25/MAX(Circuit1!$F$29,1)","v":17.546124314772218},15.708621479487016,{"$f":"$AN$6*(1+AB6*0.85*Circuit1!$F$26/100)/1000/MAX(Circuit1!$F$29,1)","v":4.771410473890565E-3},{"$f":"X7*Circuit1!$J$22/MAX(Circuit1!$J$26,1)","v":1.8369722271176872},1.8147479498964965,{"$f":"$AN$7*(1+AE6*Circuit1!$J$23*0.85/100)/MAX(Circuit1!$J$26,1)/1000","v":1.96527805562785E-3},{"$f":"(U7+T7+S7+R7+Q7+P7+N7+M7+L7+J7+I7+B7+O7+K7)/A7/Circuit1!$B$3","v":9.2938426097935872E-2},"Factor for LL",{"$f":"(A7*A7+((Circuit1!$B$8)^2)/3)*Circuit1!$J$9/1000*50","v":1.0566399999999998},null,0.96421342793757736,null,"RonLS(VGS)",{"$f":"(VLOOKUP(Circuit1!$J$16,MOSFETs!$A$1:$S$120,2,0)+(Circuit1!$F$4-4.5)*(VLOOKUP(Circuit1!$J$16,MOSFETs!$A$1:$S$120,13,0)-VLOOKUP(Circuit1!$J$16,MOSFETs!$A$1:$S$120,2,0))/7.5)","v":1.9533333333333334}]
[{"$f":"Circuit1!$B$10/50*7","v":4.2},{"$f":"AG7*Circuit1!$B$7/1000000*AC8*(A8*A8+((Circuit1!$B$8)^2)/3)*Circuit1!$B$5*1000","v":8.3755957473431036E-3},{"$f":"(Circuit1!$F$22+A8/(Circuit1!$F$23*Circuit1!$F$29))/(1+((Circuit1!$F$22+A8/(Circuit1!$F$23*Circuit1!$F$29))/Circuit1!$F$4)^(5))^(0.2)","v":2.1757548674740539},{"$f":"MAX((Circuit1!$F$4-C8), 0.001)/(Circuit1!$F$5+Circuit1!$F$28+Circuit1!$F$24/Circuit1!$F$29)","v":1.0862481278945946},{"$f":"C8/(Circuit1!$F$6+Circuit1!$F$28+Circuit1!$F$24/Circuit1!$F$29)","v":1.3598467921712836},{"$f":"(Circuit1!$F$20/1000000000+Circuit1!$F$21/2/1000000000)*MAX(Circuit1!$F$29,1)","v":1.9500000000000003E-8},1.1231113621787484E-8,1.4339850718671124E-8,{"$f":"0.5*Circuit1!$B$3*(G8*MAX(A8-Circuit1!$B$8, 0)+H8*(A8+Circuit1!$B$8))*Circuit1!$B$5*1000","v":0.25451578459843216},{"$f":"MIN(MAX((1-AG7-Circuit1!$F$7/1000000000+Circuit1!$F$8/1000000000),0.001),1)*Circuit1!$B$7/1000000*AF8*(A8*A8+Circuit1!$B$8^2/3)*Circuit1!$B$5*1000","v":3.352070364128714E-2},{"$f":"Circuit1!$B$3*$AN$2*Circuit1!$J$26*0.000000001*Circuit1!$B$5*1000","v":0.153},{"$f":"Circuit1!$J$21*A8*(Circuit1!$F$7/1000000000+Circuit1!$F$8/1000000000)*Circuit1!$B$5*1000","v":1.7639999999999999E-2},{"$f":"A8*Circuit1!$B$4","v":5.04},{"$f":"Circuit1!$F$4*($AN$3/1000000000*Circuit1!$F$29)*Circuit1!$B$5*1000+Circuit1!$F$4*Circuit1!$F$9/1000/2","v":6.3363636363636358E-2},{"$f":"Circuit1!$F$4*($AN$4/1000000000*Circuit1!$J$26)*Circuit1!$B$5*1000+Circuit1!$F$4*Circuit1!$F$9/1000/2","v":7.8718181818181826E-2},{"$f":"(A8*A8+((Circuit1!$B$8)^2)/3)*(Circuit1!$J$9+Circuit1!$J$12)/1000*(1+0.002*AE7)","v":4.7091634120279481E-2},{"$f":"Circuit1!$J$8/1000","v":0.03},{"$f":"0","v":0},{"$f":"(Circuit1!$F$19/1000000000000*Circuit1!$F$29)*Circuit1!$B$3*Circuit1!$B$3*Circuit1!$B$5*1000","v":6.4259999999999998E-2},0,{"$f":"Circuit1!$B$8*Circuit1!$B$8/3*Circuit1!$J$4/1000","v":5.6426666666666708E-3},0.86954598371888558,0.32715138034577523,5.1160703641287136E-2,8.2734300786946144E-2,6.3363636363636358E-2,{"$f":"W8*Circuit1!$F$25/MAX(Circuit1!$F$29,1)","v":19.629082820746515},17.357651023930824,{"$f":"$AN$6*(1+AB7*0.85*Circuit1!$F$26/100)/1000/MAX(Circuit1!$F$29,1)","v":4.8016451107128809E-3},{"$f":"X8*Circuit1!$J$22/MAX(Circuit1!$J$26,1)","v":2.3380441564068222},2.3021604708338628,{"$f":"$AN$7*(1+AE7*Circuit1!$J$23*0.85/100)/MAX(Circuit1!$J$26,1)/1000","v":1.9690013831999533E-3},{"$f":"(U8+T8+S8+R8+Q8+P8+N8+M8+L8+J8+I8+B8+O8+K8)/A8/Circuit1!$B$3","v":9.2002034967552784E-2},5.0000000000000001E-3,{"$f":"(A8*A8+((Circuit1!$B$8)^2)/3)*Circuit1!$J$9/1000*50","v":1.40764},null,0.96683708074968333]
[{"$f":"Circuit1!$B$10/50*8","v":4.8},{"$f":"AG8*Circuit1!$B$7/1000000*AC9*(A9*A9+((Circuit1!$B$8)^2)/3)*Circuit1!$B$5*1000","v":1.0742459993148707E-2},{"$f":"(Circuit1!$F$22+A9/(Circuit1!$F$23*Circuit1!$F$29))/(1+((Circuit1!$F$22+A9/(Circuit1!$F$23*Circuit1!$F$29))/Circuit1!$F$4)^(5))^(0.2)","v":2.2013396149726554},{"$f":"MAX((Circuit1!$F$4-C9), 0.001)/(Circuit1!$F$5+Circuit1!$F$28+Circuit1!$F$24/Circuit1!$F$29)","v":1.0764078403951325},{"$f":"C9/(Circuit1!$F$6+Circuit1!$F$28+Circuit1!$F$24/Circuit1!$F$29)","v":1.3758372593579096},{"$f":"(Circuit1!$F$20/1000000000+Circuit1!$F$21/2/1000000000)*MAX(Circuit1!$F$29,1)","v":1.9500000000000003E-8},1.1295129426391467E-8,1.4173187902398042E-8,{"$f":"0.5*Circuit1!$B$3*(G9*MAX(A9-Circuit1!$B$8, 0)+H9*(A9+Circuit1!$B$8))*Circuit1!$B$5*1000","v":0.28697298924159387},{"$f":"MIN(MAX((1-AG8-Circuit1!$F$7/1000000000+Circuit1!$F$8/1000000000),0.001),1)*Circuit1!$B$7/1000000*AF9*(A9*A9+Circuit1!$B$8^2/3)*Circuit1!$B$5*1000","v":4.3302042807234736E-2},{"$f":"Circuit1!$B$3*$AN$2*Circuit1!$J$26*0.000000001*Circuit1!$B$5*1000","v":0.153},{"$f":"Circuit1!$J$21*A9*(Circuit1!$F$7/1000000000+Circuit1!$F$8/1000000000)*Circuit1!$B$5*1000","v":2.0159999999999997E-2},{"$f":"A9*Circuit1!$B$4","v":5.76},{"$f":"Circuit1!$F$4*($AN$3/1000000000*Circuit1!$F$29)*Circuit1!$B$5*1000+Circuit1!$F$4*Circuit1!$F$9/1000/2","v":6.3363636363636358E-2},{"$f":"Circuit1!$F$4*($AN$4/1000000000*Circuit1!$J$26)*Circuit1!$B$5*1000+Circuit1!$F$4*Circuit1!$F$9/1000/2","v":7.8718181818181826E-2},{"$f":"(A9*A9+((Circuit1!$B$8)^2)/3)*(Circuit1!$J$9+Circuit1!$J$12)/1000*(1+0.002*AE8)","v":6.0699532543723483E-2},{"$f":"Circuit1!$J$8/1000","v":0.03},{"$f":"0","v":0},{"$f":"(Circuit1!$F$19/1000000000000*Circuit1!$F$29)*Circuit1!$B$3*Circuit1!$B$3*Circuit1!$B$5*1000","v":6.4259999999999998E-2},0,{"$f":"Circuit1!$B$8*Circuit1!$B$8/3*Circuit1!$J$4/1000","v":5.6426666666666708E-3},0.87579767214765913,0.36197544923474256,6.3462042807234734E-2,9.6342199210390153E-2,6.3363636363636358E-2,{"$f":"W9*Circuit1!$F$25/MAX(Circuit1!$F$29,1)","v":21.718526954084552},18.971622345582858,{"$f":"$AN$6*(1+AB8*0.85*Circuit1!$F$26/100)/1000/MAX(Circuit1!$F$29,1)","v":4.8312111110917289E-3},{"$f":"X9*Circuit1!$J$22/MAX(Circuit1!$J$26,1)","v":2.9002153562906274},2.8452039941858462,{"$f":"$AN$7*(1+AE8*Circuit1!$J$23*0.85/100)/MAX(Circuit1!$J$26,1)/1000","v":1.9732095729290541E-3},{"$f":"(U9+T9+S9+R9+Q9+P9+N9+M9+L9+J9+I9+B9+O9+K9)/A9/Circuit1!$B$3","v":9.1345298742141465E-2},null,{"$f":"(A9*A9+((Circuit1!$B$8)^2)/3)*Circuit1!$J$9/1000*50","v":1.81264},null,0.96797800067973172]
[{"$f":"Circuit1!$B$10/50*9","v":5.3999999999999995},{"$f":"AG9*Circuit1!$B$7/1000000*AC10*(A10*A10+((Circuit1!$B$8)^2)/3)*Circuit1!$B$5*1000","v":1.3446646481739119E-2},{"$f":"(Circuit1!$F$22+A10/(Circuit1!$F$23*Circuit1!$F$29))/(1+((Circuit1!$F$22+A10/(Circuit1!$F$23*Circuit1!$F$29))/Circuit1!$F$4)^(5))^(0.2)","v":2.2268943843602651},{"$f":"MAX((Circuit1!$F$4-C10), 0.001)/(Circuit1!$F$5+Circuit1!$F$28+Circuit1!$F$24/Circuit1!$F$29)","v":1.0665790829383595},{"$f":"C10/(Circuit1!$F$6+Circuit1!$F$28+Circuit1!$F$24/Circuit1!$F$29)","v":1.3918089902251656},{"$f":"(Circuit1!$F$20/1000000000+Circuit1!$F$21/2/1000000000)*MAX(Circuit1!$F$29,1)","v":1.9500000000000003E-8},1.1359802874109835E-8,1.4010543211712772E-8,{"$f":"0.5*Circuit1!$B$3*(G10*MAX(A10-Circuit1!$B$8, 0)+H10*(A10+Circuit1!$B$8))*Circuit1!$B$5*1000","v":0.31922376994042079},{"$f":"MIN(MAX((1-AG9-Circuit1!$F$7/1000000000+Circuit1!$F$8/1000000000),0.001),1)*Circuit1!$B$7/1000000*AF10*(A10*A10+Circuit1!$B$8^2/3)*Circuit1!$B$5*1000","v":5.4435351002689016E-2},{"$f":"Circuit1!$B$3*$AN$2*Circuit1!$J$26*0.000000001*Circuit1!$B$5*1000","v":0.153},{"$f":"Circuit1!$J$21*A10*(Circuit1!$F$7/1000000000+Circuit1!$F$8/1000000000)*Circuit1!$B$5*1000","v":2.2679999999999995E-2},{"$f":"A10*Circuit1!$B$4","v":6.4799999999999995},{"$f":"Circuit1!$F$4*($AN$3/1000000000*Circuit1!$F$29)*Circuit1!$B$5*1000+Circuit1!$F$4*Circuit1!$F$9/1000/2","v":6.3363636363636358E-2},{"$f":"Circuit1!$F$4*($AN$4/1000000000*Circuit1!$J$26)*Circuit1!$B$5*1000+Circuit1!$F$4*Circuit1!$F$9/1000/2","v":7.8718181818181826E-2},{"$f":"(A10*A10+((Circuit1!$B$8)^2)/3)*(Circuit1!$J$9+Circuit1!$J$12)/1000*(1+0.002*AE9)","v":7.6152218613423472E-2},{"$f":"Circuit1!$J$8/1000","v":0.03},{"$f":"0","v":0},{"$f":"(Circuit1!$F$19/1000000000000*Circuit1!$F$29)*Circuit1!$B$3*Circuit1!$B$3*Circuit1!$B$5*1000","v":6.4259999999999998E-2},0,{"$f":"Circuit1!$B$8*Circuit1!$B$8/3*Circuit1!$J$4/1000","v":5.6426666666666708E-3},0.88032444651184671,0.39693041642215987,7.7115351002689014E-2,0.11179488528009014,6.3363636363636358E-2,{"$f":"W10*Circuit1!$F$25/MAX(Circuit1!$F$29,1)","v":23.815824985329591},20.552638104735021,{"$f":"$AN$6*(1+AB9*0.85*Circuit1!$F$26/100)/1000/MAX(Circuit1!$F$29,1)","v":4.8601485409080691E-3},{"$f":"X10*Circuit1!$J$22/MAX(Circuit1!$J$26,1)","v":3.5241715408228882},3.4432736279763532,{"$f":"$AN$7*(1+AE9*Circuit1!$J$23*0.85/100)/MAX(Circuit1!$J$26,1)/1000","v":1.9778980658980688E-3},{"$f":"(U10+T10+S10+R10+Q10+P10+N10+M10+L10+J10+I10+B10+O10+K10)/A10/Circuit1!$B$3","v":9.0875586060330332E-2},null,{"$f":"(A10*A10+((Circuit1!$B$8)^2)/3)*Circuit1!$J$9/1000*50","v":2.2716399999999992},null,0.9687247812496661]
[{"$f":"Circuit1!$B$10/50*10","v":6},{"$f":"AG10*Circuit1!$B$7/1000000*AC11*(A11*A11+((Circuit1!$B$8)^2)/3)*Circuit1!$B$5*1000","v":1.6494159985608318E-2},{"$f":"(Circuit1!$F$22+A11/(Circuit1!$F$23*Circuit1!$F$29))/(1+((Circuit1!$F$22+A11/(Circuit1!$F$23*Circuit1!$F$29))/Circuit1!$F$4)^(5))^(0.2)","v":2.252417803214775},{"$f":"MAX((Circuit1!$F$4-C11), 0.001)/(Circuit1!$F$5+Circuit1!$F$28+Circuit1!$F$24/Circuit1!$F$29)","v":1.0567623833789326},{"$f":"C11/(Circuit1!$F$6+Circuit1!$F$28+Circuit1!$F$24/Circuit1!$F$29)","v":1.4077611270092343},{"$f":"(Circuit1!$F$20/1000000000+Circuit1!$F$21/2/1000000000)*MAX(Circuit1!$F$29,1)","v":1.9500000000000003E-8},1.1425140482294449E-8,1.385178182993832E-8,{"$f":"0.5*Circuit1!$B$3*(G11*MAX(A11-Circuit1!$B$8, 0)+H11*(A11+Circuit1!$B$8))*Circuit1!$B$5*1000","v":0.35128474639438806},{"$f":"MIN(MAX((1-AG10-Circuit1!$F$7/1000000000+Circuit1!$F$8/1000000000),0.001),1)*Circuit1!$B$7/1000000*AF11*(A11*A11+Circuit1!$B$8^2/3)*Circuit1!$B$5*1000","v":6.693716707260991E-2},{"$f":"Circuit1!$B$3*$AN$2*Circuit1!$J$26*0.000000001*Circuit1!$B$5*1000","v":0.153},{"$f":"Circuit1!$J$21*A11*(Circuit1!$F$7/1000000000+Circuit1!$F$8/1000000000)*Circuit1!$B$5*1000","v":2.5199999999999997E-2},{"$f":"A11*Circuit1!$B$4","v":7.1999999999999993},{"$f":"Circuit1!$F$4*($AN$3/1000000000*Circuit1!$F$29)*Circuit1!$B$5*1000+Circuit1!$F$4*Circuit1!$F$9/1000/2","v":6.3363636363636358E-2},{"$f":"Circuit1!$F$4*($AN$4/1000000000*Circuit1!$J$26)*Circuit1!$B$5*1000+Circuit1!$F$4*Circuit1!$F$9/1000/2","v":7.8718181818181826E-2},{"$f":"(A11*A11+((Circuit1!$B$8)^2)/3)*(Circuit1!$J$9+Circuit1!$J$12)/1000*(1+0.002*AE10)","v":9.3460551831693883E-2},{"$f":"Circuit1!$J$8/1000","v":0.03},{"$f":"0","v":0},{"$f":"(Circuit1!$F$19/1000000000000*Circuit1!$F$29)*Circuit1!$B$3*Circuit1!$B$3*Circuit1!$B$5*1000","v":6.4259999999999998E-2},0,{"$f":"Circuit1!$B$8*Circuit1!$B$8/3*Circuit1!$J$4/1000","v":5.6426666666666708E-3},0.88361326930473627,0.43203890637999637,9.213716707260991E-2,0.12910321849836054,6.3363636363636358E-2,{"$f":"W11*Circuit1!$F$25/MAX(Circuit1!$F$29,1)","v":25.922334382799782},22.102652122379624,{"$f":"$AN$6*(1+AB10*0.85*Circuit1!$F$26/100)/1000/MAX(Circuit1!$F$29,1)","v":4.8884950994591619E-3},{"$f":"X11*Circuit1!$J$22/MAX(Circuit1!$J$26,1)","v":4.2106685352182733},4.0956976990116445,{"$f":"$AN$7*(1+AE10*Circuit1!$J$23*0.85/100)/MAX(Circuit1!$J$26,1)/1000","v":1.9830616396309805E-3},{"$f":"(U11+T11+S11+R11+Q11+P11+N11+M11+L11+J11+I11+B11+O11+K11)/A11/Circuit1!$B$3","v":9.0537345668142047E-2},{"$f":"Circuit1!$B$8^2/3","v":1.1285333333333341},{"$f":"(A11*A11+((Circuit1!$B$8)^2)/3)*Circuit1!$J$9/1000*50","v":2.7846400000000004},null,0.96919653628626146]
[{"$f":"Circuit1!$B$10/50*11","v":6.6},{"$f":"AG11*Circuit1!$B$7/1000000*AC12*(A12*A12+((Circuit1!$B$8)^2)/3)*Circuit1!$B$5*1000","v":1.9891199941106004E-2},{"$f":"(Circuit1!$F$22+A12/(Circuit1!$F$23*Circuit1!$F$29))/(1+((Circuit1!$F$22+A12/(Circuit1!$F$23*Circuit1!$F$29))/Circuit1!$F$4)^(5))^(0.2)","v":2.2779084575140058},{"$f":"MAX((Circuit1!$F$4-C12), 0.001)/(Circuit1!$F$5+Circuit1!$F$28+Circuit1!$F$24/Circuit1!$F$29)","v":1.0469582855715363},{"$f":"C12/(Circuit1!$F$6+Circuit1!$F$28+Circuit1!$F$24/Circuit1!$F$29)","v":1.4236927859462536},{"$f":"(Circuit1!$F$20/1000000000+Circuit1!$F$21/2/1000000000)*MAX(Circuit1!$F$29,1)","v":1.9500000000000003E-8},1.1491148701650256E-8,1.3696775169819647E-8,{"$f":"0.5*Circuit1!$B$3*(G12*MAX(A12-Circuit1!$B$8, 0)+H12*(A12+Circuit1!$B$8))*Circuit1!$B$5*1000","v":0.3831719630695492},{"$f":"MIN(MAX((1-AG11-Circuit1!$F$7/1000000000+Circuit1!$F$8/1000000000),0.001),1)*Circuit1!$B$7/1000000*AF12*(A12*A12+Circuit1!$B$8^2/3)*Circuit1!$B$5*1000","v":8.0825619713864288E-2},{"$f":"Circuit1!$B$3*$AN$2*Circuit1!$J$26*0.000000001*Circuit1!$B$5*1000","v":0.153},{"$f":"Circuit1!$J$21*A12*(Circuit1!$F$7/1000000000+Circuit1!$F$8/1000000000)*Circuit1!$B$5*1000","v":2.7719999999999995E-2},{"$f":"A12*Circuit1!$B$4","v":7.919999999999999},{"$f":"Circuit1!$F$4*($AN$3/1000000000*Circuit1!$F$29)*Circuit1!$B$5*1000+Circuit1!$F$4*Circuit1!$F$9/1000/2","v":6.3363636363636358E-2},{"$f":"Circuit1!$F$4*($AN$4/1000000000*Circuit1!$J$26)*Circuit1!$B$5*1000+Circuit1!$F$4*Circuit1!$F$9/1000/2","v":7.8718181818181826E-2},{"$f":"(A12*A12+((Circuit1!$B$8)^2)/3)*(Circuit1!$J$9+Circuit1!$J$12)/1000*(1+0.002*AE11)","v":0.11263648694906103},{"$f":"Circuit1!$J$8/1000","v":0.03},{"$f":"0","v":0},{"$f":"(Circuit1!$F$19/1000000000000*Circuit1!$F$29)*Circuit1!$B$3*Circuit1!$B$3*Circuit1!$B$5*1000","v":6.4259999999999998E-2},0,{"$f":"Circuit1!$B$8*Circuit1!$B$8/3*Circuit1!$J$4/1000","v":5.6426666666666708E-3},0.88598237403994762,0.46732316301065518,0.10854561971386428,0.14827915361572769,6.3363636363636358E-2,{"$f":"W12*Circuit1!$F$25/MAX(Circuit1!$F$29,1)","v":28.039389780639311},23.62347159399927,{"$f":"$AN$6*(1+AB11*0.85*Circuit1!$F$26/100)/1000/MAX(Circuit1!$F$29,1)","v":4.9162858174528505E-3},{"$f":"X12*Circuit1!$J$22/MAX(Circuit1!$J$26,1)","v":4.9605348209235984},4.8017401591858091,{"$f":"$AN$7*(1+AE11*Circuit1!$J$23*0.85/100)/MAX(Circuit1!$J$26,1)/1000","v":1.9886944950805469E-3},{"$f":"(U12+T12+S12+R12+Q12+P12+N12+M12+L12+J12+I12+B12+O12+K12)/A12/Circuit1!$B$3","v":9.0295250045677455E-2},null,{"$f":"(A12*A12+((Circuit1!$B$8)^2)/3)*Circuit1!$J$9/1000*50","v":3.3516399999999993},null,0.96946615087223598]
[{"$f":"Circuit1!$B$10/50*12","v":7.1999999999999993},{"$f":"AG12*Circuit1!$B$7/1000000*AC13*(A13*A13+((Circuit1!$B$8)^2)/3)*Circuit1!$B$5*1000","v":2.3644060167347387E-2},{"$f":"(Circuit1!$F$22+A13/(Circuit1!$F$23*Circuit1!$F$29))/(1+((Circuit1!$F$22+A13/(Circuit1!$F$23*Circuit1!$F$29))/Circuit1!$F$4)^(5))^(0.2)","v":2.3033648913201721},{"$f":"MAX((Circuit1!$F$4-C13), 0.001)/(Circuit1!$F$5+Circuit1!$F$28+Circuit1!$F$24/Circuit1!$F$29)","v":1.0371673494922415},{"$f":"C13/(Circuit1!$F$6+Circuit1!$F$28+Circuit1!$F$24/Circuit1!$F$29)","v":1.4396030570751075},{"$f":"(Circuit1!$F$20/1000000000+Circuit1!$F$21/2/1000000000)*MAX(Circuit1!$F$29,1)","v":1.9500000000000003E-8},1.1557833907744E-8,1.3545400521459605E-8,{"$f":"0.5*Circuit1!$B$3*(G13*MAX(A13-Circuit1!$B$8, 0)+H13*(A13+Circuit1!$B$8))*Circuit1!$B$5*1000","v":0.41490092353388092},{"$f":"MIN(MAX((1-AG12-Circuit1!$F$7/1000000000+Circuit1!$F$8/1000000000),0.001),1)*Circuit1!$B$7/1000000*AF13*(A13*A13+Circuit1!$B$8^2/3)*Circuit1!$B$5*1000","v":9.6120418475398012E-2},{"$f":"Circuit1!$B$3*$AN$2*Circuit1!$J$26*0.000000001*Circuit1!$B$5*1000","v":0.153},{"$f":"Circuit1!$J$21*A13*(Circuit1!$F$7/1000000000+Circuit1!$F$8/1000000000)*Circuit1!$B$5*1000","v":3.024E-2},{"$f":"A13*Circuit1!$B$4","v":8.6399999999999988},{"$f":"Circuit1!$F$4*($AN$3/1000000000*Circuit1!$F$29)*Circuit1!$B$5*1000+Circuit1!$F$4*Circuit1!$F$9/1000/2","v":6.3363636363636358E-2},{"$f":"Circuit1!$F$4*($AN$4/1000000000*Circuit1!$J$26)*Circuit1!$B$5*1000+Circuit1!$F$4*Circuit1!$F$9/1000/2","v":7.8718181818181826E-2},{"$f":"(A13*A13+((Circuit1!$B$8)^2)/3)*(Circuit1!$J$9+Circuit1!$J$12)/1000*(1+0.002*AE12)","v":0.13369303900173249},{"$f":"Circuit1!$J$8/1000","v":0.03},{"$f":"0","v":0},{"$f":"(Circuit1!$F$19/1000000000000*Circuit1!$F$29)*Circuit1!$B$3*Circuit1!$B$3*Circuit1!$B$5*1000","v":6.4259999999999998E-2},0,{"$f":"Circuit1!$B$8*Circuit1!$B$8/3*Circuit1!$J$4/1000","v":5.6426666666666708E-3},0.88764847083156928,0.50280498370122828,0.126360418475398,0.16933570566839917,6.3363636363636358E-2,{"$f":"W13*Circuit1!$F$25/MAX(Circuit1!$F$29,1)","v":30.168299022073697},25.116765146107277,{"$f":"$AN$6*(1+AB12*0.85*Circuit1!$F$26/100)/1000/MAX(Circuit1!$F$29,1)","v":4.9435530966993445E-3},{"$f":"X13*Circuit1!$J$22/MAX(Circuit1!$J$26,1)","v":5.774671124325689},5.5606002079601744,{"$f":"$AN$7*(1+AE12*Circuit1!$J$23*0.85/100)/MAX(Circuit1!$J$26,1)/1000","v":1.9947902774037013E-3},{"$f":"(U13+T13+S13+R13+Q13+P13+N13+M13+L13+J13+I13+B13+O13+K13)/A13/Circuit1!$B$3","v":9.012576783358188E-2},null,{"$f":"(A13*A13+((Circuit1!$B$8)^2)/3)*Circuit1!$J$9/1000*50","v":3.9726399999999993},null,0.96958237210638065]
[{"$f":"Circuit1!$B$10/50*13","v":7.8},{"$f":"AG13*Circuit1!$B$7/1000000*AC14*(A14*A14+((Circuit1!$B$8)^2)/3)*Circuit1!$B$5*1000","v":2.7759084861672209E-2},{"$f":"(Circuit1!$F$22+A14/(Circuit1!$F$23*Circuit1!$F$29))/(1+((Circuit1!$F$22+A14/(Circuit1!$F$23*Circuit1!$F$29))/Circuit1!$F$4)^(5))^(0.2)","v":2.3287856065094013},{"$f":"MAX((Circuit1!$F$4-C14), 0.001)/(Circuit1!$F$5+Circuit1!$F$28+Circuit1!$F$24/Circuit1!$F$29)","v":1.0273901513425379},{"$f":"C14/(Circuit1!$F$6+Circuit1!$F$28+Circuit1!$F$24/Circuit1!$F$29)","v":1.4554910040683757},{"$f":"(Circuit1!$F$20/1000000000+Circuit1!$F$21/2/1000000000)*MAX(Circuit1!$F$29,1)","v":1.9500000000000003E-8},1.162520239217616E-8,1.3397540723710261E-8,{"$f":"0.5*Circuit1!$B$3*(G14*MAX(A14-Circuit1!$B$8, 0)+H14*(A14+Circuit1!$B$8))*Circuit1!$B$5*1000","v":0.44648662237635794},{"$f":"MIN(MAX((1-AG13-Circuit1!$F$7/1000000000+Circuit1!$F$8/1000000000),0.001),1)*Circuit1!$B$7/1000000*AF14*(A14*A14+Circuit1!$B$8^2/3)*Circuit1!$B$5*1000","v":0.1128428142226993},{"$f":"Circuit1!$B$3*$AN$2*Circuit1!$J$26*0.000000001*Circuit1!$B$5*1000","v":0.153},{"$f":"Circuit1!$J$21*A14*(Circuit1!$F$7/1000000000+Circuit1!$F$8/1000000000)*Circuit1!$B$5*1000","v":3.2759999999999997E-2},{"$f":"A14*Circuit1!$B$4","v":9.36},{"$f":"Circuit1!$F$4*($AN$3/1000000000*Circuit1!$F$29)*Circuit1!$B$5*1000+Circuit1!$F$4*Circuit1!$F$9/1000/2","v":6.3363636363636358E-2},{"$f":"Circuit1!$F$4*($AN$4/1000000000*Circuit1!$J$26)*Circuit1!$B$5*1000+Circuit1!$F$4*Circuit1!$F$9/1000/2","v":7.8718181818181826E-2},{"$f":"(A14*A14+((Circuit1!$B$8)^2)/3)*(Circuit1!$J$9+Circuit1!$J$12)/1000*(1+0.002*AE13)","v":0.15664424453003492},{"$f":"Circuit1!$J$8/1000","v":0.03},{"$f":"0","v":0},{"$f":"(Circuit1!$F$19/1000000000000*Circuit1!$F$29)*Circuit1!$B$3*Circuit1!$B$3*Circuit1!$B$5*1000","v":6.4259999999999998E-2},0,{"$f":"Circuit1!$B$8*Circuit1!$B$8/3*Circuit1!$J$4/1000","v":5.6426666666666708E-3},0.8887642044001095,0.53850570723803015,0.1456028142226993,0.1922869111967016,6.3363636363636358E-2,{"$f":"W14*Circuit1!$F$25/MAX(Circuit1!$F$29,1)","v":32.310342434281807},26.584072523967357,{"$f":"$AN$6*(1+AB13*0.85*Circuit1!$F$26/100)/1000/MAX(Circuit1!$F$29,1)","v":4.9703268545596051E-3},{"$f":"X14*Circuit1!$J$22/MAX(Circuit1!$J$26,1)","v":6.6540486099773588},6.371410763737094,{"$f":"$AN$7*(1+AE13*Circuit1!$J$23*0.85/100)/MAX(Circuit1!$J$26,1)/1000","v":2.0013420727021396E-3},{"$f":"(U14+T14+S14+R14+Q14+P14+N14+M14+L14+J14+I14+B14+O14+K14)/A14/Circuit1!$B$3","v":9.0012626075549149E-2},null,{"$f":"(A14*A14+((Circuit1!$B$8)^2)/3)*Circuit1!$J$9/1000*50","v":4.64764},null,0.96957904102394077]
[{"$f":"Circuit1!$B$10/50*14","v":8.4},{"$f":"AG14*Circuit1!$B$7/1000000*AC15*(A15*A15+((Circuit1!$B$8)^2)/3)*Circuit1!$B$5*1000","v":3.2242649854964452E-2},{"$f":"(Circuit1!$F$22+A15/(Circuit1!$F$23*Circuit1!$F$29))/(1+((Circuit1!$F$22+A15/(Circuit1!$F$23*Circuit1!$F$29))/Circuit1!$F$4)^(5))^(0.2)","v":2.354169062548896},{"$f":"MAX((Circuit1!$F$4-C15), 0.001)/(Circuit1!$F$5+Circuit1!$F$28+Circuit1!$F$24/Circuit1!$F$29)","v":1.01762728363504},{"$f":"C15/(Circuit1!$F$6+Circuit1!$F$28+Circuit1!$F$24/Circuit1!$F$29)","v":1.4713556640930598},{"$f":"(Circuit1!$F$20/1000000000+Circuit1!$F$21/2/1000000000)*MAX(Circuit1!$F$29,1)","v":1.9500000000000003E-8},1.1693260353413343E-8,1.3253083857205768E-8,{"$f":"0.5*Circuit1!$B$3*(G15*MAX(A15-Circuit1!$B$8, 0)+H15*(A15+Circuit1!$B$8))*Circuit1!$B$5*1000","v":0.47794357488640188},{"$f":"MIN(MAX((1-AG14-Circuit1!$F$7/1000000000+Circuit1!$F$8/1000000000),0.001),1)*Circuit1!$B$7/1000000*AF15*(A15*A15+Circuit1!$B$8^2/3)*Circuit1!$B$5*1000","v":0.1310155420109248},{"$f":"Circuit1!$B$3*$AN$2*Circuit1!$J$26*0.000000001*Circuit1!$B$5*1000","v":0.153},{"$f":"Circuit1!$J$21*A15*(Circuit1!$F$7/1000000000+Circuit1!$F$8/1000000000)*Circuit1!$B$5*1000","v":3.5279999999999999E-2},{"$f":"A15*Circuit1!$B$4","v":10.08},{"$f":"Circuit1!$F$4*($AN$3/1000000000*Circuit1!$F$29)*Circuit1!$B$5*1000+Circuit1!$F$4*Circuit1!$F$9/1000/2","v":6.3363636363636358E-2},{"$f":"Circuit1!$F$4*($AN$4/1000000000*Circuit1!$J$26)*Circuit1!$B$5*1000+Circuit1!$F$4*Circuit1!$F$9/1000/2","v":7.8718181818181826E-2},{"$f":"(A15*A15+((Circuit1!$B$8)^2)/3)*(Circuit1!$J$9+Circuit1!$J$12)/1000*(1+0.002*AE14)","v":0.18150511879791595},{"$f":"Circuit1!$J$8/1000","v":0.03},{"$f":"0","v":0},{"$f":"(Circuit1!$F$19/1000000000000*Circuit1!$F$29)*Circuit1!$B$3*Circuit1!$B$3*Circuit1!$B$5*1000","v":6.4259999999999998E-2},0,{"$f":"Circuit1!$B$8*Circuit1!$B$8/3*Circuit1!$J$4/1000","v":5.6426666666666708E-3},0.88944017156247235,0.57444622474136631,0.16629554201092481,0.21714778546458263,6.3363636363636358E-2,{"$f":"W15*Circuit1!$F$25/MAX(Circuit1!$F$29,1)","v":34.466773484481976},28.026814395966095,{"$f":"$AN$6*(1+AB14*0.85*Circuit1!$F$26/100)/1000/MAX(Circuit1!$F$29,1)","v":4.9966346976397184E-3},{"$f":"X15*Circuit1!$J$22/MAX(Circuit1!$J$26,1)","v":7.5997062698992641},7.2332364537066107,{"$f":"$AN$7*(1+AE14*Circuit1!$J$23*0.85/100)/MAX(Circuit1!$J$26,1)/1000","v":2.0083423948245691E-3},{"$f":"(U15+T15+S15+R15+Q15+P15+N15+M15+L15+J15+I15+B15+O15+K15)/A15/Circuit1!$B$3","v":8.9944217225386439E-2},null,{"$f":"(A15*A15+((Circuit1!$B$8)^2)/3)*Circuit1!$J$9/1000*50","v":5.376640000000001},null,0.96948038059519093]
[{"$f":"Circuit1!$B$10/50*15","v":9},{"$f":"AG15*Circuit1!$B$7/1000000*AC16*(A16*A16+((Circuit1!$B$8)^2)/3)*Circuit1!$B$5*1000","v":3.7101155906907053E-2},{"$f":"(Circuit1!$F$22+A16/(Circuit1!$F$23*Circuit1!$F$29))/(1+((Circuit1!$F$22+A16/(Circuit1!$F$23*Circuit1!$F$29))/Circuit1!$F$4)^(5))^(0.2)","v":2.3795136763243416},{"$f":"MAX((Circuit1!$F$4-C16), 0.001)/(Circuit1!$F$5+Circuit1!$F$28+Circuit1!$F$24/Circuit1!$F$29)","v":1.0078793552598686},{"$f":"C16/(Circuit1!$F$6+Circuit1!$F$28+Circuit1!$F$24/Circuit1!$F$29)","v":1.4871960477027135},{"$f":"(Circuit1!$F$20/1000000000+Circuit1!$F$21/2/1000000000)*MAX(Circuit1!$F$29,1)","v":1.9500000000000003E-8},1.1762013887279164E-8,1.3111922957381339E-8,{"$f":"0.5*Circuit1!$B$3*(G16*MAX(A16-Circuit1!$B$8, 0)+H16*(A16+Circuit1!$B$8))*Circuit1!$B$5*1000","v":0.50928584465459825},{"$f":"MIN(MAX((1-AG15-Circuit1!$F$7/1000000000+Circuit1!$F$8/1000000000),0.001),1)*Circuit1!$B$7/1000000*AF16*(A16*A16+Circuit1!$B$8^2/3)*Circuit1!$B$5*1000","v":0.15066275177046159},{"$f":"Circuit1!$B$3*$AN$2*Circuit1!$J$26*0.000000001*Circuit1!$B$5*1000","v":0.153},{"$f":"Circuit1!$J$21*A16*(Circuit1!$F$7/1000000000+Circuit1!$F$8/1000000000)*Circuit1!$B$5*1000","v":3.78E-2},{"$f":"A16*Circuit1!$B$4","v":10.799999999999999},{"$f":"Circuit1!$F$4*($AN$3/1000000000*Circuit1!$F$29)*Circuit1!$B$5*1000+Circuit1!$F$4*Circuit1!$F$9/1000/2","v":6.3363636363636358E-2},{"$f":"Circuit1!$F$4*($AN$4/1000000000*Circuit1!$J$26)*Circuit1!$B$5*1000+Circuit1!$F$4*Circuit1!$F$9/1000/2","v":7.8718181818181826E-2},{"$f":"(A16*A16+((Circuit1!$B$8)^2)/3)*(Circuit1!$J$9+Circuit1!$J$12)/1000*(1+0.002*AE15)","v":0.208291608839314},{"$f":"Circuit1!$J$8/1000","v":0.03},{"$f":"0","v":0},{"$f":"(Circuit1!$F$19/1000000000000*Circuit1!$F$29)*Circuit1!$B$3*Circuit1!$B$3*Circuit1!$B$5*1000","v":6.4259999999999998E-2},0,{"$f":"Circuit1!$B$8*Circuit1!$B$8/3*Circuit1!$J$4/1000","v":5.6426666666666708E-3},0.88975844681503657,0.61064700056150534,0.1884627517704616,0.24393427550598068,6.3363636363636358E-2,{"$f":"W16*Circuit1!$F$25/MAX(Circuit1!$F$29,1)","v":36.638820033690322},29.446301707552013,{"$f":"$AN$6*(1+AB15*0.85*Circuit1!$F$26/100)/1000/MAX(Circuit1!$F$29,1)","v":5.0225020975767408E-3},{"$f":"X16*Circuit1!$J$22/MAX(Circuit1!$J$26,1)","v":8.612747755910096},8.145071450213095,{"$f":"$AN$7*(1+AE15*Circuit1!$J$23*0.85/100)/MAX(Circuit1!$J$26,1)/1000","v":2.0157831680115818E-3},{"$f":"(U16+T16+S16+R16+Q16+P16+N16+M16+L16+J16+I16+B16+O16+K16)/A16/Circuit1!$B$3","v":8.9912043303850123E-2},null,{"$f":"(A16*A16+((Circuit1!$B$8)^2)/3)*Circuit1!$J$9/1000*50","v":6.1596400000000004},null,0.96930418283233633]
[{"$f":"Circuit1!$B$10/50*16","v":9.6},{"$f":"AG16*Circuit1!$B$7/1000000*AC17*(A17*A17+((Circuit1!$B$8)^2)/3)*Circuit1!$B$5*1000","v":4.2341027925283513E-2},{"$f":"(Circuit1!$F$22+A17/(Circuit1!$F$23*Circuit1!$F$29))/(1+((Circuit1!$F$22+A17/(Circuit1!$F$23*Circuit1!$F$29))/Circuit1!$F$4)^(5))^(0.2)","v":2.4048178220202092},{"$f":"MAX((Circuit1!$F$4-C17), 0.001)/(Circuit1!$F$5+Circuit1!$F$28+Circuit1!$F$24/Circuit1!$F$29)","v":0.99814699153068875},{"$f":"C17/(Circuit1!$F$6+Circuit1!$F$28+Circuit1!$F$24/Circuit1!$F$29)","v":1.5030111387626306},{"$f":"(Circuit1!$F$20/1000000000+Circuit1!$F$21/2/1000000000)*MAX(Circuit1!$F$29,1)","v":1.9500000000000003E-8},1.1831468977102404E-8,1.2973955745965781E-8,{"$f":"0.5*Circuit1!$B$3*(G17*MAX(A17-Circuit1!$B$8, 0)+H17*(A17+Circuit1!$B$8))*Circuit1!$B$5*1000","v":0.54052706924136706},{"$f":"MIN(MAX((1-AG16-Circuit1!$F$7/1000000000+Circuit1!$F$8/1000000000),0.001),1)*Circuit1!$B$7/1000000*AF17*(A17*A17+Circuit1!$B$8^2/3)*Circuit1!$B$5*1000","v":0.17180992922760521},{"$f":"Circuit1!$B$3*$AN$2*Circuit1!$J$26*0.000000001*Circuit1!$B$5*1000","v":0.153},{"$f":"Circuit1!$J$21*A17*(Circuit1!$F$7/1000000000+Circuit1!$F$8/1000000000)*Circuit1!$B$5*1000","v":4.0319999999999995E-2},{"$f":"A17*Circuit1!$B$4","v":11.52},{"$f":"Circuit1!$F$4*($AN$3/1000000000*Circuit1!$F$29)*Circuit1!$B$5*1000+Circuit1!$F$4*Circuit1!$F$9/1000/2","v":6.3363636363636358E-2},{"$f":"Circuit1!$F$4*($AN$4/1000000000*Circuit1!$J$26)*Circuit1!$B$5*1000+Circuit1!$F$4*Circuit1!$F$9/1000/2","v":7.8718181818181826E-2},{"$f":"(A17*A17+((Circuit1!$B$8)^2)/3)*(Circuit1!$J$9+Circuit1!$J$12)/1000*(1+0.002*AE16)","v":0.2370205421807613},{"$f":"Circuit1!$J$8/1000","v":0.03},{"$f":"0","v":0},{"$f":"(Circuit1!$F$19/1000000000000*Circuit1!$F$29)*Circuit1!$B$3*Circuit1!$B$3*Circuit1!$B$5*1000","v":6.4259999999999998E-2},0,{"$f":"Circuit1!$B$8*Circuit1!$B$8/3*Circuit1!$J$4/1000","v":5.6426666666666708E-3},0.88978120669816563,0.64712809716665054,0.21212992922760521,0.27266320884742801,6.3363636363636358E-2,{"$f":"W17*Circuit1!$F$25/MAX(Circuit1!$F$29,1)","v":38.827685829999034},30.84374438472609,{"$f":"$AN$6*(1+AB16*0.85*Circuit1!$F$26/100)/1000/MAX(Circuit1!$F$29,1)","v":5.0479525587486017E-3},{"$f":"X17*Circuit1!$J$22/MAX(Circuit1!$J$26,1)","v":9.6943377657015581},9.1058373465233142,{"$f":"$AN$7*(1+AE16*Circuit1!$J$23*0.85/100)/MAX(Circuit1!$J$26,1)/1000","v":2.02365570821542E-3},{"$f":"(U17+T17+S17+R17+Q17+P17+N17+M17+L17+J17+I17+B17+O17+K17)/A17/Circuit1!$B$3","v":8.9909743426552099E-2},null,{"$f":"(A17*A17+((Circuit1!$B$8)^2)/3)*Circuit1!$J$9/1000*50","v":6.9966400000000002},null,0.96906380842086515]
[{"$f":"Circuit1!$B$10/50*17","v":10.199999999999999},{"$f":"AG17*Circuit1!$B$7/1000000*AC18*(A18*A18+((Circuit1!$B$8)^2)/3)*Circuit1!$B$5*1000","v":4.7968717091145537E-2},{"$f":"(Circuit1!$F$22+A18/(Circuit1!$F$23*Circuit1!$F$29))/(1+((Circuit1!$F$22+A18/(Circuit1!$F$23*Circuit1!$F$29))/Circuit1!$F$4)^(5))^(0.2)","v":2.4300798310555658},{"$f":"MAX((Circuit1!$F$4-C18), 0.001)/(Circuit1!$F$5+Circuit1!$F$28+Circuit1!$F$24/Circuit1!$F$29)","v":0.9884308342093977},{"$f":"C18/(Circuit1!$F$6+Circuit1!$F$28+Circuit1!$F$24/Circuit1!$F$29)","v":1.5187998944097285},{"$f":"(Circuit1!$F$20/1000000000+Circuit1!$F$21/2/1000000000)*MAX(Circuit1!$F$29,1)","v":1.9500000000000003E-8},1.1901631483522132E-8,1.2839084379564398E-8,{"$f":"0.5*Circuit1!$B$3*(G18*MAX(A18-Circuit1!$B$8, 0)+H18*(A18+Circuit1!$B$8))*Circuit1!$B$5*1000","v":0.57168048404745075},{"$f":"MIN(MAX((1-AG17-Circuit1!$F$7/1000000000+Circuit1!$F$8/1000000000),0.001),1)*Circuit1!$B$7/1000000*AF18*(A18*A18+Circuit1!$B$8^2/3)*Circuit1!$B$5*1000","v":0.19448380822079814},{"$f":"Circuit1!$B$3*$AN$2*Circuit1!$J$26*0.000000001*Circuit1!$B$5*1000","v":0.153},{"$f":"Circuit1!$J$21*A18*(Circuit1!$F$7/1000000000+Circuit1!$F$8/1000000000)*Circuit1!$B$5*1000","v":4.2839999999999996E-2},{"$f":"A18*Circuit1!$B$4","v":12.239999999999998},{"$f":"Circuit1!$F$4*($AN$3/1000000000*Circuit1!$F$29)*Circuit1!$B$5*1000+Circuit1!$F$4*Circuit1!$F$9/1000/2","v":6.3363636363636358E-2},{"$f":"Circuit1!$F$4*($AN$4/1000000000*Circuit1!$J$26)*Circuit1!$B$5*1000+Circuit1!$F$4*Circuit1!$F$9/1000/2","v":7.8718181818181826E-2},{"$f":"(A18*A18+((Circuit1!$B$8)^2)/3)*(Circuit1!$J$9+Circuit1!$J$12)/1000*(1+0.002*AE17)","v":0.26770957112586208},{"$f":"Circuit1!$J$8/1000","v":0.03},{"$f":"0","v":0},{"$f":"(Circuit1!$F$19/1000000000000*Circuit1!$F$29)*Circuit1!$B$3*Circuit1!$B$3*Circuit1!$B$5*1000","v":6.4259999999999998E-2},0,{"$f":"Circuit1!$B$8*Circuit1!$B$8/3*Circuit1!$J$4/1000","v":5.6426666666666708E-3},0.88955640727947505,0.68390920113859632,0.23732380822079813,0.30335223779252873,6.3363636363636358E-2,{"$f":"W18*Circuit1!$F$25/MAX(Circuit1!$F$29,1)","v":41.034552068315776},32.220259338458391,{"$f":"$AN$6*(1+AB17*0.85*Circuit1!$F$26/100)/1000/MAX(Circuit1!$F$29,1)","v":5.073007774321881E-3},{"$f":"X18*Circuit1!$J$22/MAX(Circuit1!$J$26,1)","v":10.845698035690475},10.114381206468973,{"$f":"$AN$7*(1+AE17*Circuit1!$J$23*0.85/100)/MAX(Circuit1!$J$26,1)/1000","v":2.031950704759923E-3},{"$f":"(U18+T18+S18+R18+Q18+P18+N18+M18+L18+J18+I18+B18+O18+K18)/A18/Circuit1!$B$3","v":8.9932464479305488E-2},null,{"$f":"(A18*A18+((Circuit1!$B$8)^2)/3)*Circuit1!$J$9/1000*50","v":7.8876399999999984},null,0.96876948491532167]
[{"$f":"Circuit1!$B$10/50*18","v":10.799999999999999},{"$f":"AG18*Circuit1!$B$7/1000000*AC19*(A19*A19+((Circuit1!$B$8)^2)/3)*Circuit1!$B$5*1000","v":5.3990704321729234E-2},{"$f":"(Circuit1!$F$22+A19/(Circuit1!$F$23*Circuit1!$F$29))/(1+((Circuit1!$F$22+A19/(Circuit1!$F$23*Circuit1!$F$29))/Circuit1!$F$4)^(5))^(0.2)","v":2.4552979920780391},{"$f":"MAX((Circuit1!$F$4-C19), 0.001)/(Circuit1!$F$5+Circuit1!$F$28+Circuit1!$F$24/Circuit1!$F$29)","v":0.97873154150844643},{"$f":"C19/(Circuit1!$F$6+Circuit1!$F$28+Circuit1!$F$24/Circuit1!$F$29)","v":1.5345612450487744},{"$f":"(Circuit1!$F$20/1000000000+Circuit1!$F$21/2/1000000000)*MAX(Circuit1!$F$29,1)","v":1.9500000000000003E-8},1.1972507133950456E-8,1.2707215214066099E-8,{"$f":"0.5*Circuit1!$B$3*(G19*MAX(A19-Circuit1!$B$8, 0)+H19*(A19+Circuit1!$B$8))*Circuit1!$B$5*1000","v":0.60275894450848089},{"$f":"MIN(MAX((1-AG18-Circuit1!$F$7/1000000000+Circuit1!$F$8/1000000000),0.001),1)*Circuit1!$B$7/1000000*AF19*(A19*A19+Circuit1!$B$8^2/3)*Circuit1!$B$5*1000","v":0.21871227502740317},{"$f":"Circuit1!$B$3*$AN$2*Circuit1!$J$26*0.000000001*Circuit1!$B$5*1000","v":0.153},{"$f":"Circuit1!$J$21*A19*(Circuit1!$F$7/1000000000+Circuit1!$F$8/1000000000)*Circuit1!$B$5*1000","v":4.5359999999999991E-2},{"$f":"A19*Circuit1!$B$4","v":12.959999999999999},{"$f":"Circuit1!$F$4*($AN$3/1000000000*Circuit1!$F$29)*Circuit1!$B$5*1000+Circuit1!$F$4*Circuit1!$F$9/1000/2","v":6.3363636363636358E-2},{"$f":"Circuit1!$F$4*($AN$4/1000000000*Circuit1!$J$26)*Circuit1!$B$5*1000+Circuit1!$F$4*Circuit1!$F$9/1000/2","v":7.8718181818181826E-2},{"$f":"(A19*A19+((Circuit1!$B$8)^2)/3)*(Circuit1!$J$9+Circuit1!$J$12)/1000*(1+0.002*AE18)","v":0.30037711253463367},{"$f":"Circuit1!$J$8/1000","v":0.03},{"$f":"0","v":0},{"$f":"(Circuit1!$F$19/1000000000000*Circuit1!$F$29)*Circuit1!$B$3*Circuit1!$B$3*Circuit1!$B$5*1000","v":6.4259999999999998E-2},0,{"$f":"Circuit1!$B$8*Circuit1!$B$8/3*Circuit1!$J$4/1000","v":5.6426666666666708E-3},0.88912162646102832,0.72100964883021013,0.26407227502740316,0.33601977920130033,6.3363636363636358E-2,{"$f":"W19*Circuit1!$F$25/MAX(Circuit1!$F$29,1)","v":43.26057892981261},33.576877785451344,{"$f":"$AN$6*(1+AB18*0.85*Circuit1!$F$26/100)/1000/MAX(Circuit1!$F$29,1)","v":5.0976877697656671E-3},{"$f":"X19*Circuit1!$J$22/MAX(Circuit1!$J$26,1)","v":12.068102968752324},11.169473894945687,{"$f":"$AN$7*(1+AE18*Circuit1!$J$23*0.85/100)/MAX(Circuit1!$J$26,1)/1000","v":2.0406582035016651E-3},{"$f":"(U19+T19+S19+R19+Q19+P19+N19+M19+L19+J19+I19+B19+O19+K19)/A19/Circuit1!$B$3","v":8.9976441489140344E-2},null,{"$f":"(A19*A19+((Circuit1!$B$8)^2)/3)*Circuit1!$J$9/1000*50","v":8.8326399999999978},null,0.96842917473342605]
[{"$f":"Circuit1!$B$10/50*19","v":11.4},{"$f":"AG19*Circuit1!$B$7/1000000*AC20*(A20*A20+((Circuit1!$B$8)^2)/3)*Circuit1!$B$5*1000","v":6.0413504222218285E-2},{"$f":"(Circuit1!$F$22+A20/(Circuit1!$F$23*Circuit1!$F$29))/(1+((Circuit1!$F$22+A20/(Circuit1!$F$23*Circuit1!$F$29))/Circuit1!$F$4)^(5))^(0.2)","v":2.4804705510185627},{"$f":"MAX((Circuit1!$F$4-C20), 0.001)/(Circuit1!$F$5+Circuit1!$F$28+Circuit1!$F$24/Circuit1!$F$29)","v":0.96904978806978348},{"$f":"C20/(Circuit1!$F$6+Circuit1!$F$28+Circuit1!$F$24/Circuit1!$F$29)","v":1.5502940943866017},{"$f":"(Circuit1!$F$20/1000000000+Circuit1!$F$21/2/1000000000)*MAX(Circuit1!$F$29,1)","v":1.9500000000000003E-8},1.2044101511694538E-8,1.2578258583714392E-8,{"$f":"0.5*Circuit1!$B$3*(G20*MAX(A20-Circuit1!$B$8, 0)+H20*(A20+Circuit1!$B$8))*Circuit1!$B$5*1000","v":0.63377494672540124},{"$f":"MIN(MAX((1-AG19-Circuit1!$F$7/1000000000+Circuit1!$F$8/1000000000),0.001),1)*Circuit1!$B$7/1000000*AF20*(A20*A20+Circuit1!$B$8^2/3)*Circuit1!$B$5*1000","v":0.24452426509731218},{"$f":"Circuit1!$B$3*$AN$2*Circuit1!$J$26*0.000000001*Circuit1!$B$5*1000","v":0.153},{"$f":"Circuit1!$J$21*A20*(Circuit1!$F$7/1000000000+Circuit1!$F$8/1000000000)*Circuit1!$B$5*1000","v":4.7879999999999999E-2},{"$f":"A20*Circuit1!$B$4","v":13.68},{"$f":"Circuit1!$F$4*($AN$3/1000000000*Circuit1!$F$29)*Circuit1!$B$5*1000+Circuit1!$F$4*Circuit1!$F$9/1000/2","v":6.3363636363636358E-2},{"$f":"Circuit1!$F$4*($AN$4/1000000000*Circuit1!$J$26)*Circuit1!$B$5*1000+Circuit1!$F$4*Circuit1!$F$9/1000/2","v":7.8718181818181826E-2},{"$f":"(A20*A20+((Circuit1!$B$8)^2)/3)*(Circuit1!$J$9+Circuit1!$J$12)/1000*(1+0.002*AE19)","v":0.33504228308830031},{"$f":"Circuit1!$J$8/1000","v":0.03},{"$f":"0","v":0},{"$f":"(Circuit1!$F$19/1000000000000*Circuit1!$F$29)*Circuit1!$B$3*Circuit1!$B$3*Circuit1!$B$5*1000","v":6.4259999999999998E-2},0,{"$f":"Circuit1!$B$8*Circuit1!$B$8/3*Circuit1!$J$4/1000","v":5.6426666666666708E-3},0.88850672800171182,0.75844845094761948,0.29240426509731215,0.37068494975496702,6.3363636363636358E-2,{"$f":"W20*Circuit1!$F$25/MAX(Circuit1!$F$29,1)","v":45.506907056857166},34.914551927024412,{"$f":"$AN$6*(1+AB19*0.85*Circuit1!$F$26/100)/1000/MAX(Circuit1!$F$29,1)","v":5.1220110341079518E-3},{"$f":"X20*Circuit1!$J$22/MAX(Circuit1!$J$26,1)","v":13.362874914947167},12.269808781742222,{"$f":"$AN$7*(1+AE19*Circuit1!$J$23*0.85/100)/MAX(Circuit1!$J$26,1)/1000","v":2.0497675924159224E-3},{"$f":"(U20+T20+S20+R20+Q20+P20+N20+M20+L20+J20+I20+B20+O20+K20)/A20/Circuit1!$B$3","v":9.0038710432641611E-2},null,{"$f":"(A20*A20+((Circuit1!$B$8)^2)/3)*Circuit1!$J$9/1000*50","v":9.8316400000000019},null,0.96804917058571782]
[{"$f":"Circuit1!$B$10/50*20","v":12},{"$f":"AG20*Circuit1!$B$7/1000000*AC21*(A21*A21+((Circuit1!$B$8)^2)/3)*Circuit1!$B$5*1000","v":6.7243669051612318E-2},{"$f":"(Circuit1!$F$22+A21/(Circuit1!$F$23*Circuit1!$F$29))/(1+((Circuit1!$F$22+A21/(Circuit1!$F$23*Circuit1!$F$29))/Circuit1!$F$4)^(5))^(0.2)","v":2.5055957112094913},{"$f":"MAX((Circuit1!$F$4-C21), 0.001)/(Circuit1!$F$5+Circuit1!$F$28+Circuit1!$F$24/Circuit1!$F$29)","v":0.95938626491942636},{"$f":"C21/(Circuit1!$F$6+Circuit1!$F$28+Circuit1!$F$24/Circuit1!$F$29)","v":1.565997319505932},{"$f":"(Circuit1!$F$20/1000000000+Circuit1!$F$21/2/1000000000)*MAX(Circuit1!$F$29,1)","v":1.9500000000000003E-8},1.2116420044740635E-8,1.2452128593778309E-8,{"$f":"0.5*Circuit1!$B$3*(G21*MAX(A21-Circuit1!$B$8, 0)+H21*(A21+Circuit1!$B$8))*Circuit1!$B$5*1000","v":0.66474064663302745},{"$f":"MIN(MAX((1-AG20-Circuit1!$F$7/1000000000+Circuit1!$F$8/1000000000),0.001),1)*Circuit1!$B$7/1000000*AF21*(A21*A21+Circuit1!$B$8^2/3)*Circuit1!$B$5*1000","v":0.27194965253293296},{"$f":"Circuit1!$B$3*$AN$2*Circuit1!$J$26*0.000000001*Circuit1!$B$5*1000","v":0.153},{"$f":"Circuit1!$J$21*A21*(Circuit1!$F$7/1000000000+Circuit1!$F$8/1000000000)*Circuit1!$B$5*1000","v":5.0399999999999993E-2},{"$f":"A21*Circuit1!$B$4","v":14.399999999999999},{"$f":"Circuit1!$F$4*($AN$3/1000000000*Circuit1!$F$29)*Circuit1!$B$5*1000+Circuit1!$F$4*Circuit1!$F$9/1000/2","v":6.3363636363636358E-2},{"$f":"Circuit1!$F$4*($AN$4/1000000000*Circuit1!$J$26)*Circuit1!$B$5*1000+Circuit1!$F$4*Circuit1!$F$9/1000/2","v":7.8718181818181826E-2},{"$f":"(A21*A21+((Circuit1!$B$8)^2)/3)*(Circuit1!$J$9+Circuit1!$J$12)/1000*(1+0.002*AE20)","v":0.37172483009720686},{"$f":"Circuit1!$J$8/1000","v":0.03},{"$f":"0","v":0},{"$f":"(Circuit1!$F$19/1000000000000*Circuit1!$F$29)*Circuit1!$B$3*Circuit1!$B$3*Circuit1!$B$5*1000","v":6.4259999999999998E-2},0,{"$f":"Circuit1!$B$8*Circuit1!$B$8/3*Circuit1!$J$4/1000","v":5.6426666666666708E-3},0.88773574847350123,0.79624431568463971,0.32234965253293296,0.40736749676387352,6.3363636363636358E-2,{"$f":"W21*Circuit1!$F$25/MAX(Circuit1!$F$29,1)","v":47.774658941078386},36.234161037267839,{"$f":"$AN$6*(1+AB20*0.85*Circuit1!$F$26/100)/1000/MAX(Circuit1!$F$29,1)","v":5.1459946396835961E-3},{"$f":"X21*Circuit1!$J$22/MAX(Circuit1!$J$26,1)","v":14.731379120755037},13.414000901998442,{"$f":"$AN$7*(1+AE20*Circuit1!$J$23*0.85/100)/MAX(Circuit1!$J$26,1)/1000","v":2.0592675904058874E-3},{"$f":"(U21+T21+S21+R21+Q21+P21+N21+M21+L21+J21+I21+B21+O21+K21)/A21/Circuit1!$B$3","v":9.0116907128684781E-2},null,{"$f":"(A21*A21+((Circuit1!$B$8)^2)/3)*Circuit1!$J$9/1000*50","v":10.884639999999999},null,0.9676345132411186]
[{"$f":"Circuit1!$B$10/50*21","v":12.6},{"$f":"AG21*Circuit1!$B$7/1000000*AC22*(A22*A22+((Circuit1!$B$8)^2)/3)*Circuit1!$B$5*1000","v":7.448779243052886E-2},{"$f":"(Circuit1!$F$22+A22/(Circuit1!$F$23*Circuit1!$F$29))/(1+((Circuit1!$F$22+A22/(Circuit1!$F$23*Circuit1!$F$29))/Circuit1!$F$4)^(5))^(0.2)","v":2.5306716335686725},{"$f":"MAX((Circuit1!$F$4-C22), 0.001)/(Circuit1!$F$5+Circuit1!$F$28+Circuit1!$F$24/Circuit1!$F$29)","v":0.94974167939666443},{"$f":"C22/(Circuit1!$F$6+Circuit1!$F$28+Circuit1!$F$24/Circuit1!$F$29)","v":1.5816697709804202},{"$f":"(Circuit1!$F$20/1000000000+Circuit1!$F$21/2/1000000000)*MAX(Circuit1!$F$29,1)","v":1.9500000000000003E-8},1.2189467994204129E-8,1.2328742925846433E-8,{"$f":"0.5*Circuit1!$B$3*(G22*MAX(A22-Circuit1!$B$8, 0)+H22*(A22+Circuit1!$B$8))*Circuit1!$B$5*1000","v":0.69566787780043249},{"$f":"MIN(MAX((1-AG21-Circuit1!$F$7/1000000000+Circuit1!$F$8/1000000000),0.001),1)*Circuit1!$B$7/1000000*AF22*(A22*A22+Circuit1!$B$8^2/3)*Circuit1!$B$5*1000","v":0.30101913268499586},{"$f":"Circuit1!$B$3*$AN$2*Circuit1!$J$26*0.000000001*Circuit1!$B$5*1000","v":0.153},{"$f":"Circuit1!$J$21*A22*(Circuit1!$F$7/1000000000+Circuit1!$F$8/1000000000)*Circuit1!$B$5*1000","v":5.2919999999999988E-2},{"$f":"A22*Circuit1!$B$4","v":15.12},{"$f":"Circuit1!$F$4*($AN$3/1000000000*Circuit1!$F$29)*Circuit1!$B$5*1000+Circuit1!$F$4*Circuit1!$F$9/1000/2","v":6.3363636363636358E-2},{"$f":"Circuit1!$F$4*($AN$4/1000000000*Circuit1!$J$26)*Circuit1!$B$5*1000+Circuit1!$F$4*Circuit1!$F$9/1000/2","v":7.8718181818181826E-2},{"$f":"(A22*A22+((Circuit1!$B$8)^2)/3)*(Circuit1!$J$9+Circuit1!$J$12)/1000*(1+0.002*AE21)","v":0.41044505798509601},{"$f":"Circuit1!$J$8/1000","v":0.03},{"$f":"0","v":0},{"$f":"(Circuit1!$F$19/1000000000000*Circuit1!$F$29)*Circuit1!$B$3*Circuit1!$B$3*Circuit1!$B$5*1000","v":6.4259999999999998E-2},0,{"$f":"Circuit1!$B$8*Circuit1!$B$8/3*Circuit1!$J$4/1000","v":5.6426666666666708E-3},0.88682825945050081,0.8344156702309613,0.35393913268499583,0.44608772465176272,6.3363636363636358E-2,{"$f":"W22*Circuit1!$F$25/MAX(Circuit1!$F$29,1)","v":50.064940213857682},37.536517013181722,{"$f":"$AN$6*(1+AB21*0.85*Circuit1!$F$26/100)/1000/MAX(Circuit1!$F$29,1)","v":5.1696543512908541E-3},{"$f":"X22*Circuit1!$J$22/MAX(Circuit1!$J$26,1)","v":16.175018363704311},14.600586649223954,{"$f":"$AN$7*(1+AE21*Circuit1!$J$23*0.85/100)/MAX(Circuit1!$J$26,1)/1000","v":2.0691462400542807E-3},{"$f":"(U22+T22+S22+R22+Q22+P22+N22+M22+L22+J22+I22+B22+O22+K22)/A22/Circuit1!$B$3","v":9.0209123522484308E-2},null,{"$f":"(A22*A22+((Circuit1!$B$8)^2)/3)*Circuit1!$J$9/1000*50","v":11.991639999999999},null,0.96718929054963954]
[{"$f":"Circuit1!$B$10/50*22","v":13.2},{"$f":"AG22*Circuit1!$B$7/1000000*AC23*(A23*A23+((Circuit1!$B$8)^2)/3)*Circuit1!$B$5*1000","v":8.2152512632256952E-2},{"$f":"(Circuit1!$F$22+A23/(Circuit1!$F$23*Circuit1!$F$29))/(1+((Circuit1!$F$22+A23/(Circuit1!$F$23*Circuit1!$F$29))/Circuit1!$F$4)^(5))^(0.2)","v":2.5556964368519894},{"$f":"MAX((Circuit1!$F$4-C23), 0.001)/(Circuit1!$F$5+Circuit1!$F$28+Circuit1!$F$24/Circuit1!$F$29)","v":0.94011675505692716},{"$f":"C23/(Circuit1!$F$6+Circuit1!$F$28+Circuit1!$F$24/Circuit1!$F$29)","v":1.5973102730324933},{"$f":"(Circuit1!$F$20/1000000000+Circuit1!$F$21/2/1000000000)*MAX(Circuit1!$F$29,1)","v":1.9500000000000003E-8},1.2263250442450617E-8,1.2208022654846674E-8,{"$f":"0.5*Circuit1!$B$3*(G23*MAX(A23-Circuit1!$B$8, 0)+H23*(A23+Circuit1!$B$8))*Circuit1!$B$5*1000","v":0.72656816794904922},{"$f":"MIN(MAX((1-AG22-Circuit1!$F$7/1000000000+Circuit1!$F$8/1000000000),0.001),1)*Circuit1!$B$7/1000000*AF23*(A23*A23+Circuit1!$B$8^2/3)*Circuit1!$B$5*1000","v":0.33176409831299886},{"$f":"Circuit1!$B$3*$AN$2*Circuit1!$J$26*0.000000001*Circuit1!$B$5*1000","v":0.153},{"$f":"Circuit1!$J$21*A23*(Circuit1!$F$7/1000000000+Circuit1!$F$8/1000000000)*Circuit1!$B$5*1000","v":5.5439999999999989E-2},{"$f":"A23*Circuit1!$B$4","v":15.839999999999998},{"$f":"Circuit1!$F$4*($AN$3/1000000000*Circuit1!$F$29)*Circuit1!$B$5*1000+Circuit1!$F$4*Circuit1!$F$9/1000/2","v":6.3363636363636358E-2},{"$f":"Circuit1!$F$4*($AN$4/1000000000*Circuit1!$J$26)*Circuit1!$B$5*1000+Circuit1!$F$4*Circuit1!$F$9/1000/2","v":7.8718181818181826E-2},{"$f":"(A23*A23+((Circuit1!$B$8)^2)/3)*(Circuit1!$J$9+Circuit1!$J$12)/1000*(1+0.002*AE22)","v":0.4512237506657365},{"$f":"Circuit1!$J$8/1000","v":0.03},{"$f":"0","v":0},{"$f":"(Circuit1!$F$19/1000000000000*Circuit1!$F$29)*Circuit1!$B$3*Circuit1!$B$3*Circuit1!$B$5*1000","v":6.4259999999999998E-2},0,{"$f":"Circuit1!$B$8*Circuit1!$B$8/3*Circuit1!$J$4/1000","v":5.6426666666666708E-3},0.88580036773224546,0.87298068058130618,0.38720409831299885,0.48686641733240321,6.3363636363636358E-2,{"$f":"W23*Circuit1!$F$25/MAX(Circuit1!$F$29,1)","v":52.378840834878368},38.822369437535066,{"$f":"$AN$6*(1+AB22*0.85*Circuit1!$F$26/100)/1000/MAX(Circuit1!$F$29,1)","v":5.1930047257016734E-3},{"$f":"X23*Circuit1!$J$22/MAX(Circuit1!$J$26,1)","v":17.695227292904047},15.828024069519371,{"$f":"$AN$7*(1+AE22*Circuit1!$J$23*0.85/100)/MAX(Circuit1!$J$26,1)/1000","v":2.0793909049729603E-3},{"$f":"(U23+T23+S23+R23+Q23+P23+N23+M23+L23+J23+I23+B23+O23+K23)/A23/Circuit1!$B$3","v":9.0313803103073367E-2},null,{"$f":"(A23*A23+((Circuit1!$B$8)^2)/3)*Circuit1!$J$9/1000*50","v":13.152639999999998},null,0.96671685531531915]
[{"$f":"Circuit1!$B$10/50*23","v":13.799999999999999},{"$f":"AG23*Circuit1!$B$7/1000000*AC24*(A24*A24+((Circuit1!$B$8)^2)/3)*Circuit1!$B$5*1000","v":9.0244515363978636E-2},{"$f":"(Circuit1!$F$22+A24/(Circuit1!$F$23*Circuit1!$F$29))/(1+((Circuit1!$F$22+A24/(Circuit1!$F$23*Circuit1!$F$29))/Circuit1!$F$4)^(5))^(0.2)","v":2.5806681979768582},{"$f":"MAX((Circuit1!$F$4-C24), 0.001)/(Circuit1!$F$5+Circuit1!$F$28+Circuit1!$F$24/Circuit1!$F$29)","v":0.93051223154736218},{"$f":"C24/(Circuit1!$F$6+Circuit1!$F$28+Circuit1!$F$24/Circuit1!$F$29)","v":1.6129176237355363},{"$f":"(Circuit1!$F$20/1000000000+Circuit1!$F$21/2/1000000000)*MAX(Circuit1!$F$29,1)","v":1.9500000000000003E-8},1.2337772280894657E-8,1.2089892076966567E-8,{"$f":"0.5*Circuit1!$B$3*(G24*MAX(A24-Circuit1!$B$8, 0)+H24*(A24+Circuit1!$B$8))*Circuit1!$B$5*1000","v":0.75745275426732861},{"$f":"MIN(MAX((1-AG23-Circuit1!$F$7/1000000000+Circuit1!$F$8/1000000000),0.001),1)*Circuit1!$B$7/1000000*AF24*(A24*A24+Circuit1!$B$8^2/3)*Circuit1!$B$5*1000","v":0.36421650986770993},{"$f":"Circuit1!$B$3*$AN$2*Circuit1!$J$26*0.000000001*Circuit1!$B$5*1000","v":0.153},{"$f":"Circuit1!$J$21*A24*(Circuit1!$F$7/1000000000+Circuit1!$F$8/1000000000)*Circuit1!$B$5*1000","v":5.7959999999999991E-2},{"$f":"A24*Circuit1!$B$4","v":16.559999999999999},{"$f":"Circuit1!$F$4*($AN$3/1000000000*Circuit1!$F$29)*Circuit1!$B$5*1000+Circuit1!$F$4*Circuit1!$F$9/1000/2","v":6.3363636363636358E-2},{"$f":"Circuit1!$F$4*($AN$4/1000000000*Circuit1!$J$26)*Circuit1!$B$5*1000+Circuit1!$F$4*Circuit1!$F$9/1000/2","v":7.8718181818181826E-2},{"$f":"(A24*A24+((Circuit1!$B$8)^2)/3)*(Circuit1!$J$9+Circuit1!$J$12)/1000*(1+0.002*AE23)","v":0.49408209011614584},{"$f":"Circuit1!$J$8/1000","v":0.03},{"$f":"0","v":0},{"$f":"(Circuit1!$F$19/1000000000000*Circuit1!$F$29)*Circuit1!$B$3*Circuit1!$B$3*Circuit1!$B$5*1000","v":6.4259999999999998E-2},0,{"$f":"Circuit1!$B$8*Circuit1!$B$8/3*Circuit1!$J$4/1000","v":5.6426666666666708E-3},0.88466546110080235,0.91195726963130719,0.42217650986770994,0.5297247567828125,6.3363636363636358E-2,{"$f":"W24*Circuit1!$F$25/MAX(Circuit1!$F$29,1)","v":54.717436177878433},40.092410201689852,{"$f":"$AN$6*(1+AB23*0.85*Circuit1!$F$26/100)/1000/MAX(Circuit1!$F$29,1)","v":5.2160592024353778E-3},{"$f":"X24*Circuit1!$J$22/MAX(Circuit1!$J$26,1)","v":19.293466500954345},17.094693817536292,{"$f":"$AN$7*(1+AE23*Circuit1!$J$23*0.85/100)/MAX(Circuit1!$J$26,1)/1000","v":2.0899882723431451E-3},{"$f":"(U24+T24+S24+R24+Q24+P24+N24+M24+L24+J24+I24+B24+O24+K24)/A24/Circuit1!$B$3","v":9.0429663548133574E-2},null,{"$f":"(A24*A24+((Circuit1!$B$8)^2)/3)*Circuit1!$J$9/1000*50","v":14.367639999999998},null,0.966219986593431]
[{"$f":"Circuit1!$B$10/50*24","v":14.399999999999999},{"$f":"AG24*Circuit1!$B$7/1000000*AC25*(A25*A25+((Circuit1!$B$8)^2)/3)*Circuit1!$B$5*1000","v":9.8770535984210012E-2},{"$f":"(Circuit1!$F$22+A25/(Circuit1!$F$23*Circuit1!$F$29))/(1+((Circuit1!$F$22+A25/(Circuit1!$F$23*Circuit1!$F$29))/Circuit1!$F$4)^(5))^(0.2)","v":2.6055849524190844},{"$f":"MAX((Circuit1!$F$4-C25), 0.001)/(Circuit1!$F$5+Circuit1!$F$28+Circuit1!$F$24/Circuit1!$F$29)","v":0.9209288644541983},{"$f":"C25/(Circuit1!$F$6+Circuit1!$F$28+Circuit1!$F$24/Circuit1!$F$29)","v":1.6284905952619277},{"$f":"(Circuit1!$F$20/1000000000+Circuit1!$F$21/2/1000000000)*MAX(Circuit1!$F$29,1)","v":1.9500000000000003E-8},1.2413038197483917E-8,1.1974278547714674E-8,{"$f":"0.5*Circuit1!$B$3*(G25*MAX(A25-Circuit1!$B$8, 0)+H25*(A25+Circuit1!$B$8))*Circuit1!$B$5*1000","v":0.78833259759438956},{"$f":"MIN(MAX((1-AG24-Circuit1!$F$7/1000000000+Circuit1!$F$8/1000000000),0.001),1)*Circuit1!$B$7/1000000*AF25*(A25*A25+Circuit1!$B$8^2/3)*Circuit1!$B$5*1000","v":0.3984087605785307},{"$f":"Circuit1!$B$3*$AN$2*Circuit1!$J$26*0.000000001*Circuit1!$B$5*1000","v":0.153},{"$f":"Circuit1!$J$21*A25*(Circuit1!$F$7/1000000000+Circuit1!$F$8/1000000000)*Circuit1!$B$5*1000","v":6.0479999999999999E-2},{"$f":"A25*Circuit1!$B$4","v":17.279999999999998},{"$f":"Circuit1!$F$4*($AN$3/1000000000*Circuit1!$F$29)*Circuit1!$B$5*1000+Circuit1!$F$4*Circuit1!$F$9/1000/2","v":6.3363636363636358E-2},{"$f":"Circuit1!$F$4*($AN$4/1000000000*Circuit1!$J$26)*Circuit1!$B$5*1000+Circuit1!$F$4*Circuit1!$F$9/1000/2","v":7.8718181818181826E-2},{"$f":"(A25*A25+((Circuit1!$B$8)^2)/3)*(Circuit1!$J$9+Circuit1!$J$12)/1000*(1+0.002*AE24)","v":0.5390415715423359},{"$f":"Circuit1!$J$8/1000","v":0.03},{"$f":"0","v":0},{"$f":"(Circuit1!$F$19/1000000000000*Circuit1!$F$29)*Circuit1!$B$3*Circuit1!$B$3*Circuit1!$B$5*1000","v":6.4259999999999998E-2},0,{"$f":"Circuit1!$B$8*Circuit1!$B$8/3*Circuit1!$J$4/1000","v":5.6426666666666708E-3},0.88343477207882226,0.95136313357859958,0.45888876057853067,0.57468423820900261,6.3363636363636358E-2,{"$f":"W25*Circuit1!$F$25/MAX(Circuit1!$F$29,1)","v":57.081788014715976},41.347277731631955,{"$f":"$AN$6*(1+AB24*0.85*Circuit1!$F$26/100)/1000/MAX(Circuit1!$F$29,1)","v":5.2388301866428304E-3},{"$f":"X25*Circuit1!$J$22/MAX(Circuit1!$J$26,1)","v":20.971216358438852},18.398900825335108,{"$f":"$AN$7*(1+AE24*Circuit1!$J$23*0.85/100)/MAX(Circuit1!$J$26,1)/1000","v":2.1009243611689239E-3},{"$f":"(U25+T25+S25+R25+Q25+P25+N25+M25+L25+J25+I25+B25+O25+K25)/A25/Circuit1!$B$3","v":9.0555638659944218E-2},null,{"$f":"(A25*A25+((Circuit1!$B$8)^2)/3)*Circuit1!$J$9/1000*50","v":15.636639999999996},null,0.96570101082856563]
[{"$f":"Circuit1!$B$10/50*25","v":15},{"$f":"AG25*Circuit1!$B$7/1000000*AC26*(A26*A26+((Circuit1!$B$8)^2)/3)*Circuit1!$B$5*1000","v":0.10773736112674413},{"$f":"(Circuit1!$F$22+A26/(Circuit1!$F$23*Circuit1!$F$29))/(1+((Circuit1!$F$22+A26/(Circuit1!$F$23*Circuit1!$F$29))/Circuit1!$F$4)^(5))^(0.2)","v":2.6304446946854063},{"$f":"MAX((Circuit1!$F$4-C26), 0.001)/(Circuit1!$F$5+Circuit1!$F$28+Circuit1!$F$24/Circuit1!$F$29)","v":0.91136742512099755},{"$f":"C26/(Circuit1!$F$6+Circuit1!$F$28+Circuit1!$F$24/Circuit1!$F$29)","v":1.6440279341783788},{"$f":"(Circuit1!$F$20/1000000000+Circuit1!$F$21/2/1000000000)*MAX(Circuit1!$F$29,1)","v":1.9500000000000003E-8},1.2489052663878175E-8,1.1861112329423614E-8,{"$f":"0.5*Circuit1!$B$3*(G26*MAX(A26-Circuit1!$B$8, 0)+H26*(A26+Circuit1!$B$8))*Circuit1!$B$5*1000","v":0.81921839553929343},{"$f":"MIN(MAX((1-AG25-Circuit1!$F$7/1000000000+Circuit1!$F$8/1000000000),0.001),1)*Circuit1!$B$7/1000000*AF26*(A26*A26+Circuit1!$B$8^2/3)*Circuit1!$B$5*1000","v":0.43437353716187016},{"$f":"Circuit1!$B$3*$AN$2*Circuit1!$J$26*0.000000001*Circuit1!$B$5*1000","v":0.153},{"$f":"Circuit1!$J$21*A26*(Circuit1!$F$7/1000000000+Circuit1!$F$8/1000000000)*Circuit1!$B$5*1000","v":6.3E-2},{"$f":"A26*Circuit1!$B$4","v":18},{"$f":"Circuit1!$F$4*($AN$3/1000000000*Circuit1!$F$29)*Circuit1!$B$5*1000+Circuit1!$F$4*Circuit1!$F$9/1000/2","v":6.3363636363636358E-2},{"$f":"Circuit1!$F$4*($AN$4/1000000000*Circuit1!$J$26)*Circuit1!$B$5*1000+Circuit1!$F$4*Circuit1!$F$9/1000/2","v":7.8718181818181826E-2},{"$f":"(A26*A26+((Circuit1!$B$8)^2)/3)*(Circuit1!$J$9+Circuit1!$J$12)/1000*(1+0.002*AE25)","v":0.58612391562622579},{"$f":"Circuit1!$J$8/1000","v":0.03},{"$f":"0","v":0},{"$f":"(Circuit1!$F$19/1000000000000*Circuit1!$F$29)*Circuit1!$B$3*Circuit1!$B$3*Circuit1!$B$5*1000","v":6.4259999999999998E-2},0,{"$f":"Circuit1!$B$8*Circuit1!$B$8/3*Circuit1!$J$4/1000","v":5.6426666666666708E-3},0.88211780946143392,0.99121575666603756,0.49737353716187016,0.6217665822928925,6.3363636363636358E-2,{"$f":"W26*Circuit1!$F$25/MAX(Circuit1!$F$29,1)","v":59.472945399962256},42.587560856419536,{"$f":"$AN$6*(1+AB25*0.85*Circuit1!$F$26/100)/1000/MAX(Circuit1!$F$29,1)","v":5.2613291248763397E-3},{"$f":"X26*Circuit1!$J$22/MAX(Circuit1!$J$26,1)","v":22.729970648297467},19.738876724450055,{"$f":"$AN$7*(1+AE25*Circuit1!$J$23*0.85/100)/MAX(Circuit1!$J$26,1)/1000","v":2.1121845366857232E-3},{"$f":"(U26+T26+S26+R26+Q26+P26+N26+M26+L26+J26+I26+B26+O26+K26)/A26/Circuit1!$B$3","v":9.0690834196900535E-2},null,{"$f":"(A26*A26+((Circuit1!$B$8)^2)/3)*Circuit1!$J$9/1000*50","v":16.95964},null,0.96516189401764119]
[{"$f":"Circuit1!$B$10/50*26","v":15.6},{"$f":"AG26*Circuit1!$B$7/1000000*AC27*(A27*A27+((Circuit1!$B$8)^2)/3)*Circuit1!$B$5*1000","v":0.11715182971712856},{"$f":"(Circuit1!$F$22+A27/(Circuit1!$F$23*Circuit1!$F$29))/(1+((Circuit1!$F$22+A27/(Circuit1!$F$23*Circuit1!$F$29))/Circuit1!$F$4)^(5))^(0.2)","v":2.6552453788639512},{"$f":"MAX((Circuit1!$F$4-C27), 0.001)/(Circuit1!$F$5+Circuit1!$F$28+Circuit1!$F$24/Circuit1!$F$29)","v":0.90182870043694185},{"$f":"C27/(Circuit1!$F$6+Circuit1!$F$28+Circuit1!$F$24/Circuit1!$F$29)","v":1.6595283617899694},{"$f":"(Circuit1!$F$20/1000000000+Circuit1!$F$21/2/1000000000)*MAX(Circuit1!$F$29,1)","v":1.9500000000000003E-8},1.2565819922333869E-8,1.175032644755E-8,{"$f":"0.5*Circuit1!$B$3*(G27*MAX(A27-Circuit1!$B$8, 0)+H27*(A27+Circuit1!$B$8))*Circuit1!$B$5*1000","v":0.8501205945973187},{"$f":"MIN(MAX((1-AG26-Circuit1!$F$7/1000000000+Circuit1!$F$8/1000000000),0.001),1)*Circuit1!$B$7/1000000*AF27*(A27*A27+Circuit1!$B$8^2/3)*Circuit1!$B$5*1000","v":0.47214367710089622},{"$f":"Circuit1!$B$3*$AN$2*Circuit1!$J$26*0.000000001*Circuit1!$B$5*1000","v":0.153},{"$f":"Circuit1!$J$21*A27*(Circuit1!$F$7/1000000000+Circuit1!$F$8/1000000000)*Circuit1!$B$5*1000","v":6.5519999999999995E-2},{"$f":"A27*Circuit1!$B$4","v":18.72},{"$f":"Circuit1!$F$4*($AN$3/1000000000*Circuit1!$F$29)*Circuit1!$B$5*1000+Circuit1!$F$4*Circuit1!$F$9/1000/2","v":6.3363636363636358E-2},{"$f":"Circuit1!$F$4*($AN$4/1000000000*Circuit1!$J$26)*Circuit1!$B$5*1000+Circuit1!$F$4*Circuit1!$F$9/1000/2","v":7.8718181818181826E-2},{"$f":"(A27*A27+((Circuit1!$B$8)^2)/3)*(Circuit1!$J$9+Circuit1!$J$12)/1000*(1+0.002*AE26)","v":0.63535097843337462},{"$f":"Circuit1!$J$8/1000","v":0.03},{"$f":"0","v":0},{"$f":"(Circuit1!$F$19/1000000000000*Circuit1!$F$29)*Circuit1!$B$3*Circuit1!$B$3*Circuit1!$B$5*1000","v":6.4259999999999998E-2},0,{"$f":"Circuit1!$B$8*Circuit1!$B$8/3*Circuit1!$J$4/1000","v":5.6426666666666708E-3},0.88072269239278878,1.0315324243144472,0.53766367710089624,0.67099364510004134,6.3363636363636358E-2,{"$f":"W27*Circuit1!$F$25/MAX(Circuit1!$F$29,1)","v":61.891945458866836},43.813802354427978,{"$f":"$AN$6*(1+AB26*0.85*Circuit1!$F$26/100)/1000/MAX(Circuit1!$F$29,1)","v":5.2835665744483638E-3},{"$f":"X27*Circuit1!$J$22/MAX(Circuit1!$J$26,1)","v":24.571230043510958},21.112783049119869,{"$f":"$AN$7*(1+AE26*Circuit1!$J$23*0.85/100)/MAX(Circuit1!$J$26,1)/1000","v":2.1237535312717752E-3},{"$f":"(U27+T27+S27+R27+Q27+P27+N27+M27+L27+J27+I27+B27+O27+K27)/A27/Circuit1!$B$3","v":9.0834493866227342E-2},null,{"$f":"(A27*A27+((Circuit1!$B$8)^2)/3)*Circuit1!$J$9/1000*50","v":18.336639999999999},null,0.96460431265369495]
[{"$f":"Circuit1!$B$10/50*27","v":16.2},{"$f":"AG27*Circuit1!$B$7/1000000*AC28*(A28*A28+((Circuit1!$B$8)^2)/3)*Circuit1!$B$5*1000","v":0.12702083337863074},{"$f":"(Circuit1!$F$22+A28/(Circuit1!$F$23*Circuit1!$F$29))/(1+((Circuit1!$F$22+A28/(Circuit1!$F$23*Circuit1!$F$29))/Circuit1!$F$4)^(5))^(0.2)","v":2.6799849192547445},{"$f":"MAX((Circuit1!$F$4-C28), 0.001)/(Circuit1!$F$5+Circuit1!$F$28+Circuit1!$F$24/Circuit1!$F$29)","v":0.89231349259432902},{"$f":"C28/(Circuit1!$F$6+Circuit1!$F$28+Circuit1!$F$24/Circuit1!$F$29)","v":1.6749905745342153},{"$f":"(Circuit1!$F$20/1000000000+Circuit1!$F$21/2/1000000000)*MAX(Circuit1!$F$29,1)","v":1.9500000000000003E-8},1.2643343972306828E-8,1.1641856555176497E-8,{"$f":"0.5*Circuit1!$B$3*(G28*MAX(A28-Circuit1!$B$8, 0)+H28*(A28+Circuit1!$B$8))*Circuit1!$B$5*1000","v":0.88104940131984766},{"$f":"MIN(MAX((1-AG27-Circuit1!$F$7/1000000000+Circuit1!$F$8/1000000000),0.001),1)*Circuit1!$B$7/1000000*AF28*(A28*A28+Circuit1!$B$8^2/3)*Circuit1!$B$5*1000","v":0.51175202357582139},{"$f":"Circuit1!$B$3*$AN$2*Circuit1!$J$26*0.000000001*Circuit1!$B$5*1000","v":0.153},{"$f":"Circuit1!$J$21*A28*(Circuit1!$F$7/1000000000+Circuit1!$F$8/1000000000)*Circuit1!$B$5*1000","v":6.8039999999999989E-2},{"$f":"A28*Circuit1!$B$4","v":19.439999999999998},{"$f":"Circuit1!$F$4*($AN$3/1000000000*Circuit1!$F$29)*Circuit1!$B$5*1000+Circuit1!$F$4*Circuit1!$F$9/1000/2","v":6.3363636363636358E-2},{"$f":"Circuit1!$F$4*($AN$4/1000000000*Circuit1!$J$26)*Circuit1!$B$5*1000+Circuit1!$F$4*Circuit1!$F$9/1000/2","v":7.8718181818181826E-2},{"$f":"(A28*A28+((Circuit1!$B$8)^2)/3)*(Circuit1!$J$9+Circuit1!$J$12)/1000*(1+0.002*AE27)","v":0.68674465964754028},{"$f":"Circuit1!$J$8/1000","v":0.03},{"$f":"0","v":0},{"$f":"(Circuit1!$F$19/1000000000000*Circuit1!$F$29)*Circuit1!$B$3*Circuit1!$B$3*Circuit1!$B$5*1000","v":6.4259999999999998E-2},0,{"$f":"Circuit1!$B$8*Circuit1!$B$8/3*Circuit1!$J$4/1000","v":5.6426666666666708E-3},0.87925641165689639,1.0723302346984784,0.57979202357582138,0.72238732631420699,6.3363636363636358E-2,{"$f":"W28*Circuit1!$F$25/MAX(Circuit1!$F$29,1)","v":64.339814081908713},45.02650220923605,{"$f":"$AN$6*(1+AB27*0.85*Circuit1!$F$26/100)/1000/MAX(Circuit1!$F$29,1)","v":5.3055522670133227E-3},{"$f":"X28*Circuit1!$J$22/MAX(Circuit1!$J$26,1)","v":26.496495477415039},22.518715234891673,{"$f":"$AN$7*(1+AE27*Circuit1!$J$23*0.85/100)/MAX(Circuit1!$J$26,1)/1000","v":2.1356154721039545E-3},{"$f":"(U28+T28+S28+R28+Q28+P28+N28+M28+L28+J28+I28+B28+O28+K28)/A28/Circuit1!$B$3","v":9.0985972850906663E-2},null,{"$f":"(A28*A28+((Circuit1!$B$8)^2)/3)*Circuit1!$J$9/1000*50","v":19.76764},null,0.96402970891670925]
[{"$f":"Circuit1!$B$10/50*28","v":16.8},{"$f":"AG28*Circuit1!$B$7/1000000*AC29*(A29*A29+((Circuit1!$B$8)^2)/3)*Circuit1!$B$5*1000","v":0.13735131623284386},{"$f":"(Circuit1!$F$22+A29/(Circuit1!$F$23*Circuit1!$F$29))/(1+((Circuit1!$F$22+A29/(Circuit1!$F$23*Circuit1!$F$29))/Circuit1!$F$4)^(5))^(0.2)","v":2.7046611910822675},{"$f":"MAX((Circuit1!$F$4-C29), 0.001)/(Circuit1!$F$5+Circuit1!$F$28+Circuit1!$F$24/Circuit1!$F$29)","v":0.88282261881451241},{"$f":"C29/(Circuit1!$F$6+Circuit1!$F$28+Circuit1!$F$24/Circuit1!$F$29)","v":1.690413244426417},{"$f":"(Circuit1!$F$20/1000000000+Circuit1!$F$21/2/1000000000)*MAX(Circuit1!$F$29,1)","v":1.9500000000000003E-8},1.2721628556787172E-8,1.1535640805166934E-8,{"$f":"0.5*Circuit1!$B$3*(G29*MAX(A29-Circuit1!$B$8, 0)+H29*(A29+Circuit1!$B$8))*Circuit1!$B$5*1000","v":0.9120147925901575},{"$f":"MIN(MAX((1-AG28-Circuit1!$F$7/1000000000+Circuit1!$F$8/1000000000),0.001),1)*Circuit1!$B$7/1000000*AF29*(A29*A29+Circuit1!$B$8^2/3)*Circuit1!$B$5*1000","v":0.55323127924141935},{"$f":"Circuit1!$B$3*$AN$2*Circuit1!$J$26*0.000000001*Circuit1!$B$5*1000","v":0.153},{"$f":"Circuit1!$J$21*A29*(Circuit1!$F$7/1000000000+Circuit1!$F$8/1000000000)*Circuit1!$B$5*1000","v":7.0559999999999998E-2},{"$f":"A29*Circuit1!$B$4","v":20.16},{"$f":"Circuit1!$F$4*($AN$3/1000000000*Circuit1!$F$29)*Circuit1!$B$5*1000+Circuit1!$F$4*Circuit1!$F$9/1000/2","v":6.3363636363636358E-2},{"$f":"Circuit1!$F$4*($AN$4/1000000000*Circuit1!$J$26)*Circuit1!$B$5*1000+Circuit1!$F$4*Circuit1!$F$9/1000/2","v":7.8718181818181826E-2},{"$f":"(A29*A29+((Circuit1!$B$8)^2)/3)*(Circuit1!$J$9+Circuit1!$J$12)/1000*(1+0.002*AE28)","v":0.74032680987664456},{"$f":"Circuit1!$J$8/1000","v":0.03},{"$f":"0","v":0},{"$f":"(Circuit1!$F$19/1000000000000*Circuit1!$F$29)*Circuit1!$B$3*Circuit1!$B$3*Circuit1!$B$5*1000","v":6.4259999999999998E-2},0,{"$f":"Circuit1!$B$8*Circuit1!$B$8/3*Circuit1!$J$4/1000","v":5.6426666666666708E-3},0.87772503593615903,1.1136261088230013,0.62379127924141931,0.77596947654331128,6.3363636363636358E-2,{"$f":"W29*Circuit1!$F$25/MAX(Circuit1!$F$29,1)","v":66.817566529380073},46.226120603788267,{"$f":"$AN$6*(1+AB28*0.85*Circuit1!$F$26/100)/1000/MAX(Circuit1!$F$29,1)","v":5.3272951669434618E-3},{"$f":"X29*Circuit1!$J$22/MAX(Circuit1!$J$26,1)","v":28.507261461332863},23.954707411867329,{"$f":"$AN$7*(1+AE28*Circuit1!$J$23*0.85/100)/MAX(Circuit1!$J$26,1)/1000","v":2.1477539156806585E-3},{"$f":"(U29+T29+S29+R29+Q29+P29+N29+M29+L29+J29+I29+B29+O29+K29)/A29/Circuit1!$B$3","v":9.114471699519662E-2},null,{"$f":"(A29*A29+((Circuit1!$B$8)^2)/3)*Circuit1!$J$9/1000*50","v":21.252640000000003},null,0.96343933402159054]
[{"$f":"Circuit1!$B$10/50*29","v":17.399999999999999},{"$f":"AG29*Circuit1!$B$7/1000000*AC30*(A30*A30+((Circuit1!$B$8)^2)/3)*Circuit1!$B$5*1000","v":0.14815027410678464},{"$f":"(Circuit1!$F$22+A30/(Circuit1!$F$23*Circuit1!$F$29))/(1+((Circuit1!$F$22+A30/(Circuit1!$F$23*Circuit1!$F$29))/Circuit1!$F$4)^(5))^(0.2)","v":2.7292720312919325},{"$f":"MAX((Circuit1!$F$4-C30), 0.001)/(Circuit1!$F$5+Circuit1!$F$28+Circuit1!$F$24/Circuit1!$F$29)","v":0.87335691104156443},{"$f":"C30/(Circuit1!$F$6+Circuit1!$F$28+Circuit1!$F$24/Circuit1!$F$29)","v":1.7057950195574578},{"$f":"(Circuit1!$F$20/1000000000+Circuit1!$F$21/2/1000000000)*MAX(Circuit1!$F$29,1)","v":1.9500000000000003E-8},1.2800677148382298E-8,1.1431619729467246E-8,{"$f":"0.5*Circuit1!$B$3*(G30*MAX(A30-Circuit1!$B$8, 0)+H30*(A30+Circuit1!$B$8))*Circuit1!$B$5*1000","v":0.94302652505350126},{"$f":"MIN(MAX((1-AG29-Circuit1!$F$7/1000000000+Circuit1!$F$8/1000000000),0.001),1)*Circuit1!$B$7/1000000*AF30*(A30*A30+Circuit1!$B$8^2/3)*Circuit1!$B$5*1000","v":0.5966138601493054},{"$f":"Circuit1!$B$3*$AN$2*Circuit1!$J$26*0.000000001*Circuit1!$B$5*1000","v":0.153},{"$f":"Circuit1!$J$21*A30*(Circuit1!$F$7/1000000000+Circuit1!$F$8/1000000000)*Circuit1!$B$5*1000","v":7.3079999999999992E-2},{"$f":"A30*Circuit1!$B$4","v":20.88},{"$f":"Circuit1!$F$4*($AN$3/1000000000*Circuit1!$F$29)*Circuit1!$B$5*1000+Circuit1!$F$4*Circuit1!$F$9/1000/2","v":6.3363636363636358E-2},{"$f":"Circuit1!$F$4*($AN$4/1000000000*Circuit1!$J$26)*Circuit1!$B$5*1000+Circuit1!$F$4*Circuit1!$F$9/1000/2","v":7.8718181818181826E-2},{"$f":"(A30*A30+((Circuit1!$B$8)^2)/3)*(Circuit1!$J$9+Circuit1!$J$12)/1000*(1+0.002*AE29)","v":0.79611913784244059},{"$f":"Circuit1!$J$8/1000","v":0.03},{"$f":"0","v":0},{"$f":"(Circuit1!$F$19/1000000000000*Circuit1!$F$29)*Circuit1!$B$3*Circuit1!$B$3*Circuit1!$B$5*1000","v":6.4259999999999998E-2},0,{"$f":"Circuit1!$B$8*Circuit1!$B$8/3*Circuit1!$J$4/1000","v":5.6426666666666708E-3},0.87613387598231662,1.1554367991602859,0.66969386014930543,0.83176180450910731,6.3363636363636358E-2,{"$f":"W30*Circuit1!$F$25/MAX(Circuit1!$F$29,1)","v":69.326207949617157},47.413080678581643,{"$f":"$AN$6*(1+AB29*0.85*Circuit1!$F$26/100)/1000/MAX(Circuit1!$F$29,1)","v":5.3488035250121874E-3},{"$f":"X30*Circuit1!$J$22/MAX(Circuit1!$J$26,1)","v":30.60500940882326},25.41873797604206,{"$f":"$AN$7*(1+AE29*Circuit1!$J$23*0.85/100)/MAX(Circuit1!$J$26,1)/1000","v":2.1601518892054193E-3},{"$f":"(U30+T30+S30+R30+Q30+P30+N30+M30+L30+J30+I30+B30+O30+K30)/A30/Circuit1!$B$3","v":9.1310246291189723E-2},null,{"$f":"(A30*A30+((Circuit1!$B$8)^2)/3)*Circuit1!$J$9/1000*50","v":22.791639999999997},null,0.96283428255873094]
[{"$f":"Circuit1!$B$10/50*30","v":18},{"$f":"AG30*Circuit1!$B$7/1000000*AC31*(A31*A31+((Circuit1!$B$8)^2)/3)*Circuit1!$B$5*1000","v":0.15942475316422228},{"$f":"(Circuit1!$F$22+A31/(Circuit1!$F$23*Circuit1!$F$29))/(1+((Circuit1!$F$22+A31/(Circuit1!$F$23*Circuit1!$F$29))/Circuit1!$F$4)^(5))^(0.2)","v":2.7538152394321989},{"$f":"MAX((Circuit1!$F$4-C31), 0.001)/(Circuit1!$F$5+Circuit1!$F$28+Circuit1!$F$24/Circuit1!$F$29)","v":0.86391721560300039},{"$f":"C31/(Circuit1!$F$6+Circuit1!$F$28+Circuit1!$F$24/Circuit1!$F$29)","v":1.7211345246451242},{"$f":"(Circuit1!$F$20/1000000000+Circuit1!$F$21/2/1000000000)*MAX(Circuit1!$F$29,1)","v":1.9500000000000003E-8},1.2880492935165585E-8,1.1329736125083339E-8,{"$f":"0.5*Circuit1!$B$3*(G31*MAX(A31-Circuit1!$B$8, 0)+H31*(A31+Circuit1!$B$8))*Circuit1!$B$5*1000","v":0.97409414374634096},{"$f":"MIN(MAX((1-AG30-Circuit1!$F$7/1000000000+Circuit1!$F$8/1000000000),0.001),1)*Circuit1!$B$7/1000000*AF31*(A31*A31+Circuit1!$B$8^2/3)*Circuit1!$B$5*1000","v":0.64193175119162271},{"$f":"Circuit1!$B$3*$AN$2*Circuit1!$J$26*0.000000001*Circuit1!$B$5*1000","v":0.153},{"$f":"Circuit1!$J$21*A31*(Circuit1!$F$7/1000000000+Circuit1!$F$8/1000000000)*Circuit1!$B$5*1000","v":7.5600000000000001E-2},{"$f":"A31*Circuit1!$B$4","v":21.599999999999998},{"$f":"Circuit1!$F$4*($AN$3/1000000000*Circuit1!$F$29)*Circuit1!$B$5*1000+Circuit1!$F$4*Circuit1!$F$9/1000/2","v":6.3363636363636358E-2},{"$f":"Circuit1!$F$4*($AN$4/1000000000*Circuit1!$J$26)*Circuit1!$B$5*1000+Circuit1!$F$4*Circuit1!$F$9/1000/2","v":7.8718181818181826E-2},{"$f":"(A31*A31+((Circuit1!$B$8)^2)/3)*(Circuit1!$J$9+Circuit1!$J$12)/1000*(1+0.002*AE30)","v":0.85414311832000767},{"$f":"Circuit1!$J$8/1000","v":0.03},{"$f":"0","v":0},{"$f":"(Circuit1!$F$19/1000000000000*Circuit1!$F$29)*Circuit1!$B$3*Circuit1!$B$3*Circuit1!$B$5*1000","v":6.4259999999999998E-2},0,{"$f":"Circuit1!$B$8*Circuit1!$B$8/3*Circuit1!$J$4/1000","v":5.6426666666666708E-3},0.87448761625389493,1.1977788969105632,0.71753175119162271,0.88978578498667438,6.3363636363636358E-2,{"$f":"W31*Circuit1!$F$25/MAX(Circuit1!$F$29,1)","v":71.86673381463379},48.587771077035825,{"$f":"$AN$6*(1+AB30*0.85*Circuit1!$F$26/100)/1000/MAX(Circuit1!$F$29,1)","v":5.3700849278465156E-3},{"$f":"X31*Circuit1!$J$22/MAX(Circuit1!$J$26,1)","v":32.791201029457163},26.90873590587065,{"$f":"$AN$7*(1+AE30*Circuit1!$J$23*0.85/100)/MAX(Circuit1!$J$26,1)/1000","v":2.1727919386883535E-3},{"$f":"(U31+T31+S31+R31+Q31+P31+N31+M31+L31+J31+I31+B31+O31+K31)/A31/Circuit1!$B$3","v":9.1482141671372891E-2},null,{"$f":"(A31*A31+((Circuit1!$B$8)^2)/3)*Circuit1!$J$9/1000*50","v":24.384640000000001},null,0.96221551990941234]
[{"$f":"Circuit1!$B$10/50*31","v":18.599999999999998},{"$f":"AG31*Circuit1!$B$7/1000000*AC32*(A32*A32+((Circuit1!$B$8)^2)/3)*Circuit1!$B$5*1000","v":0.17118184798442404},{"$f":"(Circuit1!$F$22+A32/(Circuit1!$F$23*Circuit1!$F$29))/(1+((Circuit1!$F$22+A32/(Circuit1!$F$23*Circuit1!$F$29))/Circuit1!$F$4)^(5))^(0.2)","v":2.7782885786238714},{"$f":"MAX((Circuit1!$F$4-C32), 0.001)/(Circuit1!$F$5+Circuit1!$F$28+Circuit1!$F$24/Circuit1!$F$29)","v":0.85450439283697255},{"$f":"C32/(Circuit1!$F$6+Circuit1!$F$28+Circuit1!$F$24/Circuit1!$F$29)","v":1.7364303616399195},{"$f":"(Circuit1!$F$20/1000000000+Circuit1!$F$21/2/1000000000)*MAX(Circuit1!$F$29,1)","v":1.9500000000000003E-8},1.2961078806310279E-8,1.122993494630203E-8,{"$f":"0.5*Circuit1!$B$3*(G32*MAX(A32-Circuit1!$B$8, 0)+H32*(A32+Circuit1!$B$8))*Circuit1!$B$5*1000","v":1.0052269899663908},{"$f":"MIN(MAX((1-AG31-Circuit1!$F$7/1000000000+Circuit1!$F$8/1000000000),0.001),1)*Circuit1!$B$7/1000000*AF32*(A32*A32+Circuit1!$B$8^2/3)*Circuit1!$B$5*1000","v":0.68921636449573642},{"$f":"Circuit1!$B$3*$AN$2*Circuit1!$J$26*0.000000001*Circuit1!$B$5*1000","v":0.153},{"$f":"Circuit1!$J$21*A32*(Circuit1!$F$7/1000000000+Circuit1!$F$8/1000000000)*Circuit1!$B$5*1000","v":7.8119999999999995E-2},{"$f":"A32*Circuit1!$B$4","v":22.319999999999997},{"$f":"Circuit1!$F$4*($AN$3/1000000000*Circuit1!$F$29)*Circuit1!$B$5*1000+Circuit1!$F$4*Circuit1!$F$9/1000/2","v":6.3363636363636358E-2},{"$f":"Circuit1!$F$4*($AN$4/1000000000*Circuit1!$J$26)*Circuit1!$B$5*1000+Circuit1!$F$4*Circuit1!$F$9/1000/2","v":7.8718181818181826E-2},{"$f":"(A32*A32+((Circuit1!$B$8)^2)/3)*(Circuit1!$J$9+Circuit1!$J$12)/1000*(1+0.002*AE31)","v":0.91441990173044629},{"$f":"Circuit1!$J$8/1000","v":0.03},{"$f":"0","v":0},{"$f":"(Circuit1!$F$19/1000000000000*Circuit1!$F$29)*Circuit1!$B$3*Circuit1!$B$3*Circuit1!$B$5*1000","v":6.4259999999999998E-2},0,{"$f":"Circuit1!$B$8*Circuit1!$B$8/3*Circuit1!$J$4/1000","v":5.6426666666666708E-3},0.8727904211524441,1.2406688379508148,0.76733636449573639,0.95006256839711301,6.3363636363636358E-2,{"$f":"W32*Circuit1!$F$25/MAX(Circuit1!$F$29,1)","v":74.440130277048894},49.750548298889335,{"$f":"$AN$6*(1+AB31*0.85*Circuit1!$F$26/100)/1000/MAX(Circuit1!$F$29,1)","v":5.3911463435638669E-3},{"$f":"X32*Circuit1!$J$22/MAX(Circuit1!$J$26,1)","v":35.067271857455154},28.422587774837716,{"$f":"$AN$7*(1+AE31*Circuit1!$J$23*0.85/100)/MAX(Circuit1!$J$26,1)/1000","v":2.1856561834817123E-3},{"$f":"(U32+T32+S32+R32+Q32+P32+N32+M32+L32+J32+I32+B32+O32+K32)/A32/Circuit1!$B$3","v":9.1660034369266938E-2},null,{"$f":"(A32*A32+((Circuit1!$B$8)^2)/3)*Circuit1!$J$9/1000*50","v":26.031639999999996},null,0.9615839042832971]
[{"$f":"Circuit1!$B$10/50*32","v":19.2},{"$f":"AG32*Circuit1!$B$7/1000000*AC33*(A33*A33+((Circuit1!$B$8)^2)/3)*Circuit1!$B$5*1000","v":0.18342869911667484},{"$f":"(Circuit1!$F$22+A33/(Circuit1!$F$23*Circuit1!$F$29))/(1+((Circuit1!$F$22+A33/(Circuit1!$F$23*Circuit1!$F$29))/Circuit1!$F$4)^(5))^(0.2)","v":2.8026897766179637},{"$f":"MAX((Circuit1!$F$4-C33), 0.001)/(Circuit1!$F$5+Circuit1!$F$28+Circuit1!$F$24/Circuit1!$F$29)","v":0.84511931668539853},{"$f":"C33/(Circuit1!$F$6+Circuit1!$F$28+Circuit1!$F$24/Circuit1!$F$29)","v":1.7516811103862273},{"$f":"(Circuit1!$F$20/1000000000+Circuit1!$F$21/2/1000000000)*MAX(Circuit1!$F$29,1)","v":1.9500000000000003E-8},1.3042437337530012E-8,1.113216320275353E-8,{"$f":"0.5*Circuit1!$B$3*(G33*MAX(A33-Circuit1!$B$8, 0)+H33*(A33+Circuit1!$B$8))*Circuit1!$B$5*1000","v":1.0364342084222744},{"$f":"MIN(MAX((1-AG32-Circuit1!$F$7/1000000000+Circuit1!$F$8/1000000000),0.001),1)*Circuit1!$B$7/1000000*AF33*(A33*A33+Circuit1!$B$8^2/3)*Circuit1!$B$5*1000","v":0.73849840222270513},{"$f":"Circuit1!$B$3*$AN$2*Circuit1!$J$26*0.000000001*Circuit1!$B$5*1000","v":0.153},{"$f":"Circuit1!$J$21*A33*(Circuit1!$F$7/1000000000+Circuit1!$F$8/1000000000)*Circuit1!$B$5*1000","v":8.0639999999999989E-2},{"$f":"A33*Circuit1!$B$4","v":23.04},{"$f":"Circuit1!$F$4*($AN$3/1000000000*Circuit1!$F$29)*Circuit1!$B$5*1000+Circuit1!$F$4*Circuit1!$F$9/1000/2","v":6.3363636363636358E-2},{"$f":"Circuit1!$F$4*($AN$4/1000000000*Circuit1!$J$26)*Circuit1!$B$5*1000+Circuit1!$F$4*Circuit1!$F$9/1000/2","v":7.8718181818181826E-2},{"$f":"(A33*A33+((Circuit1!$B$8)^2)/3)*(Circuit1!$J$9+Circuit1!$J$12)/1000*(1+0.002*AE32)","v":0.9769702263085317},{"$f":"Circuit1!$J$8/1000","v":0.03},{"$f":"0","v":0},{"$f":"(Circuit1!$F$19/1000000000000*Circuit1!$F$29)*Circuit1!$B$3*Circuit1!$B$3*Circuit1!$B$5*1000","v":6.4259999999999998E-2},0,{"$f":"Circuit1!$B$8*Circuit1!$B$8/3*Circuit1!$J$4/1000","v":5.6426666666666708E-3},0.87104602123941666,1.2841229075389493,0.81913840222270506,1.0126128929751983,6.3363636363636358E-2,{"$f":"W33*Circuit1!$F$25/MAX(Circuit1!$F$29,1)","v":77.047374452336953},50.901738880388045,{"$f":"$AN$6*(1+AB32*0.85*Circuit1!$F$26/100)/1000/MAX(Circuit1!$F$29,1)","v":5.4119941639668859E-3},{"$f":"X33*Circuit1!$J$22/MAX(Circuit1!$J$26,1)","v":37.43462498157762},29.958145394899919,{"$f":"$AN$7*(1+AE32*Circuit1!$J$23*0.85/100)/MAX(Circuit1!$J$26,1)/1000","v":2.1987263768245419E-3},{"$f":"(U33+T33+S33+R33+Q33+P33+N33+M33+L33+J33+I33+B33+O33+K33)/A33/Circuit1!$B$3","v":9.1843597294856499E-2},null,{"$f":"(A33*A33+((Circuit1!$B$8)^2)/3)*Circuit1!$J$9/1000*50","v":27.732639999999996},null,0.96094020454042794]
[{"$f":"Circuit1!$B$10/50*33","v":19.8},{"$f":"AG33*Circuit1!$B$7/1000000*AC34*(A34*A34+((Circuit1!$B$8)^2)/3)*Circuit1!$B$5*1000","v":0.19617249014386601},{"$f":"(Circuit1!$F$22+A34/(Circuit1!$F$23*Circuit1!$F$29))/(1+((Circuit1!$F$22+A34/(Circuit1!$F$23*Circuit1!$F$29))/Circuit1!$F$4)^(5))^(0.2)","v":2.8270165269432854},{"$f":"MAX((Circuit1!$F$4-C34), 0.001)/(Circuit1!$F$5+Circuit1!$F$28+Circuit1!$F$24/Circuit1!$F$29)","v":0.83576287425258255},{"$f":"C34/(Circuit1!$F$6+Circuit1!$F$28+Circuit1!$F$24/Circuit1!$F$29)","v":1.7668853293395532},{"$f":"(Circuit1!$F$20/1000000000+Circuit1!$F$21/2/1000000000)*MAX(Circuit1!$F$29,1)","v":1.9500000000000003E-8},1.3124570776349176E-8,1.1036369862943476E-8,{"$f":"0.5*Circuit1!$B$3*(G34*MAX(A34-Circuit1!$B$8, 0)+H34*(A34+Circuit1!$B$8))*Circuit1!$B$5*1000","v":1.0677247536989882},{"$f":"MIN(MAX((1-AG33-Circuit1!$F$7/1000000000+Circuit1!$F$8/1000000000),0.001),1)*Circuit1!$B$7/1000000*AF34*(A34*A34+Circuit1!$B$8^2/3)*Circuit1!$B$5*1000","v":0.78980772521295339},{"$f":"Circuit1!$B$3*$AN$2*Circuit1!$J$26*0.000000001*Circuit1!$B$5*1000","v":0.153},{"$f":"Circuit1!$J$21*A34*(Circuit1!$F$7/1000000000+Circuit1!$F$8/1000000000)*Circuit1!$B$5*1000","v":8.3160000000000012E-2},{"$f":"A34*Circuit1!$B$4","v":23.76},{"$f":"Circuit1!$F$4*($AN$3/1000000000*Circuit1!$F$29)*Circuit1!$B$5*1000+Circuit1!$F$4*Circuit1!$F$9/1000/2","v":6.3363636363636358E-2},{"$f":"Circuit1!$F$4*($AN$4/1000000000*Circuit1!$J$26)*Circuit1!$B$5*1000+Circuit1!$F$4*Circuit1!$F$9/1000/2","v":7.8718181818181826E-2},{"$f":"(A34*A34+((Circuit1!$B$8)^2)/3)*(Circuit1!$J$9+Circuit1!$J$12)/1000*(1+0.002*AE33)","v":1.0418143337648313},{"$f":"Circuit1!$J$8/1000","v":0.03},{"$f":"0","v":0},{"$f":"(Circuit1!$F$19/1000000000000*Circuit1!$F$29)*Circuit1!$B$3*Circuit1!$B$3*Circuit1!$B$5*1000","v":6.4259999999999998E-2},0,{"$f":"Circuit1!$B$8*Circuit1!$B$8/3*Circuit1!$J$4/1000","v":5.6426666666666708E-3},0.86925778353645777,1.3281572438428542,0.8729677252129534,1.0774570004314981,6.3363636363636358E-2,{"$f":"W34*Circuit1!$F$25/MAX(Circuit1!$F$29,1)","v":79.689434630571256},52.041641418166954,{"$f":"$AN$6*(1+AB33*0.85*Circuit1!$F$26/100)/1000/MAX(Circuit1!$F$29,1)","v":5.4326342436327698E-3},{"$f":"X34*Circuit1!$J$22/MAX(Circuit1!$J$26,1)","v":39.894625042231972},31.513234010725316,{"$f":"$AN$7*(1+AE33*Circuit1!$J$23*0.85/100)/MAX(Circuit1!$J$26,1)/1000","v":2.2119839718341269E-3},{"$f":"(U34+T34+S34+R34+Q34+P34+N34+M34+L34+J34+I34+B34+O34+K34)/A34/Circuit1!$B$3","v":9.2032538005619946E-2},null,{"$f":"(A34*A34+((Circuit1!$B$8)^2)/3)*Circuit1!$J$9/1000*50","v":29.487639999999999},null,0.96028511468015465]
[{"$f":"Circuit1!$B$10/50*34","v":20.399999999999999},{"$f":"AG34*Circuit1!$B$7/1000000*AC35*(A35*A35+((Circuit1!$B$8)^2)/3)*Circuit1!$B$5*1000","v":0.20942044429310966},{"$f":"(Circuit1!$F$22+A35/(Circuit1!$F$23*Circuit1!$F$29))/(1+((Circuit1!$F$22+A35/(Circuit1!$F$23*Circuit1!$F$29))/Circuit1!$F$4)^(5))^(0.2)","v":2.851266490144726},{"$f":"MAX((Circuit1!$F$4-C35), 0.001)/(Circuit1!$F$5+Circuit1!$F$28+Circuit1!$F$24/Circuit1!$F$29)","v":0.82643596532895147},{"$f":"C35/(Circuit1!$F$6+Circuit1!$F$28+Circuit1!$F$24/Circuit1!$F$29)","v":1.7820415563404537},{"$f":"(Circuit1!$F$20/1000000000+Circuit1!$F$21/2/1000000000)*MAX(Circuit1!$F$29,1)","v":1.9500000000000003E-8},1.3207481027228554E-8,1.094250576290971E-8,{"$f":"0.5*Circuit1!$B$3*(G35*MAX(A35-Circuit1!$B$8, 0)+H35*(A35+Circuit1!$B$8))*Circuit1!$B$5*1000","v":1.099107396073066},{"$f":"MIN(MAX((1-AG34-Circuit1!$F$7/1000000000+Circuit1!$F$8/1000000000),0.001),1)*Circuit1!$B$7/1000000*AF35*(A35*A35+Circuit1!$B$8^2/3)*Circuit1!$B$5*1000","v":0.8431732288792344},{"$f":"Circuit1!$B$3*$AN$2*Circuit1!$J$26*0.000000001*Circuit1!$B$5*1000","v":0.153},{"$f":"Circuit1!$J$21*A35*(Circuit1!$F$7/1000000000+Circuit1!$F$8/1000000000)*Circuit1!$B$5*1000","v":8.5679999999999992E-2},{"$f":"A35*Circuit1!$B$4","v":24.479999999999997},{"$f":"Circuit1!$F$4*($AN$3/1000000000*Circuit1!$F$29)*Circuit1!$B$5*1000+Circuit1!$F$4*Circuit1!$F$9/1000/2","v":6.3363636363636358E-2},{"$f":"Circuit1!$F$4*($AN$4/1000000000*Circuit1!$J$26)*Circuit1!$B$5*1000+Circuit1!$F$4*Circuit1!$F$9/1000/2","v":7.8718181818181826E-2},{"$f":"(A35*A35+((Circuit1!$B$8)^2)/3)*(Circuit1!$J$9+Circuit1!$J$12)/1000*(1+0.002*AE34)","v":1.1089718893379616},{"$f":"Circuit1!$J$8/1000","v":0.03},{"$f":"0","v":0},{"$f":"(Circuit1!$F$19/1000000000000*Circuit1!$F$29)*Circuit1!$B$3*Circuit1!$B$3*Circuit1!$B$5*1000","v":6.4259999999999998E-2},0,{"$f":"Circuit1!$B$8*Circuit1!$B$8/3*Circuit1!$J$4/1000","v":5.6426666666666708E-3},0.86742876906768995,1.3727878403661755,0.92885322887923438,1.1446145560046284,6.3363636363636358E-2,{"$f":"W35*Circuit1!$F$25/MAX(Circuit1!$F$29,1)","v":82.367270421970531},53.170528452045694,{"$f":"$AN$6*(1+AB34*0.85*Circuit1!$F$26/100)/1000/MAX(Circuit1!$F$29,1)","v":5.4530719362001212E-3},{"$f":"X35*Circuit1!$J$22/MAX(Circuit1!$J$26,1)","v":42.448592559781012},33.085660951192757,{"$f":"$AN$7*(1+AE34*Circuit1!$J$23*0.85/100)/MAX(Circuit1!$J$26,1)/1000","v":2.2254101922528661E-3},{"$f":"(U35+T35+S35+R35+Q35+P35+N35+M35+L35+J35+I35+B35+O35+K35)/A35/Circuit1!$B$3","v":9.2226592952391676E-2},null,{"$f":"(A35*A35+((Circuit1!$B$8)^2)/3)*Circuit1!$J$9/1000*50","v":31.296639999999996},null,0.95961926567347011]
[{"$f":"Circuit1!$B$10/50*35","v":21},{"$f":"AG35*Circuit1!$B$7/1000000*AC36*(A36*A36+((Circuit1!$B$8)^2)/3)*Circuit1!$B$5*1000","v":0.22317982063563768},{"$f":"(Circuit1!$F$22+A36/(Circuit1!$F$23*Circuit1!$F$29))/(1+((Circuit1!$F$22+A36/(Circuit1!$F$23*Circuit1!$F$29))/Circuit1!$F$4)^(5))^(0.2)","v":2.8754372951129565},{"$f":"MAX((Circuit1!$F$4-C36), 0.001)/(Circuit1!$F$5+Circuit1!$F$28+Circuit1!$F$24/Circuit1!$F$29)","v":0.81713950187963202},{"$f":"C36/(Circuit1!$F$6+Circuit1!$F$28+Circuit1!$F$24/Circuit1!$F$29)","v":1.7971483094455978},{"$f":"(Circuit1!$F$20/1000000000+Circuit1!$F$21/2/1000000000)*MAX(Circuit1!$F$29,1)","v":1.9500000000000003E-8},1.3291169636573409E-8,1.0850523519684114E-8,{"$f":"0.5*Circuit1!$B$3*(G36*MAX(A36-Circuit1!$B$8, 0)+H36*(A36+Circuit1!$B$8))*Circuit1!$B$5*1000","v":1.1305907267092463},{"$f":"MIN(MAX((1-AG35-Circuit1!$F$7/1000000000+Circuit1!$F$8/1000000000),0.001),1)*Circuit1!$B$7/1000000*AF36*(A36*A36+Circuit1!$B$8^2/3)*Circuit1!$B$5*1000","v":0.8986227276693054},{"$f":"Circuit1!$B$3*$AN$2*Circuit1!$J$26*0.000000001*Circuit1!$B$5*1000","v":0.153},{"$f":"Circuit1!$J$21*A36*(Circuit1!$F$7/1000000000+Circuit1!$F$8/1000000000)*Circuit1!$B$5*1000","v":8.8200000000000001E-2},{"$f":"A36*Circuit1!$B$4","v":25.2},{"$f":"Circuit1!$F$4*($AN$3/1000000000*Circuit1!$F$29)*Circuit1!$B$5*1000+Circuit1!$F$4*Circuit1!$F$9/1000/2","v":6.3363636363636358E-2},{"$f":"Circuit1!$F$4*($AN$4/1000000000*Circuit1!$J$26)*Circuit1!$B$5*1000+Circuit1!$F$4*Circuit1!$F$9/1000/2","v":7.8718181818181826E-2},{"$f":"(A36*A36+((Circuit1!$B$8)^2)/3)*(Circuit1!$J$9+Circuit1!$J$12)/1000*(1+0.002*AE35)","v":1.1784619070869073},{"$f":"Circuit1!$J$8/1000","v":0.03},{"$f":"0","v":0},{"$f":"(Circuit1!$F$19/1000000000000*Circuit1!$F$29)*Circuit1!$B$3*Circuit1!$B$3*Circuit1!$B$5*1000","v":6.4259999999999998E-2},0,{"$f":"Circuit1!$B$8*Circuit1!$B$8/3*Circuit1!$J$4/1000","v":5.6426666666666708E-3},0.86556178009907636,1.418030547344884,0.98682272766930534,1.2141045737535741,6.3363636363636358E-2,{"$f":"W36*Circuit1!$F$25/MAX(Circuit1!$F$29,1)","v":85.081832840693039},54.28864822043699,{"$f":"$AN$6*(1+AB35*0.85*Circuit1!$F$26/100)/1000/MAX(Circuit1!$F$29,1)","v":5.4733121281262103E-3},{"$f":"X36*Circuit1!$J$22/MAX(Circuit1!$J$26,1)","v":45.097798654487256},34.673224633114032,{"$f":"$AN$7*(1+AE35*Circuit1!$J$23*0.85/100)/MAX(Circuit1!$J$26,1)/1000","v":2.2389861071430111E-3},{"$f":"(U36+T36+S36+R36+Q36+P36+N36+M36+L36+J36+I36+B36+O36+K36)/A36/Circuit1!$B$3","v":9.2425522752220879E-2},null,{"$f":"(A36*A36+((Circuit1!$B$8)^2)/3)*Circuit1!$J$9/1000*50","v":33.159640000000003},null,0.95894323516224722]
[{"$f":"Circuit1!$B$10/50*36","v":21.599999999999998},{"$f":"AG36*Circuit1!$B$7/1000000*AC37*(A37*A37+((Circuit1!$B$8)^2)/3)*Circuit1!$B$5*1000","v":0.23745790992206278},{"$f":"(Circuit1!$F$22+A37/(Circuit1!$F$23*Circuit1!$F$29))/(1+((Circuit1!$F$22+A37/(Circuit1!$F$23*Circuit1!$F$29))/Circuit1!$F$4)^(5))^(0.2)","v":2.8995265405060557},{"$f":"MAX((Circuit1!$F$4-C37), 0.001)/(Circuit1!$F$5+Circuit1!$F$28+Circuit1!$F$24/Circuit1!$F$29)","v":0.80787440749767081},{"$f":"C37/(Circuit1!$F$6+Circuit1!$F$28+Circuit1!$F$24/Circuit1!$F$29)","v":1.8122040878162848},{"$f":"(Circuit1!$F$20/1000000000+Circuit1!$F$21/2/1000000000)*MAX(Circuit1!$F$29,1)","v":1.9500000000000003E-8},1.3375637777653461E-8,{"$f":"F37/E37","v":1.0760377449262683E-8},{"$f":"0.5*Circuit1!$B$3*(G37*MAX(A37-Circuit1!$B$8, 0)+H37*(A37+Circuit1!$B$8))*Circuit1!$B$5*1000","v":1.1621831622685868},{"$f":"MIN(MAX((1-AG36-Circuit1!$F$7/1000000000+Circuit1!$F$8/1000000000),0.001),1)*Circuit1!$B$7/1000000*AF37*(A37*A37+Circuit1!$B$8^2/3)*Circuit1!$B$5*1000","v":0.95618284930987263},{"$f":"Circuit1!$B$3*$AN$2*Circuit1!$J$26*0.000000001*Circuit1!$B$5*1000","v":0.153},{"$f":"Circuit1!$J$21*A37*(Circuit1!$F$7/1000000000+Circuit1!$F$8/1000000000)*Circuit1!$B$5*1000","v":9.0719999999999981E-2},{"$f":"A37*Circuit1!$B$4","v":25.919999999999998},{"$f":"Circuit1!$F$4*($AN$3/1000000000*Circuit1!$F$29)*Circuit1!$B$5*1000+Circuit1!$F$4*Circuit1!$F$9/1000/2","v":6.3363636363636358E-2},{"$f":"Circuit1!$F$4*($AN$4/1000000000*Circuit1!$J$26)*Circuit1!$B$5*1000+Circuit1!$F$4*Circuit1!$F$9/1000/2","v":7.8718181818181826E-2},{"$f":"(A37*A37+((Circuit1!$B$8)^2)/3)*(Circuit1!$J$9+Circuit1!$J$12)/1000*(1+0.002*AE36)","v":1.2503026812063245},{"$f":"Circuit1!$J$8/1000","v":0.03},{"$f":"0","v":0},{"$f":"(Circuit1!$F$19/1000000000000*Circuit1!$F$29)*Circuit1!$B$3*Circuit1!$B$3*Circuit1!$B$5*1000","v":6.4259999999999998E-2},0,{"$f":"Circuit1!$B$8*Circuit1!$B$8/3*Circuit1!$J$4/1000","v":5.6426666666666708E-3},0.86365939900108113,1.4639010721906496,1.0469028493098727,{"$f":"P37+Q37+U37","v":1.2859453478729912},{"$f":"N37","v":6.3363636363636358E-2},{"$f":"W37*Circuit1!$F$25/MAX(Circuit1!$F$29,1)","v":87.834064331438981},55.39622630068407,{"$f":"$AN$6*(1+AB36*0.85*Circuit1!$F$26/100)/1000/MAX(Circuit1!$F$29,1)","v":5.493359270160288E-3},{"$f":"X37*Circuit1!$J$22/MAX(Circuit1!$J$26,1)","v":47.843460213461185},36.273723803031679,{"$f":"$AN$7*(1+AE36*Circuit1!$J$23*0.85/100)/MAX(Circuit1!$J$26,1)/1000","v":2.2526927086224044E-3},{"$f":"(U37+T37+S37+R37+Q37+P37+N37+M37+L37+J37+I37+B37+O37+K37)/A37/Circuit1!$B$3","v":9.2629108294923865E-2},null,{"$f":"(A37*A37+((Circuit1!$B$8)^2)/3)*Circuit1!$J$9/1000*50","v":35.07663999999999},null,0.95825755543414459]
[{"$f":"Circuit1!$B$10/50*37","v":22.2},{"$f":"AG37*Circuit1!$B$7/1000000*AC38*(A38*A38+((Circuit1!$B$8)^2)/3)*Circuit1!$B$5*1000","v":0.25226203010231213},{"$f":"(Circuit1!$F$22+A38/(Circuit1!$F$23*Circuit1!$F$29))/(1+((Circuit1!$F$22+A38/(Circuit1!$F$23*Circuit1!$F$29))/Circuit1!$F$4)^(5))^(0.2)","v":2.9235317962632754},{"$f":"MAX((Circuit1!$F$4-C38), 0.001)/(Circuit1!$F$5+Circuit1!$F$28+Circuit1!$F$24/Circuit1!$F$29)","v":0.79864161682181711},{"$f":"C38/(Circuit1!$F$6+Circuit1!$F$28+Circuit1!$F$24/Circuit1!$F$29)","v":1.827207372664547},{"$f":"(Circuit1!$F$20/1000000000+Circuit1!$F$21/2/1000000000)*MAX(Circuit1!$F$29,1)","v":1.9500000000000003E-8},1.3460886235465993E-8,1.067202348880844E-8,{"$f":"0.5*Circuit1!$B$3*(G38*MAX(A38-Circuit1!$B$8, 0)+H38*(A38+Circuit1!$B$8))*Circuit1!$B$5*1000","v":1.1938929489563459},{"$f":"MIN(MAX((1-AG37-Circuit1!$F$7/1000000000+Circuit1!$F$8/1000000000),0.001),1)*Circuit1!$B$7/1000000*AF38*(A38*A38+Circuit1!$B$8^2/3)*Circuit1!$B$5*1000","v":1.0158789399017114},{"$f":"Circuit1!$B$3*$AN$2*Circuit1!$J$26*0.000000001*Circuit1!$B$5*1000","v":0.153},{"$f":"Circuit1!$J$21*A38*(Circuit1!$F$7/1000000000+Circuit1!$F$8/1000000000)*Circuit1!$B$5*1000","v":9.323999999999999E-2},{"$f":"A38*Circuit1!$B$4","v":26.639999999999997},{"$f":"Circuit1!$F$4*($AN$3/1000000000*Circuit1!$F$29)*Circuit1!$B$5*1000+Circuit1!$F$4*Circuit1!$F$9/1000/2","v":6.3363636363636358E-2},{"$f":"Circuit1!$F$4*($AN$4/1000000000*Circuit1!$J$26)*Circuit1!$B$5*1000+Circuit1!$F$4*Circuit1!$F$9/1000/2","v":7.8718181818181826E-2},{"$f":"(A38*A38+((Circuit1!$B$8)^2)/3)*(Circuit1!$J$9+Circuit1!$J$12)/1000*(1+0.002*AE37)","v":1.3245117240609434},{"$f":"Circuit1!$J$8/1000","v":0.03},{"$f":"0","v":0},{"$f":"(Circuit1!$F$19/1000000000000*Circuit1!$F$29)*Circuit1!$B$3*Circuit1!$B$3*Circuit1!$B$5*1000","v":6.4259999999999998E-2},0,{"$f":"Circuit1!$B$8*Circuit1!$B$8/3*Circuit1!$J$4/1000","v":5.6426666666666708E-3},0.86172402025994455,1.5104149790586581,1.1091189399017114,1.3601543907276101,6.3363636363636358E-2,{"$f":"W38*Circuit1!$F$25/MAX(Circuit1!$F$29,1)","v":90.624898743519481},56.493467145382141,{"$f":"$AN$6*(1+AB37*0.85*Circuit1!$F$26/100)/1000/MAX(Circuit1!$F$29,1)","v":5.5132174067537305E-3},{"$f":"X38*Circuit1!$J$22/MAX(Circuit1!$J$26,1)","v":50.686735553508214},37.884966896574362,{"$f":"$AN$7*(1+AE37*Circuit1!$J$23*0.85/100)/MAX(Circuit1!$J$26,1)/1000","v":2.2665109916556949E-3},{"$f":"(U38+T38+S38+R38+Q38+P38+N38+M38+L38+J38+I38+B38+O38+K38)/A38/Circuit1!$B$3","v":9.2837147531140515E-2},null,{"$f":"(A38*A38+((Circuit1!$B$8)^2)/3)*Circuit1!$J$9/1000*50","v":37.047640000000001},null,0.95756271999513753]
[{"$f":"Circuit1!$B$10/50*38","v":22.8},{"$f":"AG38*Circuit1!$B$7/1000000*AC39*(A39*A39+((Circuit1!$B$8)^2)/3)*Circuit1!$B$5*1000","v":0.26759952158205752},{"$f":"(Circuit1!$F$22+A39/(Circuit1!$F$23*Circuit1!$F$29))/(1+((Circuit1!$F$22+A39/(Circuit1!$F$23*Circuit1!$F$29))/Circuit1!$F$4)^(5))^(0.2)","v":2.9474506052109288},{"$f":"MAX((Circuit1!$F$4-C39), 0.001)/(Circuit1!$F$5+Circuit1!$F$28+Circuit1!$F$24/Circuit1!$F$29)","v":0.78944207491887353},{"$f":"C39/(Circuit1!$F$6+Circuit1!$F$28+Circuit1!$F$24/Circuit1!$F$29)","v":1.8421566282568305},{"$f":"(Circuit1!$F$20/1000000000+Circuit1!$F$21/2/1000000000)*MAX(Circuit1!$F$29,1)","v":1.9500000000000003E-8},1.3546915391575596E-8,1.0585419122831147E-8,{"$f":"0.5*Circuit1!$B$3*(G39*MAX(A39-Circuit1!$B$8, 0)+H39*(A39+Circuit1!$B$8))*Circuit1!$B$5*1000","v":1.2257281660364641},{"$f":"MIN(MAX((1-AG38-Circuit1!$F$7/1000000000+Circuit1!$F$8/1000000000),0.001),1)*Circuit1!$B$7/1000000*AF39*(A39*A39+Circuit1!$B$8^2/3)*Circuit1!$B$5*1000","v":1.0777349807671315},{"$f":"Circuit1!$B$3*$AN$2*Circuit1!$J$26*0.000000001*Circuit1!$B$5*1000","v":0.153},{"$f":"Circuit1!$J$21*A39*(Circuit1!$F$7/1000000000+Circuit1!$F$8/1000000000)*Circuit1!$B$5*1000","v":9.5759999999999998E-2},{"$f":"A39*Circuit1!$B$4","v":27.36},{"$f":"Circuit1!$F$4*($AN$3/1000000000*Circuit1!$F$29)*Circuit1!$B$5*1000+Circuit1!$F$4*Circuit1!$F$9/1000/2","v":6.3363636363636358E-2},{"$f":"Circuit1!$F$4*($AN$4/1000000000*Circuit1!$J$26)*Circuit1!$B$5*1000+Circuit1!$F$4*Circuit1!$F$9/1000/2","v":7.8718181818181826E-2},{"$f":"(A39*A39+((Circuit1!$B$8)^2)/3)*(Circuit1!$J$9+Circuit1!$J$12)/1000*(1+0.002*AE38)","v":1.4011057115307843},{"$f":"Circuit1!$J$8/1000","v":0.03},{"$f":"0","v":0},{"$f":"(Circuit1!$F$19/1000000000000*Circuit1!$F$29)*Circuit1!$B$3*Circuit1!$B$3*Circuit1!$B$5*1000","v":6.4259999999999998E-2},0,{"$f":"Circuit1!$B$8*Circuit1!$B$8/3*Circuit1!$J$4/1000","v":5.6426666666666708E-3},0.85975787685650984,1.5575876876185215,1.1734949807671315,1.436748378197451,6.3363636363636358E-2,{"$f":"W39*Circuit1!$F$25/MAX(Circuit1!$F$29,1)","v":93.455261257111289},57.580555524581918,{"$f":"$AN$6*(1+AB38*0.85*Circuit1!$F$26/100)/1000/MAX(Circuit1!$F$29,1)","v":5.5328902036052702E-3},{"$f":"X39*Circuit1!$J$22/MAX(Circuit1!$J$26,1)","v":53.628720621057916},39.504781391465464,{"$f":"$AN$7*(1+AE38*Circuit1!$J$23*0.85/100)/MAX(Circuit1!$J$26,1)/1000","v":2.2804220348605175E-3},{"$f":"(U39+T39+S39+R39+Q39+P39+N39+M39+L39+J39+I39+B39+O39+K39)/A39/Circuit1!$B$3","v":9.3049452820950049E-2},null,{"$f":"(A39*A39+((Circuit1!$B$8)^2)/3)*Circuit1!$J$9/1000*50","v":39.07264},null,0.95685918899539346]
[{"$f":"Circuit1!$B$10/50*39","v":23.4},{"$f":"AG39*Circuit1!$B$7/1000000*AC40*(A40*A40+((Circuit1!$B$8)^2)/3)*Circuit1!$B$5*1000","v":0.28347774226918576},{"$f":"(Circuit1!$F$22+A40/(Circuit1!$F$23*Circuit1!$F$29))/(1+((Circuit1!$F$22+A40/(Circuit1!$F$23*Circuit1!$F$29))/Circuit1!$F$4)^(5))^(0.2)","v":2.971280484760074},{"$f":"MAX((Circuit1!$F$4-C40), 0.001)/(Circuit1!$F$5+Circuit1!$F$28+Circuit1!$F$24/Circuit1!$F$29)","v":0.78027673663074071},{"$f":"C40/(Circuit1!$F$6+Circuit1!$F$28+Circuit1!$F$24/Circuit1!$F$29)","v":1.8570503029750463},{"$f":"(Circuit1!$F$20/1000000000+Circuit1!$F$21/2/1000000000)*MAX(Circuit1!$F$29,1)","v":1.9500000000000003E-8},1.3633725208965893E-8,1.0500523313105983E-8,{"$f":"0.5*Circuit1!$B$3*(G40*MAX(A40-Circuit1!$B$8, 0)+H40*(A40+Circuit1!$B$8))*Circuit1!$B$5*1000","v":1.2576967288382239},{"$f":"MIN(MAX((1-AG39-Circuit1!$F$7/1000000000+Circuit1!$F$8/1000000000),0.001),1)*Circuit1!$B$7/1000000*AF40*(A40*A40+Circuit1!$B$8^2/3)*Circuit1!$B$5*1000","v":1.1417735177600112},{"$f":"Circuit1!$B$3*$AN$2*Circuit1!$J$26*0.000000001*Circuit1!$B$5*1000","v":0.153},{"$f":"Circuit1!$J$21*A40*(Circuit1!$F$7/1000000000+Circuit1!$F$8/1000000000)*Circuit1!$B$5*1000","v":9.8280000000000006E-2},{"$f":"A40*Circuit1!$B$4","v":28.08},{"$f":"Circuit1!$F$4*($AN$3/1000000000*Circuit1!$F$29)*Circuit1!$B$5*1000+Circuit1!$F$4*Circuit1!$F$9/1000/2","v":6.3363636363636358E-2},{"$f":"Circuit1!$F$4*($AN$4/1000000000*Circuit1!$J$26)*Circuit1!$B$5*1000+Circuit1!$F$4*Circuit1!$F$9/1000/2","v":7.8718181818181826E-2},{"$f":"(A40*A40+((Circuit1!$B$8)^2)/3)*(Circuit1!$J$9+Circuit1!$J$12)/1000*(1+0.002*AE39)","v":1.4801004361400187},{"$f":"Circuit1!$J$8/1000","v":0.03},{"$f":"0","v":0},{"$f":"(Circuit1!$F$19/1000000000000*Circuit1!$F$29)*Circuit1!$B$3*Circuit1!$B$3*Circuit1!$B$5*1000","v":6.4259999999999998E-2},0,{"$f":"Circuit1!$B$8*Circuit1!$B$8/3*Circuit1!$J$4/1000","v":5.6426666666666708E-3},0.85776306199547458,1.6054344711074098,1.2400535177600112,1.5157431028066854,6.3363636363636358E-2,{"$f":"W40*Circuit1!$F$25/MAX(Circuit1!$F$29,1)","v":96.326068266444594},58.657657882712087,{"$f":"$AN$6*(1+AB39*0.85*Circuit1!$F$26/100)/1000/MAX(Circuit1!$F$29,1)","v":5.552380973518737E-3},{"$f":"X40*Circuit1!$J$22/MAX(Circuit1!$J$26,1)","v":56.670445761632514},41.131023030013566,{"$f":"$AN$7*(1+AE39*Circuit1!$J$23*0.85/100)/MAX(Circuit1!$J$26,1)/1000","v":2.2944070812588751E-3},{"$f":"(U40+T40+S40+R40+Q40+P40+N40+M40+L40+J40+I40+B40+O40+K40)/A40/Circuit1!$B$3","v":9.3265848746028265E-2},null,{"$f":"(A40*A40+((Circuit1!$B$8)^2)/3)*Circuit1!$J$9/1000*50","v":41.151639999999986},null,0.95614739371323576]
[{"$f":"Circuit1!$B$10/50*40","v":24},{"$f":"AG40*Circuit1!$B$7/1000000*AC41*(A41*A41+((Circuit1!$B$8)^2)/3)*Circuit1!$B$5*1000","v":0.29990406246468393},{"$f":"(Circuit1!$F$22+A41/(Circuit1!$F$23*Circuit1!$F$29))/(1+((Circuit1!$F$22+A41/(Circuit1!$F$23*Circuit1!$F$29))/Circuit1!$F$4)^(5))^(0.2)","v":2.9950189286953668},{"$f":"MAX((Circuit1!$F$4-C41), 0.001)/(Circuit1!$F$5+Circuit1!$F$28+Circuit1!$F$24/Circuit1!$F$29)","v":0.77114656588639741},{"$f":"C41/(Circuit1!$F$6+Circuit1!$F$28+Circuit1!$F$24/Circuit1!$F$29)","v":1.8718868304346041},{"$f":"(Circuit1!$F$20/1000000000+Circuit1!$F$21/2/1000000000)*MAX(Circuit1!$F$29,1)","v":1.9500000000000003E-8},1.3721315216940671E-8,{"$f":"F41/E41","v":1.0417296432109949E-8},{"$f":"0.5*Circuit1!$B$3*(G41*MAX(A41-Circuit1!$B$8, 0)+H41*(A41+Circuit1!$B$8))*Circuit1!$B$5*1000","v":1.2898063912795343},{"$f":"MIN(MAX((1-AG40-Circuit1!$F$7/1000000000+Circuit1!$F$8/1000000000),0.001),1)*Circuit1!$B$7/1000000*AF41*(A41*A41+Circuit1!$B$8^2/3)*Circuit1!$B$5*1000","v":1.2080156035412184},{"$f":"Circuit1!$B$3*$AN$2*Circuit1!$J$26*0.000000001*Circuit1!$B$5*1000","v":0.153},{"$f":"Circuit1!$J$21*A41*(Circuit1!$F$7/1000000000+Circuit1!$F$8/1000000000)*Circuit1!$B$5*1000","v":0.10079999999999999},{"$f":"A41*Circuit1!$B$4","v":28.799999999999997},{"$f":"Circuit1!$F$4*($AN$3/1000000000*Circuit1!$F$29)*Circuit1!$B$5*1000+Circuit1!$F$4*Circuit1!$F$9/1000/2","v":6.3363636363636358E-2},{"$f":"Circuit1!$F$4*($AN$4/1000000000*Circuit1!$J$26)*Circuit1!$B$5*1000+Circuit1!$F$4*Circuit1!$F$9/1000/2","v":7.8718181818181826E-2},{"$f":"(A41*A41+((Circuit1!$B$8)^2)/3)*(Circuit1!$J$9+Circuit1!$J$12)/1000*(1+0.002*AE40)","v":1.5615107683123899},{"$f":"Circuit1!$J$8/1000","v":0.03},{"$f":"0","v":0},{"$f":"(Circuit1!$F$19/1000000000000*Circuit1!$F$29)*Circuit1!$B$3*Circuit1!$B$3*Circuit1!$B$5*1000","v":6.4259999999999998E-2},0,{"$f":"Circuit1!$B$8*Circuit1!$B$8/3*Circuit1!$J$4/1000","v":5.6426666666666708E-3},0.85574154698457006,1.6539704537442184,1.3088156035412184,1.5971534349790566,6.3363636363636358E-2,{"$f":"W41*Circuit1!$F$25/MAX(Circuit1!$F$29,1)","v":99.238227224653102},59.724923618079565,{"$f":"$AN$6*(1+AB40*0.85*Circuit1!$F$26/100)/1000/MAX(Circuit1!$F$29,1)","v":5.5716927007317717E-3},{"$f":"X41*Circuit1!$J$22/MAX(Circuit1!$J$26,1)","v":59.812873081833686},42.761584789774624,{"$f":"$AN$7*(1+AE40*Circuit1!$J$23*0.85/100)/MAX(Circuit1!$J$26,1)/1000","v":2.3084476179016625E-3},{"$f":"(U41+T41+S41+R41+Q41+P41+N41+M41+L41+J41+I41+B41+O41+K41)/A41/Circuit1!$B$3","v":9.3486170306795305E-2},null,{"$f":"(A41*A41+((Circuit1!$B$8)^2)/3)*Circuit1!$J$9/1000*50","v":43.284639999999996},null,0.9554277402624104]
[{"$f":"Circuit1!$B$10/50*41","v":24.599999999999998},{"$f":"AG41*Circuit1!$B$7/1000000*AC42*(A42*A42+((Circuit1!$B$8)^2)/3)*Circuit1!$B$5*1000","v":0.31688585965224542},{"$f":"(Circuit1!$F$22+A42/(Circuit1!$F$23*Circuit1!$F$29))/(1+((Circuit1!$F$22+A42/(Circuit1!$F$23*Circuit1!$F$29))/Circuit1!$F$4)^(5))^(0.2)","v":3.01866340905418},{"$f":"MAX((Circuit1!$F$4-C42), 0.001)/(Circuit1!$F$5+Circuit1!$F$28+Circuit1!$F$24/Circuit1!$F$29)","v":0.76205253497916148},{"$f":"C42/(Circuit1!$F$6+Circuit1!$F$28+Circuit1!$F$24/Circuit1!$F$29)","v":1.8866646306588624},{"$f":"(Circuit1!$F$20/1000000000+Circuit1!$F$21/2/1000000000)*MAX(Circuit1!$F$29,1)","v":1.9500000000000003E-8},1.3809684496113859E-8,1.0335700199770109E-8,{"$f":"0.5*Circuit1!$B$3*(G42*MAX(A42-Circuit1!$B$8, 0)+H42*(A42+Circuit1!$B$8))*Circuit1!$B$5*1000","v":1.3220647479303143},{"$f":"MIN(MAX((1-AG41-Circuit1!$F$7/1000000000+Circuit1!$F$8/1000000000),0.001),1)*Circuit1!$B$7/1000000*AF42*(A42*A42+Circuit1!$B$8^2/3)*Circuit1!$B$5*1000","v":1.2764807531047893},{"$f":"Circuit1!$B$3*$AN$2*Circuit1!$J$26*0.000000001*Circuit1!$B$5*1000","v":0.153},{"$f":"Circuit1!$J$21*A42*(Circuit1!$F$7/1000000000+Circuit1!$F$8/1000000000)*Circuit1!$B$5*1000","v":0.10332},{"$f":"A42*Circuit1!$B$4","v":29.519999999999996},{"$f":"Circuit1!$F$4*($AN$3/1000000000*Circuit1!$F$29)*Circuit1!$B$5*1000+Circuit1!$F$4*Circuit1!$F$9/1000/2","v":6.3363636363636358E-2},{"$f":"Circuit1!$F$4*($AN$4/1000000000*Circuit1!$J$26)*Circuit1!$B$5*1000+Circuit1!$F$4*Circuit1!$F$9/1000/2","v":7.8718181818181826E-2},{"$f":"(A42*A42+((Circuit1!$B$8)^2)/3)*(Circuit1!$J$9+Circuit1!$J$12)/1000*(1+0.002*AE41)","v":1.6453506259593402},{"$f":"Circuit1!$J$8/1000","v":0.03},{"$f":"0","v":0},{"$f":"(Circuit1!$F$19/1000000000000*Circuit1!$F$29)*Circuit1!$B$3*Circuit1!$B$3*Circuit1!$B$5*1000","v":6.4259999999999998E-2},0,{"$f":"Circuit1!$B$8*Circuit1!$B$8/3*Circuit1!$J$4/1000","v":5.6426666666666708E-3},0.85369519591948839,1.7032106075825597,1.3798007531047893,1.6809932926260069,6.3363636363636358E-2,{"$f":"W42*Circuit1!$F$25/MAX(Circuit1!$F$29,1)","v":102.19263645495359},60.782486291906743,{"$f":"$AN$6*(1+AB41*0.85*Circuit1!$F$26/100)/1000/MAX(Circuit1!$F$29,1)","v":5.590828063856421E-3},{"$f":"X42*Circuit1!$J$22/MAX(Circuit1!$J$26,1)","v":63.056894416888873},44.394405486948465,{"$f":"$AN$7*(1+AE41*Circuit1!$J$23*0.85/100)/MAX(Circuit1!$J$26,1)/1000","v":2.3225254533189702E-3},{"$f":"(U42+T42+S42+R42+Q42+P42+N42+M42+L42+J42+I42+B42+O42+K42)/A42/Circuit1!$B$3","v":9.3710261440366302E-2},null,{"$f":"(A42*A42+((Circuit1!$B$8)^2)/3)*Circuit1!$J$9/1000*50","v":45.471639999999987},null,0.95470061265695516]
[{"$f":"Circuit1!$B$10/50*42","v":25.2},{"$f":"AG42*Circuit1!$B$7/1000000*AC43*(A43*A43+((Circuit1!$B$8)^2)/3)*Circuit1!$B$5*1000","v":0.33443051323990286},{"$f":"(Circuit1!$F$22+A43/(Circuit1!$F$23*Circuit1!$F$29))/(1+((Circuit1!$F$22+A43/(Circuit1!$F$23*Circuit1!$F$29))/Circuit1!$F$4)^(5))^(0.2)","v":3.0422113780947324},{"$f":"MAX((Circuit1!$F$4-C43), 0.001)/(Circuit1!$F$5+Circuit1!$F$28+Circuit1!$F$24/Circuit1!$F$29)","v":0.7529956238097183},{"$f":"C43/(Circuit1!$F$6+Circuit1!$F$28+Circuit1!$F$24/Circuit1!$F$29)","v":1.9013821113092078},{"$f":"(Circuit1!$F$20/1000000000+Circuit1!$F$21/2/1000000000)*MAX(Circuit1!$F$29,1)","v":1.9500000000000003E-8},1.3898831663529617E-8,1.0255697623332095E-8,{"$f":"0.5*Circuit1!$B$3*(G43*MAX(A43-Circuit1!$B$8, 0)+H43*(A43+Circuit1!$B$8))*Circuit1!$B$5*1000","v":1.3544792356386417},{"$f":"MIN(MAX((1-AG42-Circuit1!$F$7/1000000000+Circuit1!$F$8/1000000000),0.001),1)*Circuit1!$B$7/1000000*AF43*(A43*A43+Circuit1!$B$8^2/3)*Circuit1!$B$5*1000","v":1.3471869126195408},{"$f":"Circuit1!$B$3*$AN$2*Circuit1!$J$26*0.000000001*Circuit1!$B$5*1000","v":0.153},{"$f":"Circuit1!$J$21*A43*(Circuit1!$F$7/1000000000+Circuit1!$F$8/1000000000)*Circuit1!$B$5*1000","v":0.10583999999999998},{"$f":"A43*Circuit1!$B$4","v":30.24},{"$f":"Circuit1!$F$4*($AN$3/1000000000*Circuit1!$F$29)*Circuit1!$B$5*1000+Circuit1!$F$4*Circuit1!$F$9/1000/2","v":6.3363636363636358E-2},{"$f":"Circuit1!$F$4*($AN$4/1000000000*Circuit1!$J$26)*Circuit1!$B$5*1000+Circuit1!$F$4*Circuit1!$F$9/1000/2","v":7.8718181818181826E-2},{"$f":"(A43*A43+((Circuit1!$B$8)^2)/3)*(Circuit1!$J$9+Circuit1!$J$12)/1000*(1+0.002*AE42)","v":1.7316329524675198},{"$f":"Circuit1!$J$8/1000","v":0.03},{"$f":"0","v":0},{"$f":"(Circuit1!$F$19/1000000000000*Circuit1!$F$29)*Circuit1!$B$3*Circuit1!$B$3*Circuit1!$B$5*1000","v":6.4259999999999998E-2},0,{"$f":"Circuit1!$B$8*Circuit1!$B$8/3*Circuit1!$J$4/1000","v":5.6426666666666708E-3},0.85162577771675452,1.7531697488785445,1.4530269126195408,1.7672756191341865,6.3363636363636358E-2,{"$f":"W43*Circuit1!$F$25/MAX(Circuit1!$F$29,1)","v":105.19018493271267},61.830464773037043,{"$f":"$AN$6*(1+AB42*0.85*Circuit1!$F$26/100)/1000/MAX(Circuit1!$F$29,1)","v":5.6097894575563596E-3},{"$f":"X43*Circuit1!$J$22/MAX(Circuit1!$J$26,1)","v":66.403329906713012},46.027477905726847,{"$f":"$AN$7*(1+AE42*Circuit1!$J$23*0.85/100)/MAX(Circuit1!$J$26,1)/1000","v":2.336622791799517E-3},{"$f":"(U43+T43+S43+R43+Q43+P43+N43+M43+L43+J43+I43+B43+O43+K43)/A43/Circuit1!$B$3","v":9.3937973806386479E-2},null,{"$f":"(A43*A43+((Circuit1!$B$8)^2)/3)*Circuit1!$J$9/1000*50","v":47.712639999999993},null,0.95396637534360473]
[{"$f":"Circuit1!$B$10/50*43","v":25.8},{"$f":"AG43*Circuit1!$B$7/1000000*AC44*(A44*A44+((Circuit1!$B$8)^2)/3)*Circuit1!$B$5*1000","v":0.35254539930510626},{"$f":"(Circuit1!$F$22+A44/(Circuit1!$F$23*Circuit1!$F$29))/(1+((Circuit1!$F$22+A44/(Circuit1!$F$23*Circuit1!$F$29))/Circuit1!$F$4)^(5))^(0.2)","v":3.0656602703516507},{"$f":"MAX((Circuit1!$F$4-C44), 0.001)/(Circuit1!$F$5+Circuit1!$F$28+Circuit1!$F$24/Circuit1!$F$29)","v":0.74397681909551894},{"$f":"C44/(Circuit1!$F$6+Circuit1!$F$28+Circuit1!$F$24/Circuit1!$F$29)","v":1.9160376689697816},{"$f":"(Circuit1!$F$20/1000000000+Circuit1!$F$21/2/1000000000)*MAX(Circuit1!$F$29,1)","v":1.9500000000000003E-8},1.3988754857955649E-8,1.0177252940170429E-8,{"$f":"0.5*Circuit1!$B$3*(G44*MAX(A44-Circuit1!$B$8, 0)+H44*(A44+Circuit1!$B$8))*Circuit1!$B$5*1000","v":1.3870571347415881},{"$f":"MIN(MAX((1-AG43-Circuit1!$F$7/1000000000+Circuit1!$F$8/1000000000),0.001),1)*Circuit1!$B$7/1000000*AF44*(A44*A44+Circuit1!$B$8^2/3)*Circuit1!$B$5*1000","v":1.4201504414335651},{"$f":"Circuit1!$B$3*$AN$2*Circuit1!$J$26*0.000000001*Circuit1!$B$5*1000","v":0.153},{"$f":"Circuit1!$J$21*A44*(Circuit1!$F$7/1000000000+Circuit1!$F$8/1000000000)*Circuit1!$B$5*1000","v":0.10836},{"$f":"A44*Circuit1!$B$4","v":30.96},{"$f":"Circuit1!$F$4*($AN$3/1000000000*Circuit1!$F$29)*Circuit1!$B$5*1000+Circuit1!$F$4*Circuit1!$F$9/1000/2","v":6.3363636363636358E-2},{"$f":"Circuit1!$F$4*($AN$4/1000000000*Circuit1!$J$26)*Circuit1!$B$5*1000+Circuit1!$F$4*Circuit1!$F$9/1000/2","v":7.8718181818181826E-2},{"$f":"(A44*A44+((Circuit1!$B$8)^2)/3)*(Circuit1!$J$9+Circuit1!$J$12)/1000*(1+0.002*AE43)","v":1.8203697030145025},{"$f":"Circuit1!$J$8/1000","v":0.03},{"$f":"0","v":0},{"$f":"(Circuit1!$F$19/1000000000000*Circuit1!$F$29)*Circuit1!$B$3*Circuit1!$B$3*Circuit1!$B$5*1000","v":6.4259999999999998E-2},0,{"$f":"Circuit1!$B$8*Circuit1!$B$8/3*Circuit1!$J$4/1000","v":5.6426666666666708E-3},0.8495349759460098,1.8038625340466943,1.5285104414335651,1.8560123696811692,6.3363636363636358E-2,{"$f":"W44*Circuit1!$F$25/MAX(Circuit1!$F$29,1)","v":108.23175204280166},62.86896432367989,{"$f":"$AN$6*(1+AB43*0.85*Circuit1!$F$26/100)/1000/MAX(Circuit1!$F$29,1)","v":5.6285790130707058E-3},{"$f":"X44*Circuit1!$J$22/MAX(Circuit1!$J$26,1)","v":69.852927173513933},47.65885635790336,{"$f":"$AN$7*(1+AE43*Circuit1!$J$23*0.85/100)/MAX(Circuit1!$J$26,1)/1000","v":2.3507223035772705E-3},{"$f":"(U44+T44+S44+R44+Q44+P44+N44+M44+L44+J44+I44+B44+O44+K44)/A44/Circuit1!$B$3","v":9.4169165796752566E-2},null,{"$f":"(A44*A44+((Circuit1!$B$8)^2)/3)*Circuit1!$J$9/1000*50","v":50.007639999999995},null,0.95322537529230189]
[{"$f":"Circuit1!$B$10/50*44","v":26.4},{"$f":"AG44*Circuit1!$B$7/1000000*AC45*(A45*A45+((Circuit1!$B$8)^2)/3)*Circuit1!$B$5*1000","v":0.37123788539195224},{"$f":"(Circuit1!$F$22+A45/(Circuit1!$F$23*Circuit1!$F$29))/(1+((Circuit1!$F$22+A45/(Circuit1!$F$23*Circuit1!$F$29))/Circuit1!$F$4)^(5))^(0.2)","v":3.089007504777074},{"$f":"MAX((Circuit1!$F$4-C45), 0.001)/(Circuit1!$F$5+Circuit1!$F$28+Circuit1!$F$24/Circuit1!$F$29)","v":0.73499711354727926},{"$f":"C45/(Circuit1!$F$6+Circuit1!$F$28+Circuit1!$F$24/Circuit1!$F$29)","v":1.9306296904856712},{"$f":"(Circuit1!$F$20/1000000000+Circuit1!$F$21/2/1000000000)*MAX(Circuit1!$F$29,1)","v":1.9500000000000003E-8},1.4079451725394757E-8,1.0100331563374311E-8,{"$f":"0.5*Circuit1!$B$3*(G45*MAX(A45-Circuit1!$B$8, 0)+H45*(A45+Circuit1!$B$8))*Circuit1!$B$5*1000","v":1.4198055698821179},{"$f":"MIN(MAX((1-AG44-Circuit1!$F$7/1000000000+Circuit1!$F$8/1000000000),0.001),1)*Circuit1!$B$7/1000000*AF45*(A45*A45+Circuit1!$B$8^2/3)*Circuit1!$B$5*1000","v":1.4953861068818584},{"$f":"Circuit1!$B$3*$AN$2*Circuit1!$J$26*0.000000001*Circuit1!$B$5*1000","v":0.153},{"$f":"Circuit1!$J$21*A45*(Circuit1!$F$7/1000000000+Circuit1!$F$8/1000000000)*Circuit1!$B$5*1000","v":0.11087999999999998},{"$f":"A45*Circuit1!$B$4","v":31.679999999999996},{"$f":"Circuit1!$F$4*($AN$3/1000000000*Circuit1!$F$29)*Circuit1!$B$5*1000+Circuit1!$F$4*Circuit1!$F$9/1000/2","v":6.3363636363636358E-2},{"$f":"Circuit1!$F$4*($AN$4/1000000000*Circuit1!$J$26)*Circuit1!$B$5*1000+Circuit1!$F$4*Circuit1!$F$9/1000/2","v":7.8718181818181826E-2},{"$f":"(A45*A45+((Circuit1!$B$8)^2)/3)*(Circuit1!$J$9+Circuit1!$J$12)/1000*(1+0.002*AE44)","v":1.9115718390094967},{"$f":"Circuit1!$J$8/1000","v":0.03},{"$f":"0","v":0},{"$f":"(Circuit1!$F$19/1000000000000*Circuit1!$F$29)*Circuit1!$B$3*Circuit1!$B$3*Circuit1!$B$5*1000","v":6.4259999999999998E-2},0,{"$f":"Circuit1!$B$8*Circuit1!$B$8/3*Circuit1!$J$4/1000","v":5.6426666666666708E-3},0.84742439683992543,1.8553034552740701,1.6062661068818582,1.9472145056761634,6.3363636363636358E-2,{"$f":"W45*Circuit1!$F$25/MAX(Circuit1!$F$29,1)","v":111.31820731644422},63.898077630872677,{"$f":"$AN$6*(1+AB44*0.85*Circuit1!$F$26/100)/1000/MAX(Circuit1!$F$29,1)","v":5.6471986176806974E-3},{"$f":"X45*Circuit1!$J$22/MAX(Circuit1!$J$26,1)","v":73.406361084500929},49.286663590166846,{"$f":"$AN$7*(1+AE44*Circuit1!$J$23*0.85/100)/MAX(Circuit1!$J$26,1)/1000","v":2.3648071900991088E-3},{"$f":"(U45+T45+S45+R45+Q45+P45+N45+M45+L45+J45+I45+B45+O45+K45)/A45/Circuit1!$B$3","v":9.4403701732358333E-2},null,{"$f":"(A45*A45+((Circuit1!$B$8)^2)/3)*Circuit1!$J$9/1000*50","v":52.356639999999985},null,0.95247794371987105]
[{"$f":"Circuit1!$B$10/50*45","v":27},{"$f":"AG45*Circuit1!$B$7/1000000*AC46*(A46*A46+((Circuit1!$B$8)^2)/3)*Circuit1!$B$5*1000","v":0.39051532540582168},{"$f":"(Circuit1!$F$22+A46/(Circuit1!$F$23*Circuit1!$F$29))/(1+((Circuit1!$F$22+A46/(Circuit1!$F$23*Circuit1!$F$29))/Circuit1!$F$4)^(5))^(0.2)","v":3.1122504869650434},{"$f":"MAX((Circuit1!$F$4-C46), 0.001)/(Circuit1!$F$5+Circuit1!$F$28+Circuit1!$F$24/Circuit1!$F$29)","v":0.72605750501344479},{"$f":"C46/(Circuit1!$F$6+Circuit1!$F$28+Circuit1!$F$24/Circuit1!$F$29)","v":1.9451565543531519},{"$f":"(Circuit1!$F$20/1000000000+Circuit1!$F$21/2/1000000000)*MAX(Circuit1!$F$29,1)","v":1.9500000000000003E-8},1.4170919404861265E-8,1.0024900029953934E-8,{"$f":"0.5*Circuit1!$B$3*(G46*MAX(A46-Circuit1!$B$8, 0)+H46*(A46+Circuit1!$B$8))*Circuit1!$B$5*1000","v":1.4527315104529073},{"$f":"MIN(MAX((1-AG45-Circuit1!$F$7/1000000000+Circuit1!$F$8/1000000000),0.001),1)*Circuit1!$B$7/1000000*AF46*(A46*A46+Circuit1!$B$8^2/3)*Circuit1!$B$5*1000","v":1.572907091345902},{"$f":"Circuit1!$B$3*$AN$2*Circuit1!$J$26*0.000000001*Circuit1!$B$5*1000","v":0.153},{"$f":"Circuit1!$J$21*A46*(Circuit1!$F$7/1000000000+Circuit1!$F$8/1000000000)*Circuit1!$B$5*1000","v":0.11339999999999999},{"$f":"A46*Circuit1!$B$4","v":32.4},{"$f":"Circuit1!$F$4*($AN$3/1000000000*Circuit1!$F$29)*Circuit1!$B$5*1000+Circuit1!$F$4*Circuit1!$F$9/1000/2","v":6.3363636363636358E-2},{"$f":"Circuit1!$F$4*($AN$4/1000000000*Circuit1!$J$26)*Circuit1!$B$5*1000+Circuit1!$F$4*Circuit1!$F$9/1000/2","v":7.8718181818181826E-2},{"$f":"(A46*A46+((Circuit1!$B$8)^2)/3)*(Circuit1!$J$9+Circuit1!$J$12)/1000*(1+0.002*AE45)","v":2.005249330333243},{"$f":"Circuit1!$J$8/1000","v":0.03},{"$f":"0","v":0},{"$f":"(Circuit1!$F$19/1000000000000*Circuit1!$F$29)*Circuit1!$B$3*Circuit1!$B$3*Circuit1!$B$5*1000","v":6.4259999999999998E-2},0,{"$f":"Circuit1!$B$8*Circuit1!$B$8/3*Circuit1!$J$4/1000","v":5.6426666666666708E-3},0.84529557580020198,1.907506835858729,1.686307091345902,2.0408919969999095,6.3363636363636358E-2,{"$f":"W46*Circuit1!$F$25/MAX(Circuit1!$F$29,1)","v":114.45041015152374},64.917885787705757,{"$f":"$AN$6*(1+AB45*0.85*Circuit1!$F$26/100)/1000/MAX(Circuit1!$F$29,1)","v":5.6656499332031259E-3},{"$f":"X46*Circuit1!$J$22/MAX(Circuit1!$J$26,1)","v":77.064234074507723},50.909096971137423,{"$f":"$AN$7*(1+AE45*Circuit1!$J$23*0.85/100)/MAX(Circuit1!$J$26,1)/1000","v":2.3788612436605435E-3},{"$f":"(U46+T46+S46+R46+Q46+P46+N46+M46+L46+J46+I46+B46+O46+K46)/A46/Circuit1!$B$3","v":9.4641451215768779E-2},null,{"$f":"(A46*A46+((Circuit1!$B$8)^2)/3)*Circuit1!$J$9/1000*50","v":54.75963999999999},null,0.95172439750936688]
[{"$f":"Circuit1!$B$10/50*46","v":27.599999999999998},{"$f":"AG46*Circuit1!$B$7/1000000*AC47*(A47*A47+((Circuit1!$B$8)^2)/3)*Circuit1!$B$5*1000","v":0.4103850546466033},{"$f":"(Circuit1!$F$22+A47/(Circuit1!$F$23*Circuit1!$F$29))/(1+((Circuit1!$F$22+A47/(Circuit1!$F$23*Circuit1!$F$29))/Circuit1!$F$4)^(5))^(0.2)","v":3.1353866114565618},{"$f":"MAX((Circuit1!$F$4-C47), 0.001)/(Circuit1!$F$5+Circuit1!$F$28+Circuit1!$F$24/Circuit1!$F$29)","v":0.71715899559363006},{"$f":"C47/(Circuit1!$F$6+Circuit1!$F$28+Circuit1!$F$24/Circuit1!$F$29)","v":1.959616632160351},{"$f":"(Circuit1!$F$20/1000000000+Circuit1!$F$21/2/1000000000)*MAX(Circuit1!$F$29,1)","v":1.9500000000000003E-8},1.4263154514470325E-8,9.9509259515227266E-9,{"$f":"0.5*Circuit1!$B$3*(G47*MAX(A47-Circuit1!$B$8, 0)+H47*(A47+Circuit1!$B$8))*Circuit1!$B$5*1000","v":1.4858417706875655},{"$f":"MIN(MAX((1-AG46-Circuit1!$F$7/1000000000+Circuit1!$F$8/1000000000),0.001),1)*Circuit1!$B$7/1000000*AF47*(A47*A47+Circuit1!$B$8^2/3)*Circuit1!$B$5*1000","v":1.6527250108435234},{"$f":"Circuit1!$B$3*$AN$2*Circuit1!$J$26*0.000000001*Circuit1!$B$5*1000","v":0.153},{"$f":"Circuit1!$J$21*A47*(Circuit1!$F$7/1000000000+Circuit1!$F$8/1000000000)*Circuit1!$B$5*1000","v":0.11591999999999998},{"$f":"A47*Circuit1!$B$4","v":33.119999999999997},{"$f":"Circuit1!$F$4*($AN$3/1000000000*Circuit1!$F$29)*Circuit1!$B$5*1000+Circuit1!$F$4*Circuit1!$F$9/1000/2","v":6.3363636363636358E-2},{"$f":"Circuit1!$F$4*($AN$4/1000000000*Circuit1!$J$26)*Circuit1!$B$5*1000+Circuit1!$F$4*Circuit1!$F$9/1000/2","v":7.8718181818181826E-2},{"$f":"(A47*A47+((Circuit1!$B$8)^2)/3)*(Circuit1!$J$9+Circuit1!$J$12)/1000*(1+0.002*AE46)","v":2.1014111649415104},{"$f":"Circuit1!$J$8/1000","v":0.03},{"$f":"0","v":0},{"$f":"(Circuit1!$F$19/1000000000000*Circuit1!$F$29)*Circuit1!$B$3*Circuit1!$B$3*Circuit1!$B$5*1000","v":6.4259999999999998E-2},0,{"$f":"Circuit1!$B$8*Circuit1!$B$8/3*Circuit1!$J$4/1000","v":5.6426666666666708E-3},0.84314998266874508,1.9604868253341687,1.7686450108435234,2.1370538316081769,6.3363636363636358E-2,{"$f":"W47*Circuit1!$F$25/MAX(Circuit1!$F$29,1)","v":117.62920952005013},65.928459227787101,{"$f":"$AN$6*(1+AB46*0.85*Circuit1!$F$26/100)/1000/MAX(Circuit1!$F$29,1)","v":5.6839344135830383E-3},{"$f":"X47*Circuit1!$J$22/MAX(Circuit1!$J$26,1)","v":80.827076995549021},52.52443390584606,{"$f":"$AN$7*(1+AE46*Circuit1!$J$23*0.85/100)/MAX(Circuit1!$J$26,1)/1000","v":2.3928689008229417E-3},{"$f":"(U47+T47+S47+R47+Q47+P47+N47+M47+L47+J47+I47+B47+O47+K47)/A47/Circuit1!$B$3","v":9.4882288613448537E-2},null,{"$f":"(A47*A47+((Circuit1!$B$8)^2)/3)*Circuit1!$J$9/1000*50","v":57.216639999999984},null,0.95096504037739626]
[{"$f":"Circuit1!$B$10/50*47","v":28.2},{"$f":"AG47*Circuit1!$B$7/1000000*AC48*(A48*A48+((Circuit1!$B$8)^2)/3)*Circuit1!$B$5*1000","v":0.43085438501713103},{"$f":"(Circuit1!$F$22+A48/(Circuit1!$F$23*Circuit1!$F$29))/(1+((Circuit1!$F$22+A48/(Circuit1!$F$23*Circuit1!$F$29))/Circuit1!$F$4)^(5))^(0.2)","v":3.1584132641223968},{"$f":"MAX((Circuit1!$F$4-C48), 0.001)/(Circuit1!$F$5+Circuit1!$F$28+Circuit1!$F$24/Circuit1!$F$29)","v":0.70830259072215507},{"$f":"C48/(Circuit1!$F$6+Circuit1!$F$28+Circuit1!$F$24/Circuit1!$F$29)","v":1.9740082900764979},{"$f":"(Circuit1!$F$20/1000000000+Circuit1!$F$21/2/1000000000)*MAX(Circuit1!$F$29,1)","v":1.9500000000000003E-8},1.4356153137890013E-8,9.8783779673206572E-9,{"$f":"0.5*Circuit1!$B$3*(G48*MAX(A48-Circuit1!$B$8, 0)+H48*(A48+Circuit1!$B$8))*Circuit1!$B$5*1000","v":1.5191430094194598},{"$f":"MIN(MAX((1-AG47-Circuit1!$F$7/1000000000+Circuit1!$F$8/1000000000),0.001),1)*Circuit1!$B$7/1000000*AF48*(A48*A48+Circuit1!$B$8^2/3)*Circuit1!$B$5*1000","v":1.7348499442816474},{"$f":"Circuit1!$B$3*$AN$2*Circuit1!$J$26*0.000000001*Circuit1!$B$5*1000","v":0.153},{"$f":"Circuit1!$J$21*A48*(Circuit1!$F$7/1000000000+Circuit1!$F$8/1000000000)*Circuit1!$B$5*1000","v":0.11843999999999999},{"$f":"A48*Circuit1!$B$4","v":33.839999999999996},{"$f":"Circuit1!$F$4*($AN$3/1000000000*Circuit1!$F$29)*Circuit1!$B$5*1000+Circuit1!$F$4*Circuit1!$F$9/1000/2","v":6.3363636363636358E-2},{"$f":"Circuit1!$F$4*($AN$4/1000000000*Circuit1!$J$26)*Circuit1!$B$5*1000+Circuit1!$F$4*Circuit1!$F$9/1000/2","v":7.8718181818181826E-2},{"$f":"(A48*A48+((Circuit1!$B$8)^2)/3)*(Circuit1!$J$9+Circuit1!$J$12)/1000*(1+0.002*AE47)","v":2.2000653653021445},{"$f":"Circuit1!$J$8/1000","v":0.03},{"$f":"0","v":0},{"$f":"(Circuit1!$F$19/1000000000000*Circuit1!$F$29)*Circuit1!$B$3*Circuit1!$B$3*Circuit1!$B$5*1000","v":6.4259999999999998E-2},0,{"$f":"Circuit1!$B$8*Circuit1!$B$8/3*Circuit1!$J$4/1000","v":5.6426666666666708E-3},0.84098902599188818,2.0142573944365907,1.8532899442816473,2.235708031968811,6.3363636363636358E-2,{"$f":"W48*Circuit1!$F$25/MAX(Circuit1!$F$29,1)","v":120.85544366619544},66.929858615914725,{"$f":"$AN$6*(1+AB47*0.85*Circuit1!$F$26/100)/1000/MAX(Circuit1!$F$29,1)","v":5.7020533216480696E-3},{"$f":"X48*Circuit1!$J$22/MAX(Circuit1!$J$26,1)","v":84.695350453671281},54.131036441467614,{"$f":"$AN$7*(1+AE47*Circuit1!$J$23*0.85/100)/MAX(Circuit1!$J$26,1)/1000","v":2.4068152891606998E-3},{"$f":"(U48+T48+S48+R48+Q48+P48+N48+M48+L48+J48+I48+B48+O48+K48)/A48/Circuit1!$B$3","v":9.5126092645080054E-2},null,{"$f":"(A48*A48+((Circuit1!$B$8)^2)/3)*Circuit1!$J$9/1000*50","v":59.727639999999994},null,0.95020016383330863]
[{"$f":"Circuit1!$B$10/50*48","v":28.799999999999997},{"$f":"AG48*Circuit1!$B$7/1000000*AC49*(A49*A49+((Circuit1!$B$8)^2)/3)*Circuit1!$B$5*1000","v":0.45193060043855932},{"$f":"(Circuit1!$F$22+A49/(Circuit1!$F$23*Circuit1!$F$29))/(1+((Circuit1!$F$22+A49/(Circuit1!$F$23*Circuit1!$F$29))/Circuit1!$F$4)^(5))^(0.2)","v":3.1813278246203009},{"$f":"MAX((Circuit1!$F$4-C49), 0.001)/(Circuit1!$F$5+Circuit1!$F$28+Circuit1!$F$24/Circuit1!$F$29)","v":0.69948929822296113},{"$f":"C49/(Circuit1!$F$6+Circuit1!$F$28+Circuit1!$F$24/Circuit1!$F$29)","v":1.988329890387688},{"$f":"(Circuit1!$F$20/1000000000+Circuit1!$F$21/2/1000000000)*MAX(Circuit1!$F$29,1)","v":1.9500000000000003E-8},1.4449910811206918E-8,9.8072256994526485E-9,{"$f":"0.5*Circuit1!$B$3*(G49*MAX(A49-Circuit1!$B$8, 0)+H49*(A49+Circuit1!$B$8))*Circuit1!$B$5*1000","v":1.5526417295280768},{"$f":"MIN(MAX((1-AG48-Circuit1!$F$7/1000000000+Circuit1!$F$8/1000000000),0.001),1)*Circuit1!$B$7/1000000*AF49*(A49*A49+Circuit1!$B$8^2/3)*Circuit1!$B$5*1000","v":1.8192904723864574},{"$f":"Circuit1!$B$3*$AN$2*Circuit1!$J$26*0.000000001*Circuit1!$B$5*1000","v":0.153},{"$f":"Circuit1!$J$21*A49*(Circuit1!$F$7/1000000000+Circuit1!$F$8/1000000000)*Circuit1!$B$5*1000","v":0.12096},{"$f":"A49*Circuit1!$B$4","v":34.559999999999995},{"$f":"Circuit1!$F$4*($AN$3/1000000000*Circuit1!$F$29)*Circuit1!$B$5*1000+Circuit1!$F$4*Circuit1!$F$9/1000/2","v":6.3363636363636358E-2},{"$f":"Circuit1!$F$4*($AN$4/1000000000*Circuit1!$J$26)*Circuit1!$B$5*1000+Circuit1!$F$4*Circuit1!$F$9/1000/2","v":7.8718181818181826E-2},{"$f":"(A49*A49+((Circuit1!$B$8)^2)/3)*(Circuit1!$J$9+Circuit1!$J$12)/1000*(1+0.002*AE48)","v":2.3012190110583477},{"$f":"Circuit1!$J$8/1000","v":0.03},{"$f":"0","v":0},{"$f":"(Circuit1!$F$19/1000000000000*Circuit1!$F$29)*Circuit1!$B$3*Circuit1!$B$3*Circuit1!$B$5*1000","v":6.4259999999999998E-2},0,{"$f":"Circuit1!$B$8*Circuit1!$B$8/3*Circuit1!$J$4/1000","v":5.6426666666666708E-3},0.83881405647071483,2.0688323299666362,1.9402504723864573,2.3368616777250142,6.3363636363636358E-2,{"$f":"W49*Circuit1!$F$25/MAX(Circuit1!$F$29,1)","v":124.12993979799818},67.922135697472953,{"$f":"$AN$6*(1+AB48*0.85*Circuit1!$F$26/100)/1000/MAX(Circuit1!$F$29,1)","v":5.7200077450776064E-3},{"$f":"X49*Circuit1!$J$22/MAX(Circuit1!$J$26,1)","v":88.669446588061106},55.727355044173009,{"$f":"$AN$7*(1+AE48*Circuit1!$J$23*0.85/100)/MAX(Circuit1!$J$26,1)/1000","v":2.4206862670259136E-3},{"$f":"(U49+T49+S49+R49+Q49+P49+N49+M49+L49+J49+I49+B49+O49+K49)/A49/Circuit1!$B$3","v":9.5372746060786842E-2},null,{"$f":"(A49*A49+((Circuit1!$B$8)^2)/3)*Circuit1!$J$9/1000*50","v":62.292639999999992},null,0.94943004796718711]
[{"$f":"Circuit1!$B$10/50*49","v":29.4},{"$f":"AG49*Circuit1!$B$7/1000000*AC50*(A50*A50+((Circuit1!$B$8)^2)/3)*Circuit1!$B$5*1000","v":0.47362095249930508},{"$f":"(Circuit1!$F$22+A50/(Circuit1!$F$23*Circuit1!$F$29))/(1+((Circuit1!$F$22+A50/(Circuit1!$F$23*Circuit1!$F$29))/Circuit1!$F$4)^(5))^(0.2)","v":3.2041276689229945},{"$f":"MAX((Circuit1!$F$4-C50), 0.001)/(Circuit1!$F$5+Circuit1!$F$28+Circuit1!$F$24/Circuit1!$F$29)","v":0.69072012733730981},{"$f":"C50/(Circuit1!$F$6+Circuit1!$F$28+Circuit1!$F$24/Circuit1!$F$29)","v":2.0025797930768716},{"$f":"(Circuit1!$F$20/1000000000+Circuit1!$F$21/2/1000000000)*MAX(Circuit1!$F$29,1)","v":1.9500000000000003E-8},1.4544422510257448E-8,9.7374397102245555E-9,{"$f":"0.5*Circuit1!$B$3*(G50*MAX(A50-Circuit1!$B$8, 0)+H50*(A50+Circuit1!$B$8))*Circuit1!$B$5*1000","v":1.5863442770927483},{"$f":"MIN(MAX((1-AG49-Circuit1!$F$7/1000000000+Circuit1!$F$8/1000000000),0.001),1)*Circuit1!$B$7/1000000*AF50*(A50*A50+Circuit1!$B$8^2/3)*Circuit1!$B$5*1000","v":1.9060537252366831},{"$f":"Circuit1!$B$3*$AN$2*Circuit1!$J$26*0.000000001*Circuit1!$B$5*1000","v":0.153},{"$f":"Circuit1!$J$21*A50*(Circuit1!$F$7/1000000000+Circuit1!$F$8/1000000000)*Circuit1!$B$5*1000","v":0.12347999999999998},{"$f":"A50*Circuit1!$B$4","v":35.279999999999994},{"$f":"Circuit1!$F$4*($AN$3/1000000000*Circuit1!$F$29)*Circuit1!$B$5*1000+Circuit1!$F$4*Circuit1!$F$9/1000/2","v":6.3363636363636358E-2},{"$f":"Circuit1!$F$4*($AN$4/1000000000*Circuit1!$J$26)*Circuit1!$B$5*1000+Circuit1!$F$4*Circuit1!$F$9/1000/2","v":7.8718181818181826E-2},{"$f":"(A50*A50+((Circuit1!$B$8)^2)/3)*(Circuit1!$J$9+Circuit1!$J$12)/1000*(1+0.002*AE49)","v":2.4048782672519695},{"$f":"Circuit1!$J$8/1000","v":0.03},{"$f":"0","v":0},{"$f":"(Circuit1!$F$19/1000000000000*Circuit1!$F$29)*Circuit1!$B$3*Circuit1!$B$3*Circuit1!$B$5*1000","v":6.4259999999999998E-2},0,{"$f":"Circuit1!$B$8*Circuit1!$B$8/3*Circuit1!$J$4/1000","v":5.6426666666666708E-3},0.83662636976084126,2.1242252295920534,2.029533725236683,2.440520933918636,6.3363636363636358E-2,{"$f":"W50*Circuit1!$F$25/MAX(Circuit1!$F$29,1)","v":127.45351377552321},68.905334108675689,{"$f":"$AN$6*(1+AB49*0.85*Circuit1!$F$26/100)/1000/MAX(Circuit1!$F$29,1)","v":5.7377986116318915E-3},{"$f":"X50*Circuit1!$J$22/MAX(Circuit1!$J$26,1)","v":92.74969124331642},57.311931542489702,{"$f":"$AN$7*(1+AE49*Circuit1!$J$23*0.85/100)/MAX(Circuit1!$J$26,1)/1000","v":2.4344684561567113E-3},{"$f":"(U50+T50+S50+R50+Q50+P50+N50+M50+L50+J50+I50+B50+O50+K50)/A50/Circuit1!$B$3","v":9.5622135389862098E-2},null,{"$f":"(A50*A50+((Circuit1!$B$8)^2)/3)*Circuit1!$J$9/1000*50","v":64.911639999999991},null,0.94865496209775679]
[{"$f":"Circuit1!$B$10/50*50","v":30},{"$f":"AG50*Circuit1!$B$7/1000000*AC51*(A51*A51+((Circuit1!$B$8)^2)/3)*Circuit1!$B$5*1000","v":0.49593265635903649},{"$f":"(Circuit1!$F$22+A51/(Circuit1!$F$23*Circuit1!$F$29))/(1+((Circuit1!$F$22+A51/(Circuit1!$F$23*Circuit1!$F$29))/Circuit1!$F$4)^(5))^(0.2)","v":3.2268101719128985},{"$f":"MAX((Circuit1!$F$4-C51), 0.001)/(Circuit1!$F$5+Circuit1!$F$28+Circuit1!$F$24/Circuit1!$F$29)","v":0.68199608772580822},{"$f":"C51/(Circuit1!$F$6+Circuit1!$F$28+Circuit1!$F$24/Circuit1!$F$29)","v":2.0167563574455616},{"$f":"(Circuit1!$F$20/1000000000+Circuit1!$F$21/2/1000000000)*MAX(Circuit1!$F$29,1)","v":1.9500000000000003E-8},1.46396826384779E-8,9.6689914614667914E-9,{"$f":"0.5*Circuit1!$B$3*(G51*MAX(A51-Circuit1!$B$8, 0)+H51*(A51+Circuit1!$B$8))*Circuit1!$B$5*1000","v":1.6202568402734405},{"$f":"MIN(MAX((1-AG50-Circuit1!$F$7/1000000000+Circuit1!$F$8/1000000000),0.001),1)*Circuit1!$B$7/1000000*AF51*(A51*A51+Circuit1!$B$8^2/3)*Circuit1!$B$5*1000","v":1.9951454372664794},{"$f":"Circuit1!$B$3*$AN$2*Circuit1!$J$26*0.000000001*Circuit1!$B$5*1000","v":0.153},{"$f":"Circuit1!$J$21*A51*(Circuit1!$F$7/1000000000+Circuit1!$F$8/1000000000)*Circuit1!$B$5*1000","v":0.126},{"$f":"A51*Circuit1!$B$4","v":36},{"$f":"Circuit1!$F$4*($AN$3/1000000000*Circuit1!$F$29)*Circuit1!$B$5*1000+Circuit1!$F$4*Circuit1!$F$9/1000/2","v":6.3363636363636358E-2},{"$f":"Circuit1!$F$4*($AN$4/1000000000*Circuit1!$J$26)*Circuit1!$B$5*1000+Circuit1!$F$4*Circuit1!$F$9/1000/2","v":7.8718181818181826E-2},{"$f":"(A51*A51+((Circuit1!$B$8)^2)/3)*(Circuit1!$J$9+Circuit1!$J$12)/1000*(1+0.002*AE50)","v":2.5110484174002541},{"$f":"Circuit1!$J$8/1000","v":0.03},{"$f":"0","v":0},{"$f":"(Circuit1!$F$19/1000000000000*Circuit1!$F$29)*Circuit1!$B$3*Circuit1!$B$3*Circuit1!$B$5*1000","v":6.4259999999999998E-2},0,{"$f":"Circuit1!$B$8*Circuit1!$B$8/3*Circuit1!$J$4/1000","v":5.6426666666666708E-3},0.83442720875947418,2.1804494966324768,2.1211454372664793,2.5466910840669206,6.3363636363636358E-2,{"$f":"W51*Circuit1!$F$25/MAX(Circuit1!$F$29,1)","v":130.82696979794861},69.87949014943807,{"$f":"$AN$6*(1+AB50*0.85*Circuit1!$F$26/100)/1000/MAX(Circuit1!$F$29,1)","v":5.7554267036791489E-3},{"$f":"X51*Circuit1!$J$22/MAX(Circuit1!$J$26,1)","v":96.936346483078111},58.883401247123153,{"$f":"$AN$7*(1+AE50*Circuit1!$J$23*0.85/100)/MAX(Circuit1!$J$26,1)/1000","v":2.4481492670894449E-3},{"$f":"(U51+T51+S51+R51+Q51+P51+N51+M51+L51+J51+I51+B51+O51+K51)/A51/Circuit1!$B$3","v":9.5874150746994888E-2},null,{"$f":"(A51*A51+((Circuit1!$B$8)^2)/3)*Circuit1!$J$9/1000*50","v":67.584639999999993},null,0.94787516530643023]

{"sheet":"Circuit2Details","index":8,"n_rows":51,"n_cols":40,"rows_kept":51,"cut":false,"hidden":true,"merged":[]}
["I(Load)","PHC","Vsp","Idr(LH)","Idr(HL) ","Qgs(sw)","tr","tf","PswHS","PconLS","PQrr","PDT","Pout","PdrHS","PdrLS","Pw","Pc",null,"Pcsw",null,"Pesr","Circuit2 Efficiency","PHS","PLS","PLCR","Pdr",0,{"$f":"AA1/((1+(AA1/150)^1)^1)","v":0},"RTHS",0,{"$f":"AD1/((1+(AD1/150)^1)^1)","v":0},"RTLS",{"$f":"Circuit2!$B$6","v":9.9999999999999992E-2}]
[{"$f":"Circuit2!$B$10/50","v":0.6},{"$f":"AG1*Circuit2!$B$7/1000000*AC2*(A2*A2+((Circuit2!$B$8)^2)/3)*Circuit2!$B$5*1000","v":6.5087999999999995E-4},{"$f":"(Circuit2!$F$22+A2/(Circuit2!$F$23*Circuit2!$F$29))/(1+((Circuit2!$F$22+A2/(Circuit2!$F$23*Circuit2!$F$29))/Circuit2!$F$4)^(5))^(0.2)","v":2.0216885545008445},{"$f":"MAX((Circuit2!$F$4-C2), 0.001)/(Circuit2!$F$5+Circuit2!$F$28+Circuit2!$F$24/Circuit2!$F$29)","v":1.1455044021150598},{"$f":"C2/(Circuit2!$F$6+Circuit2!$F$28+Circuit2!$F$24/Circuit2!$F$29)","v":1.2635553465630278},{"$f":"(Circuit2!$F$20/1000000000+Circuit2!$F$21/2/1000000000)*MAX(Circuit2!$F$29,1)","v":1.9500000000000003E-8},{"$f":"F2/D2/(1+F2/D2/0.00000003)","v":1.0860457917579864E-8},{"$f":"F2/E2","v":1.5432644128364911E-8},{"$f":"0.5*Circuit2!$B$3*(G2*MAX((A2-Circuit2!$B$8),0)+H2*(A2+Circuit2!$B$8))*Circuit2!$B$5*1000","v":6.6669022634536418E-2},{"$f":"MIN(MAX((1-AG1-Circuit2!$F$7/1000000000+Circuit2!$F$8/1000000000),0.001),1)*Circuit2!$B$7/1000000*AF2*(A2*A2+((Circuit2!$B$8)^2)/3)*Circuit2!$B$5*1000","v":2.5315199803104004E-3},{"$f":"Circuit2!$B$3*$AN$2*Circuit2!$J$26*0.000000001*Circuit2!$B$5*1000","v":0.12239999999999999},{"$f":"Circuit2!$J$21*A2*(Circuit2!$F$7/1000000000+Circuit2!$F$8/1000000000)*Circuit2!$B$5*1000","v":2.9609999999999997E-3},{"$f":"A2*Circuit2!$B$4","v":0.72},{"$f":"Circuit2!$F$4*($AN$3/1000000000*Circuit2!$F$29)*Circuit2!$B$5*1000+Circuit2!$F$4*Circuit2!$F$9/1000/2","v":5.6363636363636359E-2},{"$f":"Circuit2!$F$4*($AN$4/1000000000*Circuit2!$J$26)*Circuit2!$B$5*1000+Circuit2!$F$4*Circuit2!$F$9/1000/2","v":7.1718181818181834E-2},{"$f":"(A2*A2+((Circuit2!$B$8)^2)/3)*(Circuit2!$J$9+Circuit2!$J$12)/1000*(1+0.002*AE1)","v":3.5999999999999995E-3},{"$f":"Circuit2!$J$8/1000","v":0.03},{"$f":"0","v":0},{"$f":"(Circuit2!$F$19/1000000000000*Circuit2!$F$29+0*Circuit2!$J$19/1000000000000*Circuit2!$J$26)*Circuit2!$B$3*Circuit2!$B$3*Circuit2!$B$5*1000","v":4.1126400000000007E-2},0,{"$f":"(Circuit2!$B$8/1.732)^2*Circuit2!$J$4/1000","v":5.4003168185866902E-3},{"$f":"M2/(U2+T2+S2+R2+Q2+P2+N2+M2+L2+J2+I2+B2+O2+K2)","v":0.64089956228730505},{"$f":"B2+I2+S2","v":0.10844630263453643},{"$f":"J2+L2","v":5.4925199803104001E-3},{"$f":"P2+Q2+U2","v":3.9000316818586692E-2},{"$f":"N2","v":5.6363636363636359E-2},{"$f":"W2*Circuit2!$F$25/MAX(Circuit2!$F$29,1)","v":6.5067781580721862},{"$f":"AA2/((1+(AA2/150)^1)^1)","v":6.2362584879553831},{"$f":"$AN$6*(1+AB1*0.85*Circuit2!$F$26/100)/1000/MAX(Circuit2!$F$29,1)","v":4.5199999999999997E-3},{"$f":"X2*Circuit2!$J$22/MAX(Circuit2!$J$26,1)","v":0.25100816310018531},{"$f":"AD2/((1+(AD2/150)^1)^1)","v":0.25058883081940264},{"$f":"$AN$7/1000*(1+AE1*0.85*Circuit2!$J$23/100)/MAX(Circuit2!$J$26,1)","v":1.9533333333333334E-3},{"$f":"(U2+T2+S2+R2+Q2+P2+N2+M2+L2+J2+I2+B2+O2+K2)/A2/Circuit2!$B$3","v":0.15603068855767388},null,null,null,null,null,"Qrr",{"$f":"VLOOKUP(Circuit2!$J$16,MOSFETs!$A$2:$S$120,14,0)","v":34}]
[{"$f":"Circuit2!$B$10/50*2","v":1.2},{"$f":"AG2*Circuit2!$B$7/1000000*AC3*(A3*A3+((Circuit2!$B$8)^2)/3)*Circuit2!$B$5*1000","v":1.8212161185514552E-3},{"$f":"(Circuit2!$F$22+A3/(Circuit2!$F$23*Circuit2!$F$29))/(1+((Circuit2!$F$22+A3/(Circuit2!$F$23*Circuit2!$F$29))/Circuit2!$F$4)^(5))^(0.2)","v":2.0474266294646291},{"$f":"MAX((Circuit2!$F$4-C3), 0.001)/(Circuit2!$F$5+Circuit2!$F$28+Circuit2!$F$24/Circuit2!$F$29)","v":1.1356051425136042},{"$f":"C3/(Circuit2!$F$6+Circuit2!$F$28+Circuit2!$F$24/Circuit2!$F$29)","v":1.279641643415393},{"$f":"(Circuit2!$F$20/1000000000+Circuit2!$F$21/2/1000000000)*MAX(Circuit2!$F$29,1)","v":1.9500000000000003E-8},{"$f":"F3/D3/(1+F3/D3/0.00000003)","v":1.0920667473296905E-8},{"$f":"F3/E3","v":1.5238641302696319E-8},{"$f":"0.5*Circuit2!$B$3*(G3*MAX((A3-Circuit2!$B$8),0)+H3*(A3+Circuit2!$B$8))*Circuit2!$B$5*1000","v":8.2288663034560131E-2},{"$f":"MIN(MAX((1-AG2-Circuit2!$F$7/1000000000+Circuit2!$F$8/1000000000),0.001),1)*Circuit2!$B$7/1000000*AF3*(A3*A3+((Circuit2!$B$8)^2)/3)*Circuit2!$B$5*1000","v":4.1589558781709255E-3},{"$f":"Circuit2!$B$3*$AN$2*Circuit2!$J$26*0.000000001*Circuit2!$B$5*1000","v":0.12239999999999999},{"$f":"Circuit2!$J$21*A3*(Circuit2!$F$7/1000000000+Circuit2!$F$8/1000000000)*Circuit2!$B$5*1000","v":5.9219999999999993E-3},{"$f":"A3*Circuit2!$B$4","v":1.44},{"$f":"Circuit2!$F$4*($AN$3/1000000000*Circuit2!$F$29)*Circuit2!$B$5*1000+Circuit2!$F$4*Circuit2!$F$9/1000/2","v":5.6363636363636359E-2},{"$f":"Circuit2!$F$4*($AN$4/1000000000*Circuit2!$J$26)*Circuit2!$B$5*1000+Circuit2!$F$4*Circuit2!$F$9/1000/2","v":7.1718181818181834E-2},{"$f":"(A3*A3+((Circuit2!$B$8)^2)/3)*(Circuit2!$J$9+Circuit2!$J$12)/1000*(1+0.002*AE2)","v":6.3031574192683243E-3},{"$f":"Circuit2!$J$8/1000","v":0.03},{"$f":"0","v":0},{"$f":"(Circuit2!$F$19/1000000000000*Circuit2!$F$29+0*Circuit2!$J$19/1000000000000*Circuit2!$J$26)*Circuit2!$B$3*Circuit2!$B$3*Circuit2!$B$5*1000","v":4.1126400000000007E-2},0,{"$f":"(Circuit2!$B$8/1.732)^2*Circuit2!$J$4/1000","v":5.4003168185866902E-3},{"$f":"M3/(U3+T3+S3+R3+Q3+P3+N3+M3+L3+J3+I3+B3+O3+K3)","v":0.77108329377498919},{"$f":"B3+I3+S3","v":0.12523627915311158},{"$f":"J3+L3","v":1.0080955878170924E-2},{"$f":"P3+Q3+U3","v":4.1703474237855018E-2},{"$f":"N3","v":5.6363636363636359E-2},{"$f":"W3*Circuit2!$F$25/MAX(Circuit2!$F$29,1)","v":7.5141767491866949},7.1557147149538975,{"$f":"$AN$6*(1+AB2*0.85*Circuit2!$F$26/100)/1000/MAX(Circuit2!$F$29,1)","v":4.6318119571833807E-3},{"$f":"X3*Circuit2!$J$22/MAX(Circuit2!$J$26,1)","v":0.46069968363241126},0.45928905481740984,{"$f":"$AN$7/1000*(1+AE2*0.85*Circuit2!$J$23/100)/MAX(Circuit2!$J$26,1)","v":1.9554968504749397E-3},{"$f":"(U3+T3+S3+R3+Q3+P3+N3+M3+L3+J3+I3+B3+O3+K3)/A3/Circuit2!$B$3","v":0.12968767551742746},null,null,null,null,null,"QTOT_HS",{"$f":"(VLOOKUP(Circuit2!$F$16, MOSFETs!$A$2:$S$120,17,0)+(Circuit2!$F$4-4.5)*(VLOOKUP(Circuit2!$F$16, MOSFETs!$A$2:$S$120,18,0)-VLOOKUP(Circuit2!$F$16, MOSFETs!$A$2:$S$120,17,0))/5.5)","v":33.909090909090907}]
[{"$f":"Circuit2!$B$10/50*3","v":1.7999999999999998},{"$f":"AG3*Circuit2!$B$7/1000000*AC4*(A4*A4+((Circuit2!$B$8)^2)/3)*Circuit2!$B$5*1000","v":2.6042120276446282E-3},{"$f":"(Circuit2!$F$22+A4/(Circuit2!$F$23*Circuit2!$F$29))/(1+((Circuit2!$F$22+A4/(Circuit2!$F$23*Circuit2!$F$29))/Circuit2!$F$4)^(5))^(0.2)","v":2.0731421099581495},{"$f":"MAX((Circuit2!$F$4-C4), 0.001)/(Circuit2!$F$5+Circuit2!$F$28+Circuit2!$F$24/Circuit2!$F$29)","v":1.1257145730930194},{"$f":"C4/(Circuit2!$F$6+Circuit2!$F$28+Circuit2!$F$24/Circuit2!$F$29)","v":1.2957138187238433},{"$f":"(Circuit2!$F$20/1000000000+Circuit2!$F$21/2/1000000000)*MAX(Circuit2!$F$29,1)","v":1.9500000000000003E-8},1.0981494602499108E-8,1.5049619536515923E-8,{"$f":"0.5*Circuit2!$B$3*(G4*MAX((A4-Circuit2!$B$8),0)+H4*(A4+Circuit2!$B$8))*Circuit2!$B$5*1000","v":9.7521534596623188E-2},{"$f":"MIN(MAX((1-AG3-Circuit2!$F$7/1000000000+Circuit2!$F$8/1000000000),0.001),1)*Circuit2!$B$7/1000000*AF4*(A4*A4+((Circuit2!$B$8)^2)/3)*Circuit2!$B$5*1000","v":7.3589522912490477E-3},{"$f":"Circuit2!$B$3*$AN$2*Circuit2!$J$26*0.000000001*Circuit2!$B$5*1000","v":0.12239999999999999},{"$f":"Circuit2!$J$21*A4*(Circuit2!$F$7/1000000000+Circuit2!$F$8/1000000000)*Circuit2!$B$5*1000","v":8.8829999999999985E-3},{"$f":"A4*Circuit2!$B$4","v":2.1599999999999997},{"$f":"Circuit2!$F$4*($AN$3/1000000000*Circuit2!$F$29)*Circuit2!$B$5*1000+Circuit2!$F$4*Circuit2!$F$9/1000/2","v":5.6363636363636359E-2},{"$f":"Circuit2!$F$4*($AN$4/1000000000*Circuit2!$J$26)*Circuit2!$B$5*1000+Circuit2!$F$4*Circuit2!$F$9/1000/2","v":7.1718181818181834E-2},{"$f":"(A4*A4+((Circuit2!$B$8)^2)/3)*(Circuit2!$J$9+Circuit2!$J$12)/1000*(1+0.002*AE3)","v":1.0809920643584055E-2},{"$f":"Circuit2!$J$8/1000","v":0.03},{"$f":"0","v":0},{"$f":"(Circuit2!$F$19/1000000000000*Circuit2!$F$29+0*Circuit2!$J$19/1000000000000*Circuit2!$J$26)*Circuit2!$B$3*Circuit2!$B$3*Circuit2!$B$5*1000","v":4.1126400000000007E-2},0,{"$f":"(Circuit2!$B$8/1.732)^2*Circuit2!$J$4/1000","v":5.4003168185866902E-3},0.82626097465655157,0.14125214662426783,1.6241952291249046E-2,4.6210237462170747E-2,5.6363636363636359E-2,{"$f":"W4*Circuit2!$F$25/MAX(Circuit2!$F$29,1)","v":8.475128797456069},8.0218853852025855,{"$f":"$AN$6*(1+AB3*0.85*Circuit2!$F$26/100)/1000/MAX(Circuit2!$F$29,1)","v":4.6482971943626467E-3},{"$f":"X4*Circuit2!$J$22/MAX(Circuit2!$J$26,1)","v":0.74225721971008141},0.7386023336126234,{"$f":"$AN$7/1000*(1+AE3*0.85*Circuit2!$J$23/100)/MAX(Circuit2!$J$26,1)","v":1.9572987125555455E-3},{"$f":"(U4+T4+S4+R4+Q4+P4+N4+M4+L4+J4+I4+B4+O4+K4)/A4/Circuit2!$B$3","v":0.12102713678516232},null,null,null,null,null,"QTOT_LS",{"$f":"(VLOOKUP(Circuit2!$J$16, MOSFETs!$A$2:$S$120,17,0)+(Circuit2!$F$4-4.5)*(VLOOKUP(Circuit2!$J$16, MOSFETs!$A$2:$S$120,18,0)-VLOOKUP(Circuit2!$J$16, MOSFETs!$A$2:$S4120,17,0))/5.5)","v":44.145454545454548}]
[{"$f":"Circuit2!$B$10/50*4","v":2.4},{"$f":"AG4*Circuit2!$B$7/1000000*AC5*(A5*A5+((Circuit2!$B$8)^2)/3)*Circuit2!$B$5*1000","v":3.8608355045893746E-3},{"$f":"(Circuit2!$F$22+A5/(Circuit2!$F$23*Circuit2!$F$29))/(1+((Circuit2!$F$22+A5/(Circuit2!$F$23*Circuit2!$F$29))/Circuit2!$F$4)^(5))^(0.2)","v":2.0988338643281512},{"$f":"MAX((Circuit2!$F$4-C5), 0.001)/(Circuit2!$F$5+Circuit2!$F$28+Circuit2!$F$24/Circuit2!$F$29)","v":1.1158331291045571},{"$f":"C5/(Circuit2!$F$6+Circuit2!$F$28+Circuit2!$F$24/Circuit2!$F$29)","v":1.3117711652050945},{"$f":"(Circuit2!$F$20/1000000000+Circuit2!$F$21/2/1000000000)*MAX(Circuit2!$F$29,1)","v":1.9500000000000003E-8},1.104294606245627E-8,1.4865397652609013E-8,{"$f":"0.5*Circuit2!$B$3*(G5*MAX((A5-Circuit2!$B$8),0)+H5*(A5+Circuit2!$B$8))*Circuit2!$B$5*1000","v":0.12430878800117692},{"$f":"MIN(MAX((1-AG4-Circuit2!$F$7/1000000000+Circuit2!$F$8/1000000000),0.001),1)*Circuit2!$B$7/1000000*AF5*(A5*A5+((Circuit2!$B$8)^2)/3)*Circuit2!$B$5*1000","v":1.1782119545314711E-2},{"$f":"Circuit2!$B$3*$AN$2*Circuit2!$J$26*0.000000001*Circuit2!$B$5*1000","v":0.12239999999999999},{"$f":"Circuit2!$J$21*A5*(Circuit2!$F$7/1000000000+Circuit2!$F$8/1000000000)*Circuit2!$B$5*1000","v":1.1843999999999999E-2},{"$f":"A5*Circuit2!$B$4","v":2.88},{"$f":"Circuit2!$F$4*($AN$3/1000000000*Circuit2!$F$29)*Circuit2!$B$5*1000+Circuit2!$F$4*Circuit2!$F$9/1000/2","v":5.6363636363636359E-2},{"$f":"Circuit2!$F$4*($AN$4/1000000000*Circuit2!$J$26)*Circuit2!$B$5*1000+Circuit2!$F$4*Circuit2!$F$9/1000/2","v":7.1718181818181834E-2},{"$f":"(A5*A5+((Circuit2!$B$8)^2)/3)*(Circuit2!$J$9+Circuit2!$J$12)/1000*(1+0.002*AE4)","v":1.7125260199809554E-2},{"$f":"Circuit2!$J$8/1000","v":0.03},{"$f":"0","v":0},{"$f":"(Circuit2!$F$19/1000000000000*Circuit2!$F$29+0*Circuit2!$J$19/1000000000000*Circuit2!$J$26)*Circuit2!$B$3*Circuit2!$B$3*Circuit2!$B$5*1000","v":4.1126400000000007E-2},0,{"$f":"(Circuit2!$B$8/1.732)^2*Circuit2!$J$4/1000","v":5.4003168185866902E-3},0.85309837405309619,0.16929602350576631,2.3626119545314711E-2,5.2525577018396247E-2,5.6363636363636359E-2,{"$f":"W5*Circuit2!$F$25/MAX(Circuit2!$F$29,1)","v":10.157761410345978},9.513520906726848,{"$f":"$AN$6*(1+AB4*0.85*Circuit2!$F$26/100)/1000/MAX(Circuit2!$F$29,1)","v":4.6638270570330915E-3},{"$f":"X5*Circuit2!$J$22/MAX(Circuit2!$J$26,1)","v":1.0797136632208824},1.071997328801924,{"$f":"$AN$7/1000*(1+AE4*0.85*Circuit2!$J$23/100)/MAX(Circuit2!$J$26,1)","v":1.9597102289211224E-3},{"$f":"(U5+T5+S5+R5+Q5+P5+N5+M5+L5+J5+I5+B5+O5+K5)/A5/Circuit2!$B$3","v":0.11721977563372554}]
[{"$f":"Circuit2!$B$10/50*5","v":3},{"$f":"AG5*Circuit2!$B$7/1000000*AC6*(A6*A6+((Circuit2!$B$8)^2)/3)*Circuit2!$B$5*1000","v":5.5422631199577828E-3},{"$f":"(Circuit2!$F$22+A6/(Circuit2!$F$23*Circuit2!$F$29))/(1+((Circuit2!$F$22+A6/(Circuit2!$F$23*Circuit2!$F$29))/Circuit2!$F$4)^(5))^(0.2)","v":2.1245007220200764},{"$f":"MAX((Circuit2!$F$4-C6), 0.001)/(Circuit2!$F$5+Circuit2!$F$28+Circuit2!$F$24/Circuit2!$F$29)","v":1.105961260761509},{"$f":"C6/(Circuit2!$F$6+Circuit2!$F$28+Circuit2!$F$24/Circuit2!$F$29)","v":1.3278129512625476},{"$f":"(Circuit2!$F$20/1000000000+Circuit2!$F$21/2/1000000000)*MAX(Circuit2!$F$29,1)","v":1.9500000000000003E-8},1.1105028587899157E-8,1.4685803434481097E-8,{"$f":"0.5*Circuit2!$B$3*(G6*MAX((A6-Circuit2!$B$8),0)+H6*(A6+Circuit2!$B$8))*Circuit2!$B$5*1000","v":0.15087220342377886},{"$f":"MIN(MAX((1-AG5-Circuit2!$F$7/1000000000+Circuit2!$F$8/1000000000),0.001),1)*Circuit2!$B$7/1000000*AF6*(A6*A6+((Circuit2!$B$8)^2)/3)*Circuit2!$B$5*1000","v":1.7463947304642218E-2},{"$f":"Circuit2!$B$3*$AN$2*Circuit2!$J$26*0.000000001*Circuit2!$B$5*1000","v":0.12239999999999999},{"$f":"Circuit2!$J$21*A6*(Circuit2!$F$7/1000000000+Circuit2!$F$8/1000000000)*Circuit2!$B$5*1000","v":1.4804999999999997E-2},{"$f":"A6*Circuit2!$B$4","v":3.5999999999999996},{"$f":"Circuit2!$F$4*($AN$3/1000000000*Circuit2!$F$29)*Circuit2!$B$5*1000+Circuit2!$F$4*Circuit2!$F$9/1000/2","v":5.6363636363636359E-2},{"$f":"Circuit2!$F$4*($AN$4/1000000000*Circuit2!$J$26)*Circuit2!$B$5*1000+Circuit2!$F$4*Circuit2!$F$9/1000/2","v":7.1718181818181834E-2},{"$f":"(A6*A6+((Circuit2!$B$8)^2)/3)*(Circuit2!$J$9+Circuit2!$J$12)/1000*(1+0.002*AE5)","v":2.5254028665371617E-2},{"$f":"Circuit2!$J$8/1000","v":0.03},{"$f":"0","v":0},{"$f":"(Circuit2!$F$19/1000000000000*Circuit2!$F$29+0*Circuit2!$J$19/1000000000000*Circuit2!$J$26)*Circuit2!$B$3*Circuit2!$B$3*Circuit2!$B$5*1000","v":4.1126400000000007E-2},0,{"$f":"(Circuit2!$B$8/1.732)^2*Circuit2!$J$4/1000","v":5.4003168185866902E-3},0.86936656975204263,0.19754086654373665,3.2268947304642213E-2,6.0654345483958302E-2,5.6363636363636359E-2,{"$f":"W6*Circuit2!$F$25/MAX(Circuit2!$F$29,1)","v":11.852451992624198},10.984497157785716,{"$f":"$AN$6*(1+AB5*0.85*Circuit2!$F$26/100)/1000/MAX(Circuit2!$F$29,1)","v":4.6905710875103403E-3},{"$f":"X6*Circuit2!$J$22/MAX(Circuit2!$J$26,1)","v":1.4746908918221493},1.4603339506485489,{"$f":"$AN$7/1000*(1+AE5*0.85*Circuit2!$J$23/100)/MAX(Circuit2!$J$26,1)","v":1.962588672404255E-3},{"$f":"(U6+T6+S6+R6+Q6+P6+N6+M6+L6+J6+I6+B6+O6+K6)/A6/Circuit2!$B$3","v":0.11502627715317094},null,null,null,null,null,"RonHS(VGS)",{"$f":"(VLOOKUP(Circuit2!$F$16,MOSFETs!$A$1:$S$120,2,0)+(Circuit2!$F$4-4.5)*(VLOOKUP(Circuit2!$F$16,MOSFETs!$A$1:$S$120,13,0)-VLOOKUP(Circuit2!$F$16,MOSFETs!$A$1:$S$120,2,0))/7.5)","v":4.5199999999999996}]
[{"$f":"Circuit2!$B$10/50*6","v":3.5999999999999996},{"$f":"AG6*Circuit2!$B$7/1000000*AC7*(A7*A7+((Circuit2!$B$8)^2)/3)*Circuit2!$B$5*1000","v":7.6177191586633266E-3},{"$f":"(Circuit2!$F$22+A7/(Circuit2!$F$23*Circuit2!$F$29))/(1+((Circuit2!$F$22+A7/(Circuit2!$F$23*Circuit2!$F$29))/Circuit2!$F$4)^(5))^(0.2)","v":2.1501414730445241},{"$f":"MAX((Circuit2!$F$4-C7), 0.001)/(Circuit2!$F$5+Circuit2!$F$28+Circuit2!$F$24/Circuit2!$F$29)","v":1.0960994334444139},{"$f":"C7/(Circuit2!$F$6+Circuit2!$F$28+Circuit2!$F$24/Circuit2!$F$29)","v":1.3438384206528275},{"$f":"(Circuit2!$F$20/1000000000+Circuit2!$F$21/2/1000000000)*MAX(Circuit2!$F$29,1)","v":1.9500000000000003E-8},1.1167748884457085E-8,1.4510673084139859E-8,{"$f":"0.5*Circuit2!$B$3*(G7*MAX((A7-Circuit2!$B$8),0)+H7*(A7+Circuit2!$B$8))*Circuit2!$B$5*1000","v":0.17722724876348037},{"$f":"MIN(MAX((1-AG6-Circuit2!$F$7/1000000000+Circuit2!$F$8/1000000000),0.001),1)*Circuit2!$B$7/1000000*AF7*(A7*A7+((Circuit2!$B$8)^2)/3)*Circuit2!$B$5*1000","v":2.4426883616637043E-2},{"$f":"Circuit2!$B$3*$AN$2*Circuit2!$J$26*0.000000001*Circuit2!$B$5*1000","v":0.12239999999999999},{"$f":"Circuit2!$J$21*A7*(Circuit2!$F$7/1000000000+Circuit2!$F$8/1000000000)*Circuit2!$B$5*1000","v":1.7765999999999997E-2},{"$f":"A7*Circuit2!$B$4","v":4.3199999999999994},{"$f":"Circuit2!$F$4*($AN$3/1000000000*Circuit2!$F$29)*Circuit2!$B$5*1000+Circuit2!$F$4*Circuit2!$F$9/1000/2","v":5.6363636363636359E-2},{"$f":"Circuit2!$F$4*($AN$4/1000000000*Circuit2!$J$26)*Circuit2!$B$5*1000+Circuit2!$F$4*Circuit2!$F$9/1000/2","v":7.1718181818181834E-2},{"$f":"(A7*A7+((Circuit2!$B$8)^2)/3)*(Circuit2!$J$9+Circuit2!$J$12)/1000*(1+0.002*AE6)","v":3.5202515443335525E-2},{"$f":"Circuit2!$J$8/1000","v":0.03},{"$f":"0","v":0},{"$f":"(Circuit2!$F$19/1000000000000*Circuit2!$F$29+0*Circuit2!$J$19/1000000000000*Circuit2!$J$26)*Circuit2!$B$3*Circuit2!$B$3*Circuit2!$B$5*1000","v":4.1126400000000007E-2},0,{"$f":"(Circuit2!$B$8/1.732)^2*Circuit2!$J$4/1000","v":5.4003168185866902E-3},0.87997167922274999,0.2259713679221437,4.2192883616637041E-2,7.060283226192221E-2,5.6363636363636359E-2,{"$f":"W7*Circuit2!$F$25/MAX(Circuit2!$F$29,1)","v":13.558282075328622},12.434358477564775,{"$f":"$AN$6*(1+AB6*0.85*Circuit2!$F$26/100)/1000/MAX(Circuit2!$F$29,1)","v":4.7169447110409933E-3},{"$f":"X7*Circuit2!$J$22/MAX(Circuit2!$J$26,1)","v":1.9282147812803128},1.903742616922294,{"$f":"$AN$7/1000*(1+AE6*0.85*Circuit2!$J$23/100)/MAX(Circuit2!$J$26,1)","v":1.9659414672408464E-3},{"$f":"(U7+T7+S7+R7+Q7+P7+N7+M7+L7+J7+I7+B7+O7+K7)/A7/Circuit2!$B$3","v":0.11364002087922499},{"$f":"Circuit1!$B$13","v":0},null,null,null,null,"RonLS(VGS)",{"$f":"(VLOOKUP(Circuit2!$J$16,MOSFETs!$A$1:$S$120,2,0)+(Circuit2!$F$4-4.5)*(VLOOKUP(Circuit2!$J$16,MOSFETs!$A$1:$S$120,13,0)-VLOOKUP(Circuit2!$J$16,MOSFETs!$A$1:$S$120,2,0))/7.5)","v":1.9533333333333334}]
[{"$f":"Circuit2!$B$10/50*7","v":4.2},{"$f":"AG7*Circuit2!$B$7/1000000*AC8*(A8*A8+((Circuit2!$B$8)^2)/3)*Circuit2!$B$5*1000","v":1.0089851112808626E-2},{"$f":"(Circuit2!$F$22+A8/(Circuit2!$F$23*Circuit2!$F$29))/(1+((Circuit2!$F$22+A8/(Circuit2!$F$23*Circuit2!$F$29))/Circuit2!$F$4)^(5))^(0.2)","v":2.1757548674740539},{"$f":"MAX((Circuit2!$F$4-C8), 0.001)/(Circuit2!$F$5+Circuit2!$F$28+Circuit2!$F$24/Circuit2!$F$29)","v":1.0862481278945946},{"$f":"C8/(Circuit2!$F$6+Circuit2!$F$28+Circuit2!$F$24/Circuit2!$F$29)","v":1.3598467921712836},{"$f":"(Circuit2!$F$20/1000000000+Circuit2!$F$21/2/1000000000)*MAX(Circuit2!$F$29,1)","v":1.9500000000000003E-8},1.1231113621787484E-8,1.4339850718671124E-8,{"$f":"0.5*Circuit2!$B$3*(G8*MAX((A8-Circuit2!$B$8),0)+H8*(A8+Circuit2!$B$8))*Circuit2!$B$5*1000","v":0.20338879860777007},{"$f":"MIN(MAX((1-AG7-Circuit2!$F$7/1000000000+Circuit2!$F$8/1000000000),0.001),1)*Circuit2!$B$7/1000000*AF8*(A8*A8+((Circuit2!$B$8)^2)/3)*Circuit2!$B$5*1000","v":3.2683716960699973E-2},{"$f":"Circuit2!$B$3*$AN$2*Circuit2!$J$26*0.000000001*Circuit2!$B$5*1000","v":0.12239999999999999},{"$f":"Circuit2!$J$21*A8*(Circuit2!$F$7/1000000000+Circuit2!$F$8/1000000000)*Circuit2!$B$5*1000","v":2.0726999999999995E-2},{"$f":"A8*Circuit2!$B$4","v":5.04},{"$f":"Circuit2!$F$4*($AN$3/1000000000*Circuit2!$F$29)*Circuit2!$B$5*1000+Circuit2!$F$4*Circuit2!$F$9/1000/2","v":5.6363636363636359E-2},{"$f":"Circuit2!$F$4*($AN$4/1000000000*Circuit2!$J$26)*Circuit2!$B$5*1000+Circuit2!$F$4*Circuit2!$F$9/1000/2","v":7.1718181818181834E-2},{"$f":"(A8*A8+((Circuit2!$B$8)^2)/3)*(Circuit2!$J$9+Circuit2!$J$12)/1000*(1+0.002*AE7)","v":4.6978190308943922E-2},{"$f":"Circuit2!$J$8/1000","v":0.03},{"$f":"0","v":0},{"$f":"(Circuit2!$F$19/1000000000000*Circuit2!$F$29+0*Circuit2!$J$19/1000000000000*Circuit2!$J$26)*Circuit2!$B$3*Circuit2!$B$3*Circuit2!$B$5*1000","v":4.1126400000000007E-2},0,{"$f":"(Circuit2!$B$8/1.732)^2*Circuit2!$J$4/1000","v":5.4003168185866902E-3},0.88718710255022326,0.25460504972057874,5.3410716960699968E-2,8.2378507127530615E-2,5.6363636363636359E-2,{"$f":"W8*Circuit2!$F$25/MAX(Circuit2!$F$29,1)","v":15.276302983234725},13.864331462675857,{"$f":"$AN$6*(1+AB7*0.85*Circuit2!$F$26/100)/1000/MAX(Circuit2!$F$29,1)","v":4.742939757930417E-3},{"$f":"X8*Circuit2!$J$22/MAX(Circuit2!$J$26,1)","v":2.4408697651039888},2.4017867736504548,{"$f":"$AN$7/1000*(1+AE7*0.85*Circuit2!$J$23/100)/MAX(Circuit2!$J$26,1)","v":1.9697697394231426E-3},{"$f":"(U8+T8+S8+R8+Q8+P8+N8+M8+L8+J8+I8+B8+O8+K8)/A8/Circuit2!$B$3","v":0.11271579547600451}]
[{"$f":"Circuit2!$B$10/50*8","v":4.8},{"$f":"AG8*Circuit2!$B$7/1000000*AC9*(A9*A9+((Circuit2!$B$8)^2)/3)*Circuit2!$B$5*1000","v":1.2964357387694636E-2},{"$f":"(Circuit2!$F$22+A9/(Circuit2!$F$23*Circuit2!$F$29))/(1+((Circuit2!$F$22+A9/(Circuit2!$F$23*Circuit2!$F$29))/Circuit2!$F$4)^(5))^(0.2)","v":2.2013396149726554},{"$f":"MAX((Circuit2!$F$4-C9), 0.001)/(Circuit2!$F$5+Circuit2!$F$28+Circuit2!$F$24/Circuit2!$F$29)","v":1.0764078403951325},{"$f":"C9/(Circuit2!$F$6+Circuit2!$F$28+Circuit2!$F$24/Circuit2!$F$29)","v":1.3758372593579096},{"$f":"(Circuit2!$F$20/1000000000+Circuit2!$F$21/2/1000000000)*MAX(Circuit2!$F$29,1)","v":1.9500000000000003E-8},1.1295129426391467E-8,1.4173187902398042E-8,{"$f":"0.5*Circuit2!$B$3*(G9*MAX((A9-Circuit2!$B$8),0)+H9*(A9+Circuit2!$B$8))*Circuit2!$B$5*1000","v":0.22937117118300265},{"$f":"MIN(MAX((1-AG8-Circuit2!$F$7/1000000000+Circuit2!$F$8/1000000000),0.001),1)*Circuit2!$B$7/1000000*AF9*(A9*A9+((Circuit2!$B$8)^2)/3)*Circuit2!$B$5*1000","v":4.2247648117898613E-2},{"$f":"Circuit2!$B$3*$AN$2*Circuit2!$J$26*0.000000001*Circuit2!$B$5*1000","v":0.12239999999999999},{"$f":"Circuit2!$J$21*A9*(Circuit2!$F$7/1000000000+Circuit2!$F$8/1000000000)*Circuit2!$B$5*1000","v":2.3687999999999997E-2},{"$f":"A9*Circuit2!$B$4","v":5.76},{"$f":"Circuit2!$F$4*($AN$3/1000000000*Circuit2!$F$29)*Circuit2!$B$5*1000+Circuit2!$F$4*Circuit2!$F$9/1000/2","v":5.6363636363636359E-2},{"$f":"Circuit2!$F$4*($AN$4/1000000000*Circuit2!$J$26)*Circuit2!$B$5*1000+Circuit2!$F$4*Circuit2!$F$9/1000/2","v":7.1718181818181834E-2},{"$f":"(A9*A9+((Circuit2!$B$8)^2)/3)*(Circuit2!$J$9+Circuit2!$J$12)/1000*(1+0.002*AE8)","v":6.0589655484902243E-2},{"$f":"Circuit2!$J$8/1000","v":0.03},{"$f":"0","v":0},{"$f":"(Circuit2!$F$19/1000000000000*Circuit2!$F$29+0*Circuit2!$J$19/1000000000000*Circuit2!$J$26)*Circuit2!$B$3*Circuit2!$B$3*Circuit2!$B$5*1000","v":4.1126400000000007E-2},0,{"$f":"(Circuit2!$B$8/1.732)^2*Circuit2!$J$4/1000","v":5.4003168185866902E-3},0.89221136184815286,0.2834619285706973,6.5935648117898607E-2,9.5989972303488935E-2,5.6363636363636359E-2,{"$f":"W9*Circuit2!$F$25/MAX(Circuit2!$F$29,1)","v":17.007715714241836},15.275685594678913,{"$f":"$AN$6*(1+AB8*0.85*Circuit2!$F$26/100)/1000/MAX(Circuit2!$F$29,1)","v":4.7685782202381358E-3},{"$f":"X9*Circuit2!$J$22/MAX(Circuit2!$J$26,1)","v":3.0132591189879667},2.9539196174935021,{"$f":"$AN$7/1000*(1+AE8*0.85*Circuit2!$J$23/100)/MAX(Circuit2!$J$26,1)","v":1.9740697198605585E-3},{"$f":"(U9+T9+S9+R9+Q9+P9+N9+M9+L9+J9+I9+B9+O9+K9)/A9/Circuit2!$B$3","v":0.11208106540232469},{"$f":"Circuit1!$B$8^2/3","v":1.1285333333333341}]
[{"$f":"Circuit2!$B$10/50*9","v":5.3999999999999995},{"$f":"AG9*Circuit2!$B$7/1000000*AC10*(A10*A10+((Circuit2!$B$8)^2)/3)*Circuit2!$B$5*1000","v":1.6248057786836322E-2},{"$f":"(Circuit2!$F$22+A10/(Circuit2!$F$23*Circuit2!$F$29))/(1+((Circuit2!$F$22+A10/(Circuit2!$F$23*Circuit2!$F$29))/Circuit2!$F$4)^(5))^(0.2)","v":2.2268943843602651},{"$f":"MAX((Circuit2!$F$4-C10), 0.001)/(Circuit2!$F$5+Circuit2!$F$28+Circuit2!$F$24/Circuit2!$F$29)","v":1.0665790829383595},{"$f":"C10/(Circuit2!$F$6+Circuit2!$F$28+Circuit2!$F$24/Circuit2!$F$29)","v":1.3918089902251656},{"$f":"(Circuit2!$F$20/1000000000+Circuit2!$F$21/2/1000000000)*MAX(Circuit2!$F$29,1)","v":1.9500000000000003E-8},1.1359802874109835E-8,1.4010543211712772E-8,{"$f":"0.5*Circuit2!$B$3*(G10*MAX((A10-Circuit2!$B$8),0)+H10*(A10+Circuit2!$B$8))*Circuit2!$B$5*1000","v":0.25518816264802924},{"$f":"MIN(MAX((1-AG9-Circuit2!$F$7/1000000000+Circuit2!$F$8/1000000000),0.001),1)*Circuit2!$B$7/1000000*AF10*(A10*A10+((Circuit2!$B$8)^2)/3)*Circuit2!$B$5*1000","v":5.3133087658202363E-2},{"$f":"Circuit2!$B$3*$AN$2*Circuit2!$J$26*0.000000001*Circuit2!$B$5*1000","v":0.12239999999999999},{"$f":"Circuit2!$J$21*A10*(Circuit2!$F$7/1000000000+Circuit2!$F$8/1000000000)*Circuit2!$B$5*1000","v":2.6648999999999996E-2},{"$f":"A10*Circuit2!$B$4","v":6.4799999999999995},{"$f":"Circuit2!$F$4*($AN$3/1000000000*Circuit2!$F$29)*Circuit2!$B$5*1000+Circuit2!$F$4*Circuit2!$F$9/1000/2","v":5.6363636363636359E-2},{"$f":"Circuit2!$F$4*($AN$4/1000000000*Circuit2!$J$26)*Circuit2!$B$5*1000+Circuit2!$F$4*Circuit2!$F$9/1000/2","v":7.1718181818181834E-2},{"$f":"(A10*A10+((Circuit2!$B$8)^2)/3)*(Circuit2!$J$9+Circuit2!$J$12)/1000*(1+0.002*AE9)","v":7.6046632646165013E-2},{"$f":"Circuit2!$J$8/1000","v":0.03},{"$f":"0","v":0},{"$f":"(Circuit2!$F$19/1000000000000*Circuit2!$F$29+0*Circuit2!$J$19/1000000000000*Circuit2!$J$26)*Circuit2!$B$3*Circuit2!$B$3*Circuit2!$B$5*1000","v":4.1126400000000007E-2},0,{"$f":"(Circuit2!$B$8/1.732)^2*Circuit2!$J$4/1000","v":5.4003168185866902E-3},0.89573611251093599,0.31256262043486555,7.9782087658202355E-2,0.1114469494647517,5.6363636363636359E-2,{"$f":"W10*Circuit2!$F$25/MAX(Circuit2!$F$29,1)","v":18.753757226091931},16.669635273038217,{"$f":"$AN$6*(1+AB9*0.85*Circuit2!$F$26/100)/1000/MAX(Circuit2!$F$29,1)","v":4.7938828589221957E-3},{"$f":"X10*Circuit2!$J$22/MAX(Circuit2!$J$26,1)","v":3.6460414059798478},3.5595203487988578,{"$f":"$AN$7/1000*(1+AE9*0.85*Circuit2!$J$23/100)/MAX(Circuit2!$J$26,1)","v":1.9788366875988744E-3},{"$f":"(U10+T10+S10+R10+Q10+P10+N10+M10+L10+J10+I10+B10+O10+K10)/A10/Circuit2!$B$3","v":0.11164002277375984}]
[{"$f":"Circuit2!$B$10/50*10","v":6},{"$f":"AG10*Circuit2!$B$7/1000000*AC11*(A11*A11+((Circuit2!$B$8)^2)/3)*Circuit2!$B$5*1000","v":1.9948274842581656E-2},{"$f":"(Circuit2!$F$22+A11/(Circuit2!$F$23*Circuit2!$F$29))/(1+((Circuit2!$F$22+A11/(Circuit2!$F$23*Circuit2!$F$29))/Circuit2!$F$4)^(5))^(0.2)","v":2.252417803214775},{"$f":"MAX((Circuit2!$F$4-C11), 0.001)/(Circuit2!$F$5+Circuit2!$F$28+Circuit2!$F$24/Circuit2!$F$29)","v":1.0567623833789326},{"$f":"C11/(Circuit2!$F$6+Circuit2!$F$28+Circuit2!$F$24/Circuit2!$F$29)","v":1.4077611270092343},{"$f":"(Circuit2!$F$20/1000000000+Circuit2!$F$21/2/1000000000)*MAX(Circuit2!$F$29,1)","v":1.9500000000000003E-8},1.1425140482294449E-8,1.385178182993832E-8,{"$f":"0.5*Circuit2!$B$3*(G11*MAX((A11-Circuit2!$B$8),0)+H11*(A11+Circuit2!$B$8))*Circuit2!$B$5*1000","v":0.28085307893848005},{"$f":"MIN(MAX((1-AG10-Circuit2!$F$7/1000000000+Circuit2!$F$8/1000000000),0.001),1)*Circuit2!$B$7/1000000*AF11*(A11*A11+((Circuit2!$B$8)^2)/3)*Circuit2!$B$5*1000","v":6.5355879630224281E-2},{"$f":"Circuit2!$B$3*$AN$2*Circuit2!$J$26*0.000000001*Circuit2!$B$5*1000","v":0.12239999999999999},{"$f":"Circuit2!$J$21*A11*(Circuit2!$F$7/1000000000+Circuit2!$F$8/1000000000)*Circuit2!$B$5*1000","v":2.9609999999999994E-2},{"$f":"A11*Circuit2!$B$4","v":7.1999999999999993},{"$f":"Circuit2!$F$4*($AN$3/1000000000*Circuit2!$F$29)*Circuit2!$B$5*1000+Circuit2!$F$4*Circuit2!$F$9/1000/2","v":5.6363636363636359E-2},{"$f":"Circuit2!$F$4*($AN$4/1000000000*Circuit2!$J$26)*Circuit2!$B$5*1000+Circuit2!$F$4*Circuit2!$F$9/1000/2","v":7.1718181818181834E-2},{"$f":"(A11*A11+((Circuit2!$B$8)^2)/3)*(Circuit2!$J$9+Circuit2!$J$12)/1000*(1+0.002*AE10)","v":9.3359935072667294E-2},{"$f":"Circuit2!$J$8/1000","v":0.03},{"$f":"0","v":0},{"$f":"(Circuit2!$F$19/1000000000000*Circuit2!$F$29+0*Circuit2!$J$19/1000000000000*Circuit2!$J$26)*Circuit2!$B$3*Circuit2!$B$3*Circuit2!$B$5*1000","v":4.1126400000000007E-2},0,{"$f":"(Circuit2!$B$8/1.732)^2*Circuit2!$J$4/1000","v":5.4003168185866902E-3},0.89818838731365169,0.34192775378106172,9.4965879630224279E-2,0.12876025189125398,5.6363636363636359E-2,{"$f":"W11*Circuit2!$F$25/MAX(Circuit2!$F$29,1)","v":20.515665226863703},18.047314186267137,{"$f":"$AN$6*(1+AB10*0.85*Circuit2!$F$26/100)/1000/MAX(Circuit2!$F$29,1)","v":4.8188754473553926E-3},{"$f":"X11*Circuit2!$J$22/MAX(Circuit2!$J$26,1)","v":4.3399406991012501},4.2179043345257572,{"$f":"$AN$7/1000*(1+AE10*0.85*Circuit2!$J$23/100)/MAX(Circuit2!$J$26,1)","v":1.9840652828194364E-3},{"$f":"(U11+T11+S11+R11+Q11+P11+N11+M11+L11+J11+I11+B11+O11+K11)/A11/Circuit2!$B$3","v":0.1113352181039494},{"$f":"Circuit2!$F$17","v":4.5999999999999996}]
[{"$f":"Circuit2!$B$10/50*11","v":6.6},{"$f":"AG11*Circuit2!$B$7/1000000*AC12*(A12*A12+((Circuit2!$B$8)^2)/3)*Circuit2!$B$5*1000","v":2.407259430353844E-2},{"$f":"(Circuit2!$F$22+A12/(Circuit2!$F$23*Circuit2!$F$29))/(1+((Circuit2!$F$22+A12/(Circuit2!$F$23*Circuit2!$F$29))/Circuit2!$F$4)^(5))^(0.2)","v":2.2779084575140058},{"$f":"MAX((Circuit2!$F$4-C12), 0.001)/(Circuit2!$F$5+Circuit2!$F$28+Circuit2!$F$24/Circuit2!$F$29)","v":1.0469582855715363},{"$f":"C12/(Circuit2!$F$6+Circuit2!$F$28+Circuit2!$F$24/Circuit2!$F$29)","v":1.4236927859462536},{"$f":"(Circuit2!$F$20/1000000000+Circuit2!$F$21/2/1000000000)*MAX(Circuit2!$F$29,1)","v":1.9500000000000003E-8},1.1491148701650256E-8,1.3696775169819647E-8,{"$f":"0.5*Circuit2!$B$3*(G12*MAX((A12-Circuit2!$B$8),0)+H12*(A12+Circuit2!$B$8))*Circuit2!$B$5*1000","v":0.30637876534993125},{"$f":"MIN(MAX((1-AG11-Circuit2!$F$7/1000000000+Circuit2!$F$8/1000000000),0.001),1)*Circuit2!$B$7/1000000*AF12*(A12*A12+((Circuit2!$B$8)^2)/3)*Circuit2!$B$5*1000","v":7.8933357565432891E-2},{"$f":"Circuit2!$B$3*$AN$2*Circuit2!$J$26*0.000000001*Circuit2!$B$5*1000","v":0.12239999999999999},{"$f":"Circuit2!$J$21*A12*(Circuit2!$F$7/1000000000+Circuit2!$F$8/1000000000)*Circuit2!$B$5*1000","v":3.2570999999999989E-2},{"$f":"A12*Circuit2!$B$4","v":7.919999999999999},{"$f":"Circuit2!$F$4*($AN$3/1000000000*Circuit2!$F$29)*Circuit2!$B$5*1000+Circuit2!$F$4*Circuit2!$F$9/1000/2","v":5.6363636363636359E-2},{"$f":"Circuit2!$F$4*($AN$4/1000000000*Circuit2!$J$26)*Circuit2!$B$5*1000+Circuit2!$F$4*Circuit2!$F$9/1000/2","v":7.1718181818181834E-2},{"$f":"(A12*A12+((Circuit2!$B$8)^2)/3)*(Circuit2!$J$9+Circuit2!$J$12)/1000*(1+0.002*AE11)","v":0.11254143624746613},{"$f":"Circuit2!$J$8/1000","v":0.03},{"$f":"0","v":0},{"$f":"(Circuit2!$F$19/1000000000000*Circuit2!$F$29+0*Circuit2!$J$19/1000000000000*Circuit2!$J$26)*Circuit2!$B$3*Circuit2!$B$3*Circuit2!$B$5*1000","v":4.1126400000000007E-2},0,{"$f":"(Circuit2!$B$8/1.732)^2*Circuit2!$J$4/1000","v":5.4003168185866902E-3},0.8998460354775577,0.37157775965346967,0.11150435756543288,0.14794175306605281,5.6363636363636359E-2,{"$f":"W12*Circuit2!$F$25/MAX(Circuit2!$F$29,1)","v":22.294665579208182},19.409770033442008,{"$f":"$AN$6*(1+AB11*0.85*Circuit2!$F$26/100)/1000/MAX(Circuit2!$F$29,1)","v":4.843576311816979E-3},{"$f":"X12*Circuit2!$J$22/MAX(Circuit2!$J$26,1)","v":5.0957491407402831},4.9283257300458221,{"$f":"$AN$7/1000*(1+AE11*0.85*Circuit2!$J$23/100)/MAX(Circuit2!$J$26,1)","v":1.9897495945831395E-3},{"$f":"(U12+T12+S12+R12+Q12+P12+N12+M12+L12+J12+I12+B12+O12+K12)/A12/Circuit2!$B$3","v":0.11113012232912595}]
[{"$f":"Circuit2!$B$10/50*12","v":7.1999999999999993},{"$f":"AG12*Circuit2!$B$7/1000000*AC13*(A13*A13+((Circuit2!$B$8)^2)/3)*Circuit2!$B$5*1000","v":2.8628762483521742E-2},{"$f":"(Circuit2!$F$22+A13/(Circuit2!$F$23*Circuit2!$F$29))/(1+((Circuit2!$F$22+A13/(Circuit2!$F$23*Circuit2!$F$29))/Circuit2!$F$4)^(5))^(0.2)","v":2.3033648913201721},{"$f":"MAX((Circuit2!$F$4-C13), 0.001)/(Circuit2!$F$5+Circuit2!$F$28+Circuit2!$F$24/Circuit2!$F$29)","v":1.0371673494922415},{"$f":"C13/(Circuit2!$F$6+Circuit2!$F$28+Circuit2!$F$24/Circuit2!$F$29)","v":1.4396030570751075},{"$f":"(Circuit2!$F$20/1000000000+Circuit2!$F$21/2/1000000000)*MAX(Circuit2!$F$29,1)","v":1.9500000000000003E-8},1.1557833907744E-8,1.3545400521459605E-8,{"$f":"0.5*Circuit2!$B$3*(G13*MAX((A13-Circuit2!$B$8),0)+H13*(A13+Circuit2!$B$8))*Circuit2!$B$5*1000","v":0.33177763403091731},{"$f":"MIN(MAX((1-AG12-Circuit2!$F$7/1000000000+Circuit2!$F$8/1000000000),0.001),1)*Circuit2!$B$7/1000000*AF13*(A13*A13+((Circuit2!$B$8)^2)/3)*Circuit2!$B$5*1000","v":9.3884336205408328E-2},{"$f":"Circuit2!$B$3*$AN$2*Circuit2!$J$26*0.000000001*Circuit2!$B$5*1000","v":0.12239999999999999},{"$f":"Circuit2!$J$21*A13*(Circuit2!$F$7/1000000000+Circuit2!$F$8/1000000000)*Circuit2!$B$5*1000","v":3.5531999999999994E-2},{"$f":"A13*Circuit2!$B$4","v":8.6399999999999988},{"$f":"Circuit2!$F$4*($AN$3/1000000000*Circuit2!$F$29)*Circuit2!$B$5*1000+Circuit2!$F$4*Circuit2!$F$9/1000/2","v":5.6363636363636359E-2},{"$f":"Circuit2!$F$4*($AN$4/1000000000*Circuit2!$J$26)*Circuit2!$B$5*1000+Circuit2!$F$4*Circuit2!$F$9/1000/2","v":7.1718181818181834E-2},{"$f":"(A13*A13+((Circuit2!$B$8)^2)/3)*(Circuit2!$J$9+Circuit2!$J$12)/1000*(1+0.002*AE12)","v":0.13360403498817008},{"$f":"Circuit2!$J$8/1000","v":0.03},{"$f":"0","v":0},{"$f":"(Circuit2!$F$19/1000000000000*Circuit2!$F$29+0*Circuit2!$J$19/1000000000000*Circuit2!$J$26)*Circuit2!$B$3*Circuit2!$B$3*Circuit2!$B$5*1000","v":4.1126400000000007E-2},0,{"$f":"(Circuit2!$B$8/1.732)^2*Circuit2!$J$4/1000","v":5.4003168185866902E-3},0.90089758465499359,0.40153279651443907,0.12941633620540832,0.16900435180675677,5.6363636363636359E-2,{"$f":"W13*Circuit2!$F$25/MAX(Circuit2!$F$29,1)","v":24.091967790866345},20.757966116915522,{"$f":"$AN$6*(1+AB12*0.85*Circuit2!$F$26/100)/1000/MAX(Circuit2!$F$29,1)","v":4.8680042368529257E-3},{"$f":"X13*Circuit2!$J$22/MAX(Circuit2!$J$26,1)","v":5.914326564587161},5.6899773371408227,{"$f":"$AN$7/1000*(1+AE12*0.85*Circuit2!$J$23/100)/MAX(Circuit2!$J$26,1)","v":1.9958831834663545E-3},{"$f":"(U13+T13+S13+R13+Q13+P13+N13+M13+L13+J13+I13+B13+O13+K13)/A13/Circuit2!$B$3","v":0.11100040859616229}]
[{"$f":"Circuit2!$B$10/50*13","v":7.8},{"$f":"AG13*Circuit2!$B$7/1000000*AC14*(A14*A14+((Circuit2!$B$8)^2)/3)*Circuit2!$B$5*1000","v":3.3624639876695638E-2},{"$f":"(Circuit2!$F$22+A14/(Circuit2!$F$23*Circuit2!$F$29))/(1+((Circuit2!$F$22+A14/(Circuit2!$F$23*Circuit2!$F$29))/Circuit2!$F$4)^(5))^(0.2)","v":2.3287856065094013},{"$f":"MAX((Circuit2!$F$4-C14), 0.001)/(Circuit2!$F$5+Circuit2!$F$28+Circuit2!$F$24/Circuit2!$F$29)","v":1.0273901513425379},{"$f":"C14/(Circuit2!$F$6+Circuit2!$F$28+Circuit2!$F$24/Circuit2!$F$29)","v":1.4554910040683757},{"$f":"(Circuit2!$F$20/1000000000+Circuit2!$F$21/2/1000000000)*MAX(Circuit2!$F$29,1)","v":1.9500000000000003E-8},1.162520239217616E-8,1.3397540723710261E-8,{"$f":"0.5*Circuit2!$B$3*(G14*MAX((A14-Circuit2!$B$8),0)+H14*(A14+Circuit2!$B$8))*Circuit2!$B$5*1000","v":0.35706168954121575},{"$f":"MIN(MAX((1-AG13-Circuit2!$F$7/1000000000+Circuit2!$F$8/1000000000),0.001),1)*Circuit2!$B$7/1000000*AF14*(A14*A14+((Circuit2!$B$8)^2)/3)*Circuit2!$B$5*1000","v":0.11022907316939656},{"$f":"Circuit2!$B$3*$AN$2*Circuit2!$J$26*0.000000001*Circuit2!$B$5*1000","v":0.12239999999999999},{"$f":"Circuit2!$J$21*A14*(Circuit2!$F$7/1000000000+Circuit2!$F$8/1000000000)*Circuit2!$B$5*1000","v":3.8492999999999999E-2},{"$f":"A14*Circuit2!$B$4","v":9.36},{"$f":"Circuit2!$F$4*($AN$3/1000000000*Circuit2!$F$29)*Circuit2!$B$5*1000+Circuit2!$F$4*Circuit2!$F$9/1000/2","v":5.6363636363636359E-2},{"$f":"Circuit2!$F$4*($AN$4/1000000000*Circuit2!$J$26)*Circuit2!$B$5*1000+Circuit2!$F$4*Circuit2!$F$9/1000/2","v":7.1718181818181834E-2},{"$f":"(A14*A14+((Circuit2!$B$8)^2)/3)*(Circuit2!$J$9+Circuit2!$J$12)/1000*(1+0.002*AE13)","v":0.15656161698357879},{"$f":"Circuit2!$J$8/1000","v":0.03},{"$f":"0","v":0},{"$f":"(Circuit2!$F$19/1000000000000*Circuit2!$F$29+0*Circuit2!$J$19/1000000000000*Circuit2!$J$26)*Circuit2!$B$3*Circuit2!$B$3*Circuit2!$B$5*1000","v":4.1126400000000007E-2},0,{"$f":"(Circuit2!$B$8/1.732)^2*Circuit2!$J$4/1000","v":5.4003168185866902E-3},0.90147542449455342,0.43181272941791138,0.14872207316939656,0.19196193380216547,5.6363636363636359E-2,{"$f":"W14*Circuit2!$F$25/MAX(Circuit2!$F$29,1)","v":25.908763765074681},22.092785382491556,{"$f":"$AN$6*(1+AB13*0.85*Circuit2!$F$26/100)/1000/MAX(Circuit2!$F$29,1)","v":4.8921764938322163E-3},{"$f":"X14*Circuit2!$J$22/MAX(Circuit2!$J$26,1)","v":6.7965987438414235},6.5019893272159166,{"$f":"$AN$7/1000*(1+AE13*0.85*Circuit2!$J$23/100)/MAX(Circuit2!$J$26,1)","v":2.0024590803349174E-3},{"$f":"(U14+T14+S14+R14+Q14+P14+N14+M14+L14+J14+I14+B14+O14+K14)/A14/Circuit2!$B$3","v":0.1109292580616591}]
[{"$f":"Circuit2!$B$10/50*14","v":8.4},{"$f":"AG14*Circuit2!$B$7/1000000*AC15*(A15*A15+((Circuit2!$B$8)^2)/3)*Circuit2!$B$5*1000","v":3.9068180117315277E-2},{"$f":"(Circuit2!$F$22+A15/(Circuit2!$F$23*Circuit2!$F$29))/(1+((Circuit2!$F$22+A15/(Circuit2!$F$23*Circuit2!$F$29))/Circuit2!$F$4)^(5))^(0.2)","v":2.354169062548896},{"$f":"MAX((Circuit2!$F$4-C15), 0.001)/(Circuit2!$F$5+Circuit2!$F$28+Circuit2!$F$24/Circuit2!$F$29)","v":1.01762728363504},{"$f":"C15/(Circuit2!$F$6+Circuit2!$F$28+Circuit2!$F$24/Circuit2!$F$29)","v":1.4713556640930598},{"$f":"(Circuit2!$F$20/1000000000+Circuit2!$F$21/2/1000000000)*MAX(Circuit2!$F$29,1)","v":1.9500000000000003E-8},1.1693260353413343E-8,1.3253083857205768E-8,{"$f":"0.5*Circuit2!$B$3*(G15*MAX((A15-Circuit2!$B$8),0)+H15*(A15+Circuit2!$B$8))*Circuit2!$B$5*1000","v":0.38224255261684842},{"$f":"MIN(MAX((1-AG14-Circuit2!$F$7/1000000000+Circuit2!$F$8/1000000000),0.001),1)*Circuit2!$B$7/1000000*AF15*(A15*A15+((Circuit2!$B$8)^2)/3)*Circuit2!$B$5*1000","v":0.12798921356142115},{"$f":"Circuit2!$B$3*$AN$2*Circuit2!$J$26*0.000000001*Circuit2!$B$5*1000","v":0.12239999999999999},{"$f":"Circuit2!$J$21*A15*(Circuit2!$F$7/1000000000+Circuit2!$F$8/1000000000)*Circuit2!$B$5*1000","v":4.1453999999999991E-2},{"$f":"A15*Circuit2!$B$4","v":10.08},{"$f":"Circuit2!$F$4*($AN$3/1000000000*Circuit2!$F$29)*Circuit2!$B$5*1000+Circuit2!$F$4*Circuit2!$F$9/1000/2","v":5.6363636363636359E-2},{"$f":"Circuit2!$F$4*($AN$4/1000000000*Circuit2!$J$26)*Circuit2!$B$5*1000+Circuit2!$F$4*Circuit2!$F$9/1000/2","v":7.1718181818181834E-2},{"$f":"(A15*A15+((Circuit2!$B$8)^2)/3)*(Circuit2!$J$9+Circuit2!$J$12)/1000*(1+0.002*AE14)","v":0.18142901257700872},{"$f":"Circuit2!$J$8/1000","v":0.03},{"$f":"0","v":0},{"$f":"(Circuit2!$F$19/1000000000000*Circuit2!$F$29+0*Circuit2!$J$19/1000000000000*Circuit2!$J$26)*Circuit2!$B$3*Circuit2!$B$3*Circuit2!$B$5*1000","v":4.1126400000000007E-2},0,{"$f":"(Circuit2!$B$8/1.732)^2*Circuit2!$J$4/1000","v":5.4003168185866902E-3},0.90167522450300319,0.4624371327341637,0.16944321356142114,0.2168293293955954,5.6363636363636359E-2,{"$f":"W15*Circuit2!$F$25/MAX(Circuit2!$F$29,1)","v":27.746227964049822},23.415035257171521,{"$f":"$AN$6*(1+AB14*0.85*Circuit2!$F$26/100)/1000/MAX(Circuit2!$F$29,1)","v":4.916108913384485E-3},{"$f":"X15*Circuit2!$J$22/MAX(Circuit2!$J$26,1)","v":7.743554859756947},7.3634274946840881,{"$f":"$AN$7/1000*(1+AE14*0.85*Circuit2!$J$23/100)/MAX(Circuit2!$J$26,1)","v":2.0094697753206951E-3},{"$f":"(U15+T15+S15+R15+Q15+P15+N15+M15+L15+J15+I15+B15+O15+K15)/A15/Circuit2!$B$3","v":0.11090467751858134}]
[{"$f":"Circuit2!$B$10/50*15","v":9},{"$f":"AG15*Circuit2!$B$7/1000000*AC16*(A16*A16+((Circuit2!$B$8)^2)/3)*Circuit2!$B$5*1000","v":4.4967421081857868E-2},{"$f":"(Circuit2!$F$22+A16/(Circuit2!$F$23*Circuit2!$F$29))/(1+((Circuit2!$F$22+A16/(Circuit2!$F$23*Circuit2!$F$29))/Circuit2!$F$4)^(5))^(0.2)","v":2.3795136763243416},{"$f":"MAX((Circuit2!$F$4-C16), 0.001)/(Circuit2!$F$5+Circuit2!$F$28+Circuit2!$F$24/Circuit2!$F$29)","v":1.0078793552598686},{"$f":"C16/(Circuit2!$F$6+Circuit2!$F$28+Circuit2!$F$24/Circuit2!$F$29)","v":1.4871960477027135},{"$f":"(Circuit2!$F$20/1000000000+Circuit2!$F$21/2/1000000000)*MAX(Circuit2!$F$29,1)","v":1.9500000000000003E-8},1.1762013887279164E-8,1.3111922957381339E-8,{"$f":"0.5*Circuit2!$B$3*(G16*MAX((A16-Circuit2!$B$8),0)+H16*(A16+Circuit2!$B$8))*Circuit2!$B$5*1000","v":0.40733148227063121},{"$f":"MIN(MAX((1-AG15-Circuit2!$F$7/1000000000+Circuit2!$F$8/1000000000),0.001),1)*Circuit2!$B$7/1000000*AF16*(A16*A16+((Circuit2!$B$8)^2)/3)*Circuit2!$B$5*1000","v":0.14718772296856961},{"$f":"Circuit2!$B$3*$AN$2*Circuit2!$J$26*0.000000001*Circuit2!$B$5*1000","v":0.12239999999999999},{"$f":"Circuit2!$J$21*A16*(Circuit2!$F$7/1000000000+Circuit2!$F$8/1000000000)*Circuit2!$B$5*1000","v":4.4414999999999996E-2},{"$f":"A16*Circuit2!$B$4","v":10.799999999999999},{"$f":"Circuit2!$F$4*($AN$3/1000000000*Circuit2!$F$29)*Circuit2!$B$5*1000+Circuit2!$F$4*Circuit2!$F$9/1000/2","v":5.6363636363636359E-2},{"$f":"Circuit2!$F$4*($AN$4/1000000000*Circuit2!$J$26)*Circuit2!$B$5*1000+Circuit2!$F$4*Circuit2!$F$9/1000/2","v":7.1718181818181834E-2},{"$f":"(A16*A16+((Circuit2!$B$8)^2)/3)*(Circuit2!$J$9+Circuit2!$J$12)/1000*(1+0.002*AE15)","v":0.20822195064381835},{"$f":"Circuit2!$J$8/1000","v":0.03},{"$f":"0","v":0},{"$f":"(Circuit2!$F$19/1000000000000*Circuit2!$F$29+0*Circuit2!$J$19/1000000000000*Circuit2!$J$26)*Circuit2!$B$3*Circuit2!$B$3*Circuit2!$B$5*1000","v":4.1126400000000007E-2},0,{"$f":"(Circuit2!$B$8/1.732)^2*Circuit2!$J$4/1000","v":5.4003168185866902E-3},0.90156781802351826,0.49342530335248908,0.19160272296856962,0.24362226746240503,5.6363636363636359E-2,{"$f":"W16*Circuit2!$F$25/MAX(Circuit2!$F$29,1)","v":29.605518201149344},24.725452617769196,{"$f":"$AN$6*(1+AB15*0.85*Circuit2!$F$26/100)/1000/MAX(Circuit2!$F$29,1)","v":4.9398159721375807E-3},{"$f":"X16*Circuit2!$J$22/MAX(Circuit2!$J$26,1)","v":8.7562444396636323},8.2732913630287168,{"$f":"$AN$7/1000*(1+AE15*0.85*Circuit2!$J$23/100)/MAX(Circuit2!$J$26,1)","v":2.0169072027417705E-3},{"$f":"(U16+T16+S16+R16+Q16+P16+N16+M16+L16+J16+I16+B16+O16+K16)/A16/Circuit2!$B$3","v":0.11091788992560446}]
[{"$f":"Circuit2!$B$10/50*16","v":9.6},{"$f":"AG16*Circuit2!$B$7/1000000*AC17*(A17*A17+((Circuit2!$B$8)^2)/3)*Circuit2!$B$5*1000","v":5.1330482007855123E-2},{"$f":"(Circuit2!$F$22+A17/(Circuit2!$F$23*Circuit2!$F$29))/(1+((Circuit2!$F$22+A17/(Circuit2!$F$23*Circuit2!$F$29))/Circuit2!$F$4)^(5))^(0.2)","v":2.4048178220202092},{"$f":"MAX((Circuit2!$F$4-C17), 0.001)/(Circuit2!$F$5+Circuit2!$F$28+Circuit2!$F$24/Circuit2!$F$29)","v":0.99814699153068875},{"$f":"C17/(Circuit2!$F$6+Circuit2!$F$28+Circuit2!$F$24/Circuit2!$F$29)","v":1.5030111387626306},{"$f":"(Circuit2!$F$20/1000000000+Circuit2!$F$21/2/1000000000)*MAX(Circuit2!$F$29,1)","v":1.9500000000000003E-8},1.1831468977102404E-8,1.2973955745965781E-8,{"$f":"0.5*Circuit2!$B$3*(G17*MAX((A17-Circuit2!$B$8),0)+H17*(A17+Circuit2!$B$8))*Circuit2!$B$5*1000","v":0.43233939634573554},{"$f":"MIN(MAX((1-AG16-Circuit2!$F$7/1000000000+Circuit2!$F$8/1000000000),0.001),1)*Circuit2!$B$7/1000000*AF17*(A17*A17+((Circuit2!$B$8)^2)/3)*Circuit2!$B$5*1000","v":0.16784881131633456},{"$f":"Circuit2!$B$3*$AN$2*Circuit2!$J$26*0.000000001*Circuit2!$B$5*1000","v":0.12239999999999999},{"$f":"Circuit2!$J$21*A17*(Circuit2!$F$7/1000000000+Circuit2!$F$8/1000000000)*Circuit2!$B$5*1000","v":4.7375999999999995E-2},{"$f":"A17*Circuit2!$B$4","v":11.52},{"$f":"Circuit2!$F$4*($AN$3/1000000000*Circuit2!$F$29)*Circuit2!$B$5*1000+Circuit2!$F$4*Circuit2!$F$9/1000/2","v":5.6363636363636359E-2},{"$f":"Circuit2!$F$4*($AN$4/1000000000*Circuit2!$J$26)*Circuit2!$B$5*1000+Circuit2!$F$4*Circuit2!$F$9/1000/2","v":7.1718181818181834E-2},{"$f":"(A17*A17+((Circuit2!$B$8)^2)/3)*(Circuit2!$J$9+Circuit2!$J$12)/1000*(1+0.002*AE16)","v":0.23695700843344397},{"$f":"Circuit2!$J$8/1000","v":0.03},{"$f":"0","v":0},{"$f":"(Circuit2!$F$19/1000000000000*Circuit2!$F$29+0*Circuit2!$J$19/1000000000000*Circuit2!$J$26)*Circuit2!$B$3*Circuit2!$B$3*Circuit2!$B$5*1000","v":4.1126400000000007E-2},0,{"$f":"(Circuit2!$B$8/1.732)^2*Circuit2!$J$4/1000","v":5.4003168185866902E-3},0.90120675575929821,0.52479627835359066,0.21522481131633456,0.27235732525203066,5.6363636363636359E-2,{"$f":"W17*Circuit2!$F$25/MAX(Circuit2!$F$29,1)","v":31.487776701215438},26.024708611412969,{"$f":"$AN$6*(1+AB16*0.85*Circuit2!$F$26/100)/1000/MAX(Circuit2!$F$29,1)","v":4.9633108818015236E-3},{"$f":"X17*Circuit2!$J$22/MAX(Circuit2!$J$26,1)","v":9.8357738771564893},9.2305123301582146,{"$f":"$AN$7/1000*(1+AE16*0.85*Circuit2!$J$23/100)/MAX(Circuit2!$J$26,1)","v":2.0247627247506929E-3},{"$f":"(U17+T17+S17+R17+Q17+P17+N17+M17+L17+J17+I17+B17+O17+K17)/A17/Circuit2!$B$3","v":0.11096232841235916}]
[{"$f":"Circuit2!$B$10/50*17","v":10.199999999999999},{"$f":"AG17*Circuit2!$B$7/1000000*AC18*(A18*A18+((Circuit2!$B$8)^2)/3)*Circuit2!$B$5*1000","v":5.8165563592240864E-2},{"$f":"(Circuit2!$F$22+A18/(Circuit2!$F$23*Circuit2!$F$29))/(1+((Circuit2!$F$22+A18/(Circuit2!$F$23*Circuit2!$F$29))/Circuit2!$F$4)^(5))^(0.2)","v":2.4300798310555658},{"$f":"MAX((Circuit2!$F$4-C18), 0.001)/(Circuit2!$F$5+Circuit2!$F$28+Circuit2!$F$24/Circuit2!$F$29)","v":0.9884308342093977},{"$f":"C18/(Circuit2!$F$6+Circuit2!$F$28+Circuit2!$F$24/Circuit2!$F$29)","v":1.5187998944097285},{"$f":"(Circuit2!$F$20/1000000000+Circuit2!$F$21/2/1000000000)*MAX(Circuit2!$F$29,1)","v":1.9500000000000003E-8},1.1901631483522132E-8,1.2839084379564398E-8,{"$f":"0.5*Circuit2!$B$3*(G18*MAX((A18-Circuit2!$B$8),0)+H18*(A18+Circuit2!$B$8))*Circuit2!$B$5*1000","v":0.45727689062944565},{"$f":"MIN(MAX((1-AG17-Circuit2!$F$7/1000000000+Circuit2!$F$8/1000000000),0.001),1)*Circuit2!$B$7/1000000*AF18*(A18*A18+((Circuit2!$B$8)^2)/3)*Circuit2!$B$5*1000","v":0.18999784877960263},{"$f":"Circuit2!$B$3*$AN$2*Circuit2!$J$26*0.000000001*Circuit2!$B$5*1000","v":0.12239999999999999},{"$f":"Circuit2!$J$21*A18*(Circuit2!$F$7/1000000000+Circuit2!$F$8/1000000000)*Circuit2!$B$5*1000","v":5.0336999999999986E-2},{"$f":"A18*Circuit2!$B$4","v":12.239999999999998},{"$f":"Circuit2!$F$4*($AN$3/1000000000*Circuit2!$F$29)*Circuit2!$B$5*1000+Circuit2!$F$4*Circuit2!$F$9/1000/2","v":5.6363636363636359E-2},{"$f":"Circuit2!$F$4*($AN$4/1000000000*Circuit2!$J$26)*Circuit2!$B$5*1000+Circuit2!$F$4*Circuit2!$F$9/1000/2","v":7.1718181818181834E-2},{"$f":"(A18*A18+((Circuit2!$B$8)^2)/3)*(Circuit2!$J$9+Circuit2!$J$12)/1000*(1+0.002*AE17)","v":0.26765155728073114},{"$f":"Circuit2!$J$8/1000","v":0.03},{"$f":"0","v":0},{"$f":"(Circuit2!$F$19/1000000000000*Circuit2!$F$29+0*Circuit2!$J$19/1000000000000*Circuit2!$J$26)*Circuit2!$B$3*Circuit2!$B$3*Circuit2!$B$5*1000","v":4.1126400000000007E-2},0,{"$f":"(Circuit2!$B$8/1.732)^2*Circuit2!$J$4/1000","v":5.4003168185866902E-3},0.90063326469895688,0.55656885422168656,0.24033484877960262,0.30305187409931783,5.6363636363636359E-2,{"$f":"W18*Circuit2!$F$25/MAX(Circuit2!$F$29,1)","v":33.394131253301197},27.313413214279244,{"$f":"$AN$6*(1+AB17*0.85*Circuit2!$F$26/100)/1000/MAX(Circuit2!$F$29,1)","v":4.9866056755968934E-3},{"$f":"X18*Circuit2!$J$22/MAX(Circuit2!$J$26,1)","v":10.98330258922784},10.233951980647324,{"$f":"$AN$7/1000*(1+AE17*0.85*Circuit2!$J$23/100)/MAX(Circuit2!$J$26,1)","v":2.0330271153219648E-3},{"$f":"(U18+T18+S18+R18+Q18+P18+N18+M18+L18+J18+I18+B18+O18+K18)/A18/Circuit2!$B$3","v":0.11103298525557537}]
[{"$f":"Circuit2!$B$10/50*18","v":10.799999999999999},{"$f":"AG18*Circuit2!$B$7/1000000*AC19*(A19*A19+((Circuit2!$B$8)^2)/3)*Circuit2!$B$5*1000","v":6.5480949480001133E-2},{"$f":"(Circuit2!$F$22+A19/(Circuit2!$F$23*Circuit2!$F$29))/(1+((Circuit2!$F$22+A19/(Circuit2!$F$23*Circuit2!$F$29))/Circuit2!$F$4)^(5))^(0.2)","v":2.4552979920780391},{"$f":"MAX((Circuit2!$F$4-C19), 0.001)/(Circuit2!$F$5+Circuit2!$F$28+Circuit2!$F$24/Circuit2!$F$29)","v":0.97873154150844643},{"$f":"C19/(Circuit2!$F$6+Circuit2!$F$28+Circuit2!$F$24/Circuit2!$F$29)","v":1.5345612450487744},{"$f":"(Circuit2!$F$20/1000000000+Circuit2!$F$21/2/1000000000)*MAX(Circuit2!$F$29,1)","v":1.9500000000000003E-8},1.1972507133950456E-8,1.2707215214066099E-8,{"$f":"0.5*Circuit2!$B$3*(G19*MAX((A19-Circuit2!$B$8),0)+H19*(A19+Circuit2!$B$8))*Circuit2!$B$5*1000","v":0.48215425662501638},{"$f":"MIN(MAX((1-AG18-Circuit2!$F$7/1000000000+Circuit2!$F$8/1000000000),0.001),1)*Circuit2!$B$7/1000000*AF19*(A19*A19+((Circuit2!$B$8)^2)/3)*Circuit2!$B$5*1000","v":0.21366127439592378},{"$f":"Circuit2!$B$3*$AN$2*Circuit2!$J$26*0.000000001*Circuit2!$B$5*1000","v":0.12239999999999999},{"$f":"Circuit2!$J$21*A19*(Circuit2!$F$7/1000000000+Circuit2!$F$8/1000000000)*Circuit2!$B$5*1000","v":5.3297999999999991E-2},{"$f":"A19*Circuit2!$B$4","v":12.959999999999999},{"$f":"Circuit2!$F$4*($AN$3/1000000000*Circuit2!$F$29)*Circuit2!$B$5*1000+Circuit2!$F$4*Circuit2!$F$9/1000/2","v":5.6363636363636359E-2},{"$f":"Circuit2!$F$4*($AN$4/1000000000*Circuit2!$J$26)*Circuit2!$B$5*1000+Circuit2!$F$4*Circuit2!$F$9/1000/2","v":7.1718181818181834E-2},{"$f":"(A19*A19+((Circuit2!$B$8)^2)/3)*(Circuit2!$J$9+Circuit2!$J$12)/1000*(1+0.002*AE18)","v":0.300323704135809},{"$f":"Circuit2!$J$8/1000","v":0.03},{"$f":"0","v":0},{"$f":"(Circuit2!$F$19/1000000000000*Circuit2!$F$29+0*Circuit2!$J$19/1000000000000*Circuit2!$J$26)*Circuit2!$B$3*Circuit2!$B$3*Circuit2!$B$5*1000","v":4.1126400000000007E-2},0,{"$f":"(Circuit2!$B$8/1.732)^2*Circuit2!$J$4/1000","v":5.4003168185866902E-3},0.89987959613271218,0.58876160610501749,0.26695927439592376,0.33572402095439574,5.6363636363636359E-2,{"$f":"W19*Circuit2!$F$25/MAX(Circuit2!$F$29,1)","v":35.325696366301052},28.592119489311585,{"$f":"$AN$6*(1+AB18*0.85*Circuit2!$F$26/100)/1000/MAX(Circuit2!$F$29,1)","v":5.0097112899898828E-3},{"$f":"X19*Circuit2!$J$22/MAX(Circuit2!$J$26,1)","v":12.200038839893717},11.282400664468648,{"$f":"$AN$7/1000*(1+AE18*0.85*Circuit2!$J$23/100)/MAX(Circuit2!$J$26,1)","v":2.0416905456803807E-3},{"$f":"(U19+T19+S19+R19+Q19+P19+N19+M19+L19+J19+I19+B19+O19+K19)/A19/Circuit2!$B$3","v":0.11112597777497805}]
[{"$f":"Circuit2!$B$10/50*19","v":11.4},{"$f":"AG19*Circuit2!$B$7/1000000*AC20*(A20*A20+((Circuit2!$B$8)^2)/3)*Circuit2!$B$5*1000","v":7.3285008273858088E-2},{"$f":"(Circuit2!$F$22+A20/(Circuit2!$F$23*Circuit2!$F$29))/(1+((Circuit2!$F$22+A20/(Circuit2!$F$23*Circuit2!$F$29))/Circuit2!$F$4)^(5))^(0.2)","v":2.4804705510185627},{"$f":"MAX((Circuit2!$F$4-C20), 0.001)/(Circuit2!$F$5+Circuit2!$F$28+Circuit2!$F$24/Circuit2!$F$29)","v":0.96904978806978348},{"$f":"C20/(Circuit2!$F$6+Circuit2!$F$28+Circuit2!$F$24/Circuit2!$F$29)","v":1.5502940943866017},{"$f":"(Circuit2!$F$20/1000000000+Circuit2!$F$21/2/1000000000)*MAX(Circuit2!$F$29,1)","v":1.9500000000000003E-8},1.2044101511694538E-8,1.2578258583714392E-8,{"$f":"0.5*Circuit2!$B$3*(G20*MAX((A20-Circuit2!$B$8),0)+H20*(A20+Circuit2!$B$8))*Circuit2!$B$5*1000","v":0.50698149807113568},{"$f":"MIN(MAX((1-AG19-Circuit2!$F$7/1000000000+Circuit2!$F$8/1000000000),0.001),1)*Circuit2!$B$7/1000000*AF20*(A20*A20+((Circuit2!$B$8)^2)/3)*Circuit2!$B$5*1000","v":0.23886649780069716},{"$f":"Circuit2!$B$3*$AN$2*Circuit2!$J$26*0.000000001*Circuit2!$B$5*1000","v":0.12239999999999999},{"$f":"Circuit2!$J$21*A20*(Circuit2!$F$7/1000000000+Circuit2!$F$8/1000000000)*Circuit2!$B$5*1000","v":5.6258999999999997E-2},{"$f":"A20*Circuit2!$B$4","v":13.68},{"$f":"Circuit2!$F$4*($AN$3/1000000000*Circuit2!$F$29)*Circuit2!$B$5*1000+Circuit2!$F$4*Circuit2!$F$9/1000/2","v":5.6363636363636359E-2},{"$f":"Circuit2!$F$4*($AN$4/1000000000*Circuit2!$J$26)*Circuit2!$B$5*1000+Circuit2!$F$4*Circuit2!$F$9/1000/2","v":7.1718181818181834E-2},{"$f":"(A20*A20+((Circuit2!$B$8)^2)/3)*(Circuit2!$J$9+Circuit2!$J$12)/1000*(1+0.002*AE19)","v":0.33499222891535985},{"$f":"Circuit2!$J$8/1000","v":0.03},{"$f":"0","v":0},{"$f":"(Circuit2!$F$19/1000000000000*Circuit2!$F$29+0*Circuit2!$J$19/1000000000000*Circuit2!$J$26)*Circuit2!$B$3*Circuit2!$B$3*Circuit2!$B$5*1000","v":4.1126400000000007E-2},0,{"$f":"(Circuit2!$B$8/1.732)^2*Circuit2!$J$4/1000","v":5.4003168185866902E-3},0.89897134210216578,0.62139290634499378,0.29512549780069713,0.37039254573394659,5.6363636363636359E-2,{"$f":"W20*Circuit2!$F$25/MAX(Circuit2!$F$29,1)","v":37.283574380699626},29.861327538189485,{"$f":"$AN$6*(1+AB19*0.85*Circuit2!$F$26/100)/1000/MAX(Circuit2!$F$29,1)","v":5.0326376410303629E-3},{"$f":"X20*Circuit2!$J$22/MAX(Circuit2!$J$26,1)","v":13.48723524949186},12.374576426938917,{"$f":"$AN$7/1000*(1+AE19*0.85*Circuit2!$J$23/100)/MAX(Circuit2!$J$26,1)","v":2.0507425720301788E-3},{"$f":"(U20+T20+S20+R20+Q20+P20+N20+M20+L20+J20+I20+B20+O20+K20)/A20/Circuit2!$B$3","v":0.11123825122851942}]
[{"$f":"Circuit2!$B$10/50*20","v":12},{"$f":"AG20*Circuit2!$B$7/1000000*AC21*(A21*A21+((Circuit2!$B$8)^2)/3)*Circuit2!$B$5*1000","v":8.158619557167486E-2},{"$f":"(Circuit2!$F$22+A21/(Circuit2!$F$23*Circuit2!$F$29))/(1+((Circuit2!$F$22+A21/(Circuit2!$F$23*Circuit2!$F$29))/Circuit2!$F$4)^(5))^(0.2)","v":2.5055957112094913},{"$f":"MAX((Circuit2!$F$4-C21), 0.001)/(Circuit2!$F$5+Circuit2!$F$28+Circuit2!$F$24/Circuit2!$F$29)","v":0.95938626491942636},{"$f":"C21/(Circuit2!$F$6+Circuit2!$F$28+Circuit2!$F$24/Circuit2!$F$29)","v":1.565997319505932},{"$f":"(Circuit2!$F$20/1000000000+Circuit2!$F$21/2/1000000000)*MAX(Circuit2!$F$29,1)","v":1.9500000000000003E-8},1.2116420044740635E-8,1.2452128593778309E-8,{"$f":"0.5*Circuit2!$B$3*(G21*MAX((A21-Circuit2!$B$8),0)+H21*(A21+Circuit2!$B$8))*Circuit2!$B$5*1000","v":0.5317683462908912},{"$f":"MIN(MAX((1-AG20-Circuit2!$F$7/1000000000+Circuit2!$F$8/1000000000),0.001),1)*Circuit2!$B$7/1000000*AF21*(A21*A21+((Circuit2!$B$8)^2)/3)*Circuit2!$B$5*1000","v":0.26564179443682934},{"$f":"Circuit2!$B$3*$AN$2*Circuit2!$J$26*0.000000001*Circuit2!$B$5*1000","v":0.12239999999999999},{"$f":"Circuit2!$J$21*A21*(Circuit2!$F$7/1000000000+Circuit2!$F$8/1000000000)*Circuit2!$B$5*1000","v":5.9219999999999988E-2},{"$f":"A21*Circuit2!$B$4","v":14.399999999999999},{"$f":"Circuit2!$F$4*($AN$3/1000000000*Circuit2!$F$29)*Circuit2!$B$5*1000+Circuit2!$F$4*Circuit2!$F$9/1000/2","v":5.6363636363636359E-2},{"$f":"Circuit2!$F$4*($AN$4/1000000000*Circuit2!$J$26)*Circuit2!$B$5*1000+Circuit2!$F$4*Circuit2!$F$9/1000/2","v":7.1718181818181834E-2},{"$f":"(A21*A21+((Circuit2!$B$8)^2)/3)*(Circuit2!$J$9+Circuit2!$J$12)/1000*(1+0.002*AE20)","v":0.37167651774010152},{"$f":"Circuit2!$J$8/1000","v":0.03},{"$f":"0","v":0},{"$f":"(Circuit2!$F$19/1000000000000*Circuit2!$F$29+0*Circuit2!$J$19/1000000000000*Circuit2!$J$26)*Circuit2!$B$3*Circuit2!$B$3*Circuit2!$B$5*1000","v":4.1126400000000007E-2},0,{"$f":"(Circuit2!$B$8/1.732)^2*Circuit2!$J$4/1000","v":5.4003168185866902E-3},0.89792907312140668,0.65448094186256611,0.32486179443682933,0.40707683455868821,5.6363636363636359E-2,{"$f":"W21*Circuit2!$F$25/MAX(Circuit2!$F$29,1)","v":39.268856511753967},31.121488158815467,{"$f":"$AN$6*(1+AB20*0.85*Circuit2!$F$26/100)/1000/MAX(Circuit2!$F$29,1)","v":5.0553936952080448E-3},{"$f":"X21*Circuit2!$J$22/MAX(Circuit2!$J$26,1)","v":14.846184005763101},13.509124365211941,{"$f":"$AN$7/1000*(1+AE20*0.85*Circuit2!$J$23/100)/MAX(Circuit2!$J$26,1)","v":2.0601721263164767E-3},{"$f":"(U21+T21+S21+R21+Q21+P21+N21+M21+L21+J21+I21+B21+O21+K21)/A21/Circuit2!$B$3","v":0.11136737075722153}]
[{"$f":"Circuit2!$B$10/50*21","v":12.6},{"$f":"AG21*Circuit2!$B$7/1000000*AC22*(A22*A22+((Circuit2!$B$8)^2)/3)*Circuit2!$B$5*1000","v":9.0393055742973863E-2},{"$f":"(Circuit2!$F$22+A22/(Circuit2!$F$23*Circuit2!$F$29))/(1+((Circuit2!$F$22+A22/(Circuit2!$F$23*Circuit2!$F$29))/Circuit2!$F$4)^(5))^(0.2)","v":2.5306716335686725},{"$f":"MAX((Circuit2!$F$4-C22), 0.001)/(Circuit2!$F$5+Circuit2!$F$28+Circuit2!$F$24/Circuit2!$F$29)","v":0.94974167939666443},{"$f":"C22/(Circuit2!$F$6+Circuit2!$F$28+Circuit2!$F$24/Circuit2!$F$29)","v":1.5816697709804202},{"$f":"(Circuit2!$F$20/1000000000+Circuit2!$F$21/2/1000000000)*MAX(Circuit2!$F$29,1)","v":1.9500000000000003E-8},1.2189467994204129E-8,1.2328742925846433E-8,{"$f":"0.5*Circuit2!$B$3*(G22*MAX((A22-Circuit2!$B$8),0)+H22*(A22+Circuit2!$B$8))*Circuit2!$B$5*1000","v":0.55652427444526786},{"$f":"MIN(MAX((1-AG21-Circuit2!$F$7/1000000000+Circuit2!$F$8/1000000000),0.001),1)*Circuit2!$B$7/1000000*AF22*(A22*A22+((Circuit2!$B$8)^2)/3)*Circuit2!$B$5*1000","v":0.29401619460904804},{"$f":"Circuit2!$B$3*$AN$2*Circuit2!$J$26*0.000000001*Circuit2!$B$5*1000","v":0.12239999999999999},{"$f":"Circuit2!$J$21*A22*(Circuit2!$F$7/1000000000+Circuit2!$F$8/1000000000)*Circuit2!$B$5*1000","v":6.2180999999999979E-2},{"$f":"A22*Circuit2!$B$4","v":15.12},{"$f":"Circuit2!$F$4*($AN$3/1000000000*Circuit2!$F$29)*Circuit2!$B$5*1000+Circuit2!$F$4*Circuit2!$F$9/1000/2","v":5.6363636363636359E-2},{"$f":"Circuit2!$F$4*($AN$4/1000000000*Circuit2!$J$26)*Circuit2!$B$5*1000+Circuit2!$F$4*Circuit2!$F$9/1000/2","v":7.1718181818181834E-2},{"$f":"(A22*A22+((Circuit2!$B$8)^2)/3)*(Circuit2!$J$9+Circuit2!$J$12)/1000*(1+0.002*AE21)","v":0.41039649219267738},{"$f":"Circuit2!$J$8/1000","v":0.03},{"$f":"0","v":0},{"$f":"(Circuit2!$F$19/1000000000000*Circuit2!$F$29+0*Circuit2!$J$19/1000000000000*Circuit2!$J$26)*Circuit2!$B$3*Circuit2!$B$3*Circuit2!$B$5*1000","v":4.1126400000000007E-2},0,{"$f":"(Circuit2!$B$8/1.732)^2*Circuit2!$J$4/1000","v":5.4003168185866902E-3},0.89676951848231123,0.68804373018824172,0.35619719460904803,0.44579680901126412,5.6363636363636359E-2,{"$f":"W22*Circuit2!$F$25/MAX(Circuit2!$F$29,1)","v":41.282623811294506},32.373006226656216,{"$f":"$AN$6*(1+AB21*0.85*Circuit2!$F$26/100)/1000/MAX(Circuit2!$F$29,1)","v":5.0779875350287886E-3},{"$f":"X22*Circuit2!$J$22/MAX(Circuit2!$J$26,1)","v":16.278211793633496},14.684616479250074,{"$f":"$AN$7/1000*(1+AE21*0.85*Circuit2!$J$23/100)/MAX(Circuit2!$J$26,1)","v":2.0699675106694094E-3},{"$f":"(U22+T22+S22+R22+Q22+P22+N22+M22+L22+J22+I22+B22+O22+K22)/A22/Circuit2!$B$3","v":0.11151137269834903}]
[{"$f":"Circuit2!$B$10/50*22","v":13.2},{"$f":"AG22*Circuit2!$B$7/1000000*AC23*(A23*A23+((Circuit2!$B$8)^2)/3)*Circuit2!$B$5*1000","v":9.9714223271616151E-2},{"$f":"(Circuit2!$F$22+A23/(Circuit2!$F$23*Circuit2!$F$29))/(1+((Circuit2!$F$22+A23/(Circuit2!$F$23*Circuit2!$F$29))/Circuit2!$F$4)^(5))^(0.2)","v":2.5556964368519894},{"$f":"MAX((Circuit2!$F$4-C23), 0.001)/(Circuit2!$F$5+Circuit2!$F$28+Circuit2!$F$24/Circuit2!$F$29)","v":0.94011675505692716},{"$f":"C23/(Circuit2!$F$6+Circuit2!$F$28+Circuit2!$F$24/Circuit2!$F$29)","v":1.5973102730324933},{"$f":"(Circuit2!$F$20/1000000000+Circuit2!$F$21/2/1000000000)*MAX(Circuit2!$F$29,1)","v":1.9500000000000003E-8},1.2263250442450617E-8,1.2208022654846674E-8,{"$f":"0.5*Circuit2!$B$3*(G23*MAX((A23-Circuit2!$B$8),0)+H23*(A23+Circuit2!$B$8))*Circuit2!$B$5*1000","v":0.58125851075994683},{"$f":"MIN(MAX((1-AG22-Circuit2!$F$7/1000000000+Circuit2!$F$8/1000000000),0.001),1)*Circuit2!$B$7/1000000*AF23*(A23*A23+((Circuit2!$B$8)^2)/3)*Circuit2!$B$5*1000","v":0.32401936681830934},{"$f":"Circuit2!$B$3*$AN$2*Circuit2!$J$26*0.000000001*Circuit2!$B$5*1000","v":0.12239999999999999},{"$f":"Circuit2!$J$21*A23*(Circuit2!$F$7/1000000000+Circuit2!$F$8/1000000000)*Circuit2!$B$5*1000","v":6.5141999999999978E-2},{"$f":"A23*Circuit2!$B$4","v":15.839999999999998},{"$f":"Circuit2!$F$4*($AN$3/1000000000*Circuit2!$F$29)*Circuit2!$B$5*1000+Circuit2!$F$4*Circuit2!$F$9/1000/2","v":5.6363636363636359E-2},{"$f":"Circuit2!$F$4*($AN$4/1000000000*Circuit2!$J$26)*Circuit2!$B$5*1000+Circuit2!$F$4*Circuit2!$F$9/1000/2","v":7.1718181818181834E-2},{"$f":"(A23*A23+((Circuit2!$B$8)^2)/3)*(Circuit2!$J$9+Circuit2!$J$12)/1000*(1+0.002*AE22)","v":0.45117253480571062},{"$f":"Circuit2!$J$8/1000","v":0.03},{"$f":"0","v":0},{"$f":"(Circuit2!$F$19/1000000000000*Circuit2!$F$29+0*Circuit2!$J$19/1000000000000*Circuit2!$J$26)*Circuit2!$B$3*Circuit2!$B$3*Circuit2!$B$5*1000","v":4.1126400000000007E-2},0,{"$f":"(Circuit2!$B$8/1.732)^2*Circuit2!$J$4/1000","v":5.4003168185866902E-3},0.89550643162881627,0.72209913403156301,0.38916136681830932,0.48657285162429736,5.6363636363636359E-2,{"$f":"W23*Circuit2!$F$25/MAX(Circuit2!$F$29,1)","v":43.325948041893781},33.616243820905801,{"$f":"$AN$6*(1+AB22*0.85*Circuit2!$F$26/100)/1000/MAX(Circuit2!$F$29,1)","v":5.1004264196397942E-3},{"$f":"X23*Circuit2!$J$22/MAX(Circuit2!$J$26,1)","v":17.784674463596737},15.899552078091054,{"$f":"$AN$7/1000*(1+AE22*0.85*Circuit2!$J$23/100)/MAX(Circuit2!$J$26,1)","v":2.0801163961174504E-3},{"$f":"(U23+T23+S23+R23+Q23+P23+N23+M23+L23+J23+I23+B23+O23+K23)/A23/Circuit2!$B$3","v":0.11166865638040396}]
[{"$f":"Circuit2!$B$10/50*23","v":13.799999999999999},{"$f":"AG23*Circuit2!$B$7/1000000*AC24*(A24*A24+((Circuit2!$B$8)^2)/3)*Circuit2!$B$5*1000","v":0.10955842355936636},{"$f":"(Circuit2!$F$22+A24/(Circuit2!$F$23*Circuit2!$F$29))/(1+((Circuit2!$F$22+A24/(Circuit2!$F$23*Circuit2!$F$29))/Circuit2!$F$4)^(5))^(0.2)","v":2.5806681979768582},{"$f":"MAX((Circuit2!$F$4-C24), 0.001)/(Circuit2!$F$5+Circuit2!$F$28+Circuit2!$F$24/Circuit2!$F$29)","v":0.93051223154736218},{"$f":"C24/(Circuit2!$F$6+Circuit2!$F$28+Circuit2!$F$24/Circuit2!$F$29)","v":1.6129176237355363},{"$f":"(Circuit2!$F$20/1000000000+Circuit2!$F$21/2/1000000000)*MAX(Circuit2!$F$29,1)","v":1.9500000000000003E-8},1.2337772280894657E-8,1.2089892076966567E-8,{"$f":"0.5*Circuit2!$B$3*(G24*MAX((A24-Circuit2!$B$8),0)+H24*(A24+Circuit2!$B$8))*Circuit2!$B$5*1000","v":0.60598005078854578},{"$f":"MIN(MAX((1-AG23-Circuit2!$F$7/1000000000+Circuit2!$F$8/1000000000),0.001),1)*Circuit2!$B$7/1000000*AF24*(A24*A24+((Circuit2!$B$8)^2)/3)*Circuit2!$B$5*1000","v":0.35568149590465969},{"$f":"Circuit2!$B$3*$AN$2*Circuit2!$J$26*0.000000001*Circuit2!$B$5*1000","v":0.12239999999999999},{"$f":"Circuit2!$J$21*A24*(Circuit2!$F$7/1000000000+Circuit2!$F$8/1000000000)*Circuit2!$B$5*1000","v":6.8102999999999983E-2},{"$f":"A24*Circuit2!$B$4","v":16.559999999999999},{"$f":"Circuit2!$F$4*($AN$3/1000000000*Circuit2!$F$29)*Circuit2!$B$5*1000+Circuit2!$F$4*Circuit2!$F$9/1000/2","v":5.6363636363636359E-2},{"$f":"Circuit2!$F$4*($AN$4/1000000000*Circuit2!$J$26)*Circuit2!$B$5*1000+Circuit2!$F$4*Circuit2!$F$9/1000/2","v":7.1718181818181834E-2},{"$f":"(A24*A24+((Circuit2!$B$8)^2)/3)*(Circuit2!$J$9+Circuit2!$J$12)/1000*(1+0.002*AE23)","v":0.49402541106997988},{"$f":"Circuit2!$J$8/1000","v":0.03},{"$f":"0","v":0},{"$f":"(Circuit2!$F$19/1000000000000*Circuit2!$F$29+0*Circuit2!$J$19/1000000000000*Circuit2!$J$26)*Circuit2!$B$3*Circuit2!$B$3*Circuit2!$B$5*1000","v":4.1126400000000007E-2},0,{"$f":"(Circuit2!$B$8/1.732)^2*Circuit2!$J$4/1000","v":5.4003168185866902E-3},0.89415123449401834,0.75666487434791219,0.42378449590465966,0.52942572788856657,5.6363636363636359E-2,{"$f":"W24*Circuit2!$F$25/MAX(Circuit2!$F$29,1)","v":45.399892460874732},34.851523116855276,{"$f":"$AN$6*(1+AB23*0.85*Circuit2!$F$26/100)/1000/MAX(Circuit2!$F$29,1)","v":5.1227168408796266E-3},{"$f":"X24*Circuit2!$J$22/MAX(Circuit2!$J$26,1)","v":19.366951462842948},17.152358794530073,{"$f":"$AN$7/1000*(1+AE23*0.85*Circuit2!$J$23/100)/MAX(Circuit2!$J$26,1)","v":2.0906058260950172E-3},{"$f":"(U24+T24+S24+R24+Q24+P24+N24+M24+L24+J24+I24+B24+O24+K24)/A24/Circuit2!$B$3","v":0.1118379040840758}]
[{"$f":"Circuit2!$B$10/50*24","v":14.399999999999999},{"$f":"AG24*Circuit2!$B$7/1000000*AC25*(A25*A25+((Circuit2!$B$8)^2)/3)*Circuit2!$B$5*1000","v":0.11993447312615882},{"$f":"(Circuit2!$F$22+A25/(Circuit2!$F$23*Circuit2!$F$29))/(1+((Circuit2!$F$22+A25/(Circuit2!$F$23*Circuit2!$F$29))/Circuit2!$F$4)^(5))^(0.2)","v":2.6055849524190844},{"$f":"MAX((Circuit2!$F$4-C25), 0.001)/(Circuit2!$F$5+Circuit2!$F$28+Circuit2!$F$24/Circuit2!$F$29)","v":0.9209288644541983},{"$f":"C25/(Circuit2!$F$6+Circuit2!$F$28+Circuit2!$F$24/Circuit2!$F$29)","v":1.6284905952619277},{"$f":"(Circuit2!$F$20/1000000000+Circuit2!$F$21/2/1000000000)*MAX(Circuit2!$F$29,1)","v":1.9500000000000003E-8},1.2413038197483917E-8,1.1974278547714674E-8,{"$f":"0.5*Circuit2!$B$3*(G25*MAX((A25-Circuit2!$B$8),0)+H25*(A25+Circuit2!$B$8))*Circuit2!$B$5*1000","v":0.63069766877029521},{"$f":"MIN(MAX((1-AG24-Circuit2!$F$7/1000000000+Circuit2!$F$8/1000000000),0.001),1)*Circuit2!$B$7/1000000*AF25*(A25*A25+((Circuit2!$B$8)^2)/3)*Circuit2!$B$5*1000","v":0.38903315663538862},{"$f":"Circuit2!$B$3*$AN$2*Circuit2!$J$26*0.000000001*Circuit2!$B$5*1000","v":0.12239999999999999},{"$f":"Circuit2!$J$21*A25*(Circuit2!$F$7/1000000000+Circuit2!$F$8/1000000000)*Circuit2!$B$5*1000","v":7.1063999999999988E-2},{"$f":"A25*Circuit2!$B$4","v":17.279999999999998},{"$f":"Circuit2!$F$4*($AN$3/1000000000*Circuit2!$F$29)*Circuit2!$B$5*1000+Circuit2!$F$4*Circuit2!$F$9/1000/2","v":5.6363636363636359E-2},{"$f":"Circuit2!$F$4*($AN$4/1000000000*Circuit2!$J$26)*Circuit2!$B$5*1000+Circuit2!$F$4*Circuit2!$F$9/1000/2","v":7.1718181818181834E-2},{"$f":"(A25*A25+((Circuit2!$B$8)^2)/3)*(Circuit2!$J$9+Circuit2!$J$12)/1000*(1+0.002*AE24)","v":0.53897618833565908},{"$f":"Circuit2!$J$8/1000","v":0.03},{"$f":"0","v":0},{"$f":"(Circuit2!$F$19/1000000000000*Circuit2!$F$29+0*Circuit2!$J$19/1000000000000*Circuit2!$J$26)*Circuit2!$B$3*Circuit2!$B$3*Circuit2!$B$5*1000","v":4.1126400000000007E-2},0,{"$f":"(Circuit2!$B$8/1.732)^2*Circuit2!$J$4/1000","v":5.4003168185866902E-3},0.8927135039799744,0.791758541896454,0.46009715663538864,0.57437650515424576,5.6363636363636359E-2,{"$f":"W25*Circuit2!$F$25/MAX(Circuit2!$F$29,1)","v":47.505512513787238},36.079129065173078,{"$f":"$AN$6*(1+AB24*0.85*Circuit2!$F$26/100)/1000/MAX(Circuit2!$F$29,1)","v":5.1448645751364696E-3},{"$f":"X25*Circuit2!$J$22/MAX(Circuit2!$J$26,1)","v":21.026440058237263},18.441394252617389,{"$f":"$AN$7/1000*(1+AE24*0.85*Circuit2!$J$23/100)/MAX(Circuit2!$J$26,1)","v":2.1014222252029608E-3},{"$f":"(U25+T25+S25+R25+Q25+P25+N25+M25+L25+J25+I25+B25+O25+K25)/A25/Circuit2!$B$3","v":0.11201802095988371}]
[{"$f":"Circuit2!$B$10/50*25","v":15},{"$f":"AG25*Circuit2!$B$7/1000000*AC26*(A26*A26+((Circuit2!$B$8)^2)/3)*Circuit2!$B$5*1000","v":0.13085127916894551},{"$f":"(Circuit2!$F$22+A26/(Circuit2!$F$23*Circuit2!$F$29))/(1+((Circuit2!$F$22+A26/(Circuit2!$F$23*Circuit2!$F$29))/Circuit2!$F$4)^(5))^(0.2)","v":2.6304446946854063},{"$f":"MAX((Circuit2!$F$4-C26), 0.001)/(Circuit2!$F$5+Circuit2!$F$28+Circuit2!$F$24/Circuit2!$F$29)","v":0.91136742512099755},{"$f":"C26/(Circuit2!$F$6+Circuit2!$F$28+Circuit2!$F$24/Circuit2!$F$29)","v":1.6440279341783788},{"$f":"(Circuit2!$F$20/1000000000+Circuit2!$F$21/2/1000000000)*MAX(Circuit2!$F$29,1)","v":1.9500000000000003E-8},1.2489052663878175E-8,1.1861112329423614E-8,{"$f":"0.5*Circuit2!$B$3*(G26*MAX((A26-Circuit2!$B$8),0)+H26*(A26+Circuit2!$B$8))*Circuit2!$B$5*1000","v":0.65541992813551542},{"$f":"MIN(MAX((1-AG25-Circuit2!$F$7/1000000000+Circuit2!$F$8/1000000000),0.001),1)*Circuit2!$B$7/1000000*AF26*(A26*A26+((Circuit2!$B$8)^2)/3)*Circuit2!$B$5*1000","v":0.42410518349102039},{"$f":"Circuit2!$B$3*$AN$2*Circuit2!$J$26*0.000000001*Circuit2!$B$5*1000","v":0.12239999999999999},{"$f":"Circuit2!$J$21*A26*(Circuit2!$F$7/1000000000+Circuit2!$F$8/1000000000)*Circuit2!$B$5*1000","v":7.4024999999999994E-2},{"$f":"A26*Circuit2!$B$4","v":18},{"$f":"Circuit2!$F$4*($AN$3/1000000000*Circuit2!$F$29)*Circuit2!$B$5*1000+Circuit2!$F$4*Circuit2!$F$9/1000/2","v":5.6363636363636359E-2},{"$f":"Circuit2!$F$4*($AN$4/1000000000*Circuit2!$J$26)*Circuit2!$B$5*1000+Circuit2!$F$4*Circuit2!$F$9/1000/2","v":7.1718181818181834E-2},{"$f":"(A26*A26+((Circuit2!$B$8)^2)/3)*(Circuit2!$J$9+Circuit2!$J$12)/1000*(1+0.002*AE25)","v":0.58604615206315869},{"$f":"Circuit2!$J$8/1000","v":0.03},{"$f":"0","v":0},{"$f":"(Circuit2!$F$19/1000000000000*Circuit2!$F$29+0*Circuit2!$J$19/1000000000000*Circuit2!$J$26)*Circuit2!$B$3*Circuit2!$B$3*Circuit2!$B$5*1000","v":4.1126400000000007E-2},0,{"$f":"(Circuit2!$B$8/1.732)^2*Circuit2!$J$4/1000","v":5.4003168185866902E-3},0.89120134390251526,0.82739760730446088,0.4981301834910204,0.62144646888174537,5.6363636363636359E-2,{"$f":"W26*Circuit2!$F$25/MAX(Circuit2!$F$29,1)","v":49.643856438267655},37.299311877612034,{"$f":"$AN$6*(1+AB25*0.85*Circuit2!$F$26/100)/1000/MAX(Circuit2!$F$29,1)","v":5.1668747313858426E-3},{"$f":"X26*Circuit2!$J$22/MAX(Circuit2!$J$26,1)","v":22.764549385539635},19.764948422438067,{"$f":"$AN$7/1000*(1+AE25*0.85*Circuit2!$J$23/100)/MAX(Circuit2!$J$26,1)","v":2.1125514136052979E-3},{"$f":"(U26+T26+S26+R26+Q26+P26+N26+M26+L26+J26+I26+B26+O26+K26)/A26/Circuit2!$B$3","v":0.11220808932143909}]
[{"$f":"Circuit2!$B$10/50*26","v":15.6},{"$f":"AG26*Circuit2!$B$7/1000000*AC27*(A27*A27+((Circuit2!$B$8)^2)/3)*Circuit2!$B$5*1000","v":0.14231783845848217},{"$f":"(Circuit2!$F$22+A27/(Circuit2!$F$23*Circuit2!$F$29))/(1+((Circuit2!$F$22+A27/(Circuit2!$F$23*Circuit2!$F$29))/Circuit2!$F$4)^(5))^(0.2)","v":2.6552453788639512},{"$f":"MAX((Circuit2!$F$4-C27), 0.001)/(Circuit2!$F$5+Circuit2!$F$28+Circuit2!$F$24/Circuit2!$F$29)","v":0.90182870043694185},{"$f":"C27/(Circuit2!$F$6+Circuit2!$F$28+Circuit2!$F$24/Circuit2!$F$29)","v":1.6595283617899694},{"$f":"(Circuit2!$F$20/1000000000+Circuit2!$F$21/2/1000000000)*MAX(Circuit2!$F$29,1)","v":1.9500000000000003E-8},1.2565819922333869E-8,1.175032644755E-8,{"$f":"0.5*Circuit2!$B$3*(G27*MAX((A27-Circuit2!$B$8),0)+H27*(A27+Circuit2!$B$8))*Circuit2!$B$5*1000","v":0.68015519120803936},{"$f":"MIN(MAX((1-AG26-Circuit2!$F$7/1000000000+Circuit2!$F$8/1000000000),0.001),1)*Circuit2!$B$7/1000000*AF27*(A27*A27+((Circuit2!$B$8)^2)/3)*Circuit2!$B$5*1000","v":0.46092853751807555},{"$f":"Circuit2!$B$3*$AN$2*Circuit2!$J$26*0.000000001*Circuit2!$B$5*1000","v":0.12239999999999999},{"$f":"Circuit2!$J$21*A27*(Circuit2!$F$7/1000000000+Circuit2!$F$8/1000000000)*Circuit2!$B$5*1000","v":7.6985999999999999E-2},{"$f":"A27*Circuit2!$B$4","v":18.72},{"$f":"Circuit2!$F$4*($AN$3/1000000000*Circuit2!$F$29)*Circuit2!$B$5*1000+Circuit2!$F$4*Circuit2!$F$9/1000/2","v":5.6363636363636359E-2},{"$f":"Circuit2!$F$4*($AN$4/1000000000*Circuit2!$J$26)*Circuit2!$B$5*1000+Circuit2!$F$4*Circuit2!$F$9/1000/2","v":7.1718181818181834E-2},{"$f":"(A27*A27+((Circuit2!$B$8)^2)/3)*(Circuit2!$J$9+Circuit2!$J$12)/1000*(1+0.002*AE26)","v":0.63525671996190369},{"$f":"Circuit2!$J$8/1000","v":0.03},{"$f":"0","v":0},{"$f":"(Circuit2!$F$19/1000000000000*Circuit2!$F$29+0*Circuit2!$J$19/1000000000000*Circuit2!$J$26)*Circuit2!$B$3*Circuit2!$B$3*Circuit2!$B$5*1000","v":4.1126400000000007E-2},0,{"$f":"(Circuit2!$B$8/1.732)^2*Circuit2!$J$4/1000","v":5.4003168185866902E-3},0.88962167261998604,0.86359942966652148,0.53791453751807561,0.67065703678049038,5.6363636363636359E-2,{"$f":"W27*Circuit2!$F$25/MAX(Circuit2!$F$29,1)","v":51.815965779991288},38.512289337265479,{"$f":"$AN$6*(1+AB26*0.85*Circuit2!$F$26/100)/1000/MAX(Circuit2!$F$29,1)","v":5.1887517957576648E-3},{"$f":"X27*Circuit2!$J$22/MAX(Circuit2!$J$26,1)","v":24.582694364576057},21.121246685459599,{"$f":"$AN$7/1000*(1+AE26*0.85*Circuit2!$J$23/100)/MAX(Circuit2!$J$26,1)","v":2.1239786273597508E-3},{"$f":"(U27+T27+S27+R27+Q27+P27+N27+M27+L27+J27+I27+B27+O27+K27)/A27/Circuit2!$B$3","v":0.11240733345163945}]
[{"$f":"Circuit2!$B$10/50*27","v":16.2},{"$f":"AG27*Circuit2!$B$7/1000000*AC28*(A28*A28+((Circuit2!$B$8)^2)/3)*Circuit2!$B$5*1000","v":0.15434323556597024},{"$f":"(Circuit2!$F$22+A28/(Circuit2!$F$23*Circuit2!$F$29))/(1+((Circuit2!$F$22+A28/(Circuit2!$F$23*Circuit2!$F$29))/Circuit2!$F$4)^(5))^(0.2)","v":2.6799849192547445},{"$f":"MAX((Circuit2!$F$4-C28), 0.001)/(Circuit2!$F$5+Circuit2!$F$28+Circuit2!$F$24/Circuit2!$F$29)","v":0.89231349259432902},{"$f":"C28/(Circuit2!$F$6+Circuit2!$F$28+Circuit2!$F$24/Circuit2!$F$29)","v":1.6749905745342153},{"$f":"(Circuit2!$F$20/1000000000+Circuit2!$F$21/2/1000000000)*MAX(Circuit2!$F$29,1)","v":1.9500000000000003E-8},1.2643343972306828E-8,1.1641856555176497E-8,{"$f":"0.5*Circuit2!$B$3*(G28*MAX((A28-Circuit2!$B$8),0)+H28*(A28+Circuit2!$B$8))*Circuit2!$B$5*1000","v":0.7049116281499116},{"$f":"MIN(MAX((1-AG27-Circuit2!$F$7/1000000000+Circuit2!$F$8/1000000000),0.001),1)*Circuit2!$B$7/1000000*AF28*(A28*A28+((Circuit2!$B$8)^2)/3)*Circuit2!$B$5*1000","v":0.49953417122897681},{"$f":"Circuit2!$B$3*$AN$2*Circuit2!$J$26*0.000000001*Circuit2!$B$5*1000","v":0.12239999999999999},{"$f":"Circuit2!$J$21*A28*(Circuit2!$F$7/1000000000+Circuit2!$F$8/1000000000)*Circuit2!$B$5*1000","v":7.994699999999999E-2},{"$f":"A28*Circuit2!$B$4","v":19.439999999999998},{"$f":"Circuit2!$F$4*($AN$3/1000000000*Circuit2!$F$29)*Circuit2!$B$5*1000+Circuit2!$F$4*Circuit2!$F$9/1000/2","v":5.6363636363636359E-2},{"$f":"Circuit2!$F$4*($AN$4/1000000000*Circuit2!$J$26)*Circuit2!$B$5*1000+Circuit2!$F$4*Circuit2!$F$9/1000/2","v":7.1718181818181834E-2},{"$f":"(A28*A28+((Circuit2!$B$8)^2)/3)*(Circuit2!$J$9+Circuit2!$J$12)/1000*(1+0.002*AE27)","v":0.68662935463276142},{"$f":"Circuit2!$J$8/1000","v":0.03},{"$f":"0","v":0},{"$f":"(Circuit2!$F$19/1000000000000*Circuit2!$F$29+0*Circuit2!$J$19/1000000000000*Circuit2!$J$26)*Circuit2!$B$3*Circuit2!$B$3*Circuit2!$B$5*1000","v":4.1126400000000007E-2},0,{"$f":"(Circuit2!$B$8/1.732)^2*Circuit2!$J$4/1000","v":5.4003168185866902E-3},0.88798044775652196,0.9003812637158819,0.5794811712289768,0.72202967145134811,5.6363636363636359E-2,{"$f":"W28*Circuit2!$F$25/MAX(Circuit2!$F$29,1)","v":54.022875822952912},39.718248950058602,{"$f":"$AN$6*(1+AB27*0.85*Circuit2!$F$26/100)/1000/MAX(Circuit2!$F$29,1)","v":5.210499672957611E-3},{"$f":"X28*Circuit2!$J$22/MAX(Circuit2!$J$26,1)","v":26.482289525164241},22.508453621394278,{"$f":"$AN$7/1000*(1+AE27*0.85*Circuit2!$J$23/100)/MAX(Circuit2!$J$26,1)","v":2.1356885448831422E-3},{"$f":"(U28+T28+S28+R28+Q28+P28+N28+M28+L28+J28+I28+B28+O28+K28)/A28/Circuit2!$B$3","v":0.11261509220461946}]
[{"$f":"Circuit2!$B$10/50*28","v":16.8},{"$f":"AG28*Circuit2!$B$7/1000000*AC29*(A29*A29+((Circuit2!$B$8)^2)/3)*Circuit2!$B$5*1000","v":0.16693664042123887},{"$f":"(Circuit2!$F$22+A29/(Circuit2!$F$23*Circuit2!$F$29))/(1+((Circuit2!$F$22+A29/(Circuit2!$F$23*Circuit2!$F$29))/Circuit2!$F$4)^(5))^(0.2)","v":2.7046611910822675},{"$f":"MAX((Circuit2!$F$4-C29), 0.001)/(Circuit2!$F$5+Circuit2!$F$28+Circuit2!$F$24/Circuit2!$F$29)","v":0.88282261881451241},{"$f":"C29/(Circuit2!$F$6+Circuit2!$F$28+Circuit2!$F$24/Circuit2!$F$29)","v":1.690413244426417},{"$f":"(Circuit2!$F$20/1000000000+Circuit2!$F$21/2/1000000000)*MAX(Circuit2!$F$29,1)","v":1.9500000000000003E-8},1.2721628556787172E-8,1.1535640805166934E-8,{"$f":"0.5*Circuit2!$B$3*(G29*MAX((A29-Circuit2!$B$8),0)+H29*(A29+Circuit2!$B$8))*Circuit2!$B$5*1000","v":0.72969722519024249},{"$f":"MIN(MAX((1-AG28-Circuit2!$F$7/1000000000+Circuit2!$F$8/1000000000),0.001),1)*Circuit2!$B$7/1000000*AF29*(A29*A29+((Circuit2!$B$8)^2)/3)*Circuit2!$B$5*1000","v":0.53995289263081125},{"$f":"Circuit2!$B$3*$AN$2*Circuit2!$J$26*0.000000001*Circuit2!$B$5*1000","v":0.12239999999999999},{"$f":"Circuit2!$J$21*A29*(Circuit2!$F$7/1000000000+Circuit2!$F$8/1000000000)*Circuit2!$B$5*1000","v":8.2907999999999982E-2},{"$f":"A29*Circuit2!$B$4","v":20.16},{"$f":"Circuit2!$F$4*($AN$3/1000000000*Circuit2!$F$29)*Circuit2!$B$5*1000+Circuit2!$F$4*Circuit2!$F$9/1000/2","v":5.6363636363636359E-2},{"$f":"Circuit2!$F$4*($AN$4/1000000000*Circuit2!$J$26)*Circuit2!$B$5*1000+Circuit2!$F$4*Circuit2!$F$9/1000/2","v":7.1718181818181834E-2},{"$f":"(A29*A29+((Circuit2!$B$8)^2)/3)*(Circuit2!$J$9+Circuit2!$J$12)/1000*(1+0.002*AE28)","v":0.74018547540006707},{"$f":"Circuit2!$J$8/1000","v":0.03},{"$f":"0","v":0},{"$f":"(Circuit2!$F$19/1000000000000*Circuit2!$F$29+0*Circuit2!$J$19/1000000000000*Circuit2!$J$26)*Circuit2!$B$3*Circuit2!$B$3*Circuit2!$B$5*1000","v":4.1126400000000007E-2},0,{"$f":"(Circuit2!$B$8/1.732)^2*Circuit2!$J$4/1000","v":5.4003168185866902E-3},0.88628284340846042,0.9377602656114814,0.62286089263081124,0.77558579221865376,5.6363636363636359E-2,{"$f":"W29*Circuit2!$F$25/MAX(Circuit2!$F$29,1)","v":56.265615936688882},40.917349952761178,{"$f":"$AN$6*(1+AB28*0.85*Circuit2!$F$26/100)/1000/MAX(Circuit2!$F$29,1)","v":5.2321217248419167E-3},{"$f":"X29*Circuit2!$J$22/MAX(Circuit2!$J$26,1)","v":28.464742793228076},23.924677514208859,{"$f":"$AN$7/1000*(1+AE28*0.85*Circuit2!$J$23/100)/MAX(Circuit2!$J$26,1)","v":2.1476653196461524E-3},{"$f":"(U29+T29+S29+R29+Q29+P29+N29+M29+L29+J29+I29+B29+O29+K29)/A29/Circuit2!$B$3","v":0.11283079746350576}]
[{"$f":"Circuit2!$B$10/50*29","v":17.399999999999999},{"$f":"AG29*Circuit2!$B$7/1000000*AC30*(A30*A30+((Circuit2!$B$8)^2)/3)*Circuit2!$B$5*1000","v":0.18010730521237181},{"$f":"(Circuit2!$F$22+A30/(Circuit2!$F$23*Circuit2!$F$29))/(1+((Circuit2!$F$22+A30/(Circuit2!$F$23*Circuit2!$F$29))/Circuit2!$F$4)^(5))^(0.2)","v":2.7292720312919325},{"$f":"MAX((Circuit2!$F$4-C30), 0.001)/(Circuit2!$F$5+Circuit2!$F$28+Circuit2!$F$24/Circuit2!$F$29)","v":0.87335691104156443},{"$f":"C30/(Circuit2!$F$6+Circuit2!$F$28+Circuit2!$F$24/Circuit2!$F$29)","v":1.7057950195574578},{"$f":"(Circuit2!$F$20/1000000000+Circuit2!$F$21/2/1000000000)*MAX(Circuit2!$F$29,1)","v":1.9500000000000003E-8},1.2800677148382298E-8,1.1431619729467246E-8,{"$f":"0.5*Circuit2!$B$3*(G30*MAX((A30-Circuit2!$B$8),0)+H30*(A30+Circuit2!$B$8))*Circuit2!$B$5*1000","v":0.75451979217696297},{"$f":"MIN(MAX((1-AG29-Circuit2!$F$7/1000000000+Circuit2!$F$8/1000000000),0.001),1)*Circuit2!$B$7/1000000*AF30*(A30*A30+((Circuit2!$B$8)^2)/3)*Circuit2!$B$5*1000","v":0.58221522955120564},{"$f":"Circuit2!$B$3*$AN$2*Circuit2!$J$26*0.000000001*Circuit2!$B$5*1000","v":0.12239999999999999},{"$f":"Circuit2!$J$21*A30*(Circuit2!$F$7/1000000000+Circuit2!$F$8/1000000000)*Circuit2!$B$5*1000","v":8.5868999999999987E-2},{"$f":"A30*Circuit2!$B$4","v":20.88},{"$f":"Circuit2!$F$4*($AN$3/1000000000*Circuit2!$F$29)*Circuit2!$B$5*1000+Circuit2!$F$4*Circuit2!$F$9/1000/2","v":5.6363636363636359E-2},{"$f":"Circuit2!$F$4*($AN$4/1000000000*Circuit2!$J$26)*Circuit2!$B$5*1000+Circuit2!$F$4*Circuit2!$F$9/1000/2","v":7.1718181818181834E-2},{"$f":"(A30*A30+((Circuit2!$B$8)^2)/3)*(Circuit2!$J$9+Circuit2!$J$12)/1000*(1+0.002*AE29)","v":0.79594637007958602},{"$f":"Circuit2!$J$8/1000","v":0.03},{"$f":"0","v":0},{"$f":"(Circuit2!$F$19/1000000000000*Circuit2!$F$29+0*Circuit2!$J$19/1000000000000*Circuit2!$J$26)*Circuit2!$B$3*Circuit2!$B$3*Circuit2!$B$5*1000","v":4.1126400000000007E-2},0,{"$f":"(Circuit2!$B$8/1.732)^2*Circuit2!$J$4/1000","v":5.4003168185866902E-3},0.88453339104137518,0.97575349738933481,0.66808422955120561,0.8313466868981727,5.6363636363636359E-2,{"$f":"W30*Circuit2!$F$25/MAX(Circuit2!$F$29,1)","v":58.545209843360091},42.109725191482831,{"$f":"$AN$6*(1+AB29*0.85*Circuit2!$F$26/100)/1000/MAX(Circuit2!$F$29,1)","v":5.2536208064197058E-3},{"$f":"X30*Circuit2!$J$22/MAX(Circuit2!$J$26,1)","v":30.531449290490098},25.367975560891715,{"$f":"$AN$7/1000*(1+AE29*0.85*Circuit2!$J$23/100)/MAX(Circuit2!$J$26,1)","v":2.1598926190770089E-3},{"$f":"(U30+T30+S30+R30+Q30+P30+N30+M30+L30+J30+I30+B30+O30+K30)/A30/Circuit2!$B$3","v":0.11305395704990674}]
[{"$f":"Circuit2!$B$10/50*30","v":18},{"$f":"AG30*Circuit2!$B$7/1000000*AC31*(A31*A31+((Circuit2!$B$8)^2)/3)*Circuit2!$B$5*1000","v":0.19386456064404556},{"$f":"(Circuit2!$F$22+A31/(Circuit2!$F$23*Circuit2!$F$29))/(1+((Circuit2!$F$22+A31/(Circuit2!$F$23*Circuit2!$F$29))/Circuit2!$F$4)^(5))^(0.2)","v":2.7538152394321989},{"$f":"MAX((Circuit2!$F$4-C31), 0.001)/(Circuit2!$F$5+Circuit2!$F$28+Circuit2!$F$24/Circuit2!$F$29)","v":0.86391721560300039},{"$f":"C31/(Circuit2!$F$6+Circuit2!$F$28+Circuit2!$F$24/Circuit2!$F$29)","v":1.7211345246451242},{"$f":"(Circuit2!$F$20/1000000000+Circuit2!$F$21/2/1000000000)*MAX(Circuit2!$F$29,1)","v":1.9500000000000003E-8},1.2880492935165585E-8,1.1329736125083339E-8,{"$f":"0.5*Circuit2!$B$3*(G31*MAX((A31-Circuit2!$B$8),0)+H31*(A31+Circuit2!$B$8))*Circuit2!$B$5*1000","v":0.77938696948739861},{"$f":"MIN(MAX((1-AG30-Circuit2!$F$7/1000000000+Circuit2!$F$8/1000000000),0.001),1)*Circuit2!$B$7/1000000*AF31*(A31*A31+((Circuit2!$B$8)^2)/3)*Circuit2!$B$5*1000","v":0.62635129549697999},{"$f":"Circuit2!$B$3*$AN$2*Circuit2!$J$26*0.000000001*Circuit2!$B$5*1000","v":0.12239999999999999},{"$f":"Circuit2!$J$21*A31*(Circuit2!$F$7/1000000000+Circuit2!$F$8/1000000000)*Circuit2!$B$5*1000","v":8.8829999999999992E-2},{"$f":"A31*Circuit2!$B$4","v":21.599999999999998},{"$f":"Circuit2!$F$4*($AN$3/1000000000*Circuit2!$F$29)*Circuit2!$B$5*1000+Circuit2!$F$4*Circuit2!$F$9/1000/2","v":5.6363636363636359E-2},{"$f":"Circuit2!$F$4*($AN$4/1000000000*Circuit2!$J$26)*Circuit2!$B$5*1000+Circuit2!$F$4*Circuit2!$F$9/1000/2","v":7.1718181818181834E-2},{"$f":"(A31*A31+((Circuit2!$B$8)^2)/3)*(Circuit2!$J$9+Circuit2!$J$12)/1000*(1+0.002*AE30)","v":0.8539331074766735},{"$f":"Circuit2!$J$8/1000","v":0.03},{"$f":"0","v":0},{"$f":"(Circuit2!$F$19/1000000000000*Circuit2!$F$29+0*Circuit2!$J$19/1000000000000*Circuit2!$J$26)*Circuit2!$B$3*Circuit2!$B$3*Circuit2!$B$5*1000","v":4.1126400000000007E-2},0,{"$f":"(Circuit2!$B$8/1.732)^2*Circuit2!$J$4/1000","v":5.4003168185866902E-3},0.88273609234083306,1.0143779301314442,0.71518129549697995,0.88933342429526019,5.6363636363636359E-2,{"$f":"W31*Circuit2!$F$25/MAX(Circuit2!$F$29,1)","v":60.862675807886653},43.295482883374952,{"$f":"$AN$6*(1+AB30*0.85*Circuit2!$F$26/100)/1000/MAX(Circuit2!$F$29,1)","v":5.2749992995331594E-3},{"$f":"X31*Circuit2!$J$22/MAX(Circuit2!$J$26,1)","v":32.683785204211986},26.836359752188685,{"$f":"$AN$7/1000*(1+AE30*0.85*Circuit2!$J$23/100)/MAX(Circuit2!$J$26,1)","v":2.1723536695325897E-3},{"$f":"(U31+T31+S31+R31+Q31+P31+N31+M31+L31+J31+I31+B31+O31+K31)/A31/Circuit2!$B$3","v":0.11328414105604397}]
[{"$f":"Circuit2!$B$10/50*31","v":18.599999999999998},{"$f":"AG31*Circuit2!$B$7/1000000*AC32*(A32*A32+((Circuit2!$B$8)^2)/3)*Circuit2!$B$5*1000","v":0.20821781157873526},{"$f":"(Circuit2!$F$22+A32/(Circuit2!$F$23*Circuit2!$F$29))/(1+((Circuit2!$F$22+A32/(Circuit2!$F$23*Circuit2!$F$29))/Circuit2!$F$4)^(5))^(0.2)","v":2.7782885786238714},{"$f":"MAX((Circuit2!$F$4-C32), 0.001)/(Circuit2!$F$5+Circuit2!$F$28+Circuit2!$F$24/Circuit2!$F$29)","v":0.85450439283697255},{"$f":"C32/(Circuit2!$F$6+Circuit2!$F$28+Circuit2!$F$24/Circuit2!$F$29)","v":1.7364303616399195},{"$f":"(Circuit2!$F$20/1000000000+Circuit2!$F$21/2/1000000000)*MAX(Circuit2!$F$29,1)","v":1.9500000000000003E-8},1.2961078806310279E-8,1.122993494630203E-8,{"$f":"0.5*Circuit2!$B$3*(G32*MAX((A32-Circuit2!$B$8),0)+H32*(A32+Circuit2!$B$8))*Circuit2!$B$5*1000","v":0.80430623433103321},{"$f":"MIN(MAX((1-AG31-Circuit2!$F$7/1000000000+Circuit2!$F$8/1000000000),0.001),1)*Circuit2!$B$7/1000000*AF32*(A32*A32+((Circuit2!$B$8)^2)/3)*Circuit2!$B$5*1000","v":0.67239065832578482},{"$f":"Circuit2!$B$3*$AN$2*Circuit2!$J$26*0.000000001*Circuit2!$B$5*1000","v":0.12239999999999999},{"$f":"Circuit2!$J$21*A32*(Circuit2!$F$7/1000000000+Circuit2!$F$8/1000000000)*Circuit2!$B$5*1000","v":9.179099999999997E-2},{"$f":"A32*Circuit2!$B$4","v":22.319999999999997},{"$f":"Circuit2!$F$4*($AN$3/1000000000*Circuit2!$F$29)*Circuit2!$B$5*1000+Circuit2!$F$4*Circuit2!$F$9/1000/2","v":5.6363636363636359E-2},{"$f":"Circuit2!$F$4*($AN$4/1000000000*Circuit2!$J$26)*Circuit2!$B$5*1000+Circuit2!$F$4*Circuit2!$F$9/1000/2","v":7.1718181818181834E-2},{"$f":"(A32*A32+((Circuit2!$B$8)^2)/3)*(Circuit2!$J$9+Circuit2!$J$12)/1000*(1+0.002*AE31)","v":0.9141664514419976},{"$f":"Circuit2!$J$8/1000","v":0.03},{"$f":"0","v":0},{"$f":"(Circuit2!$F$19/1000000000000*Circuit2!$F$29+0*Circuit2!$J$19/1000000000000*Circuit2!$J$26)*Circuit2!$B$3*Circuit2!$B$3*Circuit2!$B$5*1000","v":4.1126400000000007E-2},0,{"$f":"(Circuit2!$B$8/1.732)^2*Circuit2!$J$4/1000","v":5.4003168185866902E-3},0.88089451017944609,1.0536504459097684,0.76418165832578477,0.94956676826058428,5.6363636363636359E-2,{"$f":"W32*Circuit2!$F$25/MAX(Circuit2!$F$29,1)","v":63.219026754586103},44.474708273115922,{"$f":"$AN$6*(1+AB31*0.85*Circuit2!$F$26/100)/1000/MAX(Circuit2!$F$29,1)","v":5.2962591444436569E-3},{"$f":"X32*Circuit2!$J$22/MAX(Circuit2!$J$26,1)","v":34.923101785488363},28.327803380130934,{"$f":"$AN$7/1000*(1+AE31*0.85*Circuit2!$J$23/100)/MAX(Circuit2!$J$26,1)","v":2.1850313070711298E-3},{"$f":"(U32+T32+S32+R32+Q32+P32+N32+M32+L32+J32+I32+B32+O32+K32)/A32/Circuit2!$B$3","v":0.11352097083637075}]
[{"$f":"Circuit2!$B$10/50*32","v":19.2},{"$f":"AG32*Circuit2!$B$7/1000000*AC33*(A33*A33+((Circuit2!$B$8)^2)/3)*Circuit2!$B$5*1000","v":0.22317653209153121},{"$f":"(Circuit2!$F$22+A33/(Circuit2!$F$23*Circuit2!$F$29))/(1+((Circuit2!$F$22+A33/(Circuit2!$F$23*Circuit2!$F$29))/Circuit2!$F$4)^(5))^(0.2)","v":2.8026897766179637},{"$f":"MAX((Circuit2!$F$4-C33), 0.001)/(Circuit2!$F$5+Circuit2!$F$28+Circuit2!$F$24/Circuit2!$F$29)","v":0.84511931668539853},{"$f":"C33/(Circuit2!$F$6+Circuit2!$F$28+Circuit2!$F$24/Circuit2!$F$29)","v":1.7516811103862273},{"$f":"(Circuit2!$F$20/1000000000+Circuit2!$F$21/2/1000000000)*MAX(Circuit2!$F$29,1)","v":1.9500000000000003E-8},1.3042437337530012E-8,1.113216320275353E-8,{"$f":"0.5*Circuit2!$B$3*(G33*MAX((A33-Circuit2!$B$8),0)+H33*(A33+Circuit2!$B$8))*Circuit2!$B$5*1000","v":0.82928490647552333},{"$f":"MIN(MAX((1-AG32-Circuit2!$F$7/1000000000+Circuit2!$F$8/1000000000),0.001),1)*Circuit2!$B$7/1000000*AF33*(A33*A33+((Circuit2!$B$8)^2)/3)*Circuit2!$B$5*1000","v":0.72036221302950243},{"$f":"Circuit2!$B$3*$AN$2*Circuit2!$J$26*0.000000001*Circuit2!$B$5*1000","v":0.12239999999999999},{"$f":"Circuit2!$J$21*A33*(Circuit2!$F$7/1000000000+Circuit2!$F$8/1000000000)*Circuit2!$B$5*1000","v":9.4751999999999989E-2},{"$f":"A33*Circuit2!$B$4","v":23.04},{"$f":"Circuit2!$F$4*($AN$3/1000000000*Circuit2!$F$29)*Circuit2!$B$5*1000+Circuit2!$F$4*Circuit2!$F$9/1000/2","v":5.6363636363636359E-2},{"$f":"Circuit2!$F$4*($AN$4/1000000000*Circuit2!$J$26)*Circuit2!$B$5*1000+Circuit2!$F$4*Circuit2!$F$9/1000/2","v":7.1718181818181834E-2},{"$f":"(A33*A33+((Circuit2!$B$8)^2)/3)*(Circuit2!$J$9+Circuit2!$J$12)/1000*(1+0.002*AE32)","v":0.97666677732851004},{"$f":"Circuit2!$J$8/1000","v":0.03},{"$f":"0","v":0},{"$f":"(Circuit2!$F$19/1000000000000*Circuit2!$F$29+0*Circuit2!$J$19/1000000000000*Circuit2!$J$26)*Circuit2!$B$3*Circuit2!$B$3*Circuit2!$B$5*1000","v":4.1126400000000007E-2},0,{"$f":"(Circuit2!$B$8/1.732)^2*Circuit2!$J$4/1000","v":5.4003168185866902E-3},0.87901184234624818,1.0935878385670545,0.81511421302950238,1.0120670941470968,5.6363636363636359E-2,{"$f":"W33*Circuit2!$F$25/MAX(Circuit2!$F$29,1)","v":65.615270314023277},45.647465194692032,{"$f":"$AN$6*(1+AB32*0.85*Circuit2!$F$26/100)/1000/MAX(Circuit2!$F$29,1)","v":5.3174018695314523E-3},{"$f":"X33*Circuit2!$J$22/MAX(Circuit2!$J$26,1)","v":37.250719535448262},29.840248113222628,{"$f":"$AN$7/1000*(1+AE32*0.85*Circuit2!$J$23/100)/MAX(Circuit2!$J$26,1)","v":2.1979080336364826E-3},{"$f":"(U33+T33+S33+R33+Q33+P33+N33+M33+L33+J33+I33+B33+O33+K33)/A33/Circuit2!$B$3","v":0.11376411008648207}]
[{"$f":"Circuit2!$B$10/50*33","v":19.8},{"$f":"AG33*Circuit2!$B$7/1000000*AC34*(A34*A34+((Circuit2!$B$8)^2)/3)*Circuit2!$B$5*1000","v":0.23875025997562294},{"$f":"(Circuit2!$F$22+A34/(Circuit2!$F$23*Circuit2!$F$29))/(1+((Circuit2!$F$22+A34/(Circuit2!$F$23*Circuit2!$F$29))/Circuit2!$F$4)^(5))^(0.2)","v":2.8270165269432854},{"$f":"MAX((Circuit2!$F$4-C34), 0.001)/(Circuit2!$F$5+Circuit2!$F$28+Circuit2!$F$24/Circuit2!$F$29)","v":0.83576287425258255},{"$f":"C34/(Circuit2!$F$6+Circuit2!$F$28+Circuit2!$F$24/Circuit2!$F$29)","v":1.7668853293395532},{"$f":"(Circuit2!$F$20/1000000000+Circuit2!$F$21/2/1000000000)*MAX(Circuit2!$F$29,1)","v":1.9500000000000003E-8},1.3124570776349176E-8,1.1036369862943476E-8,{"$f":"0.5*Circuit2!$B$3*(G34*MAX((A34-Circuit2!$B$8),0)+H34*(A34+Circuit2!$B$8))*Circuit2!$B$5*1000","v":0.85433015342495577},{"$f":"MIN(MAX((1-AG33-Circuit2!$F$7/1000000000+Circuit2!$F$8/1000000000),0.001),1)*Circuit2!$B$7/1000000*AF34*(A34*A34+((Circuit2!$B$8)^2)/3)*Circuit2!$B$5*1000","v":0.77029405991853772},{"$f":"Circuit2!$B$3*$AN$2*Circuit2!$J$26*0.000000001*Circuit2!$B$5*1000","v":0.12239999999999999},{"$f":"Circuit2!$J$21*A34*(Circuit2!$F$7/1000000000+Circuit2!$F$8/1000000000)*Circuit2!$B$5*1000","v":9.7712999999999994E-2},{"$f":"A34*Circuit2!$B$4","v":23.76},{"$f":"Circuit2!$F$4*($AN$3/1000000000*Circuit2!$F$29)*Circuit2!$B$5*1000+Circuit2!$F$4*Circuit2!$F$9/1000/2","v":5.6363636363636359E-2},{"$f":"Circuit2!$F$4*($AN$4/1000000000*Circuit2!$J$26)*Circuit2!$B$5*1000+Circuit2!$F$4*Circuit2!$F$9/1000/2","v":7.1718181818181834E-2},{"$f":"(A34*A34+((Circuit2!$B$8)^2)/3)*(Circuit2!$J$9+Circuit2!$J$12)/1000*(1+0.002*AE33)","v":1.0414539916913503},{"$f":"Circuit2!$J$8/1000","v":0.03},{"$f":"0","v":0},{"$f":"(Circuit2!$F$19/1000000000000*Circuit2!$F$29+0*Circuit2!$J$19/1000000000000*Circuit2!$J$26)*Circuit2!$B$3*Circuit2!$B$3*Circuit2!$B$5*1000","v":4.1126400000000007E-2},0,{"$f":"(Circuit2!$B$8/1.732)^2*Circuit2!$J$4/1000","v":5.4003168185866902E-3},0.87709098157741505,1.1342068134005787,0.86800705991853766,1.0768543085099371,5.6363636363636359E-2,{"$f":"W34*Circuit2!$F$25/MAX(Circuit2!$F$29,1)","v":68.052408804034727},46.813797547997218,{"$f":"$AN$6*(1+AB33*0.85*Circuit2!$F$26/100)/1000/MAX(Circuit2!$F$29,1)","v":5.3384286192973644E-3},{"$f":"X34*Circuit2!$J$22/MAX(Circuit2!$J$26,1)","v":39.667922638277176},31.371611567072435,{"$f":"$AN$7/1000*(1+AE33*0.85*Circuit2!$J$23/100)/MAX(Circuit2!$J$26,1)","v":2.2109660781434006E-3},{"$f":"(U34+T34+S34+R34+Q34+P34+N34+M34+L34+J34+I34+B34+O34+K34)/A34/Circuit2!$B$3","v":0.11401325757580333}]
[{"$f":"Circuit2!$B$10/50*34","v":20.399999999999999},{"$f":"AG34*Circuit2!$B$7/1000000*AC35*(A35*A35+((Circuit2!$B$8)^2)/3)*Circuit2!$B$5*1000","v":0.25494859074151305},{"$f":"(Circuit2!$F$22+A35/(Circuit2!$F$23*Circuit2!$F$29))/(1+((Circuit2!$F$22+A35/(Circuit2!$F$23*Circuit2!$F$29))/Circuit2!$F$4)^(5))^(0.2)","v":2.851266490144726},{"$f":"MAX((Circuit2!$F$4-C35), 0.001)/(Circuit2!$F$5+Circuit2!$F$28+Circuit2!$F$24/Circuit2!$F$29)","v":0.82643596532895147},{"$f":"C35/(Circuit2!$F$6+Circuit2!$F$28+Circuit2!$F$24/Circuit2!$F$29)","v":1.7820415563404537},{"$f":"(Circuit2!$F$20/1000000000+Circuit2!$F$21/2/1000000000)*MAX(Circuit2!$F$29,1)","v":1.9500000000000003E-8},1.3207481027228554E-8,1.094250576290971E-8,{"$f":"0.5*Circuit2!$B$3*(G35*MAX((A35-Circuit2!$B$8),0)+H35*(A35+Circuit2!$B$8))*Circuit2!$B$5*1000","v":0.87944899507748386},{"$f":"MIN(MAX((1-AG34-Circuit2!$F$7/1000000000+Circuit2!$F$8/1000000000),0.001),1)*Circuit2!$B$7/1000000*AF35*(A35*A35+((Circuit2!$B$8)^2)/3)*Circuit2!$B$5*1000","v":0.82221338945701972},{"$f":"Circuit2!$B$3*$AN$2*Circuit2!$J$26*0.000000001*Circuit2!$B$5*1000","v":0.12239999999999999},{"$f":"Circuit2!$J$21*A35*(Circuit2!$F$7/1000000000+Circuit2!$F$8/1000000000)*Circuit2!$B$5*1000","v":0.10067399999999997},{"$f":"A35*Circuit2!$B$4","v":24.479999999999997},{"$f":"Circuit2!$F$4*($AN$3/1000000000*Circuit2!$F$29)*Circuit2!$B$5*1000+Circuit2!$F$4*Circuit2!$F$9/1000/2","v":5.6363636363636359E-2},{"$f":"Circuit2!$F$4*($AN$4/1000000000*Circuit2!$J$26)*Circuit2!$B$5*1000+Circuit2!$F$4*Circuit2!$F$9/1000/2","v":7.1718181818181834E-2},{"$f":"(A35*A35+((Circuit2!$B$8)^2)/3)*(Circuit2!$J$9+Circuit2!$J$12)/1000*(1+0.002*AE34)","v":1.1085474560512265},{"$f":"Circuit2!$J$8/1000","v":0.03},{"$f":"0","v":0},{"$f":"(Circuit2!$F$19/1000000000000*Circuit2!$F$29+0*Circuit2!$J$19/1000000000000*Circuit2!$J$26)*Circuit2!$B$3*Circuit2!$B$3*Circuit2!$B$5*1000","v":4.1126400000000007E-2},0,{"$f":"(Circuit2!$B$8/1.732)^2*Circuit2!$J$4/1000","v":5.4003168185866902E-3},0.87513456461100392,1.175523985818997,0.92288738945701965,1.1439477728698133,5.6363636363636359E-2,{"$f":"W35*Circuit2!$F$25/MAX(Circuit2!$F$29,1)","v":70.531439149139814},47.973730698851419,{"$f":"$AN$6*(1+AB34*0.85*Circuit2!$F$26/100)/1000/MAX(Circuit2!$F$29,1)","v":5.3593401808372234E-3},{"$f":"X35*Circuit2!$J$22/MAX(Circuit2!$J$26,1)","v":42.175953698185801},32.919795286477573,{"$f":"$AN$7/1000*(1+AE34*0.85*Circuit2!$J$23/100)/MAX(Circuit2!$J$26,1)","v":2.2241874618403523E-3},{"$f":"(U35+T35+S35+R35+Q35+P35+N35+M35+L35+J35+I35+B35+O35+K35)/A35/Circuit2!$B$3","v":0.11426814120231882}]
[{"$f":"Circuit2!$B$10/50*35","v":21},{"$f":"AG35*Circuit2!$B$7/1000000*AC36*(A36*A36+((Circuit2!$B$8)^2)/3)*Circuit2!$B$5*1000","v":0.27178117115861611},{"$f":"(Circuit2!$F$22+A36/(Circuit2!$F$23*Circuit2!$F$29))/(1+((Circuit2!$F$22+A36/(Circuit2!$F$23*Circuit2!$F$29))/Circuit2!$F$4)^(5))^(0.2)","v":2.8754372951129565},{"$f":"MAX((Circuit2!$F$4-C36), 0.001)/(Circuit2!$F$5+Circuit2!$F$28+Circuit2!$F$24/Circuit2!$F$29)","v":0.81713950187963202},{"$f":"C36/(Circuit2!$F$6+Circuit2!$F$28+Circuit2!$F$24/Circuit2!$F$29)","v":1.7971483094455978},{"$f":"(Circuit2!$F$20/1000000000+Circuit2!$F$21/2/1000000000)*MAX(Circuit2!$F$29,1)","v":1.9500000000000003E-8},1.3291169636573409E-8,1.0850523519684114E-8,{"$f":"0.5*Circuit2!$B$3*(G36*MAX((A36-Circuit2!$B$8),0)+H36*(A36+Circuit2!$B$8))*Circuit2!$B$5*1000","v":0.90464830788781292},{"$f":"MIN(MAX((1-AG35-Circuit2!$F$7/1000000000+Circuit2!$F$8/1000000000),0.001),1)*Circuit2!$B$7/1000000*AF36*(A36*A36+((Circuit2!$B$8)^2)/3)*Circuit2!$B$5*1000","v":0.87614637493008085},{"$f":"Circuit2!$B$3*$AN$2*Circuit2!$J$26*0.000000001*Circuit2!$B$5*1000","v":0.12239999999999999},{"$f":"Circuit2!$J$21*A36*(Circuit2!$F$7/1000000000+Circuit2!$F$8/1000000000)*Circuit2!$B$5*1000","v":0.10363499999999999},{"$f":"A36*Circuit2!$B$4","v":25.2},{"$f":"Circuit2!$F$4*($AN$3/1000000000*Circuit2!$F$29)*Circuit2!$B$5*1000+Circuit2!$F$4*Circuit2!$F$9/1000/2","v":5.6363636363636359E-2},{"$f":"Circuit2!$F$4*($AN$4/1000000000*Circuit2!$J$26)*Circuit2!$B$5*1000+Circuit2!$F$4*Circuit2!$F$9/1000/2","v":7.1718181818181834E-2},{"$f":"(A36*A36+((Circuit2!$B$8)^2)/3)*(Circuit2!$J$9+Circuit2!$J$12)/1000*(1+0.002*AE35)","v":1.1779659155012301},{"$f":"Circuit2!$J$8/1000","v":0.03},{"$f":"0","v":0},{"$f":"(Circuit2!$F$19/1000000000000*Circuit2!$F$29+0*Circuit2!$J$19/1000000000000*Circuit2!$J$26)*Circuit2!$B$3*Circuit2!$B$3*Circuit2!$B$5*1000","v":4.1126400000000007E-2},0,{"$f":"(Circuit2!$B$8/1.732)^2*Circuit2!$J$4/1000","v":5.4003168185866902E-3},0.87314501238069164,1.2175558790464289,0.97978137493008088,1.2133662323198169,5.6363636363636359E-2,{"$f":"W36*Circuit2!$F$25/MAX(Circuit2!$F$29,1)","v":73.053352742785734},49.12727281016975,{"$f":"$AN$6*(1+AB35*0.85*Circuit2!$F$26/100)/1000/MAX(Circuit2!$F$29,1)","v":5.3801370089432725E-3},{"$f":"X36*Circuit2!$J$22/MAX(Circuit2!$J$26,1)","v":44.776008834304697},34.482693044908444,{"$f":"$AN$7/1000*(1+AE35*0.85*Circuit2!$J$23/100)/MAX(Circuit2!$J$26,1)","v":2.2375540672247046E-3},{"$f":"(U36+T36+S36+R36+Q36+P36+N36+M36+L36+J36+I36+B36+O36+K36)/A36/Circuit2!$B$3","v":0.11452851311300849}]
[{"$f":"Circuit2!$B$10/50*36","v":21.599999999999998},{"$f":"AG36*Circuit2!$B$7/1000000*AC37*(A37*A37+((Circuit2!$B$8)^2)/3)*Circuit2!$B$5*1000","v":0.28925769239294724},{"$f":"(Circuit2!$F$22+A37/(Circuit2!$F$23*Circuit2!$F$29))/(1+((Circuit2!$F$22+A37/(Circuit2!$F$23*Circuit2!$F$29))/Circuit2!$F$4)^(5))^(0.2)","v":2.8995265405060557},{"$f":"MAX((Circuit2!$F$4-C37), 0.001)/(Circuit2!$F$5+Circuit2!$F$28+Circuit2!$F$24/Circuit2!$F$29)","v":0.80787440749767081},{"$f":"C37/(Circuit2!$F$6+Circuit2!$F$28+Circuit2!$F$24/Circuit2!$F$29)","v":1.8122040878162848},{"$f":"(Circuit2!$F$20/1000000000+Circuit2!$F$21/2/1000000000)*MAX(Circuit2!$F$29,1)","v":1.9500000000000003E-8},1.3375637777653461E-8,1.0760377449262683E-8,{"$f":"0.5*Circuit2!$B$3*(G37*MAX((A37-Circuit2!$B$8),0)+H37*(A37+Circuit2!$B$8))*Circuit2!$B$5*1000","v":0.92993482855851339},{"$f":"MIN(MAX((1-AG36-Circuit2!$F$7/1000000000+Circuit2!$F$8/1000000000),0.001),1)*Circuit2!$B$7/1000000*AF37*(A37*A37+((Circuit2!$B$8)^2)/3)*Circuit2!$B$5*1000","v":0.93211807402683411},{"$f":"Circuit2!$B$3*$AN$2*Circuit2!$J$26*0.000000001*Circuit2!$B$5*1000","v":0.12239999999999999},{"$f":"Circuit2!$J$21*A37*(Circuit2!$F$7/1000000000+Circuit2!$F$8/1000000000)*Circuit2!$B$5*1000","v":0.10659599999999998},{"$f":"A37*Circuit2!$B$4","v":25.919999999999998},{"$f":"Circuit2!$F$4*($AN$3/1000000000*Circuit2!$F$29)*Circuit2!$B$5*1000+Circuit2!$F$4*Circuit2!$F$9/1000/2","v":5.6363636363636359E-2},{"$f":"Circuit2!$F$4*($AN$4/1000000000*Circuit2!$J$26)*Circuit2!$B$5*1000+Circuit2!$F$4*Circuit2!$F$9/1000/2","v":7.1718181818181834E-2},{"$f":"(A37*A37+((Circuit2!$B$8)^2)/3)*(Circuit2!$J$9+Circuit2!$J$12)/1000*(1+0.002*AE36)","v":1.2497274328776045},{"$f":"Circuit2!$J$8/1000","v":0.03},{"$f":"0","v":0},{"$f":"(Circuit2!$F$19/1000000000000*Circuit2!$F$29+0*Circuit2!$J$19/1000000000000*Circuit2!$J$26)*Circuit2!$B$3*Circuit2!$B$3*Circuit2!$B$5*1000","v":4.1126400000000007E-2},0,{"$f":"(Circuit2!$B$8/1.732)^2*Circuit2!$J$4/1000","v":5.4003168185866902E-3},{"$f":"M37/(U37+T37+S37+R37+Q37+P37+N37+M37+L37+J37+I37+B37+O37+K37)","v":0.87112456300707797},1.2603189209514607,1.0387140740268341,{"$f":"P37+Q37+U37","v":1.2851277496961913},{"$f":"N37","v":5.6363636363636359E-2},{"$f":"W37*Circuit2!$F$25/MAX(Circuit2!$F$29,1)","v":75.619135257087635},50.27441611119648,{"$f":"$AN$6*(1+AB36*0.85*Circuit2!$F$26/100)/1000/MAX(Circuit2!$F$29,1)","v":5.4008192499711361E-3},{"$f":"X37*Circuit2!$J$22/MAX(Circuit2!$J$26,1)","v":47.469233183026326},36.05819935936222,{"$f":"$AN$7/1000*(1+AE36*0.85*Circuit2!$J$23/100)/MAX(Circuit2!$J$26,1)","v":2.251047709698261E-3},{"$f":"(U37+T37+S37+R37+Q37+P37+N37+M37+L37+J37+I37+B37+O37+K37)/A37/Circuit2!$B$3","v":0.11479414569003203}]
[{"$f":"Circuit2!$B$10/50*37","v":22.2},{"$f":"AG37*Circuit2!$B$7/1000000*AC38*(A38*A38+((Circuit2!$B$8)^2)/3)*Circuit2!$B$5*1000","v":0.30738788279899182},{"$f":"(Circuit2!$F$22+A38/(Circuit2!$F$23*Circuit2!$F$29))/(1+((Circuit2!$F$22+A38/(Circuit2!$F$23*Circuit2!$F$29))/Circuit2!$F$4)^(5))^(0.2)","v":2.9235317962632754},{"$f":"MAX((Circuit2!$F$4-C38), 0.001)/(Circuit2!$F$5+Circuit2!$F$28+Circuit2!$F$24/Circuit2!$F$29)","v":0.79864161682181711},{"$f":"C38/(Circuit2!$F$6+Circuit2!$F$28+Circuit2!$F$24/Circuit2!$F$29)","v":1.827207372664547},{"$f":"(Circuit2!$F$20/1000000000+Circuit2!$F$21/2/1000000000)*MAX(Circuit2!$F$29,1)","v":1.9500000000000003E-8},1.3460886235465993E-8,1.067202348880844E-8,{"$f":"0.5*Circuit2!$B$3*(G38*MAX((A38-Circuit2!$B$8),0)+H38*(A38+Circuit2!$B$8))*Circuit2!$B$5*1000","v":0.95531515728283589},{"$f":"MIN(MAX((1-AG37-Circuit2!$F$7/1000000000+Circuit2!$F$8/1000000000),0.001),1)*Circuit2!$B$7/1000000*AF38*(A38*A38+((Circuit2!$B$8)^2)/3)*Circuit2!$B$5*1000","v":0.99015234029838761},{"$f":"Circuit2!$B$3*$AN$2*Circuit2!$J$26*0.000000001*Circuit2!$B$5*1000","v":0.12239999999999999},{"$f":"Circuit2!$J$21*A38*(Circuit2!$F$7/1000000000+Circuit2!$F$8/1000000000)*Circuit2!$B$5*1000","v":0.10955699999999999},{"$f":"A38*Circuit2!$B$4","v":26.639999999999997},{"$f":"Circuit2!$F$4*($AN$3/1000000000*Circuit2!$F$29)*Circuit2!$B$5*1000+Circuit2!$F$4*Circuit2!$F$9/1000/2","v":5.6363636363636359E-2},{"$f":"Circuit2!$F$4*($AN$4/1000000000*Circuit2!$J$26)*Circuit2!$B$5*1000+Circuit2!$F$4*Circuit2!$F$9/1000/2","v":7.1718181818181834E-2},{"$f":"(A38*A38+((Circuit2!$B$8)^2)/3)*(Circuit2!$J$9+Circuit2!$J$12)/1000*(1+0.002*AE37)","v":1.323849329137881},{"$f":"Circuit2!$J$8/1000","v":0.03},{"$f":"0","v":0},{"$f":"(Circuit2!$F$19/1000000000000*Circuit2!$F$29+0*Circuit2!$J$19/1000000000000*Circuit2!$J$26)*Circuit2!$B$3*Circuit2!$B$3*Circuit2!$B$5*1000","v":4.1126400000000007E-2},0,{"$f":"(Circuit2!$B$8/1.732)^2*Circuit2!$J$4/1000","v":5.4003168185866902E-3},0.86907529889943269,1.3038294400818278,1.0997093402983875,1.3592496459564678,5.6363636363636359E-2,{"$f":"W38*Circuit2!$F$25/MAX(Circuit2!$F$29,1)","v":78.229766404909668},51.415138110941953,{"$f":"$AN$6*(1+AB37*0.85*Circuit2!$F$26/100)/1000/MAX(Circuit2!$F$29,1)","v":5.4213867645963457E-3},{"$f":"X38*Circuit2!$J$22/MAX(Circuit2!$J$26,1)","v":50.256716851636313},37.6442181129459,{"$f":"$AN$7/1000*(1+AE37*0.85*Circuit2!$J$23/100)/MAX(Circuit2!$J$26,1)","v":2.2646502110822376E-3},{"$f":"(U38+T38+S38+R38+Q38+P38+N38+M38+L38+J38+I38+B38+O38+K38)/A38/Circuit2!$B$3","v":0.11506482824518954}]
[{"$f":"Circuit2!$B$10/50*38","v":22.8},{"$f":"AG38*Circuit2!$B$7/1000000*AC39*(A39*A39+((Circuit2!$B$8)^2)/3)*Circuit2!$B$5*1000","v":0.32618150042741806},{"$f":"(Circuit2!$F$22+A39/(Circuit2!$F$23*Circuit2!$F$29))/(1+((Circuit2!$F$22+A39/(Circuit2!$F$23*Circuit2!$F$29))/Circuit2!$F$4)^(5))^(0.2)","v":2.9474506052109288},{"$f":"MAX((Circuit2!$F$4-C39), 0.001)/(Circuit2!$F$5+Circuit2!$F$28+Circuit2!$F$24/Circuit2!$F$29)","v":0.78944207491887353},{"$f":"C39/(Circuit2!$F$6+Circuit2!$F$28+Circuit2!$F$24/Circuit2!$F$29)","v":1.8421566282568305},{"$f":"(Circuit2!$F$20/1000000000+Circuit2!$F$21/2/1000000000)*MAX(Circuit2!$F$29,1)","v":1.9500000000000003E-8},1.3546915391575596E-8,1.0585419122831147E-8,{"$f":"0.5*Circuit2!$B$3*(G39*MAX((A39-Circuit2!$B$8),0)+H39*(A39+Circuit2!$B$8))*Circuit2!$B$5*1000","v":0.98079576056052087},{"$f":"MIN(MAX((1-AG38-Circuit2!$F$7/1000000000+Circuit2!$F$8/1000000000),0.001),1)*Circuit2!$B$7/1000000*AF39*(A39*A39+((Circuit2!$B$8)^2)/3)*Circuit2!$B$5*1000","v":1.0502717453024331},{"$f":"Circuit2!$B$3*$AN$2*Circuit2!$J$26*0.000000001*Circuit2!$B$5*1000","v":0.12239999999999999},{"$f":"Circuit2!$J$21*A39*(Circuit2!$F$7/1000000000+Circuit2!$F$8/1000000000)*Circuit2!$B$5*1000","v":0.11251799999999999},{"$f":"A39*Circuit2!$B$4","v":27.36},{"$f":"Circuit2!$F$4*($AN$3/1000000000*Circuit2!$F$29)*Circuit2!$B$5*1000+Circuit2!$F$4*Circuit2!$F$9/1000/2","v":5.6363636363636359E-2},{"$f":"Circuit2!$F$4*($AN$4/1000000000*Circuit2!$J$26)*Circuit2!$B$5*1000+Circuit2!$F$4*Circuit2!$F$9/1000/2","v":7.1718181818181834E-2},{"$f":"(A39*A39+((Circuit2!$B$8)^2)/3)*(Circuit2!$J$9+Circuit2!$J$12)/1000*(1+0.002*AE38)","v":1.4003481304969791},{"$f":"Circuit2!$J$8/1000","v":0.03},{"$f":"0","v":0},{"$f":"(Circuit2!$F$19/1000000000000*Circuit2!$F$29+0*Circuit2!$J$19/1000000000000*Circuit2!$J$26)*Circuit2!$B$3*Circuit2!$B$3*Circuit2!$B$5*1000","v":4.1126400000000007E-2},0,{"$f":"(Circuit2!$B$8/1.732)^2*Circuit2!$J$4/1000","v":5.4003168185866902E-3},0.8669991690167882,1.3481036609879389,1.162789745302433,1.4357484473155659,5.6363636363636359E-2,{"$f":"W39*Circuit2!$F$25/MAX(Circuit2!$F$29,1)","v":80.886219659276335},52.549402761222709,{"$f":"$AN$6*(1+AB38*0.85*Circuit2!$F$26/100)/1000/MAX(Circuit2!$F$29,1)","v":5.4418391495704484E-3},{"$f":"X39*Circuit2!$J$22/MAX(Circuit2!$J$26,1)","v":53.139491360321188},39.238671174526345,{"$f":"$AN$7/1000*(1+AE38*0.85*Circuit2!$J$23/100)/MAX(Circuit2!$J$26,1)","v":2.2783434740623449E-3},{"$f":"(U39+T39+S39+R39+Q39+P39+N39+M39+L39+J39+I39+B39+O39+K39)/A39/Circuit2!$B$3","v":0.11534036429746986}]
[{"$f":"Circuit2!$B$10/50*39","v":23.4},{"$f":"AG39*Circuit2!$B$7/1000000*AC40*(A40*A40+((Circuit2!$B$8)^2)/3)*Circuit2!$B$5*1000","v":0.34564832531295808},{"$f":"(Circuit2!$F$22+A40/(Circuit2!$F$23*Circuit2!$F$29))/(1+((Circuit2!$F$22+A40/(Circuit2!$F$23*Circuit2!$F$29))/Circuit2!$F$4)^(5))^(0.2)","v":2.971280484760074},{"$f":"MAX((Circuit2!$F$4-C40), 0.001)/(Circuit2!$F$5+Circuit2!$F$28+Circuit2!$F$24/Circuit2!$F$29)","v":0.78027673663074071},{"$f":"C40/(Circuit2!$F$6+Circuit2!$F$28+Circuit2!$F$24/Circuit2!$F$29)","v":1.8570503029750463},{"$f":"(Circuit2!$F$20/1000000000+Circuit2!$F$21/2/1000000000)*MAX(Circuit2!$F$29,1)","v":1.9500000000000003E-8},1.3633725208965893E-8,1.0500523313105983E-8,{"$f":"0.5*Circuit2!$B$3*(G40*MAX((A40-Circuit2!$B$8),0)+H40*(A40+Circuit2!$B$8))*Circuit2!$B$5*1000","v":1.0063829736070811},{"$f":"MIN(MAX((1-AG39-Circuit2!$F$7/1000000000+Circuit2!$F$8/1000000000),0.001),1)*Circuit2!$B$7/1000000*AF40*(A40*A40+((Circuit2!$B$8)^2)/3)*Circuit2!$B$5*1000","v":1.1124975120787202},{"$f":"Circuit2!$B$3*$AN$2*Circuit2!$J$26*0.000000001*Circuit2!$B$5*1000","v":0.12239999999999999},{"$f":"Circuit2!$J$21*A40*(Circuit2!$F$7/1000000000+Circuit2!$F$8/1000000000)*Circuit2!$B$5*1000","v":0.11547899999999998},{"$f":"A40*Circuit2!$B$4","v":28.08},{"$f":"Circuit2!$F$4*($AN$3/1000000000*Circuit2!$F$29)*Circuit2!$B$5*1000+Circuit2!$F$4*Circuit2!$F$9/1000/2","v":5.6363636363636359E-2},{"$f":"Circuit2!$F$4*($AN$4/1000000000*Circuit2!$J$26)*Circuit2!$B$5*1000+Circuit2!$F$4*Circuit2!$F$9/1000/2","v":7.1718181818181834E-2},{"$f":"(A40*A40+((Circuit2!$B$8)^2)/3)*(Circuit2!$J$9+Circuit2!$J$12)/1000*(1+0.002*AE39)","v":1.4792395227659607},{"$f":"Circuit2!$J$8/1000","v":0.03},{"$f":"0","v":0},{"$f":"(Circuit2!$F$19/1000000000000*Circuit2!$F$29+0*Circuit2!$J$19/1000000000000*Circuit2!$J$26)*Circuit2!$B$3*Circuit2!$B$3*Circuit2!$B$5*1000","v":4.1126400000000007E-2},0,{"$f":"(Circuit2!$B$8/1.732)^2*Circuit2!$J$4/1000","v":5.4003168185866902E-3},0.86489800713407727,1.3931576989200392,1.2279765120787201,1.5146398395845475,5.6363636363636359E-2,{"$f":"W40*Circuit2!$F$25/MAX(Circuit2!$F$29,1)","v":83.589461935202351},53.677161574003314,{"$f":"$AN$6*(1+AB39*0.85*Circuit2!$F$26/100)/1000/MAX(Circuit2!$F$29,1)","v":5.4621757585735483E-3},{"$f":"X40*Circuit2!$J$22/MAX(Circuit2!$J$26,1)","v":56.118526601997509},40.839506904461103,{"$f":"$AN$7/1000*(1+AE39*0.85*Circuit2!$J$23/100)/MAX(Circuit2!$J$26,1)","v":2.2921095566085471E-3},{"$f":"(U40+T40+S40+R40+Q40+P40+N40+M40+L40+J40+I40+B40+O40+K40)/A40/Circuit2!$B$3","v":0.11562056933320913}]
[{"$f":"Circuit2!$B$10/50*40","v":24},{"$f":"AG40*Circuit2!$B$7/1000000*AC41*(A41*A41+((Circuit2!$B$8)^2)/3)*Circuit2!$B$5*1000","v":0.36579815160842821},{"$f":"(Circuit2!$F$22+A41/(Circuit2!$F$23*Circuit2!$F$29))/(1+((Circuit2!$F$22+A41/(Circuit2!$F$23*Circuit2!$F$29))/Circuit2!$F$4)^(5))^(0.2)","v":2.9950189286953668},{"$f":"MAX((Circuit2!$F$4-C41), 0.001)/(Circuit2!$F$5+Circuit2!$F$28+Circuit2!$F$24/Circuit2!$F$29)","v":0.77114656588639741},{"$f":"C41/(Circuit2!$F$6+Circuit2!$F$28+Circuit2!$F$24/Circuit2!$F$29)","v":1.8718868304346041},{"$f":"(Circuit2!$F$20/1000000000+Circuit2!$F$21/2/1000000000)*MAX(Circuit2!$F$29,1)","v":1.9500000000000003E-8},1.3721315216940671E-8,1.0417296432109949E-8,{"$f":"0.5*Circuit2!$B$3*(G41*MAX((A41-Circuit2!$B$8),0)+H41*(A41+Circuit2!$B$8))*Circuit2!$B$5*1000","v":1.0320830023761354},{"$f":"MIN(MAX((1-AG40-Circuit2!$F$7/1000000000+Circuit2!$F$8/1000000000),0.001),1)*Circuit2!$B$7/1000000*AF41*(A41*A41+((Circuit2!$B$8)^2)/3)*Circuit2!$B$5*1000","v":1.176849460417932},{"$f":"Circuit2!$B$3*$AN$2*Circuit2!$J$26*0.000000001*Circuit2!$B$5*1000","v":0.12239999999999999},{"$f":"Circuit2!$J$21*A41*(Circuit2!$F$7/1000000000+Circuit2!$F$8/1000000000)*Circuit2!$B$5*1000","v":0.11843999999999998},{"$f":"A41*Circuit2!$B$4","v":28.799999999999997},{"$f":"Circuit2!$F$4*($AN$3/1000000000*Circuit2!$F$29)*Circuit2!$B$5*1000+Circuit2!$F$4*Circuit2!$F$9/1000/2","v":5.6363636363636359E-2},{"$f":"Circuit2!$F$4*($AN$4/1000000000*Circuit2!$J$26)*Circuit2!$B$5*1000+Circuit2!$F$4*Circuit2!$F$9/1000/2","v":7.1718181818181834E-2},{"$f":"(A41*A41+((Circuit2!$B$8)^2)/3)*(Circuit2!$J$9+Circuit2!$J$12)/1000*(1+0.002*AE40)","v":1.5605383132221322},{"$f":"Circuit2!$J$8/1000","v":0.03},{"$f":"0","v":0},{"$f":"(Circuit2!$F$19/1000000000000*Circuit2!$F$29+0*Circuit2!$J$19/1000000000000*Circuit2!$J$26)*Circuit2!$B$3*Circuit2!$B$3*Circuit2!$B$5*1000","v":4.1126400000000007E-2},0,{"$f":"(Circuit2!$B$8/1.732)^2*Circuit2!$J$4/1000","v":5.4003168185866902E-3},0.86277354680126739,1.4390075539845637,1.2952894604179319,1.595938630040719,5.6363636363636359E-2,{"$f":"W41*Circuit2!$F$25/MAX(Circuit2!$F$29,1)","v":86.340453239073824},54.798354697070081,{"$f":"$AN$6*(1+AB40*0.85*Circuit2!$F$26/100)/1000/MAX(Circuit2!$F$29,1)","v":5.4823957222474963E-3},{"$f":"X41*Circuit2!$J$22/MAX(Circuit2!$J$26,1)","v":59.194728341099491},42.444708437810412,{"$f":"$AN$7/1000*(1+AE40*0.85*Circuit2!$J$23/100)/MAX(Circuit2!$J$26,1)","v":2.305930745411276E-3},{"$f":"(U41+T41+S41+R41+Q41+P41+N41+M41+L41+J41+I41+B41+O41+K41)/A41/Circuit2!$B$3","v":0.11590526896744802}]
[{"$f":"Circuit2!$B$10/50*41","v":24.599999999999998},{"$f":"AG41*Circuit2!$B$7/1000000*AC42*(A42*A42+((Circuit2!$B$8)^2)/3)*Circuit2!$B$5*1000","v":0.38664077963144483},{"$f":"(Circuit2!$F$22+A42/(Circuit2!$F$23*Circuit2!$F$29))/(1+((Circuit2!$F$22+A42/(Circuit2!$F$23*Circuit2!$F$29))/Circuit2!$F$4)^(5))^(0.2)","v":3.01866340905418},{"$f":"MAX((Circuit2!$F$4-C42), 0.001)/(Circuit2!$F$5+Circuit2!$F$28+Circuit2!$F$24/Circuit2!$F$29)","v":0.76205253497916148},{"$f":"C42/(Circuit2!$F$6+Circuit2!$F$28+Circuit2!$F$24/Circuit2!$F$29)","v":1.8866646306588624},{"$f":"(Circuit2!$F$20/1000000000+Circuit2!$F$21/2/1000000000)*MAX(Circuit2!$F$29,1)","v":1.9500000000000003E-8},1.3809684496113859E-8,1.0335700199770109E-8,{"$f":"0.5*Circuit2!$B$3*(G42*MAX((A42-Circuit2!$B$8),0)+H42*(A42+Circuit2!$B$8))*Circuit2!$B$5*1000","v":1.0579019252135882},{"$f":"MIN(MAX((1-AG41-Circuit2!$F$7/1000000000+Circuit2!$F$8/1000000000),0.001),1)*Circuit2!$B$7/1000000*AF42*(A42*A42+((Circuit2!$B$8)^2)/3)*Circuit2!$B$5*1000","v":1.2433459641955835},{"$f":"Circuit2!$B$3*$AN$2*Circuit2!$J$26*0.000000001*Circuit2!$B$5*1000","v":0.12239999999999999},{"$f":"Circuit2!$J$21*A42*(Circuit2!$F$7/1000000000+Circuit2!$F$8/1000000000)*Circuit2!$B$5*1000","v":0.12140099999999998},{"$f":"A42*Circuit2!$B$4","v":29.519999999999996},{"$f":"Circuit2!$F$4*($AN$3/1000000000*Circuit2!$F$29)*Circuit2!$B$5*1000+Circuit2!$F$4*Circuit2!$F$9/1000/2","v":5.6363636363636359E-2},{"$f":"Circuit2!$F$4*($AN$4/1000000000*Circuit2!$J$26)*Circuit2!$B$5*1000+Circuit2!$F$4*Circuit2!$F$9/1000/2","v":7.1718181818181834E-2},{"$f":"(A42*A42+((Circuit2!$B$8)^2)/3)*(Circuit2!$J$9+Circuit2!$J$12)/1000*(1+0.002*AE41)","v":1.6442584002166907},{"$f":"Circuit2!$J$8/1000","v":0.03},{"$f":"0","v":0},{"$f":"(Circuit2!$F$19/1000000000000*Circuit2!$F$29+0*Circuit2!$J$19/1000000000000*Circuit2!$J$26)*Circuit2!$B$3*Circuit2!$B$3*Circuit2!$B$5*1000","v":4.1126400000000007E-2},0,{"$f":"(Circuit2!$B$8/1.732)^2*Circuit2!$J$4/1000","v":5.4003168185866902E-3},0.86062743355994697,1.485669104845033,1.3647469641955836,1.6796587170352775,5.6363636363636359E-2,{"$f":"W42*Circuit2!$F$25/MAX(Circuit2!$F$29,1)","v":89.140146290701978},55.912911951434964,{"$f":"$AN$6*(1+AB41*0.85*Circuit2!$F$26/100)/1000/MAX(Circuit2!$F$29,1)","v":5.5024979674820019E-3},{"$f":"X42*Circuit2!$J$22/MAX(Circuit2!$J$26,1)","v":62.368936263738178},44.052301641434283,{"$f":"$AN$7/1000*(1+AE41*0.85*Circuit2!$J$23/100)/MAX(Circuit2!$J$26,1)","v":2.3197896273964721E-3},{"$f":"(U42+T42+S42+R42+Q42+P42+N42+M42+L42+J42+I42+B42+O42+K42)/A42/Circuit2!$B$3","v":0.11619429743989736}]
[{"$f":"Circuit2!$B$10/50*42","v":25.2},{"$f":"AG42*Circuit2!$B$7/1000000*AC43*(A43*A43+((Circuit2!$B$8)^2)/3)*Circuit2!$B$5*1000","v":0.40818600788989468},{"$f":"(Circuit2!$F$22+A43/(Circuit2!$F$23*Circuit2!$F$29))/(1+((Circuit2!$F$22+A43/(Circuit2!$F$23*Circuit2!$F$29))/Circuit2!$F$4)^(5))^(0.2)","v":3.0422113780947324},{"$f":"MAX((Circuit2!$F$4-C43), 0.001)/(Circuit2!$F$5+Circuit2!$F$28+Circuit2!$F$24/Circuit2!$F$29)","v":0.7529956238097183},{"$f":"C43/(Circuit2!$F$6+Circuit2!$F$28+Circuit2!$F$24/Circuit2!$F$29)","v":1.9013821113092078},{"$f":"(Circuit2!$F$20/1000000000+Circuit2!$F$21/2/1000000000)*MAX(Circuit2!$F$29,1)","v":1.9500000000000003E-8},1.3898831663529617E-8,1.0255697623332095E-8,{"$f":"0.5*Circuit2!$B$3*(G43*MAX((A43-Circuit2!$B$8),0)+H43*(A43+Circuit2!$B$8))*Circuit2!$B$5*1000","v":1.0838456941618073},{"$f":"MIN(MAX((1-AG42-Circuit2!$F$7/1000000000+Circuit2!$F$8/1000000000),0.001),1)*Circuit2!$B$7/1000000*AF43*(A43*A43+((Circuit2!$B$8)^2)/3)*Circuit2!$B$5*1000","v":1.3120039208483372},{"$f":"Circuit2!$B$3*$AN$2*Circuit2!$J$26*0.000000001*Circuit2!$B$5*1000","v":0.12239999999999999},{"$f":"Circuit2!$J$21*A43*(Circuit2!$F$7/1000000000+Circuit2!$F$8/1000000000)*Circuit2!$B$5*1000","v":0.12436199999999996},{"$f":"A43*Circuit2!$B$4","v":30.24},{"$f":"Circuit2!$F$4*($AN$3/1000000000*Circuit2!$F$29)*Circuit2!$B$5*1000+Circuit2!$F$4*Circuit2!$F$9/1000/2","v":5.6363636363636359E-2},{"$f":"Circuit2!$F$4*($AN$4/1000000000*Circuit2!$J$26)*Circuit2!$B$5*1000+Circuit2!$F$4*Circuit2!$F$9/1000/2","v":7.1718181818181834E-2},{"$f":"(A43*A43+((Circuit2!$B$8)^2)/3)*(Circuit2!$J$9+Circuit2!$J$12)/1000*(1+0.002*AE42)","v":1.7304127506007458},{"$f":"Circuit2!$J$8/1000","v":0.03},{"$f":"0","v":0},{"$f":"(Circuit2!$F$19/1000000000000*Circuit2!$F$29+0*Circuit2!$J$19/1000000000000*Circuit2!$J$26)*Circuit2!$B$3*Circuit2!$B$3*Circuit2!$B$5*1000","v":4.1126400000000007E-2},0,{"$f":"(Circuit2!$B$8/1.732)^2*Circuit2!$J$4/1000","v":5.4003168185866902E-3},0.85846123488422443,1.533158102051702,1.436365920848337,1.7658130674193326,5.6363636363636359E-2,{"$f":"W43*Circuit2!$F$25/MAX(Circuit2!$F$29,1)","v":91.989486123102125},57.020753833271677,{"$f":"$AN$6*(1+AB42*0.85*Circuit2!$F$26/100)/1000/MAX(Circuit2!$F$29,1)","v":5.5224812360145934E-3},{"$f":"X43*Circuit2!$J$22/MAX(Circuit2!$J$26,1)","v":65.641922582769013},45.66036264880772,{"$f":"$AN$7/1000*(1+AE42*0.85*Circuit2!$J$23/100)/MAX(Circuit2!$J$26,1)","v":2.3336691584250392E-3},{"$f":"(U43+T43+S43+R43+Q43+P43+N43+M43+L43+J43+I43+B43+O43+K43)/A43/Circuit2!$B$3","v":0.11648749639054629}]
[{"$f":"Circuit2!$B$10/50*43","v":25.8},{"$f":"AG43*Circuit2!$B$7/1000000*AC44*(A44*A44+((Circuit2!$B$8)^2)/3)*Circuit2!$B$5*1000","v":0.43044362515063639},{"$f":"(Circuit2!$F$22+A44/(Circuit2!$F$23*Circuit2!$F$29))/(1+((Circuit2!$F$22+A44/(Circuit2!$F$23*Circuit2!$F$29))/Circuit2!$F$4)^(5))^(0.2)","v":3.0656602703516507},{"$f":"MAX((Circuit2!$F$4-C44), 0.001)/(Circuit2!$F$5+Circuit2!$F$28+Circuit2!$F$24/Circuit2!$F$29)","v":0.74397681909551894},{"$f":"C44/(Circuit2!$F$6+Circuit2!$F$28+Circuit2!$F$24/Circuit2!$F$29)","v":1.9160376689697816},{"$f":"(Circuit2!$F$20/1000000000+Circuit2!$F$21/2/1000000000)*MAX(Circuit2!$F$29,1)","v":1.9500000000000003E-8},1.3988754857955649E-8,1.0177252940170429E-8,{"$f":"0.5*Circuit2!$B$3*(G44*MAX((A44-Circuit2!$B$8),0)+H44*(A44+Circuit2!$B$8))*Circuit2!$B$5*1000","v":1.1099201359313509},{"$f":"MIN(MAX((1-AG43-Circuit2!$F$7/1000000000+Circuit2!$F$8/1000000000),0.001),1)*Circuit2!$B$7/1000000*AF44*(A44*A44+((Circuit2!$B$8)^2)/3)*Circuit2!$B$5*1000","v":1.3828387328782981},{"$f":"Circuit2!$B$3*$AN$2*Circuit2!$J$26*0.000000001*Circuit2!$B$5*1000","v":0.12239999999999999},{"$f":"Circuit2!$J$21*A44*(Circuit2!$F$7/1000000000+Circuit2!$F$8/1000000000)*Circuit2!$B$5*1000","v":0.12732299999999999},{"$f":"A44*Circuit2!$B$4","v":30.96},{"$f":"Circuit2!$F$4*($AN$3/1000000000*Circuit2!$F$29)*Circuit2!$B$5*1000+Circuit2!$F$4*Circuit2!$F$9/1000/2","v":5.6363636363636359E-2},{"$f":"Circuit2!$F$4*($AN$4/1000000000*Circuit2!$J$26)*Circuit2!$B$5*1000+Circuit2!$F$4*Circuit2!$F$9/1000/2","v":7.1718181818181834E-2},{"$f":"(A44*A44+((Circuit2!$B$8)^2)/3)*(Circuit2!$J$9+Circuit2!$J$12)/1000*(1+0.002*AE43)","v":1.8190133849260657},{"$f":"Circuit2!$J$8/1000","v":0.03},{"$f":"0","v":0},{"$f":"(Circuit2!$F$19/1000000000000*Circuit2!$F$29+0*Circuit2!$J$19/1000000000000*Circuit2!$J$26)*Circuit2!$B$3*Circuit2!$B$3*Circuit2!$B$5*1000","v":4.1126400000000007E-2},0,{"$f":"(Circuit2!$B$8/1.732)^2*Circuit2!$J$4/1000","v":5.4003168185866902E-3},0.85627644823490801,1.5814901610819874,1.5101617328782981,1.8544137017446525,5.6363636363636359E-2,{"$f":"W44*Circuit2!$F$25/MAX(Circuit2!$F$29,1)","v":94.889409664919242},58.121792482628706,{"$f":"$AN$6*(1+AB43*0.85*Circuit2!$F$26/100)/1000/MAX(Circuit2!$F$29,1)","v":5.5423441023946711E-3},{"$f":"X44*Circuit2!$J$22/MAX(Circuit2!$J$26,1)","v":69.014391192538227},47.267024885958406,{"$f":"$AN$7/1000*(1+AE43*0.85*Circuit2!$J$23/100)/MAX(Circuit2!$J$26,1)","v":2.3475527283464328E-3},{"$f":"(U44+T44+S44+R44+Q44+P44+N44+M44+L44+J44+I44+B44+O44+K44)/A44/Circuit2!$B$3","v":0.11678471386914326}]
[{"$f":"Circuit2!$B$10/50*44","v":26.4},{"$f":"AG44*Circuit2!$B$7/1000000*AC45*(A45*A45+((Circuit2!$B$8)^2)/3)*Circuit2!$B$5*1000","v":0.45342340261332709},{"$f":"(Circuit2!$F$22+A45/(Circuit2!$F$23*Circuit2!$F$29))/(1+((Circuit2!$F$22+A45/(Circuit2!$F$23*Circuit2!$F$29))/Circuit2!$F$4)^(5))^(0.2)","v":3.089007504777074},{"$f":"MAX((Circuit2!$F$4-C45), 0.001)/(Circuit2!$F$5+Circuit2!$F$28+Circuit2!$F$24/Circuit2!$F$29)","v":0.73499711354727926},{"$f":"C45/(Circuit2!$F$6+Circuit2!$F$28+Circuit2!$F$24/Circuit2!$F$29)","v":1.9306296904856712},{"$f":"(Circuit2!$F$20/1000000000+Circuit2!$F$21/2/1000000000)*MAX(Circuit2!$F$29,1)","v":1.9500000000000003E-8},1.4079451725394757E-8,1.0100331563374311E-8,{"$f":"0.5*Circuit2!$B$3*(G45*MAX((A45-Circuit2!$B$8),0)+H45*(A45+Circuit2!$B$8))*Circuit2!$B$5*1000","v":1.13613095255736},{"$f":"MIN(MAX((1-AG44-Circuit2!$F$7/1000000000+Circuit2!$F$8/1000000000),0.001),1)*Circuit2!$B$7/1000000*AF45*(A45*A45+((Circuit2!$B$8)^2)/3)*Circuit2!$B$5*1000","v":1.455864301087042},{"$f":"Circuit2!$B$3*$AN$2*Circuit2!$J$26*0.000000001*Circuit2!$B$5*1000","v":0.12239999999999999},{"$f":"Circuit2!$J$21*A45*(Circuit2!$F$7/1000000000+Circuit2!$F$8/1000000000)*Circuit2!$B$5*1000","v":0.13028399999999996},{"$f":"A45*Circuit2!$B$4","v":31.679999999999996},{"$f":"Circuit2!$F$4*($AN$3/1000000000*Circuit2!$F$29)*Circuit2!$B$5*1000+Circuit2!$F$4*Circuit2!$F$9/1000/2","v":5.6363636363636359E-2},{"$f":"Circuit2!$F$4*($AN$4/1000000000*Circuit2!$J$26)*Circuit2!$B$5*1000+Circuit2!$F$4*Circuit2!$F$9/1000/2","v":7.1718181818181834E-2},{"$f":"(A45*A45+((Circuit2!$B$8)^2)/3)*(Circuit2!$J$9+Circuit2!$J$12)/1000*(1+0.002*AE44)","v":1.9100713702569716},{"$f":"Circuit2!$J$8/1000","v":0.03},{"$f":"0","v":0},{"$f":"(Circuit2!$F$19/1000000000000*Circuit2!$F$29+0*Circuit2!$J$19/1000000000000*Circuit2!$J$26)*Circuit2!$B$3*Circuit2!$B$3*Circuit2!$B$5*1000","v":4.1126400000000007E-2},0,{"$f":"(Circuit2!$B$8/1.732)^2*Circuit2!$J$4/1000","v":5.4003168185866902E-3},0.85407450755309389,1.630680755170687,1.5861483010870421,1.9454716870755584,5.6363636363636359E-2,{"$f":"W45*Circuit2!$F$25/MAX(Circuit2!$F$29,1)","v":97.840845310241221},59.215932620650001,{"$f":"$AN$6*(1+AB44*0.85*Circuit2!$F$26/100)/1000/MAX(Circuit2!$F$29,1)","v":5.5620849913518766E-3},{"$f":"X45*Circuit2!$J$22/MAX(Circuit2!$J$26,1)","v":72.486977359677823},48.87048551328936,{"$f":"$AN$7/1000*(1+AE44*0.85*Circuit2!$J$23/100)/MAX(Circuit2!$J$26,1)","v":2.3614242216587287E-3},{"$f":"(U45+T45+S45+R45+Q45+P45+N45+M45+L45+J45+I45+B45+O45+K45)/A45/Circuit2!$B$3","v":0.11708580354013605}]
[{"$f":"Circuit2!$B$10/50*45","v":27},{"$f":"AG45*Circuit2!$B$7/1000000*AC46*(A46*A46+((Circuit2!$B$8)^2)/3)*Circuit2!$B$5*1000","v":0.47713508624774431},{"$f":"(Circuit2!$F$22+A46/(Circuit2!$F$23*Circuit2!$F$29))/(1+((Circuit2!$F$22+A46/(Circuit2!$F$23*Circuit2!$F$29))/Circuit2!$F$4)^(5))^(0.2)","v":3.1122504869650434},{"$f":"MAX((Circuit2!$F$4-C46), 0.001)/(Circuit2!$F$5+Circuit2!$F$28+Circuit2!$F$24/Circuit2!$F$29)","v":0.72605750501344479},{"$f":"C46/(Circuit2!$F$6+Circuit2!$F$28+Circuit2!$F$24/Circuit2!$F$29)","v":1.9451565543531519},{"$f":"(Circuit2!$F$20/1000000000+Circuit2!$F$21/2/1000000000)*MAX(Circuit2!$F$29,1)","v":1.9500000000000003E-8},1.4170919404861265E-8,1.0024900029953934E-8,{"$f":"0.5*Circuit2!$B$3*(G46*MAX((A46-Circuit2!$B$8),0)+H46*(A46+Circuit2!$B$8))*Circuit2!$B$5*1000","v":1.1624837217573187},{"$f":"MIN(MAX((1-AG45-Circuit2!$F$7/1000000000+Circuit2!$F$8/1000000000),0.001),1)*Circuit2!$B$7/1000000*AF46*(A46*A46+((Circuit2!$B$8)^2)/3)*Circuit2!$B$5*1000","v":1.5310930290703599},{"$f":"Circuit2!$B$3*$AN$2*Circuit2!$J$26*0.000000001*Circuit2!$B$5*1000","v":0.12239999999999999},{"$f":"Circuit2!$J$21*A46*(Circuit2!$F$7/1000000000+Circuit2!$F$8/1000000000)*Circuit2!$B$5*1000","v":0.133245},{"$f":"A46*Circuit2!$B$4","v":32.4},{"$f":"Circuit2!$F$4*($AN$3/1000000000*Circuit2!$F$29)*Circuit2!$B$5*1000+Circuit2!$F$4*Circuit2!$F$9/1000/2","v":5.6363636363636359E-2},{"$f":"Circuit2!$F$4*($AN$4/1000000000*Circuit2!$J$26)*Circuit2!$B$5*1000+Circuit2!$F$4*Circuit2!$F$9/1000/2","v":7.1718181818181834E-2},{"$f":"(A46*A46+((Circuit2!$B$8)^2)/3)*(Circuit2!$J$9+Circuit2!$J$12)/1000*(1+0.002*AE45)","v":2.0035968203177115},{"$f":"Circuit2!$J$8/1000","v":0.03},{"$f":"0","v":0},{"$f":"(Circuit2!$F$19/1000000000000*Circuit2!$F$29+0*Circuit2!$J$19/1000000000000*Circuit2!$J$26)*Circuit2!$B$3*Circuit2!$B$3*Circuit2!$B$5*1000","v":4.1126400000000007E-2},0,{"$f":"(Circuit2!$B$8/1.732)^2*Circuit2!$J$4/1000","v":5.4003168185866902E-3},0.85185678846803214,1.6807452080050631,1.66433802907036,2.038997137136298,5.6363636363636359E-2,{"$f":"W46*Circuit2!$F$25/MAX(Circuit2!$F$29,1)","v":100.84471248030378},60.303072456563378,{"$f":"$AN$6*(1+AB45*0.85*Circuit2!$F$26/100)/1000/MAX(Circuit2!$F$29,1)","v":5.5817021945998406E-3},{"$f":"X46*Circuit2!$J$22/MAX(Circuit2!$J$26,1)","v":76.060247928515452},50.469011220783372,{"$f":"$AN$7/1000*(1+AE45*0.85*Circuit2!$J$23/100)/MAX(Circuit2!$J$26,1)","v":2.3752680731256035E-3},{"$f":"(U46+T46+S46+R46+Q46+P46+N46+M46+L46+J46+I46+B46+O46+K46)/A46/Circuit2!$B$3","v":0.11739062405059736}]
[{"$f":"Circuit2!$B$10/50*46","v":27.599999999999998},{"$f":"AG46*Circuit2!$B$7/1000000*AC47*(A47*A47+((Circuit2!$B$8)^2)/3)*Circuit2!$B$5*1000","v":0.50158838934862704},{"$f":"(Circuit2!$F$22+A47/(Circuit2!$F$23*Circuit2!$F$29))/(1+((Circuit2!$F$22+A47/(Circuit2!$F$23*Circuit2!$F$29))/Circuit2!$F$4)^(5))^(0.2)","v":3.1353866114565618},{"$f":"MAX((Circuit2!$F$4-C47), 0.001)/(Circuit2!$F$5+Circuit2!$F$28+Circuit2!$F$24/Circuit2!$F$29)","v":0.71715899559363006},{"$f":"C47/(Circuit2!$F$6+Circuit2!$F$28+Circuit2!$F$24/Circuit2!$F$29)","v":1.959616632160351},{"$f":"(Circuit2!$F$20/1000000000+Circuit2!$F$21/2/1000000000)*MAX(Circuit2!$F$29,1)","v":1.9500000000000003E-8},1.4263154514470325E-8,9.9509259515227266E-9,{"$f":"0.5*Circuit2!$B$3*(G47*MAX((A47-Circuit2!$B$8),0)+H47*(A47+Circuit2!$B$8))*Circuit2!$B$5*1000","v":1.1889838970065847},{"$f":"MIN(MAX((1-AG46-Circuit2!$F$7/1000000000+Circuit2!$F$8/1000000000),0.001),1)*Circuit2!$B$7/1000000*AF47*(A47*A47+((Circuit2!$B$8)^2)/3)*Circuit2!$B$5*1000","v":1.6085358383514095},{"$f":"Circuit2!$B$3*$AN$2*Circuit2!$J$26*0.000000001*Circuit2!$B$5*1000","v":0.12239999999999999},{"$f":"Circuit2!$J$21*A47*(Circuit2!$F$7/1000000000+Circuit2!$F$8/1000000000)*Circuit2!$B$5*1000","v":0.13620599999999997},{"$f":"A47*Circuit2!$B$4","v":33.119999999999997},{"$f":"Circuit2!$F$4*($AN$3/1000000000*Circuit2!$F$29)*Circuit2!$B$5*1000+Circuit2!$F$4*Circuit2!$F$9/1000/2","v":5.6363636363636359E-2},{"$f":"Circuit2!$F$4*($AN$4/1000000000*Circuit2!$J$26)*Circuit2!$B$5*1000+Circuit2!$F$4*Circuit2!$F$9/1000/2","v":7.1718181818181834E-2},{"$f":"(A47*A47+((Circuit2!$B$8)^2)/3)*(Circuit2!$J$9+Circuit2!$J$12)/1000*(1+0.002*AE46)","v":2.0995989025983119},{"$f":"Circuit2!$J$8/1000","v":0.03},{"$f":"0","v":0},{"$f":"(Circuit2!$F$19/1000000000000*Circuit2!$F$29+0*Circuit2!$J$19/1000000000000*Circuit2!$J$26)*Circuit2!$B$3*Circuit2!$B$3*Circuit2!$B$5*1000","v":4.1126400000000007E-2},0,{"$f":"(Circuit2!$B$8/1.732)^2*Circuit2!$J$4/1000","v":5.4003168185866902E-3},0.84962461245179632,1.7316986863552117,1.7447418383514095,2.1349992194168985,5.6363636363636359E-2,{"$f":"W47*Circuit2!$F$25/MAX(Circuit2!$F$29,1)","v":103.9019211813127},61.383104565275687,{"$f":"$AN$6*(1+AB46*0.85*Circuit2!$F$26/100)/1000/MAX(Circuit2!$F$29,1)","v":5.6011938870978752E-3},{"$f":"X47*Circuit2!$J$22/MAX(Circuit2!$J$26,1)","v":79.734702012659426},52.060943327751382,{"$f":"$AN$7/1000*(1+AE46*0.85*Circuit2!$J$23/100)/MAX(Circuit2!$J$26,1)","v":2.3890693178105849E-3},{"$f":"(U47+T47+S47+R47+Q47+P47+N47+M47+L47+J47+I47+B47+O47+K47)/A47/Circuit2!$B$3","v":0.11769903853353063}]
[{"$f":"Circuit2!$B$10/50*47","v":28.2},{"$f":"AG47*Circuit2!$B$7/1000000*AC48*(A48*A48+((Circuit2!$B$8)^2)/3)*Circuit2!$B$5*1000","v":0.52679298535705132},{"$f":"(Circuit2!$F$22+A48/(Circuit2!$F$23*Circuit2!$F$29))/(1+((Circuit2!$F$22+A48/(Circuit2!$F$23*Circuit2!$F$29))/Circuit2!$F$4)^(5))^(0.2)","v":3.1584132641223968},{"$f":"MAX((Circuit2!$F$4-C48), 0.001)/(Circuit2!$F$5+Circuit2!$F$28+Circuit2!$F$24/Circuit2!$F$29)","v":0.70830259072215507},{"$f":"C48/(Circuit2!$F$6+Circuit2!$F$28+Circuit2!$F$24/Circuit2!$F$29)","v":1.9740082900764979},{"$f":"(Circuit2!$F$20/1000000000+Circuit2!$F$21/2/1000000000)*MAX(Circuit2!$F$29,1)","v":1.9500000000000003E-8},1.4356153137890013E-8,9.8783779673206572E-9,{"$f":"0.5*Circuit2!$B$3*(G48*MAX((A48-Circuit2!$B$8),0)+H48*(A48+Circuit2!$B$8))*Circuit2!$B$5*1000","v":1.215636807347849},{"$f":"MIN(MAX((1-AG47-Circuit2!$F$7/1000000000+Circuit2!$F$8/1000000000),0.001),1)*Circuit2!$B$7/1000000*AF48*(A48*A48+((Circuit2!$B$8)^2)/3)*Circuit2!$B$5*1000","v":1.6882021933976366},{"$f":"Circuit2!$B$3*$AN$2*Circuit2!$J$26*0.000000001*Circuit2!$B$5*1000","v":0.12239999999999999},{"$f":"Circuit2!$J$21*A48*(Circuit2!$F$7/1000000000+Circuit2!$F$8/1000000000)*Circuit2!$B$5*1000","v":0.13916699999999999},{"$f":"A48*Circuit2!$B$4","v":33.839999999999996},{"$f":"Circuit2!$F$4*($AN$3/1000000000*Circuit2!$F$29)*Circuit2!$B$5*1000+Circuit2!$F$4*Circuit2!$F$9/1000/2","v":5.6363636363636359E-2},{"$f":"Circuit2!$F$4*($AN$4/1000000000*Circuit2!$J$26)*Circuit2!$B$5*1000+Circuit2!$F$4*Circuit2!$F$9/1000/2","v":7.1718181818181834E-2},{"$f":"(A48*A48+((Circuit2!$B$8)^2)/3)*(Circuit2!$J$9+Circuit2!$J$12)/1000*(1+0.002*AE47)","v":2.1980858519537749},{"$f":"Circuit2!$J$8/1000","v":0.03},{"$f":"0","v":0},{"$f":"(Circuit2!$F$19/1000000000000*Circuit2!$F$29+0*Circuit2!$J$19/1000000000000*Circuit2!$J$26)*Circuit2!$B$3*Circuit2!$B$3*Circuit2!$B$5*1000","v":4.1126400000000007E-2},0,{"$f":"(Circuit2!$B$8/1.732)^2*Circuit2!$J$4/1000","v":5.4003168185866902E-3},0.8473792501179227,1.7835561927049004,1.8273691933976366,2.2334861687723615,5.6363636363636359E-2,{"$f":"W48*Circuit2!$F$25/MAX(Circuit2!$F$29,1)","v":107.01337156229403},62.45591673604217,{"$f":"$AN$6*(1+AB47*0.85*Circuit2!$F$26/100)/1000/MAX(Circuit2!$F$29,1)","v":5.620558142785682E-3},{"$f":"X48*Circuit2!$J$22/MAX(Circuit2!$J$26,1)","v":83.510772138272003},53.644702152426788,{"$f":"$AN$7/1000*(1+AE47*0.85*Circuit2!$J$23/100)/MAX(Circuit2!$J$26,1)","v":2.4028136351069182E-3},{"$f":"(U48+T48+S48+R48+Q48+P48+N48+M48+L48+J48+I48+B48+O48+K48)/A48/Circuit2!$B$3","v":0.11801091422298082}]
[{"$f":"Circuit2!$B$10/50*48","v":28.799999999999997},{"$f":"AG48*Circuit2!$B$7/1000000*AC49*(A49*A49+((Circuit2!$B$8)^2)/3)*Circuit2!$B$5*1000","v":0.55275850099180246},{"$f":"(Circuit2!$F$22+A49/(Circuit2!$F$23*Circuit2!$F$29))/(1+((Circuit2!$F$22+A49/(Circuit2!$F$23*Circuit2!$F$29))/Circuit2!$F$4)^(5))^(0.2)","v":3.1813278246203009},{"$f":"MAX((Circuit2!$F$4-C49), 0.001)/(Circuit2!$F$5+Circuit2!$F$28+Circuit2!$F$24/Circuit2!$F$29)","v":0.69948929822296113},{"$f":"C49/(Circuit2!$F$6+Circuit2!$F$28+Circuit2!$F$24/Circuit2!$F$29)","v":1.988329890387688},{"$f":"(Circuit2!$F$20/1000000000+Circuit2!$F$21/2/1000000000)*MAX(Circuit2!$F$29,1)","v":1.9500000000000003E-8},1.4449910811206918E-8,9.8072256994526485E-9,{"$f":"0.5*Circuit2!$B$3*(G49*MAX((A49-Circuit2!$B$8),0)+H49*(A49+Circuit2!$B$8))*Circuit2!$B$5*1000","v":1.2424476569505079},{"$f":"MIN(MAX((1-AG48-Circuit2!$F$7/1000000000+Circuit2!$F$8/1000000000),0.001),1)*Circuit2!$B$7/1000000*AF49*(A49*A49+((Circuit2!$B$8)^2)/3)*Circuit2!$B$5*1000","v":1.7701001356580737},{"$f":"Circuit2!$B$3*$AN$2*Circuit2!$J$26*0.000000001*Circuit2!$B$5*1000","v":0.12239999999999999},{"$f":"Circuit2!$J$21*A49*(Circuit2!$F$7/1000000000+Circuit2!$F$8/1000000000)*Circuit2!$B$5*1000","v":0.14212799999999998},{"$f":"A49*Circuit2!$B$4","v":34.559999999999995},{"$f":"Circuit2!$F$4*($AN$3/1000000000*Circuit2!$F$29)*Circuit2!$B$5*1000+Circuit2!$F$4*Circuit2!$F$9/1000/2","v":5.6363636363636359E-2},{"$f":"Circuit2!$F$4*($AN$4/1000000000*Circuit2!$J$26)*Circuit2!$B$5*1000+Circuit2!$F$4*Circuit2!$F$9/1000/2","v":7.1718181818181834E-2},{"$f":"(A49*A49+((Circuit2!$B$8)^2)/3)*(Circuit2!$J$9+Circuit2!$J$12)/1000*(1+0.002*AE48)","v":2.2990649901581675},{"$f":"Circuit2!$J$8/1000","v":0.03},{"$f":"0","v":0},{"$f":"(Circuit2!$F$19/1000000000000*Circuit2!$F$29+0*Circuit2!$J$19/1000000000000*Circuit2!$J$26)*Circuit2!$B$3*Circuit2!$B$3*Circuit2!$B$5*1000","v":4.1126400000000007E-2},0,{"$f":"(Circuit2!$B$8/1.732)^2*Circuit2!$J$4/1000","v":5.4003168185866902E-3},0.84512192383130291,1.8363325579423102,1.9122281356580737,2.334465306976754,5.6363636363636359E-2,{"$f":"W49*Circuit2!$F$25/MAX(Circuit2!$F$29,1)","v":110.17995347653861},63.521392792358583,{"$f":"$AN$6*(1+AB48*0.85*Circuit2!$F$26/100)/1000/MAX(Circuit2!$F$29,1)","v":5.6397929497994112E-3},{"$f":"X49*Circuit2!$J$22/MAX(Circuit2!$J$26,1)","v":87.388825799573979},55.218790630875688,{"$f":"$AN$7/1000*(1+AE48*0.85*Circuit2!$J$23/100)/MAX(Circuit2!$J$26,1)","v":2.416487386463479E-3},{"$f":"(U49+T49+S49+R49+Q49+P49+N49+M49+L49+J49+I49+B49+O49+K49)/A49/Circuit2!$B$3","v":0.11832612216076088}]
[{"$f":"Circuit2!$B$10/50*49","v":29.4},{"$f":"AG49*Circuit2!$B$7/1000000*AC50*(A50*A50+((Circuit2!$B$8)^2)/3)*Circuit2!$B$5*1000","v":0.57949450972831085},{"$f":"(Circuit2!$F$22+A50/(Circuit2!$F$23*Circuit2!$F$29))/(1+((Circuit2!$F$22+A50/(Circuit2!$F$23*Circuit2!$F$29))/Circuit2!$F$4)^(5))^(0.2)","v":3.2041276689229945},{"$f":"MAX((Circuit2!$F$4-C50), 0.001)/(Circuit2!$F$5+Circuit2!$F$28+Circuit2!$F$24/Circuit2!$F$29)","v":0.69072012733730981},{"$f":"C50/(Circuit2!$F$6+Circuit2!$F$28+Circuit2!$F$24/Circuit2!$F$29)","v":2.0025797930768716},{"$f":"(Circuit2!$F$20/1000000000+Circuit2!$F$21/2/1000000000)*MAX(Circuit2!$F$29,1)","v":1.9500000000000003E-8},1.4544422510257448E-8,9.7374397102245555E-9,{"$f":"0.5*Circuit2!$B$3*(G50*MAX((A50-Circuit2!$B$8),0)+H50*(A50+Circuit2!$B$8))*Circuit2!$B$5*1000","v":1.2694215244358009},{"$f":"MIN(MAX((1-AG49-Circuit2!$F$7/1000000000+Circuit2!$F$8/1000000000),0.001),1)*Circuit2!$B$7/1000000*AF50*(A50*A50+((Circuit2!$B$8)^2)/3)*Circuit2!$B$5*1000","v":1.8542363256739824},{"$f":"Circuit2!$B$3*$AN$2*Circuit2!$J$26*0.000000001*Circuit2!$B$5*1000","v":0.12239999999999999},{"$f":"Circuit2!$J$21*A50*(Circuit2!$F$7/1000000000+Circuit2!$F$8/1000000000)*Circuit2!$B$5*1000","v":0.14508899999999997},{"$f":"A50*Circuit2!$B$4","v":35.279999999999994},{"$f":"Circuit2!$F$4*($AN$3/1000000000*Circuit2!$F$29)*Circuit2!$B$5*1000+Circuit2!$F$4*Circuit2!$F$9/1000/2","v":5.6363636363636359E-2},{"$f":"Circuit2!$F$4*($AN$4/1000000000*Circuit2!$J$26)*Circuit2!$B$5*1000+Circuit2!$F$4*Circuit2!$F$9/1000/2","v":7.1718181818181834E-2},{"$f":"(A50*A50+((Circuit2!$B$8)^2)/3)*(Circuit2!$J$9+Circuit2!$J$12)/1000*(1+0.002*AE49)","v":2.4025427508179247},{"$f":"Circuit2!$J$8/1000","v":0.03},{"$f":"0","v":0},{"$f":"(Circuit2!$F$19/1000000000000*Circuit2!$F$29+0*Circuit2!$J$19/1000000000000*Circuit2!$J$26)*Circuit2!$B$3*Circuit2!$B$3*Circuit2!$B$5*1000","v":4.1126400000000007E-2},0,{"$f":"(Circuit2!$B$8/1.732)^2*Circuit2!$J$4/1000","v":5.4003168185866902E-3},0.84285380977109403,1.8900424341641118,1.9993253256739825,2.4379430676365113,5.6363636363636359E-2,{"$f":"W50*Circuit2!$F$25/MAX(Circuit2!$F$29,1)","v":113.40254604984671},64.579413382959231,{"$f":"$AN$6*(1+AB49*0.85*Circuit2!$F$26/100)/1000/MAX(Circuit2!$F$29,1)","v":5.6588962251717936E-3},{"$f":"X50*Circuit2!$J$22/MAX(Circuit2!$J$26,1)","v":91.369167383301004},56.781797178471557,{"$f":"$AN$7/1000*(1+AE49*0.85*Circuit2!$J$23/100)/MAX(Circuit2!$J$26,1)","v":2.4300776466294788E-3},{"$f":"(U50+T50+S50+R50+Q50+P50+N50+M50+L50+J50+I50+B50+O50+K50)/A50/Circuit2!$B$3","v":0.11864453697748419}]
[{"$f":"Circuit2!$B$10/50*50","v":30},{"$f":"AG50*Circuit2!$B$7/1000000*AC51*(A51*A51+((Circuit2!$B$8)^2)/3)*Circuit2!$B$5*1000","v":0.60701052565659053},{"$f":"(Circuit2!$F$22+A51/(Circuit2!$F$23*Circuit2!$F$29))/(1+((Circuit2!$F$22+A51/(Circuit2!$F$23*Circuit2!$F$29))/Circuit2!$F$4)^(5))^(0.2)","v":3.2268101719128985},{"$f":"MAX((Circuit2!$F$4-C51), 0.001)/(Circuit2!$F$5+Circuit2!$F$28+Circuit2!$F$24/Circuit2!$F$29)","v":0.68199608772580822},{"$f":"C51/(Circuit2!$F$6+Circuit2!$F$28+Circuit2!$F$24/Circuit2!$F$29)","v":2.0167563574455616},{"$f":"(Circuit2!$F$20/1000000000+Circuit2!$F$21/2/1000000000)*MAX(Circuit2!$F$29,1)","v":1.9500000000000003E-8},1.46396826384779E-8,9.6689914614667914E-9,{"$f":"0.5*Circuit2!$B$3*(G51*MAX((A51-Circuit2!$B$8),0)+H51*(A51+Circuit2!$B$8))*Circuit2!$B$5*1000","v":1.2965633619834973},{"$f":"MIN(MAX((1-AG50-Circuit2!$F$7/1000000000+Circuit2!$F$8/1000000000),0.001),1)*Circuit2!$B$7/1000000*AF51*(A51*A51+((Circuit2!$B$8)^2)/3)*Circuit2!$B$5*1000","v":1.9406160922578097},{"$f":"Circuit2!$B$3*$AN$2*Circuit2!$J$26*0.000000001*Circuit2!$B$5*1000","v":0.12239999999999999},{"$f":"Circuit2!$J$21*A51*(Circuit2!$F$7/1000000000+Circuit2!$F$8/1000000000)*Circuit2!$B$5*1000","v":0.14804999999999999},{"$f":"A51*Circuit2!$B$4","v":36},{"$f":"Circuit2!$F$4*($AN$3/1000000000*Circuit2!$F$29)*Circuit2!$B$5*1000+Circuit2!$F$4*Circuit2!$F$9/1000/2","v":5.6363636363636359E-2},{"$f":"Circuit2!$F$4*($AN$4/1000000000*Circuit2!$J$26)*Circuit2!$B$5*1000+Circuit2!$F$4*Circuit2!$F$9/1000/2","v":7.1718181818181834E-2},{"$f":"(A51*A51+((Circuit2!$B$8)^2)/3)*(Circuit2!$J$9+Circuit2!$J$12)/1000*(1+0.002*AE50)","v":2.5085247090078862},{"$f":"Circuit2!$J$8/1000","v":0.03},{"$f":"0","v":0},{"$f":"(Circuit2!$F$19/1000000000000*Circuit2!$F$29+0*Circuit2!$J$19/1000000000000*Circuit2!$J$26)*Circuit2!$B$3*Circuit2!$B$3*Circuit2!$B$5*1000","v":4.1126400000000007E-2},0,{"$f":"(Circuit2!$B$8/1.732)^2*Circuit2!$J$4/1000","v":5.4003168185866902E-3},0.84057603956642402,1.9447002876400878,2.0886660922578097,2.5439250258264727,5.6363636363636359E-2,{"$f":"W51*Circuit2!$F$25/MAX(Circuit2!$F$29,1)","v":116.68201725840527},65.62985674359021,{"$f":"$AN$6*(1+AB50*0.85*Circuit2!$F$26/100)/1000/MAX(Circuit2!$F$29,1)","v":5.6778658290142035E-3},{"$f":"X51*Circuit2!$J$22/MAX(Circuit2!$J$26,1)","v":95.452040416181916},58.332397800199175,{"$f":"$AN$7/1000*(1+AE50*0.85*Circuit2!$J$23/100)/MAX(Circuit2!$J$26,1)","v":2.443572228359676E-3},{"$f":"(U51+T51+S51+R51+Q51+P51+N51+M51+L51+J51+I51+B51+O51+K51)/A51/Circuit2!$B$3","v":0.11896603673307272}]

{"sheet":"Constants","index":9,"n_rows":180,"n_cols":13,"rows_kept":180,"cut":false,"hidden":true,"merged":[]}
["Nominal Values of Capacitance (uC)",null,"NominalValueofInductor(Uh)",null,"LowSide_MOSFET","HighSide_MOSFET",{"$f":"CONCATENATE(Circuit2!F16,\"x\",Circuit2!F29,\"+\",Circuit2!J16,\"x\",Circuit2!J26,\"@\",Circuit2!B5,\"kHz;\")","v":"NTD4804Nx1+NTMFS4897NFx1@300kHz;"},null,null,null,null,"DPAK","HighSide"]
[0.01,null,"0.0018  ",null,"NTD4804N","NTD4804N",{"$f":"CONCATENATE(\"Vin=\",Circuit2!$B$3,\"V;\",\"Vout=\",Circuit2!B4,\"V;\",\"Driver=\",Circuit2!F3,\"(\",Circuit2!$F$4,\"V)\")","v":"Vin=12V;Vout=1.2V;Driver=NCP5901(5V)"},null,null,null,null,"SOIC−8","LowSide"]
[1.4999999999999999E-2,null,2.2000000000000001E-3,null,"NTD4805N","NTD4805N",null,null,null,null,null,"SO−8FL"]
[2.1999999999999999E-2,null,2.7000000000000001E-3,null,"NTD4806N","NTD4806N",{"$f":"CONCATENATE(Circuit1!F16,\"x\",Circuit1!F29,\"+\",Circuit1!J16,\"x\",Circuit1!J26,\"@\",Circuit1!B5,\"kHz;\")","v":"NTD4804Nx1+NTMFS4897NFx1@300kHz;"},null,null,null,null,"u-8FL"]
[3.3000000000000002E-2,null,3.3E-3,null,"NTD4808N","NTD4808N",{"$f":"CONCATENATE(\"Vin=\",Circuit1!$B$3,\"V;\",\"Vout=\",Circuit1!B4,\"V;\",\"Driver=\",Circuit1!F3,\"(\",Circuit1!$F$4,\"V)\")","v":"Vin=15V;Vout=1.2V;Driver=NCP5359A(5V)"}]
[4.7E-2,null,3.8999999999999998E-3,null,"NTD4809N","NTD4809N"]
[6.8000000000000005E-2,null,4.7000000000000002E-3,null,"NTD4809NH","NTD4809NH"]
[0.1,null,5.5999999999999999E-3,null,"NTD4810N","NTD4810N"]
[0.15,null,6.7999999999999996E-3,null,"NTD4813NH","NTD4813NH"]
[0.22,null,8.2000000000000007E-3,null,"NTD4815N","NTD4815N"]
[0.33,null,"0.010  ",null,"NTD4855N","NTD4855N","-"]
[0.47,{"$f":"INDEX(A2:A15,1+MATCH(0.9,A2:A15))","v":1},1.2E-2,null,"NTD4856N","NTD4856N","-"]
[0.68,null,1.4999999999999999E-2,null,"NTD4857N","NTD4857N","-"]
[1,null,1.7999999999999999E-2,null,"NTD4858N","NTD4858N"]
[1.5,null,2.1999999999999999E-2,null,"NTD4860N","NTD4860N"]
[2.2000000000000002,null,2.7E-2,null,"NTD4863N","NTD4863N"]
[3.3,null,3.3000000000000002E-2,null,"NTD4865N","NTD4865N",null,{"$f":"MIN(MAX(IF(ISNUMBER(VLOOKUP(Circuit1!F16,MOSFETs!A1:S120,2,0)+(Circuit1!$F$4-4.5)*(VLOOKUP(Circuit1!F16,MOSFETs!A1:AD1020,13,0)-VLOOKUP(Circuit1!F16,MOSFETs!A1:S120,2,0))/5.5),VLOOKUP(Circuit1!F16,MOSFETs!A1:S120,2,0), 0.001),0.001),1000)","v":4.5999999999999996},{"$f":"MIN(MAX(IF(ISNUMBER(VLOOKUP(Circuit1!J16,MOSFETs!A1:S120,2,0)+(Circuit1!$F$4-4.5)*(VLOOKUP(Circuit1!J16,MOSFETs!A1:AD1020,13,0)-VLOOKUP(Circuit1!J16,MOSFETs!A1:S120,2,0))/5.5),VLOOKUP(Circuit1!J16,MOSFETs!A1:S120,2,0), 0.001),0.001),1000)","v":2},{"$f":"MIN(MAX(IF(ISNUMBER(VLOOKUP(Circuit2!F16,MOSFETs!A1:S120,2,0)+(Circuit2!$F$4-4.5)*(VLOOKUP(Circuit2!F16,MOSFETs!A1:AD1020,13,0)-VLOOKUP(Circuit2!F16,MOSFETs!A1:S120,2,0))/5.5),VLOOKUP(Circuit2!F16,MOSFETs!A1:S120,2,0), 0.001),0.001),1000)","v":4.5999999999999996},{"$f":"MIN(MAX(IF(ISNUMBER(VLOOKUP(Circuit2!J16,MOSFETs!A1:S120,2,0)+(Circuit2!$F$4-4.5)*(VLOOKUP(Circuit2!J16,MOSFETs!A1:AD1020,13,0)-VLOOKUP(Circuit2!J16,MOSFETs!A1:S120,2,0))/5.5),VLOOKUP(Circuit2!J16,MOSFETs!A1:S120,2,0), 0.001),0.001),1000)","v":2}]
[4.7,null,3.9E-2,null,"NTD4904N","NTD4960N",null,{"$f":"MIN(MAX(IF(ISNUMBER(VLOOKUP(Circuit1!F16, MOSFETs!A2:S120,17,0)+(Circuit1!F4-4.5)*(VLOOKUP(Circuit1!F16, MOSFETs!A2:S120,18,0)-VLOOKUP(Circuit1!F16, MOSFETs!A2:S120,17,0))/5.5),VLOOKUP(Circuit1!F16, MOSFETs!A2:S120,17,0),20),0.001),1000000)","v":30},{"$f":"MIN(MAX(IF(ISNUMBER(VLOOKUP(Circuit1!J16, MOSFETs!A2:S120,17,0)+(Circuit1!F4-4.5)*(VLOOKUP(Circuit1!J16, MOSFETs!A2:S120,18,0)-VLOOKUP(Circuit1!J16, MOSFETs!A2:S120,17,0))/5.5),VLOOKUP(Circuit1!J16, MOSFETs!A2:S120,17,0),20),0.001),1000000)","v":40.200000000000003},{"$f":"MIN(MAX(IF(ISNUMBER(VLOOKUP(Circuit2!F16, MOSFETs!A2:S120,17,0)+(Circuit2!F4-4.5)*(VLOOKUP(Circuit2!F16, MOSFETs!A2:S120,18,0)-VLOOKUP(Circuit2!F16, MOSFETs!A2:S120,17,0))/5.5),VLOOKUP(Circuit2!F16, MOSFETs!A2:S120,17,0),20),0.001),1000000)","v":30},{"$f":"MIN(MAX(IF(ISNUMBER(VLOOKUP(Circuit2!J16, MOSFETs!A2:S120,17,0)+(Circuit2!F4-4.5)*(VLOOKUP(Circuit2!J16, MOSFETs!A2:S120,18,0)-VLOOKUP(Circuit2!J16, MOSFETs!A2:S120,17,0))/5.5),VLOOKUP(Circuit2!J16, MOSFETs!A2:S120,17,0),20),0.001),1000000)","v":40.200000000000003}]
[6.8,null,4.7E-2,null,"NTD4906N","NTD4963N",null,{"$f":"IF(ISNUMBER(VLOOKUP(Circuit1!F16,MOSFETs!A1:S120,4,0)),VLOOKUP(Circuit1!F16,MOSFETs!A1:S120,4,0),0.000000001)","v":952},{"$f":"IF(ISNUMBER(VLOOKUP(Circuit1!J16,MOSFETs!A2:S120,4,0)),VLOOKUP(Circuit1!J16,MOSFETs!A2:S120,4,0),0.000000001)","v":1150},{"$f":"IF(ISNUMBER(VLOOKUP(Circuit2!F16,MOSFETs!A1:S120,4,0)),VLOOKUP(Circuit2!F16,MOSFETs!A1:S120,4,0),0.000000001)","v":952},{"$f":"IF(ISNUMBER(VLOOKUP(Circuit2!J16,MOSFETs!A2:S120,4,0)),VLOOKUP(Circuit2!J16,MOSFETs!A2:S120,4,0),0.000000001)","v":1150}]
[10,null,5.6000000000000001E-2,null,"NTD4909N","NTD4965N",null,{"$f":"IF(ISNUMBER(VLOOKUP(Circuit1!F16,MOSFETs!A1:S120,5,0)),VLOOKUP(Circuit1!F16,MOSFETs!A1:S120,5,0),0.000000001)","v":13},{"$f":"IF(ISNUMBER(VLOOKUP(Circuit1!J16,MOSFETs!A2:S120,14,0)),VLOOKUP(Circuit1!J16,MOSFETs!A2:S120,14,0),1)","v":34},{"$f":"IF(ISNUMBER(VLOOKUP(Circuit2!F16,MOSFETs!A1:S120,5,0)),VLOOKUP(Circuit2!F16,MOSFETs!A1:S120,5,0),0.000000001)","v":13},{"$f":"IF(ISNUMBER(VLOOKUP(Circuit2!J16,MOSFETs!A2:S120,14,0)),VLOOKUP(Circuit2!J16,MOSFETs!A2:S120,14,0),1)","v":34}]
[15,null,6.8000000000000005E-2,null,"NTD4910N","NTD4969N",null,{"$f":"IF(ISNUMBER(VLOOKUP(Circuit1!F16,MOSFETs!A1:S120,6,0)),VLOOKUP(Circuit1!F16,MOSFETs!A1:S120,6,0),0.000000001)","v":13},{"$f":"IF(ISNUMBER(VLOOKUP(Circuit1!J16, MOSFETs!A2:S120,8,0)),VLOOKUP(Circuit1!J16, MOSFETs!A2:S120,8,0),0.7)","v":0.35},{"$f":"IF(ISNUMBER(VLOOKUP(Circuit2!F16,MOSFETs!A1:S120,6,0)),VLOOKUP(Circuit2!F16,MOSFETs!A1:S120,6,0),0.000000001)","v":13},{"$f":"IF(ISNUMBER(VLOOKUP(Circuit2!J16, MOSFETs!A2:S120,8,0)),VLOOKUP(Circuit2!J16, MOSFETs!A2:S120,8,0),0.7)","v":0.35}]
[22,null,8.2000000000000003E-2,null,"NTD4913N","NTD4970N",null,{"$f":"IF(ISNUMBER(VLOOKUP(Circuit1!F16,MOSFETs!A1:S120,7,0)),VLOOKUP(Circuit1!F16,MOSFETs!A1:S120,7,0),0.000000001)","v":2},{"$f":"IF(ISNUMBER(VLOOKUP(Circuit1!J16, MOSFETs!A2:S120,11,0)),VLOOKUP(Circuit1!J16, MOSFETs!A2:S120,11,0),50)","v":45.7},{"$f":"IF(ISNUMBER(VLOOKUP(Circuit2!F16,MOSFETs!A1:S120,7,0)),VLOOKUP(Circuit2!F16,MOSFETs!A1:S120,7,0),0.000000001)","v":2},{"$f":"IF(ISNUMBER(VLOOKUP(Circuit2!J16, MOSFETs!A2:S120,11,0)),VLOOKUP(Circuit2!J16, MOSFETs!A2:S120,11,0),50)","v":45.7}]
[33,null,"0.100  ",null,"NTD4960N","NTMFS4821N",null,{"$f":"IF(ISNUMBER(VLOOKUP(Circuit1!F16,MOSFETs!A1:S120,9,0)),VLOOKUP(Circuit1!F16,MOSFETs!A1:S120,9,0),10)","v":23},{"$f":"IF(ISNUMBER(VLOOKUP(Circuit1!J16, MOSFETs!A2:S120,12,0)),VLOOKUP(Circuit1!J16, MOSFETs!A2:S120,12,0),0.005)*100","v":0.52},{"$f":"IF(ISNUMBER(VLOOKUP(Circuit2!F16,MOSFETs!A1:S120,9,0)),VLOOKUP(Circuit2!F16,MOSFETs!A1:S120,9,0),10)","v":23},{"$f":"IF(ISNUMBER(VLOOKUP(Circuit2!J16, MOSFETs!A2:S120,12,0)),VLOOKUP(Circuit2!J16, MOSFETs!A2:S120,12,0),0.005)*100","v":0.52}]
[47,null,0.12,null,"NTD4963N","NTMFS4823N",null,{"$f":"IF(ISNUMBER(VLOOKUP(Circuit1!F16,MOSFETs!A1:S120,10,0)),VLOOKUP(Circuit1!F16,MOSFETs!A1:S120,10,0),0)","v":0.6},{"$f":"IF(ISNUMBER(VLOOKUP(Circuit1!J16,MOSFETs!A1:AD120,20,0)),VLOOKUP(Circuit1!J16,MOSFETs!A1:AD120,20,0),\"IDSMAX UNKOWN\")","v":171},{"$f":"IF(ISNUMBER(VLOOKUP(Circuit2!F16,MOSFETs!A1:S120,10,0)),VLOOKUP(Circuit2!F16,MOSFETs!A1:S120,10,0),0)","v":0.6},{"$f":"IF(ISNUMBER(VLOOKUP(Circuit2!J16,MOSFETs!A1:AD120,20,0)),VLOOKUP(Circuit2!J16,MOSFETs!A1:AD120,20,0),\"IDSMAX UNKOWN\")","v":171}]
[68,null,0.15,null,"NTD4965N","NTMFS4826NE",null,{"$f":"IF(ISNUMBER(VLOOKUP(Circuit1!F16,MOSFETs!A1:S120,11,0)),VLOOKUP(Circuit1!F16,MOSFETs!A1:S120,11,0),50)","v":60},null,{"$f":"IF(ISNUMBER(VLOOKUP(Circuit2!F16,MOSFETs!A1:S120,11,0)),VLOOKUP(Circuit2!F16,MOSFETs!A1:S120,11,0),50)","v":60}]
[100,null,0.18,null,"NTD4969N","NTMFS4833N",null,{"$f":"IF(ISNUMBER(VLOOKUP(Circuit1!F16,MOSFETs!A1:S120,12,0)),VLOOKUP(Circuit1!F16,MOSFETs!A1:S120,12,0),0.005)*100","v":0.46666666666666662},null,{"$f":"IF(ISNUMBER(VLOOKUP(Circuit2!F16,MOSFETs!A1:S120,12,0)),VLOOKUP(Circuit2!F16,MOSFETs!A1:S120,12,0),0.005)*100","v":0.46666666666666662}]
[150,null,0.22,null,"NTD4970N","NTMFS4834N",null,{"$f":"IF(ISNUMBER(VLOOKUP(Circuit1!F16,MOSFETs!A1:AD120,20,0)),VLOOKUP(Circuit1!F16,MOSFETs!A1:AD120,20,0),0)","v":117},null,{"$f":"IF(ISNUMBER(VLOOKUP(Circuit2!F16,MOSFETs!A1:AD120,20,0)),VLOOKUP(Circuit2!F16,MOSFETs!A1:AD120,20,0),0)","v":117}]
[220,null,0.27,null,"NTMFS4821N","NTMFS4835N"]
[330,null,0.33,null,"NTMFS4823N","NTMFS4836N"]
[470,null,0.39,null,"NTMFS4825NFE","NTMFS4837NH"]
[680,null,0.47,null,"NTMFS4826NE","NTMFS4839NH",null,1]
[1000,null,0.56000000000000005,null,"NTMFS4833N","NTMFS4841N",null,2]
[1500,null,0.68,null,"NTMFS4834N","NTMFS4841NH",null,3]
[2200,null,0.82,null,"NTMFS4835N","NTMFS4845N",null,4]
[3300,null,"1.0  ",null,"NTMFS4836N","NTMFS4846N",null,5]
[4700,null,1.2,null,"NTMFS4837NH","NTMFS4847N",null,6]
[6800,null,1.5,null,"NTMFS4839NH","NTMFS4851N",null,7]
[10000,null,1.8,null,"NTMFS4841N","NTMFS4852N",null,8]
[null,null,2.2000000000000002,null,"NTMFS4841NH","NTMFS4921N",null,9]
[null,null,2.7,null,"NTMFS4845N","NTMFS4925N",null,10]
[null,null,3.3,null,"NTMFS4846N","NTMFS4926N",null,11]
[null,null,3.9,null,"NTMFS4847N","NTMFS4927N",null,12]
[null,null,4.7,null,"NTMFS4851N","NTMS4800N",null,13]
[null,null,5.6,null,"NTMFS4852N","NTMS4801N",null,14]
[null,null,6.8,null,"NTMFS4897NF","NTMS4802N",null,15]
[null,null,8.1999999999999993,null,"NTMFS4898NF","NTMS4807N",null,16]
[null,null,"10  ",null,"NTMFS4899NF","NTMS4816N",null,17]
[null,null,12,null,"NTMFS4921N","NTMS4916N",null,18]
[null,null,15,null,"NTMFS4923NE","NTMS4917N",null,19]
[null,null,18,null,"NTMFS4925N","NTTFS4821N",null,20]
[null,null,22,null,"NTMFS4926N","NTTFS4823N",null,21]
[null,null,27,null,"NTMFS4927N","NTTFS4824N",null,22]
[null,null,33,null,"NTMFS4933N","NTTFS4928N",null,23]
[null,null,39,null,"NTMFS4934N","NTTFS4929N",null,24]
[null,null,47,null,"NTMFS4935N","NTTFS4930N",null,25]
[null,null,null,null,"NTMFS4936N","NVMFS4841N",null,26]
[null,null,null,null,"NTMFS4937N","NVTFS4823N",null,27]
[null,null,null,null,"NTMFS4939N","NTMFS4C05",null,28]
[null,null,null,null,"NTMFS4941N","NTMFS4C06",null,29]
[null,null,null,null,"NTMFS4943N","NTMFS4C08",null,30]
[null,null,null,null,"NTMS4800N","NTMFS4C09",null,31]
[null,null,null,null,"NTMS4801N","NTMFS4C10",null,32]
[null,null,null,null,"NTMS4802N","NTMFS4C13",null,33]
[null,null,null,null,"NTMS4807N","NTTFS4C05",null,34]
[null,null,null,null,"NTMS4816N","NTTFS4C10",null,35]
[null,null,null,null,"NTMS4873NF","NTTFS4C25",null,36]
[null,null,null,null,"NTMS4916N","NTMD4820N",null,37]
[null,null,null,null,"NTMS4917N","NTMD4840N",null,38]
[null,null,null,null,"NTMS4920N","NTMFD4901NF",null,39]
[null,null,null,null,"NTMS4935N","NTMFD4902NF",null,40]
[null,null,null,null,"NTMS4937N","NTLLD4901NF",null,41]
[null,null,null,null,"NTMS4939N",null,null,42]
[null,null,null,null,"NTTFS4821N",null,null,43]
[null,null,null,null,"NTTFS4823N",null,null,44]
[null,null,null,null,"NTTFS4824N",null,null,45]
[null,null,null,null,"NTTFS4928N",null,null,46]
[null,null,null,null,"NTTFS4929N",null,null,47]
[null,null,null,null,"NTTFS4930N",null,null,48]
[null,null,null,null,"NTTFS4932N",null,null,49]
[null,null,null,null,"NTTFS4937N",null,null,50]
[null,null,null,null,"NTTFS4939N",null,null,51]
[null,null,null,null,"NTTFS4941N",null,null,52]
[null,null,null,null,"NVMFS4841N",null,null,53]
[null,null,null,null,"NVTFS4823N",null,null,54]
[null,null,null,null,"NTMFS4983NF",null,null,55]
[null,null,null,null,"NTTFS4985NF",null,null,56]
[null,null,null,null,"NTMFS4985NF",null,null,57]
[null,null,null,null,"NTMFS4C05",null,null,58]
[null,null,null,null,"NTMFS4C06",null,null,59]
[null,null,null,null,"NTMFS4C08",null,null,60]
[null,null,null,null,"NTMFS4C09",null,null,61]
[null,null,null,null,"NTMFS4C10",null,null,62]
[null,null,null,null,"NTMFS4C13",null,null,63]
[null,null,null,null,"NTTFS4C05",null,null,64]
[null,null,null,null,"NTTFS4C10",null,null,65]
[null,null,null,null,"NTTFS4C25",null,null,66]
[null,null,null,null,"NTMD4820N",null,null,67]
[null,null,null,null,"NTMD4840N",null,null,68]
[null,null,null,null,"NTMFD4901NF",null,null,69]
[null,null,null,null,"NTMFD4902NF",null,null,70]
[null,null,null,null,"NTLLD4901NF",null,null,71]
[null,null,null,null,null,null,null,72]
[null,null,null,null,null,null,null,73]
[null,null,null,null,null,null,null,74]
[null,null,null,null,null,null,null,75]
[null,null,null,null,null,null,null,76]
[null,null,null,null,null,null,null,77]
[null,null,null,null,null,null,null,78]
[null,null,null,null,null,null,null,79]
[null,null,null,null,null,null,null,80]
[null,null,null,null,null,null,null,81]
[null,null,null,null,null,null,null,82]
[null,null,null,null,null,null,null,83]
[null,null,null,null,null,null,null,84]
[null,null,null,null,null,null,null,85]
[null,null,null,null,null,null,null,86]
[null,null,null,null,null,null,null,87]
[null,null,null,null,null,null,null,88]
[null,null,null,null,null,null,null,89]
[null,null,null,null,null,null,null,90]
[null,null,null,null,null,null,null,91]
[null,null,null,null,null,null,null,92]
[null,null,null,null,null,null,null,93]
[null,null,null,null,null,null,null,94]
[null,null,null,null,null,null,null,95]
[null,null,null,null,null,null,null,96]
[null,null,null,null,null,null,null,97]
[null,null,null,null,null,null,null,98]
[null,null,null,null,null,null,null,99]
[null,null,null,null,null,null,null,100]
[null,null,null,null,null,null,null,101]
[null,null,null,null,null,null,null,102]
[null,null,null,null,null,null,null,103]
[null,null,null,null,null,null,null,104]
[null,null,null,null,null,null,null,105]
[null,null,null,null,null,null,null,106]
[null,null,null,null,null,null,null,107]
[null,null,null,null,null,null,null,108]
[null,null,null,null,null,null,null,109]
[null,null,null,null,null,null,null,110]
[null,null,null,null,null,null,null,111]
[null,null,null,null,null,null,null,112]
[null,null,null,null,null,null,null,113]
[null,null,null,null,null,null,null,114]
[null,null,null,null,null,null,null,115]
[null,null,null,null,null,null,null,116]
[null,null,null,null,null,null,null,117]
[null,null,null,null,null,null,null,118]
[null,null,null,null,null,null,null,119]
[null,null,null,null,null,null,null,120]
[null,null,null,null,null,null,null,121]
[null,null,null,null,null,null,null,122]
[null,null,null,null,null,null,null,123]
[null,null,null,null,null,null,null,124]
[null,null,null,null,null,null,null,125]
[null,null,null,null,null,null,null,126]
[null,null,null,null,null,null,null,127]
[null,null,null,null,null,null,null,128]
[null,null,null,null,null,null,null,129]
[null,null,null,null,null,null,null,130]
[null,null,null,null,null,null,null,131]
[null,null,null,null,null,null,null,132]
[null,null,null,null,null,null,null,133]
[null,null,null,null,null,null,null,134]
[null,null,null,null,null,null,null,135]
[null,null,null,null,null,null,null,136]
[null,null,null,null,null,null,null,137]
[null,null,null,null,null,null,null,138]
[null,null,null,null,null,null,null,139]
[null,null,null,null,null,null,null,140]
[null,null,null,null,null,null,null,141]
[null,null,null,null,null,null,null,142]
[null,null,null,null,null,null,null,143]
[null,null,null,null,null,null,null,144]
[null,null,null,null,null,null,null,145]
[null,null,null,null,null,null,null,146]
[null,null,null,null,null,null,null,147]
[null,null,null,null,null,null,null,148]
[null,null,null,null,null,null,null,149]
[null,null,null,null,null,null,null,150]

{"sheet":"Control1","index":10,"n_rows":122,"n_cols":26,"rows_kept":122,"cut":false,"hidden":true,"merged":[]}
["I(Load)","PHC",null,null,null,null,null,null,"PswHS","PconLS","PQrr","PDT",null,"PdrHS","PdrLS","Pw","P-pcb",null,"Pcsw",null,"Pesr",null,1,2]
[{"$f":"Circuit1Details!A2","v":0.6},{"$f":"Circuit1Details!B2*1000","v":0.53825365333333375},null,null,null,null,null,null,{"$f":"Circuit1Details!I2*1000","v":84.725216264723372},{"$f":"Circuit1Details!J2*1000","v":2.6749936355555577},{"$f":"Circuit1Details!K2*1000","v":153},{"$f":"Circuit1Details!L2*1000","v":2.5199999999999996},null,{"$f":"Circuit1Details!N2*1000","v":63.36363636363636},{"$f":"Circuit1Details!O2*1000","v":78.718181818181833},{"$f":"Circuit1Details!P2*1000*Circuit1!$J$9/(Circuit1!$J$9+Circuit1!$J$12)","v":2.2328000000000015},{"$f":"Circuit1Details!P2*1000*Circuit1!$J$12/(Circuit1!$J$9+Circuit1!$J$12)","v":1.4885333333333342},null,{"$f":"Circuit1Details!S2*1000","v":64.259999999999991},null,{"$f":"Circuit1Details!U2*1000","v":5.6426666666666705},null,2]
[{"$f":"Circuit1Details!A3","v":1.2},{"$f":"Circuit1Details!B3*1000","v":1.6121662287762784},null,null,null,null,null,null,{"$f":"Circuit1Details!I3*1000","v":104.23230651044284},{"$f":"Circuit1Details!J3*1000","v":4.3476830545206955},{"$f":"Circuit1Details!K3*1000","v":153},{"$f":"Circuit1Details!L3*1000","v":5.0399999999999991},null,{"$f":"Circuit1Details!N3*1000","v":63.36363636363636},{"$f":"Circuit1Details!O3*1000","v":78.718181818181833},{"$f":"Circuit1Details!P3*1000*Circuit1!$J$9/(Circuit1!$J$9+Circuit1!$J$12)","v":3.8546265049282313},{"$f":"Circuit1Details!P3*1000*Circuit1!$J$12/(Circuit1!$J$9+Circuit1!$J$12)","v":2.5697510032854876},null,{"$f":"Circuit1Details!S3*1000","v":64.259999999999991},null,{"$f":"Circuit1Details!U3*1000","v":5.6426666666666705}]
[{"$f":"Circuit1Details!A4","v":1.7999999999999998},{"$f":"Circuit1Details!B4*1000","v":2.2277714372103827},null,null,null,null,null,null,{"$f":"Circuit1Details!I4*1000","v":123.25638400406544},{"$f":"Circuit1Details!J4*1000","v":7.6200043738368288},{"$f":"Circuit1Details!K4*1000","v":153},{"$f":"Circuit1Details!L4*1000","v":7.56},null,{"$f":"Circuit1Details!N4*1000","v":63.36363636363636},{"$f":"Circuit1Details!O4*1000","v":78.718181818181833},{"$f":"Circuit1Details!P4*1000*Circuit1!$J$9/(Circuit1!$J$9+Circuit1!$J$12)","v":6.5584064915046723},{"$f":"Circuit1Details!P4*1000*Circuit1!$J$12/(Circuit1!$J$9+Circuit1!$J$12)","v":4.3722709943364482},null,{"$f":"Circuit1Details!S4*1000","v":64.259999999999991},null,{"$f":"Circuit1Details!U4*1000","v":5.6426666666666705}]
[{"$f":"Circuit1Details!A5","v":2.4},{"$f":"Circuit1Details!B5*1000","v":3.2522119166301944},null,null,null,null,null,null,{"$f":"Circuit1Details!I5*1000","v":155.73000564458488},{"$f":"Circuit1Details!J5*1000","v":12.14371446311022},{"$f":"Circuit1Details!K5*1000","v":153},{"$f":"Circuit1Details!L5*1000","v":10.079999999999998},null,{"$f":"Circuit1Details!N5*1000","v":63.36363636363636},{"$f":"Circuit1Details!O5*1000","v":78.718181818181833},{"$f":"Circuit1Details!P5*1000*Circuit1!$J$9/(Circuit1!$J$9+Circuit1!$J$12)","v":10.347070270419866},{"$f":"Circuit1Details!P5*1000*Circuit1!$J$12/(Circuit1!$J$9+Circuit1!$J$12)","v":6.8980468469465777},null,{"$f":"Circuit1Details!S5*1000","v":64.259999999999991},null,{"$f":"Circuit1Details!U5*1000","v":5.6426666666666705}]
[{"$f":"Circuit1Details!A6","v":3},{"$f":"Circuit1Details!B6*1000","v":4.6325969640014},null,null,null,null,null,null,{"$f":"Circuit1Details!I6*1000","v":188.91252401591598},{"$f":"Circuit1Details!J6*1000","v":17.955221767720047},{"$f":"Circuit1Details!K6*1000","v":153},{"$f":"Circuit1Details!L6*1000","v":12.599999999999998},null,{"$f":"Circuit1Details!N6*1000","v":63.36363636363636},{"$f":"Circuit1Details!O6*1000","v":78.718181818181833},{"$f":"Circuit1Details!P6*1000*Circuit1!$J$9/(Circuit1!$J$9+Circuit1!$J$12)","v":15.223452792354305},{"$f":"Circuit1Details!P6*1000*Circuit1!$J$12/(Circuit1!$J$9+Circuit1!$J$12)","v":10.148968528236205},null,{"$f":"Circuit1Details!S6*1000","v":64.259999999999991},null,{"$f":"Circuit1Details!U6*1000","v":5.6426666666666705}]
[{"$f":"Circuit1Details!A7","v":3.5999999999999996},{"$f":"Circuit1Details!B7*1000","v":6.340481113881725},null,null,null,null,null,null,{"$f":"Circuit1Details!I7*1000","v":221.83492413232196},{"$f":"Circuit1Details!J7*1000","v":25.076328820955954},{"$f":"Circuit1Details!K7*1000","v":153},{"$f":"Circuit1Details!L7*1000","v":15.12},null,{"$f":"Circuit1Details!N7*1000","v":63.36363636363636},{"$f":"Circuit1Details!O7*1000","v":78.718181818181833},{"$f":"Circuit1Details!P7*1000*Circuit1!$J$9/(Circuit1!$J$9+Circuit1!$J$12)","v":21.191274223736094},{"$f":"Circuit1Details!P7*1000*Circuit1!$J$12/(Circuit1!$J$9+Circuit1!$J$12)","v":14.127516149157396},null,{"$f":"Circuit1Details!S7*1000","v":64.259999999999991},null,{"$f":"Circuit1Details!U7*1000","v":5.6426666666666705}]
[{"$f":"Circuit1Details!A8","v":4.2},{"$f":"Circuit1Details!B8*1000","v":8.3755957473431035},null,null,null,null,null,null,{"$f":"Circuit1Details!I8*1000","v":254.51578459843216},{"$f":"Circuit1Details!J8*1000","v":33.520703641287142},{"$f":"Circuit1Details!K8*1000","v":153},{"$f":"Circuit1Details!L8*1000","v":17.64},null,{"$f":"Circuit1Details!N8*1000","v":63.36363636363636},{"$f":"Circuit1Details!O8*1000","v":78.718181818181833},{"$f":"Circuit1Details!P8*1000*Circuit1!$J$9/(Circuit1!$J$9+Circuit1!$J$12)","v":28.254980472167688},{"$f":"Circuit1Details!P8*1000*Circuit1!$J$12/(Circuit1!$J$9+Circuit1!$J$12)","v":18.836653648111792},null,{"$f":"Circuit1Details!S8*1000","v":64.259999999999991},null,{"$f":"Circuit1Details!U8*1000","v":5.6426666666666705}]
[{"$f":"Circuit1Details!A9","v":4.8},{"$f":"Circuit1Details!B9*1000","v":10.742459993148707},null,null,null,null,null,null,{"$f":"Circuit1Details!I9*1000","v":286.97298924159389},{"$f":"Circuit1Details!J9*1000","v":43.302042807234734},{"$f":"Circuit1Details!K9*1000","v":153},{"$f":"Circuit1Details!L9*1000","v":20.159999999999997},null,{"$f":"Circuit1Details!N9*1000","v":63.36363636363636},{"$f":"Circuit1Details!O9*1000","v":78.718181818181833},{"$f":"Circuit1Details!P9*1000*Circuit1!$J$9/(Circuit1!$J$9+Circuit1!$J$12)","v":36.41971952623409},{"$f":"Circuit1Details!P9*1000*Circuit1!$J$12/(Circuit1!$J$9+Circuit1!$J$12)","v":24.279813017489396},null,{"$f":"Circuit1Details!S9*1000","v":64.259999999999991},null,{"$f":"Circuit1Details!U9*1000","v":5.6426666666666705}]
[{"$f":"Circuit1Details!A10","v":5.3999999999999995},{"$f":"Circuit1Details!B10*1000","v":13.446646481739119},null,null,null,null,null,null,{"$f":"Circuit1Details!I10*1000","v":319.22376994042077},{"$f":"Circuit1Details!J10*1000","v":54.435351002689018},{"$f":"Circuit1Details!K10*1000","v":153},{"$f":"Circuit1Details!L10*1000","v":22.679999999999996},null,{"$f":"Circuit1Details!N10*1000","v":63.36363636363636},{"$f":"Circuit1Details!O10*1000","v":78.718181818181833},{"$f":"Circuit1Details!P10*1000*Circuit1!$J$9/(Circuit1!$J$9+Circuit1!$J$12)","v":45.691331168054077},{"$f":"Circuit1Details!P10*1000*Circuit1!$J$12/(Circuit1!$J$9+Circuit1!$J$12)","v":30.460887445369387},null,{"$f":"Circuit1Details!S10*1000","v":64.259999999999991},null,{"$f":"Circuit1Details!U10*1000","v":5.6426666666666705},null,null,"NTTFS4932N","NTMFS4825NFE",0.9584376391651801]
[{"$f":"Circuit1Details!A11","v":6},{"$f":"Circuit1Details!B11*1000","v":16.49415998560832},null,null,null,null,null,null,{"$f":"Circuit1Details!I11*1000","v":351.28474639438804},{"$f":"Circuit1Details!J11*1000","v":66.93716707260991},{"$f":"Circuit1Details!K11*1000","v":153},{"$f":"Circuit1Details!L11*1000","v":25.199999999999996},null,{"$f":"Circuit1Details!N11*1000","v":63.36363636363636},{"$f":"Circuit1Details!O11*1000","v":78.718181818181833},{"$f":"Circuit1Details!P11*1000*Circuit1!$J$9/(Circuit1!$J$9+Circuit1!$J$12)","v":56.076331099016329},{"$f":"Circuit1Details!P11*1000*Circuit1!$J$12/(Circuit1!$J$9+Circuit1!$J$12)","v":37.384220732677548},null,{"$f":"Circuit1Details!S11*1000","v":64.259999999999991},null,{"$f":"Circuit1Details!U11*1000","v":5.6426666666666705},null,null,"NTMFS4934N","NTMFS4897NF",0.95858587485743862]
[{"$f":"Circuit1Details!A12","v":6.6},{"$f":"Circuit1Details!B12*1000","v":19.891199941106002},null,null,null,null,null,null,{"$f":"Circuit1Details!I12*1000","v":383.17196306954918},{"$f":"Circuit1Details!J12*1000","v":80.825619713864285},{"$f":"Circuit1Details!K12*1000","v":153},{"$f":"Circuit1Details!L12*1000","v":27.719999999999995},null,{"$f":"Circuit1Details!N12*1000","v":63.36363636363636},{"$f":"Circuit1Details!O12*1000","v":78.718181818181833},{"$f":"Circuit1Details!P12*1000*Circuit1!$J$9/(Circuit1!$J$9+Circuit1!$J$12)","v":67.581892169436628},{"$f":"Circuit1Details!P12*1000*Circuit1!$J$12/(Circuit1!$J$9+Circuit1!$J$12)","v":45.054594779624416},null,{"$f":"Circuit1Details!S12*1000","v":64.259999999999991},null,{"$f":"Circuit1Details!U12*1000","v":5.6426666666666705},null,null,"NTMFS4937N","NTMFS4897NF",0.95861487733662853]
[{"$f":"Circuit1Details!A13","v":7.1999999999999993},{"$f":"Circuit1Details!B13*1000","v":23.644060167347387},null,null,null,null,null,null,{"$f":"Circuit1Details!I13*1000","v":414.90092353388093},{"$f":"Circuit1Details!J13*1000","v":96.120418475398012},{"$f":"Circuit1Details!K13*1000","v":153},{"$f":"Circuit1Details!L13*1000","v":30.24},null,{"$f":"Circuit1Details!N13*1000","v":63.36363636363636},{"$f":"Circuit1Details!O13*1000","v":78.718181818181833},{"$f":"Circuit1Details!P13*1000*Circuit1!$J$9/(Circuit1!$J$9+Circuit1!$J$12)","v":80.215823401039501},{"$f":"Circuit1Details!P13*1000*Circuit1!$J$12/(Circuit1!$J$9+Circuit1!$J$12)","v":53.477215600693},null,{"$f":"Circuit1Details!S13*1000","v":64.259999999999991},null,{"$f":"Circuit1Details!U13*1000","v":5.6426666666666705},null,null,"NTMFS4936N","NTMFS4897NF",0.95781491773023508]
[{"$f":"Circuit1Details!A14","v":7.8},{"$f":"Circuit1Details!B14*1000","v":27.759084861672211},null,null,null,null,null,null,{"$f":"Circuit1Details!I14*1000","v":446.48662237635796},{"$f":"Circuit1Details!J14*1000","v":112.8428142226993},{"$f":"Circuit1Details!K14*1000","v":153},{"$f":"Circuit1Details!L14*1000","v":32.76},null,{"$f":"Circuit1Details!N14*1000","v":63.36363636363636},{"$f":"Circuit1Details!O14*1000","v":78.718181818181833},{"$f":"Circuit1Details!P14*1000*Circuit1!$J$9/(Circuit1!$J$9+Circuit1!$J$12)","v":93.986546718020946},{"$f":"Circuit1Details!P14*1000*Circuit1!$J$12/(Circuit1!$J$9+Circuit1!$J$12)","v":62.657697812013964},null,{"$f":"Circuit1Details!S14*1000","v":64.259999999999991},null,{"$f":"Circuit1Details!U14*1000","v":5.6426666666666705},null,null,"NTMFS4936N","NTMFS4825NFE",0.95786840659031203]
[{"$f":"Circuit1Details!A15","v":8.4},{"$f":"Circuit1Details!B15*1000","v":32.242649854964455},null,null,null,null,null,null,{"$f":"Circuit1Details!I15*1000","v":477.9435748864019},{"$f":"Circuit1Details!J15*1000","v":131.0155420109248},{"$f":"Circuit1Details!K15*1000","v":153},{"$f":"Circuit1Details!L15*1000","v":35.28},null,{"$f":"Circuit1Details!N15*1000","v":63.36363636363636},{"$f":"Circuit1Details!O15*1000","v":78.718181818181833},{"$f":"Circuit1Details!P15*1000*Circuit1!$J$9/(Circuit1!$J$9+Circuit1!$J$12)","v":108.90307127874958},{"$f":"Circuit1Details!P15*1000*Circuit1!$J$12/(Circuit1!$J$9+Circuit1!$J$12)","v":72.602047519166376},null,{"$f":"Circuit1Details!S15*1000","v":64.259999999999991},null,{"$f":"Circuit1Details!U15*1000","v":5.6426666666666705},null,null,"NTTFS4932N","NTMFS4897NF",0.95838472305391487]
[{"$f":"Circuit1Details!A16","v":9},{"$f":"Circuit1Details!B16*1000","v":37.101155906907053},null,null,null,null,null,null,{"$f":"Circuit1Details!I16*1000","v":509.28584465459824},{"$f":"Circuit1Details!J16*1000","v":150.6627517704616},{"$f":"Circuit1Details!K16*1000","v":153},{"$f":"Circuit1Details!L16*1000","v":37.799999999999997},null,{"$f":"Circuit1Details!N16*1000","v":63.36363636363636},{"$f":"Circuit1Details!O16*1000","v":78.718181818181833},{"$f":"Circuit1Details!P16*1000*Circuit1!$J$9/(Circuit1!$J$9+Circuit1!$J$12)","v":124.97496530358839},{"$f":"Circuit1Details!P16*1000*Circuit1!$J$12/(Circuit1!$J$9+Circuit1!$J$12)","v":83.316643535725603},null,{"$f":"Circuit1Details!S16*1000","v":64.259999999999991},null,{"$f":"Circuit1Details!U16*1000","v":5.6426666666666705},null,null,"NTMFS4934N","NTMFS4933N",0.95760750115804882]
[{"$f":"Circuit1Details!A17","v":9.6},{"$f":"Circuit1Details!B17*1000","v":42.341027925283512},null,null,null,null,null,null,{"$f":"Circuit1Details!I17*1000","v":540.52706924136703},{"$f":"Circuit1Details!J17*1000","v":171.80992922760521},{"$f":"Circuit1Details!K17*1000","v":153},{"$f":"Circuit1Details!L17*1000","v":40.319999999999993},null,{"$f":"Circuit1Details!N17*1000","v":63.36363636363636},{"$f":"Circuit1Details!O17*1000","v":78.718181818181833},{"$f":"Circuit1Details!P17*1000*Circuit1!$J$9/(Circuit1!$J$9+Circuit1!$J$12)","v":142.21232530845677},{"$f":"Circuit1Details!P17*1000*Circuit1!$J$12/(Circuit1!$J$9+Circuit1!$J$12)","v":94.808216872304513},null,{"$f":"Circuit1Details!S17*1000","v":64.259999999999991},null,{"$f":"Circuit1Details!U17*1000","v":5.6426666666666705},null,null,"NTMFS4937N","NTMFS4825NFE",0.95866834759264485]
[{"$f":"Circuit1Details!A18","v":10.199999999999999},{"$f":"Circuit1Details!B18*1000","v":47.968717091145535},null,null,null,null,null,null,{"$f":"Circuit1Details!I18*1000","v":571.6804840474507},{"$f":"Circuit1Details!J18*1000","v":194.48380822079812},{"$f":"Circuit1Details!K18*1000","v":153},{"$f":"Circuit1Details!L18*1000","v":42.839999999999996},null,{"$f":"Circuit1Details!N18*1000","v":63.36363636363636},{"$f":"Circuit1Details!O18*1000","v":78.718181818181833},{"$f":"Circuit1Details!P18*1000*Circuit1!$J$9/(Circuit1!$J$9+Circuit1!$J$12)","v":160.62574267551722},{"$f":"Circuit1Details!P18*1000*Circuit1!$J$12/(Circuit1!$J$9+Circuit1!$J$12)","v":107.08382845034483},null,{"$f":"Circuit1Details!S18*1000","v":64.259999999999991},null,{"$f":"Circuit1Details!U18*1000","v":5.6426666666666705},null,null,"NTMFS4934N","NTMFS4825NFE",0.9586399465477784]
[{"$f":"Circuit1Details!A19","v":10.799999999999999},{"$f":"Circuit1Details!B19*1000","v":53.990704321729233},null,null,null,null,null,null,{"$f":"Circuit1Details!I19*1000","v":602.75894450848091},{"$f":"Circuit1Details!J19*1000","v":218.71227502740317},{"$f":"Circuit1Details!K19*1000","v":153},{"$f":"Circuit1Details!L19*1000","v":45.359999999999992},null,{"$f":"Circuit1Details!N19*1000","v":63.36363636363636},{"$f":"Circuit1Details!O19*1000","v":78.718181818181833},{"$f":"Circuit1Details!P19*1000*Circuit1!$J$9/(Circuit1!$J$9+Circuit1!$J$12)","v":180.22626752078023},{"$f":"Circuit1Details!P19*1000*Circuit1!$J$12/(Circuit1!$J$9+Circuit1!$J$12)","v":120.15084501385347},null,{"$f":"Circuit1Details!S19*1000","v":64.259999999999991},null,{"$f":"Circuit1Details!U19*1000","v":5.6426666666666705},null,null,"NTMFS4937N","NTMFS4933N",0.95764127310565439]
[{"$f":"Circuit1Details!A20","v":11.4},{"$f":"Circuit1Details!B20*1000","v":60.413504222218286},null,null,null,null,null,null,{"$f":"Circuit1Details!I20*1000","v":633.77494672540126},{"$f":"Circuit1Details!J20*1000","v":244.52426509731217},{"$f":"Circuit1Details!K20*1000","v":153},{"$f":"Circuit1Details!L20*1000","v":47.879999999999995},null,{"$f":"Circuit1Details!N20*1000","v":63.36363636363636},{"$f":"Circuit1Details!O20*1000","v":78.718181818181833},{"$f":"Circuit1Details!P20*1000*Circuit1!$J$9/(Circuit1!$J$9+Circuit1!$J$12)","v":201.02536985298016},{"$f":"Circuit1Details!P20*1000*Circuit1!$J$12/(Circuit1!$J$9+Circuit1!$J$12)","v":134.01691323532012},null,{"$f":"Circuit1Details!S20*1000","v":64.259999999999991},null,{"$f":"Circuit1Details!U20*1000","v":5.6426666666666705},null,null,"NTD4806N","NTMFS4897NF",0.93873026148745431]
[{"$f":"Circuit1Details!A21","v":12},{"$f":"Circuit1Details!B21*1000","v":67.243669051612315},null,null,null,null,null,null,{"$f":"Circuit1Details!I21*1000","v":664.7406466330275},{"$f":"Circuit1Details!J21*1000","v":271.94965253293299},{"$f":"Circuit1Details!K21*1000","v":153},{"$f":"Circuit1Details!L21*1000","v":50.399999999999991},null,{"$f":"Circuit1Details!N21*1000","v":63.36363636363636},{"$f":"Circuit1Details!O21*1000","v":78.718181818181833},{"$f":"Circuit1Details!P21*1000*Circuit1!$J$9/(Circuit1!$J$9+Circuit1!$J$12)","v":223.0348980583241},{"$f":"Circuit1Details!P21*1000*Circuit1!$J$12/(Circuit1!$J$9+Circuit1!$J$12)","v":148.68993203888274},null,{"$f":"Circuit1Details!S21*1000","v":64.259999999999991},null,{"$f":"Circuit1Details!U21*1000","v":5.6426666666666705},null,null,"NTD4806N","NTMFS4852N",0.93557752409543493]
[{"$f":"Circuit1Details!A22","v":12.6},{"$f":"Circuit1Details!B22*1000","v":74.487792430528856},null,null,null,null,null,null,{"$f":"Circuit1Details!I22*1000","v":695.66787780043251},{"$f":"Circuit1Details!J22*1000","v":301.01913268499584},{"$f":"Circuit1Details!K22*1000","v":153},{"$f":"Circuit1Details!L22*1000","v":52.919999999999987},null,{"$f":"Circuit1Details!N22*1000","v":63.36363636363636},{"$f":"Circuit1Details!O22*1000","v":78.718181818181833},{"$f":"Circuit1Details!P22*1000*Circuit1!$J$9/(Circuit1!$J$9+Circuit1!$J$12)","v":246.26703479105763},{"$f":"Circuit1Details!P22*1000*Circuit1!$J$12/(Circuit1!$J$9+Circuit1!$J$12)","v":164.17802319403842},null,{"$f":"Circuit1Details!S22*1000","v":64.259999999999991},null,{"$f":"Circuit1Details!U22*1000","v":5.6426666666666705},null,null,"NTD4806N","NTMFS4934N",0.93655270473209951]
[{"$f":"Circuit1Details!A23","v":13.2},{"$f":"Circuit1Details!B23*1000","v":82.152512632256958},null,null,null,null,null,null,{"$f":"Circuit1Details!I23*1000","v":726.56816794904921},{"$f":"Circuit1Details!J23*1000","v":331.76409831299884},{"$f":"Circuit1Details!K23*1000","v":153},{"$f":"Circuit1Details!L23*1000","v":55.439999999999991},null,{"$f":"Circuit1Details!N23*1000","v":63.36363636363636},{"$f":"Circuit1Details!O23*1000","v":78.718181818181833},{"$f":"Circuit1Details!P23*1000*Circuit1!$J$9/(Circuit1!$J$9+Circuit1!$J$12)","v":270.73425039944186},{"$f":"Circuit1Details!P23*1000*Circuit1!$J$12/(Circuit1!$J$9+Circuit1!$J$12)","v":180.48950026629458},null,{"$f":"Circuit1Details!S23*1000","v":64.259999999999991},null,{"$f":"Circuit1Details!U23*1000","v":5.6426666666666705},null,null,"NTD4806N","NTMFS4846N",0.93043372816415415]
[{"$f":"Circuit1Details!A24","v":13.799999999999999},{"$f":"Circuit1Details!B24*1000","v":90.244515363978635},null,null,null,null,null,null,{"$f":"Circuit1Details!I24*1000","v":757.4527542673286},{"$f":"Circuit1Details!J24*1000","v":364.21650986770993},{"$f":"Circuit1Details!K24*1000","v":153},{"$f":"Circuit1Details!L24*1000","v":57.959999999999994},null,{"$f":"Circuit1Details!N24*1000","v":63.36363636363636},{"$f":"Circuit1Details!O24*1000","v":78.718181818181833},{"$f":"Circuit1Details!P24*1000*Circuit1!$J$9/(Circuit1!$J$9+Circuit1!$J$12)","v":296.44925406968753},{"$f":"Circuit1Details!P24*1000*Circuit1!$J$12/(Circuit1!$J$9+Circuit1!$J$12)","v":197.63283604645832},null,{"$f":"Circuit1Details!S24*1000","v":64.259999999999991},null,{"$f":"Circuit1Details!U24*1000","v":5.6426666666666705},null,null,"NTD4806N","NTMFS4898N",0.93154026210752694]
[{"$f":"Circuit1Details!A25","v":14.399999999999999},{"$f":"Circuit1Details!B25*1000","v":98.770535984210014},null,null,null,null,null,null,{"$f":"Circuit1Details!I25*1000","v":788.33259759438954},{"$f":"Circuit1Details!J25*1000","v":398.40876057853069},{"$f":"Circuit1Details!K25*1000","v":153},{"$f":"Circuit1Details!L25*1000","v":60.48},null,{"$f":"Circuit1Details!N25*1000","v":63.36363636363636},{"$f":"Circuit1Details!O25*1000","v":78.718181818181833},{"$f":"Circuit1Details!P25*1000*Circuit1!$J$9/(Circuit1!$J$9+Circuit1!$J$12)","v":323.42494292540152},{"$f":"Circuit1Details!P25*1000*Circuit1!$J$12/(Circuit1!$J$9+Circuit1!$J$12)","v":215.61662861693435},null,{"$f":"Circuit1Details!S25*1000","v":64.259999999999991},null,{"$f":"Circuit1Details!U25*1000","v":5.6426666666666705},null,null,"NTD4806N","NTMFS4845N",0.93179998017684351]
[{"$f":"Circuit1Details!A26","v":15},{"$f":"Circuit1Details!B26*1000","v":107.73736112674413},null,null,null,null,null,null,{"$f":"Circuit1Details!I26*1000","v":819.2183955392934},{"$f":"Circuit1Details!J26*1000","v":434.37353716187016},{"$f":"Circuit1Details!K26*1000","v":153},{"$f":"Circuit1Details!L26*1000","v":63},null,{"$f":"Circuit1Details!N26*1000","v":63.36363636363636},{"$f":"Circuit1Details!O26*1000","v":78.718181818181833},{"$f":"Circuit1Details!P26*1000*Circuit1!$J$9/(Circuit1!$J$9+Circuit1!$J$12)","v":351.67434937573546},{"$f":"Circuit1Details!P26*1000*Circuit1!$J$12/(Circuit1!$J$9+Circuit1!$J$12)","v":234.44956625049031},null,{"$f":"Circuit1Details!S26*1000","v":64.259999999999991},null,{"$f":"Circuit1Details!U26*1000","v":5.6426666666666705},null,null,"NTD4806N","NTMFS4825NFE",0.93878064953170903]
[{"$f":"Circuit1Details!A27","v":15.6},{"$f":"Circuit1Details!B27*1000","v":117.15182971712856},null,null,null,null,null,null,{"$f":"Circuit1Details!I27*1000","v":850.1205945973187},{"$f":"Circuit1Details!J27*1000","v":472.14367710089624},{"$f":"Circuit1Details!K27*1000","v":153},{"$f":"Circuit1Details!L27*1000","v":65.52},null,{"$f":"Circuit1Details!N27*1000","v":63.36363636363636},{"$f":"Circuit1Details!O27*1000","v":78.718181818181833},{"$f":"Circuit1Details!P27*1000*Circuit1!$J$9/(Circuit1!$J$9+Circuit1!$J$12)","v":381.21058706002475},{"$f":"Circuit1Details!P27*1000*Circuit1!$J$12/(Circuit1!$J$9+Circuit1!$J$12)","v":254.14039137334984},null,{"$f":"Circuit1Details!S27*1000","v":64.259999999999991},null,{"$f":"Circuit1Details!U27*1000","v":5.6426666666666705},null,null,"NTD4806N","NTMFS4833N",0.9362240691639665]
[{"$f":"Circuit1Details!A28","v":16.2},{"$f":"Circuit1Details!B28*1000","v":127.02083337863074},null,null,null,null,null,null,{"$f":"Circuit1Details!I28*1000","v":881.04940131984768},{"$f":"Circuit1Details!J28*1000","v":511.7520235758214},{"$f":"Circuit1Details!K28*1000","v":153},{"$f":"Circuit1Details!L28*1000","v":68.039999999999992},null,{"$f":"Circuit1Details!N28*1000","v":63.36363636363636},{"$f":"Circuit1Details!O28*1000","v":78.718181818181833},{"$f":"Circuit1Details!P28*1000*Circuit1!$J$9/(Circuit1!$J$9+Circuit1!$J$12)","v":412.04679578852421},{"$f":"Circuit1Details!P28*1000*Circuit1!$J$12/(Circuit1!$J$9+Circuit1!$J$12)","v":274.69786385901614},null,{"$f":"Circuit1Details!S28*1000","v":64.259999999999991},null,{"$f":"Circuit1Details!U28*1000","v":5.6426666666666705},null,null,"NTD4806N","NTMFS4834N",0.93168985942890459]
[{"$f":"Circuit1Details!A29","v":16.8},{"$f":"Circuit1Details!B29*1000","v":137.35131623284386},null,null,null,null,null,null,{"$f":"Circuit1Details!I29*1000","v":912.01479259015753},{"$f":"Circuit1Details!J29*1000","v":553.23127924141932},{"$f":"Circuit1Details!K29*1000","v":153},{"$f":"Circuit1Details!L29*1000","v":70.56},null,{"$f":"Circuit1Details!N29*1000","v":63.36363636363636},{"$f":"Circuit1Details!O29*1000","v":78.718181818181833},{"$f":"Circuit1Details!P29*1000*Circuit1!$J$9/(Circuit1!$J$9+Circuit1!$J$12)","v":444.19608592598672},{"$f":"Circuit1Details!P29*1000*Circuit1!$J$12/(Circuit1!$J$9+Circuit1!$J$12)","v":296.13072395065785},null,{"$f":"Circuit1Details!S29*1000","v":64.259999999999991},null,{"$f":"Circuit1Details!U29*1000","v":5.6426666666666705},null,null,"NTD4806N","NTMFS4933N",0.93775560928660284]
[{"$f":"Circuit1Details!A30","v":17.399999999999999},{"$f":"Circuit1Details!B30*1000","v":148.15027410678462},null,null,null,null,null,null,{"$f":"Circuit1Details!I30*1000","v":943.02652505350125},{"$f":"Circuit1Details!J30*1000","v":596.61386014930542},{"$f":"Circuit1Details!K30*1000","v":153},{"$f":"Circuit1Details!L30*1000","v":73.08},null,{"$f":"Circuit1Details!N30*1000","v":63.36363636363636},{"$f":"Circuit1Details!O30*1000","v":78.718181818181833},{"$f":"Circuit1Details!P30*1000*Circuit1!$J$9/(Circuit1!$J$9+Circuit1!$J$12)","v":477.67148270546443},{"$f":"Circuit1Details!P30*1000*Circuit1!$J$12/(Circuit1!$J$9+Circuit1!$J$12)","v":318.44765513697627},null,{"$f":"Circuit1Details!S30*1000","v":64.259999999999991},null,{"$f":"Circuit1Details!U30*1000","v":5.6426666666666705},null,null,"NTTFS4932N","NTD4813NH",0.88575110948931235]
[{"$f":"Circuit1Details!A31","v":18},{"$f":"Circuit1Details!B31*1000","v":159.42475316422227},null,null,null,null,null,null,{"$f":"Circuit1Details!I31*1000","v":974.09414374634093},{"$f":"Circuit1Details!J31*1000","v":641.93175119162277},{"$f":"Circuit1Details!K31*1000","v":153},{"$f":"Circuit1Details!L31*1000","v":75.599999999999994},null,{"$f":"Circuit1Details!N31*1000","v":63.36363636363636},{"$f":"Circuit1Details!O31*1000","v":78.718181818181833},{"$f":"Circuit1Details!P31*1000*Circuit1!$J$9/(Circuit1!$J$9+Circuit1!$J$12)","v":512.48587099200472},{"$f":"Circuit1Details!P31*1000*Circuit1!$J$12/(Circuit1!$J$9+Circuit1!$J$12)","v":341.65724732800311},null,{"$f":"Circuit1Details!S31*1000","v":64.259999999999991},null,{"$f":"Circuit1Details!U31*1000","v":5.6426666666666705},null,null,"NTMFS4852N","NTD4813NH",0.88378204365107937]
[{"$f":"Circuit1Details!A32","v":18.599999999999998},{"$f":"Circuit1Details!B32*1000","v":171.18184798442405},null,null,null,null,null,null,{"$f":"Circuit1Details!I32*1000","v":1005.2269899663908},{"$f":"Circuit1Details!J32*1000","v":689.21636449573646},{"$f":"Circuit1Details!K32*1000","v":153},{"$f":"Circuit1Details!L32*1000","v":78.11999999999999},null,{"$f":"Circuit1Details!N32*1000","v":63.36363636363636},{"$f":"Circuit1Details!O32*1000","v":78.718181818181833},{"$f":"Circuit1Details!P32*1000*Circuit1!$J$9/(Circuit1!$J$9+Circuit1!$J$12)","v":548.65194103826775},{"$f":"Circuit1Details!P32*1000*Circuit1!$J$12/(Circuit1!$J$9+Circuit1!$J$12)","v":365.76796069217852},null,{"$f":"Circuit1Details!S32*1000","v":64.259999999999991},null,{"$f":"Circuit1Details!U32*1000","v":5.6426666666666705},null,null,"NTMFS4825NFE","NTD4813NH",0.88482145690769376]
[{"$f":"Circuit1Details!A33","v":19.2},{"$f":"Circuit1Details!B33*1000","v":183.42869911667484},null,null,null,null,null,null,{"$f":"Circuit1Details!I33*1000","v":1036.4342084222744},{"$f":"Circuit1Details!J33*1000","v":738.49840222270518},{"$f":"Circuit1Details!K33*1000","v":153},{"$f":"Circuit1Details!L33*1000","v":80.639999999999986},null,{"$f":"Circuit1Details!N33*1000","v":63.36363636363636},{"$f":"Circuit1Details!O33*1000","v":78.718181818181833},{"$f":"Circuit1Details!P33*1000*Circuit1!$J$9/(Circuit1!$J$9+Circuit1!$J$12)","v":586.18213578511893},{"$f":"Circuit1Details!P33*1000*Circuit1!$J$12/(Circuit1!$J$9+Circuit1!$J$12)","v":390.78809052341268},null,{"$f":"Circuit1Details!S33*1000","v":64.259999999999991},null,{"$f":"Circuit1Details!U33*1000","v":5.6426666666666705},null,null,"NTMFS4936N","NTD4813NH",0.88525301110723065]
[{"$f":"Circuit1Details!A34","v":19.8},{"$f":"Circuit1Details!B34*1000","v":196.17249014386601},null,null,null,null,null,null,{"$f":"Circuit1Details!I34*1000","v":1067.7247536989883},{"$f":"Circuit1Details!J34*1000","v":789.80772521295341},{"$f":"Circuit1Details!K34*1000","v":153},{"$f":"Circuit1Details!L34*1000","v":83.160000000000011},null,{"$f":"Circuit1Details!N34*1000","v":63.36363636363636},{"$f":"Circuit1Details!O34*1000","v":78.718181818181833},{"$f":"Circuit1Details!P34*1000*Circuit1!$J$9/(Circuit1!$J$9+Circuit1!$J$12)","v":625.08860025889885},{"$f":"Circuit1Details!P34*1000*Circuit1!$J$12/(Circuit1!$J$9+Circuit1!$J$12)","v":416.72573350593257},null,{"$f":"Circuit1Details!S34*1000","v":64.259999999999991},null,{"$f":"Circuit1Details!U34*1000","v":5.6426666666666705},null,null,"NTMFS4897NF","NTD4813NH",0.88476987637076432]
[{"$f":"Circuit1Details!A35","v":20.399999999999999},{"$f":"Circuit1Details!B35*1000","v":209.42044429310965},null,null,null,null,null,null,{"$f":"Circuit1Details!I35*1000","v":1099.107396073066},{"$f":"Circuit1Details!J35*1000","v":843.17322887923444},{"$f":"Circuit1Details!K35*1000","v":153},{"$f":"Circuit1Details!L35*1000","v":85.679999999999993},null,{"$f":"Circuit1Details!N35*1000","v":63.36363636363636},{"$f":"Circuit1Details!O35*1000","v":78.718181818181833},{"$f":"Circuit1Details!P35*1000*Circuit1!$J$9/(Circuit1!$J$9+Circuit1!$J$12)","v":665.38313360277698},{"$f":"Circuit1Details!P35*1000*Circuit1!$J$12/(Circuit1!$J$9+Circuit1!$J$12)","v":443.58875573518463},null,{"$f":"Circuit1Details!S35*1000","v":64.259999999999991},null,{"$f":"Circuit1Details!U35*1000","v":5.6426666666666705},null,null,"NTD4904N","NTD4813NH",0.88336370853285295]
[{"$f":"Circuit1Details!A36","v":21},{"$f":"Circuit1Details!B36*1000","v":223.17982063563767},null,null,null,null,null,null,{"$f":"Circuit1Details!I36*1000","v":1130.5907267092464},{"$f":"Circuit1Details!J36*1000","v":898.62272766930539},{"$f":"Circuit1Details!K36*1000","v":153},{"$f":"Circuit1Details!L36*1000","v":88.2},null,{"$f":"Circuit1Details!N36*1000","v":63.36363636363636},{"$f":"Circuit1Details!O36*1000","v":78.718181818181833},{"$f":"Circuit1Details!P36*1000*Circuit1!$J$9/(Circuit1!$J$9+Circuit1!$J$12)","v":707.07714425214431},{"$f":"Circuit1Details!P36*1000*Circuit1!$J$12/(Circuit1!$J$9+Circuit1!$J$12)","v":471.38476283476291},null,{"$f":"Circuit1Details!S36*1000","v":64.259999999999991},null,{"$f":"Circuit1Details!U36*1000","v":5.6426666666666705},null,null,"NTMFS4935N","NTD4813NH",0.8849793430319427]
[{"$f":"Circuit1Details!A37","v":21.599999999999998},{"$f":"Circuit1Details!B37*1000","v":237.45790992206278},null,null,null,null,null,null,{"$f":"Circuit1Details!I37*1000","v":1162.1831622685868},{"$f":"Circuit1Details!J37*1000","v":956.18284930987261},{"$f":"Circuit1Details!K37*1000","v":153},{"$f":"Circuit1Details!L37*1000","v":90.719999999999985},null,{"$f":"Circuit1Details!N37*1000","v":63.36363636363636},{"$f":"Circuit1Details!O37*1000","v":78.718181818181833},{"$f":"Circuit1Details!P37*1000*Circuit1!$J$9/(Circuit1!$J$9+Circuit1!$J$12)","v":750.18160872379462},{"$f":"Circuit1Details!P37*1000*Circuit1!$J$12/(Circuit1!$J$9+Circuit1!$J$12)","v":500.12107248252977},null,{"$f":"Circuit1Details!S37*1000","v":64.259999999999991},null,{"$f":"Circuit1Details!U37*1000","v":5.6426666666666705},null,null,"NTMFS4934N","NTD4813NH",0.88633381922897603]
[{"$f":"Circuit1Details!A38","v":22.2},{"$f":"Circuit1Details!B38*1000","v":252.26203010231214},null,null,null,null,null,null,{"$f":"Circuit1Details!I38*1000","v":1193.8929489563459},{"$f":"Circuit1Details!J38*1000","v":1015.8789399017114},{"$f":"Circuit1Details!K38*1000","v":153},{"$f":"Circuit1Details!L38*1000","v":93.24},null,{"$f":"Circuit1Details!N38*1000","v":63.36363636363636},{"$f":"Circuit1Details!O38*1000","v":78.718181818181833},{"$f":"Circuit1Details!P38*1000*Circuit1!$J$9/(Circuit1!$J$9+Circuit1!$J$12)","v":794.707034436566},{"$f":"Circuit1Details!P38*1000*Circuit1!$J$12/(Circuit1!$J$9+Circuit1!$J$12)","v":529.80468962437737},null,{"$f":"Circuit1Details!S38*1000","v":64.259999999999991},null,{"$f":"Circuit1Details!U38*1000","v":5.6426666666666705},null,null,"NTMFS4923NE","NTD4813NH",0.88497957320625564]
[{"$f":"Circuit1Details!A39","v":22.8},{"$f":"Circuit1Details!B39*1000","v":267.59952158205755},null,null,null,null,null,null,{"$f":"Circuit1Details!I39*1000","v":1225.728166036464},{"$f":"Circuit1Details!J39*1000","v":1077.7349807671314},{"$f":"Circuit1Details!K39*1000","v":153},{"$f":"Circuit1Details!L39*1000","v":95.759999999999991},null,{"$f":"Circuit1Details!N39*1000","v":63.36363636363636},{"$f":"Circuit1Details!O39*1000","v":78.718181818181833},{"$f":"Circuit1Details!P39*1000*Circuit1!$J$9/(Circuit1!$J$9+Circuit1!$J$12)","v":840.66342691847058},{"$f":"Circuit1Details!P39*1000*Circuit1!$J$12/(Circuit1!$J$9+Circuit1!$J$12)","v":560.44228461231376},null,{"$f":"Circuit1Details!S39*1000","v":64.259999999999991},null,{"$f":"Circuit1Details!U39*1000","v":5.6426666666666705},null,null,"NTMFS4937N","NTD4813NH",0.88595990417786963]
[{"$f":"Circuit1Details!A40","v":23.4},{"$f":"Circuit1Details!B40*1000","v":283.47774226918574},null,null,null,null,null,null,{"$f":"Circuit1Details!I40*1000","v":1257.6967288382239},{"$f":"Circuit1Details!J40*1000","v":1141.7735177600111},{"$f":"Circuit1Details!K40*1000","v":153},{"$f":"Circuit1Details!L40*1000","v":98.28},null,{"$f":"Circuit1Details!N40*1000","v":63.36363636363636},{"$f":"Circuit1Details!O40*1000","v":78.718181818181833},{"$f":"Circuit1Details!P40*1000*Circuit1!$J$9/(Circuit1!$J$9+Circuit1!$J$12)","v":888.06026168401115},{"$f":"Circuit1Details!P40*1000*Circuit1!$J$12/(Circuit1!$J$9+Circuit1!$J$12)","v":592.04017445600743},null,{"$f":"Circuit1Details!S40*1000","v":64.259999999999991},null,{"$f":"Circuit1Details!U40*1000","v":5.6426666666666705}]
[{"$f":"Circuit1Details!A41","v":24},{"$f":"Circuit1Details!B41*1000","v":299.90406246468393},null,null,null,null,null,null,{"$f":"Circuit1Details!I41*1000","v":1289.8063912795344},{"$f":"Circuit1Details!J41*1000","v":1208.0156035412183},{"$f":"Circuit1Details!K41*1000","v":153},{"$f":"Circuit1Details!L41*1000","v":100.79999999999998},null,{"$f":"Circuit1Details!N41*1000","v":63.36363636363636},{"$f":"Circuit1Details!O41*1000","v":78.718181818181833},{"$f":"Circuit1Details!P41*1000*Circuit1!$J$9/(Circuit1!$J$9+Circuit1!$J$12)","v":936.906460987434},{"$f":"Circuit1Details!P41*1000*Circuit1!$J$12/(Circuit1!$J$9+Circuit1!$J$12)","v":624.60430732495593},null,{"$f":"Circuit1Details!S41*1000","v":64.259999999999991},null,{"$f":"Circuit1Details!U41*1000","v":5.6426666666666705}]
[{"$f":"Circuit1Details!A42","v":24.599999999999998},{"$f":"Circuit1Details!B42*1000","v":316.88585965224541},null,null,null,null,null,null,{"$f":"Circuit1Details!I42*1000","v":1322.0647479303143},{"$f":"Circuit1Details!J42*1000","v":1276.4807531047893},{"$f":"Circuit1Details!K42*1000","v":153},{"$f":"Circuit1Details!L42*1000","v":103.32},null,{"$f":"Circuit1Details!N42*1000","v":63.36363636363636},{"$f":"Circuit1Details!O42*1000","v":78.718181818181833},{"$f":"Circuit1Details!P42*1000*Circuit1!$J$9/(Circuit1!$J$9+Circuit1!$J$12)","v":987.21037557560408},{"$f":"Circuit1Details!P42*1000*Circuit1!$J$12/(Circuit1!$J$9+Circuit1!$J$12)","v":658.14025038373609},null,{"$f":"Circuit1Details!S42*1000","v":64.259999999999991},null,{"$f":"Circuit1Details!U42*1000","v":5.6426666666666705}]
[20,{"$f":"Circuit1Details!B43*1000","v":334.43051323990284},null,null,null,null,null,null,{"$f":"Circuit1Details!I43*1000","v":1354.4792356386417},{"$f":"Circuit1Details!J43*1000","v":1347.1869126195409},{"$f":"Circuit1Details!K43*1000","v":153},{"$f":"Circuit1Details!L43*1000","v":105.83999999999997},null,{"$f":"Circuit1Details!N43*1000","v":63.36363636363636},{"$f":"Circuit1Details!O43*1000","v":78.718181818181833},{"$f":"Circuit1Details!P43*1000*Circuit1!$J$9/(Circuit1!$J$9+Circuit1!$J$12)","v":1038.9797714805118},{"$f":"Circuit1Details!P43*1000*Circuit1!$J$12/(Circuit1!$J$9+Circuit1!$J$12)","v":692.65318098700789},null,{"$f":"Circuit1Details!S43*1000","v":64.259999999999991},null,{"$f":"Circuit1Details!U43*1000","v":5.6426666666666705}]
[{"$f":"Circuit1Details!A44","v":25.8},{"$f":"Circuit1Details!B44*1000","v":352.54539930510623},null,null,null,null,null,null,{"$f":"Circuit1Details!I44*1000","v":1387.057134741588},{"$f":"Circuit1Details!J44*1000","v":1420.150441433565},{"$f":"Circuit1Details!K44*1000","v":153},{"$f":"Circuit1Details!L44*1000","v":108.36},null,{"$f":"Circuit1Details!N44*1000","v":63.36363636363636},{"$f":"Circuit1Details!O44*1000","v":78.718181818181833},{"$f":"Circuit1Details!P44*1000*Circuit1!$J$9/(Circuit1!$J$9+Circuit1!$J$12)","v":1092.2218218087014},{"$f":"Circuit1Details!P44*1000*Circuit1!$J$12/(Circuit1!$J$9+Circuit1!$J$12)","v":728.14788120580101},null,{"$f":"Circuit1Details!S44*1000","v":64.259999999999991},null,{"$f":"Circuit1Details!U44*1000","v":5.6426666666666705}]
[{"$f":"Circuit1Details!A45","v":26.4},{"$f":"Circuit1Details!B45*1000","v":371.23788539195226},null,null,null,null,null,null,{"$f":"Circuit1Details!I45*1000","v":1419.8055698821179},{"$f":"Circuit1Details!J45*1000","v":1495.3861068818583},{"$f":"Circuit1Details!K45*1000","v":153},{"$f":"Circuit1Details!L45*1000","v":110.87999999999998},null,{"$f":"Circuit1Details!N45*1000","v":63.36363636363636},{"$f":"Circuit1Details!O45*1000","v":78.718181818181833},{"$f":"Circuit1Details!P45*1000*Circuit1!$J$9/(Circuit1!$J$9+Circuit1!$J$12)","v":1146.9431034056979},{"$f":"Circuit1Details!P45*1000*Circuit1!$J$12/(Circuit1!$J$9+Circuit1!$J$12)","v":764.62873560379865},null,{"$f":"Circuit1Details!S45*1000","v":64.259999999999991},null,{"$f":"Circuit1Details!U45*1000","v":5.6426666666666705}]
[{"$f":"Circuit1Details!A46","v":27},{"$f":"Circuit1Details!B46*1000","v":390.51532540582167},null,null,null,null,null,null,{"$f":"Circuit1Details!I46*1000","v":1452.7315104529073},{"$f":"Circuit1Details!J46*1000","v":1572.907091345902},{"$f":"Circuit1Details!K46*1000","v":153},{"$f":"Circuit1Details!L46*1000","v":113.39999999999999},null,{"$f":"Circuit1Details!N46*1000","v":63.36363636363636},{"$f":"Circuit1Details!O46*1000","v":78.718181818181833},{"$f":"Circuit1Details!P46*1000*Circuit1!$J$9/(Circuit1!$J$9+Circuit1!$J$12)","v":1203.1495981999458},{"$f":"Circuit1Details!P46*1000*Circuit1!$J$12/(Circuit1!$J$9+Circuit1!$J$12)","v":802.09973213329727},null,{"$f":"Circuit1Details!S46*1000","v":64.259999999999991},null,{"$f":"Circuit1Details!U46*1000","v":5.6426666666666705}]
[{"$f":"Circuit1Details!A47","v":27.599999999999998},{"$f":"Circuit1Details!B47*1000","v":410.38505464660329},null,null,null,null,null,null,{"$f":"Circuit1Details!I47*1000","v":1485.8417706875655},{"$f":"Circuit1Details!J47*1000","v":1652.7250108435235},{"$f":"Circuit1Details!K47*1000","v":153},{"$f":"Circuit1Details!L47*1000","v":115.91999999999999},null,{"$f":"Circuit1Details!N47*1000","v":63.36363636363636},{"$f":"Circuit1Details!O47*1000","v":78.718181818181833},{"$f":"Circuit1Details!P47*1000*Circuit1!$J$9/(Circuit1!$J$9+Circuit1!$J$12)","v":1260.8466989649064},{"$f":"Circuit1Details!P47*1000*Circuit1!$J$12/(Circuit1!$J$9+Circuit1!$J$12)","v":840.5644659766042},null,{"$f":"Circuit1Details!S47*1000","v":64.259999999999991},null,{"$f":"Circuit1Details!U47*1000","v":5.6426666666666705}]
[{"$f":"Circuit1Details!A48","v":28.2},{"$f":"Circuit1Details!B48*1000","v":430.85438501713105},null,null,null,null,null,null,{"$f":"Circuit1Details!I48*1000","v":1519.1430094194598},{"$f":"Circuit1Details!J48*1000","v":1734.8499442816474},{"$f":"Circuit1Details!K48*1000","v":153},{"$f":"Circuit1Details!L48*1000","v":118.43999999999998},null,{"$f":"Circuit1Details!N48*1000","v":63.36363636363636},{"$f":"Circuit1Details!O48*1000","v":78.718181818181833},{"$f":"Circuit1Details!P48*1000*Circuit1!$J$9/(Circuit1!$J$9+Circuit1!$J$12)","v":1320.0392191812866},{"$f":"Circuit1Details!P48*1000*Circuit1!$J$12/(Circuit1!$J$9+Circuit1!$J$12)","v":880.02614612085779},null,{"$f":"Circuit1Details!S48*1000","v":64.259999999999991},null,{"$f":"Circuit1Details!U48*1000","v":5.6426666666666705}]
[{"$f":"Circuit1Details!A49","v":28.799999999999997},{"$f":"Circuit1Details!B49*1000","v":451.93060043855934},null,null,null,null,null,null,{"$f":"Circuit1Details!I49*1000","v":1552.6417295280767},{"$f":"Circuit1Details!J49*1000","v":1819.2904723864574},{"$f":"Circuit1Details!K49*1000","v":153},{"$f":"Circuit1Details!L49*1000","v":120.96},null,{"$f":"Circuit1Details!N49*1000","v":63.36363636363636},{"$f":"Circuit1Details!O49*1000","v":78.718181818181833},{"$f":"Circuit1Details!P49*1000*Circuit1!$J$9/(Circuit1!$J$9+Circuit1!$J$12)","v":1380.7314066350086},{"$f":"Circuit1Details!P49*1000*Circuit1!$J$12/(Circuit1!$J$9+Circuit1!$J$12)","v":920.48760442333912},null,{"$f":"Circuit1Details!S49*1000","v":64.259999999999991},null,{"$f":"Circuit1Details!U49*1000","v":5.6426666666666705}]
[{"$f":"Circuit1Details!A50","v":29.4},{"$f":"Circuit1Details!B50*1000","v":473.62095249930508},null,null,null,null,null,null,{"$f":"Circuit1Details!I50*1000","v":1586.3442770927484},{"$f":"Circuit1Details!J50*1000","v":1906.0537252366832},{"$f":"Circuit1Details!K50*1000","v":153},{"$f":"Circuit1Details!L50*1000","v":123.47999999999998},null,{"$f":"Circuit1Details!N50*1000","v":63.36363636363636},{"$f":"Circuit1Details!O50*1000","v":78.718181818181833},{"$f":"Circuit1Details!P50*1000*Circuit1!$J$9/(Circuit1!$J$9+Circuit1!$J$12)","v":1442.9269603511816},{"$f":"Circuit1Details!P50*1000*Circuit1!$J$12/(Circuit1!$J$9+Circuit1!$J$12)","v":961.95130690078781},null,{"$f":"Circuit1Details!S50*1000","v":64.259999999999991},null,{"$f":"Circuit1Details!U50*1000","v":5.6426666666666705}]
[{"$f":"Circuit1Details!A51","v":30},{"$f":"Circuit1Details!B51*1000","v":495.93265635903651},null,null,null,null,null,null,{"$f":"Circuit1Details!I51*1000","v":1620.2568402734405},{"$f":"Circuit1Details!J51*1000","v":1995.1454372664793},{"$f":"Circuit1Details!K51*1000","v":153},{"$f":"Circuit1Details!L51*1000","v":126},null,{"$f":"Circuit1Details!N51*1000","v":63.36363636363636},{"$f":"Circuit1Details!O51*1000","v":78.718181818181833},{"$f":"Circuit1Details!P51*1000*Circuit1!$J$9/(Circuit1!$J$9+Circuit1!$J$12)","v":1506.6290504401525},{"$f":"Circuit1Details!P51*1000*Circuit1!$J$12/(Circuit1!$J$9+Circuit1!$J$12)","v":1004.4193669601016},null,{"$f":"Circuit1Details!S51*1000","v":64.259999999999991},null,{"$f":"Circuit1Details!U51*1000","v":5.6426666666666705}]
[]
[]
[]
[]
[]
[]
[]
[]
[]
[]
[]
[]
[]
[]
[]
[]
[]
[]
[{"$f":"OFFSET(A1,$A$72,0)","v":27.599999999999998},{"$f":"OFFSET(B1,$A$72,0)+OFFSET(S1,$A$72,0)","v":474.64505464660328},0,0,0,0,0,0,{"$f":"OFFSET(I1,$A$72,0)","v":1485.8417706875655},{"$f":"OFFSET(J1,$A$72,0)","v":1652.7250108435235},{"$f":"OFFSET(K1,$A$72,0)","v":153},{"$f":"OFFSET(L1,$A$72,0)","v":115.91999999999999},null,{"$f":"OFFSET(N1,$A$72,0)","v":63.36363636363636},78.718181818181833,1260.8466989649064,840.5644659766042,0,64.259999999999991,0,5.6426666666666705]
[]
[46]
[{"$f":"A2","v":0.6}]
[1.2]
[1.7999999999999998]
[2.4]
[3]
[3.5999999999999996]
[4.2]
[4.8]
[5.3999999999999995]
[6]
[6.6]
[7.1999999999999993]
[7.8]
[8.4]
[9]
[9.6]
[10.199999999999999]
[10.799999999999999]
[11.4]
[12]
[12.6]
[13.2]
[13.799999999999999]
[14.399999999999999]
[15]
[15.6]
[16.2]
[16.8]
[17.399999999999999]
[18]
[18.599999999999998]
[19.2]
[19.8]
[20.399999999999999]
[21]
[21.599999999999998]
[{"$f":"A38","v":22.2}]
[22.8]
[23.4]
[24]
[24.599999999999998]
[20]
[25.8]
[26.4]
[27]
[27.599999999999998]
[28.2]
[28.799999999999997]
[29.4]
[30]

{"sheet":"Control2","index":11,"n_rows":122,"n_cols":21,"rows_kept":122,"cut":false,"hidden":true,"merged":[]}
["I(Load)","PHC",null,null,null,null,null,null,"PswHS","PconLS","PQrr","PDT",null,"PdrHS","PdrLS","Pw","P-PCB",null,"Pcsw",null,"Pesr"]
[{"$f":"Circuit2Details!A2","v":0.6},{"$f":"Circuit2Details!B2*1000","v":0.6508799999999999},null,null,null,null,null,null,{"$f":"Circuit2Details!I2*1000","v":66.669022634536418},{"$f":"Circuit2Details!J2*1000","v":2.5315199803104003},{"$f":"Circuit2Details!K2*1000","v":122.39999999999999},{"$f":"Circuit2Details!L2*1000","v":2.9609999999999999},null,{"$f":"Circuit2Details!N2*1000","v":56.36363636363636},{"$f":"Circuit2Details!O2*1000","v":71.718181818181833},{"$f":"Circuit2Details!P2*1000*Circuit2!$J$9/(Circuit2!$J$9+Circuit2!$J$12)","v":2.1599999999999997},{"$f":"Circuit2Details!P2*1000*Circuit2!$J$12/(Circuit2!$J$9+Circuit2!$J$12)","v":1.44},null,{"$f":"Circuit2Details!S2*1000","v":41.126400000000004},null,{"$f":"Circuit2Details!U2*1000","v":5.4003168185866901}]
[{"$f":"Circuit2Details!A3","v":1.2},{"$f":"Circuit2Details!B3*1000","v":1.8212161185514553},null,null,null,null,null,null,{"$f":"Circuit2Details!I3*1000","v":82.28866303456013},{"$f":"Circuit2Details!J3*1000","v":4.1589558781709259},{"$f":"Circuit2Details!K3*1000","v":122.39999999999999},{"$f":"Circuit2Details!L3*1000","v":5.9219999999999997},null,{"$f":"Circuit2Details!N3*1000","v":56.36363636363636},{"$f":"Circuit2Details!O3*1000","v":71.718181818181833},{"$f":"Circuit2Details!P3*1000*Circuit2!$J$9/(Circuit2!$J$9+Circuit2!$J$12)","v":3.7818944515609951},{"$f":"Circuit2Details!P3*1000*Circuit2!$J$12/(Circuit2!$J$9+Circuit2!$J$12)","v":2.5212629677073299},null,{"$f":"Circuit2Details!S3*1000","v":41.126400000000004},null,{"$f":"Circuit2Details!U3*1000","v":5.4003168185866901}]
[{"$f":"Circuit2Details!A4","v":1.7999999999999998},{"$f":"Circuit2Details!B4*1000","v":2.6042120276446283},null,null,null,null,null,null,{"$f":"Circuit2Details!I4*1000","v":97.521534596623184},{"$f":"Circuit2Details!J4*1000","v":7.3589522912490475},{"$f":"Circuit2Details!K4*1000","v":122.39999999999999},{"$f":"Circuit2Details!L4*1000","v":8.8829999999999991},null,{"$f":"Circuit2Details!N4*1000","v":56.36363636363636},{"$f":"Circuit2Details!O4*1000","v":71.718181818181833},{"$f":"Circuit2Details!P4*1000*Circuit2!$J$9/(Circuit2!$J$9+Circuit2!$J$12)","v":6.4859523861504327},{"$f":"Circuit2Details!P4*1000*Circuit2!$J$12/(Circuit2!$J$9+Circuit2!$J$12)","v":4.3239682574336218},null,{"$f":"Circuit2Details!S4*1000","v":41.126400000000004},null,{"$f":"Circuit2Details!U4*1000","v":5.4003168185866901}]
[{"$f":"Circuit2Details!A5","v":2.4},{"$f":"Circuit2Details!B5*1000","v":3.8608355045893745},null,null,null,null,null,null,{"$f":"Circuit2Details!I5*1000","v":124.30878800117692},{"$f":"Circuit2Details!J5*1000","v":11.782119545314711},{"$f":"Circuit2Details!K5*1000","v":122.39999999999999},{"$f":"Circuit2Details!L5*1000","v":11.843999999999999},null,{"$f":"Circuit2Details!N5*1000","v":56.36363636363636},{"$f":"Circuit2Details!O5*1000","v":71.718181818181833},{"$f":"Circuit2Details!P5*1000*Circuit2!$J$9/(Circuit2!$J$9+Circuit2!$J$12)","v":10.275156119885732},{"$f":"Circuit2Details!P5*1000*Circuit2!$J$12/(Circuit2!$J$9+Circuit2!$J$12)","v":6.8501040799238213},null,{"$f":"Circuit2Details!S5*1000","v":41.126400000000004},null,{"$f":"Circuit2Details!U5*1000","v":5.4003168185866901}]
[{"$f":"Circuit2Details!A6","v":3},{"$f":"Circuit2Details!B6*1000","v":5.5422631199577825},null,null,null,null,null,null,{"$f":"Circuit2Details!I6*1000","v":150.87220342377884},{"$f":"Circuit2Details!J6*1000","v":17.463947304642218},{"$f":"Circuit2Details!K6*1000","v":122.39999999999999},{"$f":"Circuit2Details!L6*1000","v":14.804999999999996},null,{"$f":"Circuit2Details!N6*1000","v":56.36363636363636},{"$f":"Circuit2Details!O6*1000","v":71.718181818181833},{"$f":"Circuit2Details!P6*1000*Circuit2!$J$9/(Circuit2!$J$9+Circuit2!$J$12)","v":15.15241719922297},{"$f":"Circuit2Details!P6*1000*Circuit2!$J$12/(Circuit2!$J$9+Circuit2!$J$12)","v":10.101611466148647},null,{"$f":"Circuit2Details!S6*1000","v":41.126400000000004},null,{"$f":"Circuit2Details!U6*1000","v":5.4003168185866901}]
[{"$f":"Circuit2Details!A7","v":3.5999999999999996},{"$f":"Circuit2Details!B7*1000","v":7.6177191586633271},null,null,null,null,null,null,{"$f":"Circuit2Details!I7*1000","v":177.22724876348036},{"$f":"Circuit2Details!J7*1000","v":24.426883616637042},{"$f":"Circuit2Details!K7*1000","v":122.39999999999999},{"$f":"Circuit2Details!L7*1000","v":17.765999999999998},null,{"$f":"Circuit2Details!N7*1000","v":56.36363636363636},{"$f":"Circuit2Details!O7*1000","v":71.718181818181833},{"$f":"Circuit2Details!P7*1000*Circuit2!$J$9/(Circuit2!$J$9+Circuit2!$J$12)","v":21.121509266001318},{"$f":"Circuit2Details!P7*1000*Circuit2!$J$12/(Circuit2!$J$9+Circuit2!$J$12)","v":14.081006177334212},null,{"$f":"Circuit2Details!S7*1000","v":41.126400000000004},null,{"$f":"Circuit2Details!U7*1000","v":5.4003168185866901}]
[{"$f":"Circuit2Details!A8","v":4.2},{"$f":"Circuit2Details!B8*1000","v":10.089851112808626},null,null,null,null,null,null,{"$f":"Circuit2Details!I8*1000","v":203.38879860777007},{"$f":"Circuit2Details!J8*1000","v":32.683716960699975},{"$f":"Circuit2Details!K8*1000","v":122.39999999999999},{"$f":"Circuit2Details!L8*1000","v":20.726999999999997},null,{"$f":"Circuit2Details!N8*1000","v":56.36363636363636},{"$f":"Circuit2Details!O8*1000","v":71.718181818181833},{"$f":"Circuit2Details!P8*1000*Circuit2!$J$9/(Circuit2!$J$9+Circuit2!$J$12)","v":28.186914185366355},{"$f":"Circuit2Details!P8*1000*Circuit2!$J$12/(Circuit2!$J$9+Circuit2!$J$12)","v":18.791276123577568},null,{"$f":"Circuit2Details!S8*1000","v":41.126400000000004},null,{"$f":"Circuit2Details!U8*1000","v":5.4003168185866901}]
[{"$f":"Circuit2Details!A9","v":4.8},{"$f":"Circuit2Details!B9*1000","v":12.964357387694637},null,null,null,null,null,null,{"$f":"Circuit2Details!I9*1000","v":229.37117118300264},{"$f":"Circuit2Details!J9*1000","v":42.247648117898613},{"$f":"Circuit2Details!K9*1000","v":122.39999999999999},{"$f":"Circuit2Details!L9*1000","v":23.687999999999999},null,{"$f":"Circuit2Details!N9*1000","v":56.36363636363636},{"$f":"Circuit2Details!O9*1000","v":71.718181818181833},{"$f":"Circuit2Details!P9*1000*Circuit2!$J$9/(Circuit2!$J$9+Circuit2!$J$12)","v":36.353793290941347},{"$f":"Circuit2Details!P9*1000*Circuit2!$J$12/(Circuit2!$J$9+Circuit2!$J$12)","v":24.235862193960898},null,{"$f":"Circuit2Details!S9*1000","v":41.126400000000004},null,{"$f":"Circuit2Details!U9*1000","v":5.4003168185866901}]
[{"$f":"Circuit2Details!A10","v":5.3999999999999995},{"$f":"Circuit2Details!B10*1000","v":16.24805778683632},null,null,null,null,null,null,{"$f":"Circuit2Details!I10*1000","v":255.18816264802925},{"$f":"Circuit2Details!J10*1000","v":53.133087658202363},{"$f":"Circuit2Details!K10*1000","v":122.39999999999999},{"$f":"Circuit2Details!L10*1000","v":26.648999999999997},null,{"$f":"Circuit2Details!N10*1000","v":56.36363636363636},{"$f":"Circuit2Details!O10*1000","v":71.718181818181833},{"$f":"Circuit2Details!P10*1000*Circuit2!$J$9/(Circuit2!$J$9+Circuit2!$J$12)","v":45.627979587699009},{"$f":"Circuit2Details!P10*1000*Circuit2!$J$12/(Circuit2!$J$9+Circuit2!$J$12)","v":30.418653058466003},null,{"$f":"Circuit2Details!S10*1000","v":41.126400000000004},null,{"$f":"Circuit2Details!U10*1000","v":5.4003168185866901}]
[{"$f":"Circuit2Details!A11","v":6},{"$f":"Circuit2Details!B11*1000","v":19.948274842581657},null,null,null,null,null,null,{"$f":"Circuit2Details!I11*1000","v":280.85307893848005},{"$f":"Circuit2Details!J11*1000","v":65.35587963022428},{"$f":"Circuit2Details!K11*1000","v":122.39999999999999},{"$f":"Circuit2Details!L11*1000","v":29.609999999999992},null,{"$f":"Circuit2Details!N11*1000","v":56.36363636363636},{"$f":"Circuit2Details!O11*1000","v":71.718181818181833},{"$f":"Circuit2Details!P11*1000*Circuit2!$J$9/(Circuit2!$J$9+Circuit2!$J$12)","v":56.01596104360037},{"$f":"Circuit2Details!P11*1000*Circuit2!$J$12/(Circuit2!$J$9+Circuit2!$J$12)","v":37.343974029066921},null,{"$f":"Circuit2Details!S11*1000","v":41.126400000000004},null,{"$f":"Circuit2Details!U11*1000","v":5.4003168185866901}]
[{"$f":"Circuit2Details!A12","v":6.6},{"$f":"Circuit2Details!B12*1000","v":24.072594303538441},null,null,null,null,null,null,{"$f":"Circuit2Details!I12*1000","v":306.37876534993126},{"$f":"Circuit2Details!J12*1000","v":78.933357565432885},{"$f":"Circuit2Details!K12*1000","v":122.39999999999999},{"$f":"Circuit2Details!L12*1000","v":32.570999999999991},null,{"$f":"Circuit2Details!N12*1000","v":56.36363636363636},{"$f":"Circuit2Details!O12*1000","v":71.718181818181833},{"$f":"Circuit2Details!P12*1000*Circuit2!$J$9/(Circuit2!$J$9+Circuit2!$J$12)","v":67.52486174847968},{"$f":"Circuit2Details!P12*1000*Circuit2!$J$12/(Circuit2!$J$9+Circuit2!$J$12)","v":45.016574498986451},null,{"$f":"Circuit2Details!S12*1000","v":41.126400000000004},null,{"$f":"Circuit2Details!U12*1000","v":5.4003168185866901}]
[{"$f":"Circuit2Details!A13","v":7.1999999999999993},{"$f":"Circuit2Details!B13*1000","v":28.628762483521744},null,null,null,null,null,null,{"$f":"Circuit2Details!I13*1000","v":331.77763403091728},{"$f":"Circuit2Details!J13*1000","v":93.884336205408331},{"$f":"Circuit2Details!K13*1000","v":122.39999999999999},{"$f":"Circuit2Details!L13*1000","v":35.531999999999996},null,{"$f":"Circuit2Details!N13*1000","v":56.36363636363636},{"$f":"Circuit2Details!O13*1000","v":71.718181818181833},{"$f":"Circuit2Details!P13*1000*Circuit2!$J$9/(Circuit2!$J$9+Circuit2!$J$12)","v":80.162420992902042},{"$f":"Circuit2Details!P13*1000*Circuit2!$J$12/(Circuit2!$J$9+Circuit2!$J$12)","v":53.441613995268028},null,{"$f":"Circuit2Details!S13*1000","v":41.126400000000004},null,{"$f":"Circuit2Details!U13*1000","v":5.4003168185866901}]
[{"$f":"Circuit2Details!A14","v":7.8},{"$f":"Circuit2Details!B14*1000","v":33.624639876695639},null,null,null,null,null,null,{"$f":"Circuit2Details!I14*1000","v":357.06168954121574},{"$f":"Circuit2Details!J14*1000","v":110.22907316939656},{"$f":"Circuit2Details!K14*1000","v":122.39999999999999},{"$f":"Circuit2Details!L14*1000","v":38.493000000000002},null,{"$f":"Circuit2Details!N14*1000","v":56.36363636363636},{"$f":"Circuit2Details!O14*1000","v":71.718181818181833},{"$f":"Circuit2Details!P14*1000*Circuit2!$J$9/(Circuit2!$J$9+Circuit2!$J$12)","v":93.936970190147278},{"$f":"Circuit2Details!P14*1000*Circuit2!$J$12/(Circuit2!$J$9+Circuit2!$J$12)","v":62.624646793431523},null,{"$f":"Circuit2Details!S14*1000","v":41.126400000000004},null,{"$f":"Circuit2Details!U14*1000","v":5.4003168185866901}]
[{"$f":"Circuit2Details!A15","v":8.4},{"$f":"Circuit2Details!B15*1000","v":39.068180117315279},null,null,null,null,null,null,{"$f":"Circuit2Details!I15*1000","v":382.2425526168484},{"$f":"Circuit2Details!J15*1000","v":127.98921356142115},{"$f":"Circuit2Details!K15*1000","v":122.39999999999999},{"$f":"Circuit2Details!L15*1000","v":41.453999999999994},null,{"$f":"Circuit2Details!N15*1000","v":56.36363636363636},{"$f":"Circuit2Details!O15*1000","v":71.718181818181833},{"$f":"Circuit2Details!P15*1000*Circuit2!$J$9/(Circuit2!$J$9+Circuit2!$J$12)","v":108.85740754620522},{"$f":"Circuit2Details!P15*1000*Circuit2!$J$12/(Circuit2!$J$9+Circuit2!$J$12)","v":72.571605030803482},null,{"$f":"Circuit2Details!S15*1000","v":41.126400000000004},null,{"$f":"Circuit2Details!U15*1000","v":5.4003168185866901}]
[{"$f":"Circuit2Details!A16","v":9},{"$f":"Circuit2Details!B16*1000","v":44.967421081857871},null,null,null,null,null,null,{"$f":"Circuit2Details!I16*1000","v":407.33148227063123},{"$f":"Circuit2Details!J16*1000","v":147.1877229685696},{"$f":"Circuit2Details!K16*1000","v":122.39999999999999},{"$f":"Circuit2Details!L16*1000","v":44.414999999999999},null,{"$f":"Circuit2Details!N16*1000","v":56.36363636363636},{"$f":"Circuit2Details!O16*1000","v":71.718181818181833},{"$f":"Circuit2Details!P16*1000*Circuit2!$J$9/(Circuit2!$J$9+Circuit2!$J$12)","v":124.93317038629102},{"$f":"Circuit2Details!P16*1000*Circuit2!$J$12/(Circuit2!$J$9+Circuit2!$J$12)","v":83.28878025752735},null,{"$f":"Circuit2Details!S16*1000","v":41.126400000000004},null,{"$f":"Circuit2Details!U16*1000","v":5.4003168185866901}]
[{"$f":"Circuit2Details!A17","v":9.6},{"$f":"Circuit2Details!B17*1000","v":51.330482007855124},null,null,null,null,null,null,{"$f":"Circuit2Details!I17*1000","v":432.33939634573557},{"$f":"Circuit2Details!J17*1000","v":167.84881131633455},{"$f":"Circuit2Details!K17*1000","v":122.39999999999999},{"$f":"Circuit2Details!L17*1000","v":47.375999999999998},null,{"$f":"Circuit2Details!N17*1000","v":56.36363636363636},{"$f":"Circuit2Details!O17*1000","v":71.718181818181833},{"$f":"Circuit2Details!P17*1000*Circuit2!$J$9/(Circuit2!$J$9+Circuit2!$J$12)","v":142.17420506006638},{"$f":"Circuit2Details!P17*1000*Circuit2!$J$12/(Circuit2!$J$9+Circuit2!$J$12)","v":94.78280337337759},null,{"$f":"Circuit2Details!S17*1000","v":41.126400000000004},null,{"$f":"Circuit2Details!U17*1000","v":5.4003168185866901}]
[{"$f":"Circuit2Details!A18","v":10.199999999999999},{"$f":"Circuit2Details!B18*1000","v":58.165563592240865},null,null,null,null,null,null,{"$f":"Circuit2Details!I18*1000","v":457.27689062944563},{"$f":"Circuit2Details!J18*1000","v":189.99784877960263},{"$f":"Circuit2Details!K18*1000","v":122.39999999999999},{"$f":"Circuit2Details!L18*1000","v":50.336999999999989},null,{"$f":"Circuit2Details!N18*1000","v":56.36363636363636},{"$f":"Circuit2Details!O18*1000","v":71.718181818181833},{"$f":"Circuit2Details!P18*1000*Circuit2!$J$9/(Circuit2!$J$9+Circuit2!$J$12)","v":160.5909343684387},{"$f":"Circuit2Details!P18*1000*Circuit2!$J$12/(Circuit2!$J$9+Circuit2!$J$12)","v":107.06062291229246},null,{"$f":"Circuit2Details!S18*1000","v":41.126400000000004},null,{"$f":"Circuit2Details!U18*1000","v":5.4003168185866901}]
[{"$f":"Circuit2Details!A19","v":10.799999999999999},{"$f":"Circuit2Details!B19*1000","v":65.480949480001129},null,null,null,null,null,null,{"$f":"Circuit2Details!I19*1000","v":482.15425662501639},{"$f":"Circuit2Details!J19*1000","v":213.66127439592378},{"$f":"Circuit2Details!K19*1000","v":122.39999999999999},{"$f":"Circuit2Details!L19*1000","v":53.297999999999995},null,{"$f":"Circuit2Details!N19*1000","v":56.36363636363636},{"$f":"Circuit2Details!O19*1000","v":71.718181818181833},{"$f":"Circuit2Details!P19*1000*Circuit2!$J$9/(Circuit2!$J$9+Circuit2!$J$12)","v":180.19422248148538},{"$f":"Circuit2Details!P19*1000*Circuit2!$J$12/(Circuit2!$J$9+Circuit2!$J$12)","v":120.1294816543236},null,{"$f":"Circuit2Details!S19*1000","v":41.126400000000004},null,{"$f":"Circuit2Details!U19*1000","v":5.4003168185866901}]
[{"$f":"Circuit2Details!A20","v":11.4},{"$f":"Circuit2Details!B20*1000","v":73.285008273858082},null,null,null,null,null,null,{"$f":"Circuit2Details!I20*1000","v":506.98149807113566},{"$f":"Circuit2Details!J20*1000","v":238.86649780069715},{"$f":"Circuit2Details!K20*1000","v":122.39999999999999},{"$f":"Circuit2Details!L20*1000","v":56.258999999999993},null,{"$f":"Circuit2Details!N20*1000","v":56.36363636363636},{"$f":"Circuit2Details!O20*1000","v":71.718181818181833},{"$f":"Circuit2Details!P20*1000*Circuit2!$J$9/(Circuit2!$J$9+Circuit2!$J$12)","v":200.99533734921593},{"$f":"Circuit2Details!P20*1000*Circuit2!$J$12/(Circuit2!$J$9+Circuit2!$J$12)","v":133.99689156614394},null,{"$f":"Circuit2Details!S20*1000","v":41.126400000000004},null,{"$f":"Circuit2Details!U20*1000","v":5.4003168185866901}]
[{"$f":"Circuit2Details!A21","v":12},{"$f":"Circuit2Details!B21*1000","v":81.586195571674864},null,null,null,null,null,null,{"$f":"Circuit2Details!I21*1000","v":531.76834629089126},{"$f":"Circuit2Details!J21*1000","v":265.64179443682934},{"$f":"Circuit2Details!K21*1000","v":122.39999999999999},{"$f":"Circuit2Details!L21*1000","v":59.219999999999985},null,{"$f":"Circuit2Details!N21*1000","v":56.36363636363636},{"$f":"Circuit2Details!O21*1000","v":71.718181818181833},{"$f":"Circuit2Details!P21*1000*Circuit2!$J$9/(Circuit2!$J$9+Circuit2!$J$12)","v":223.00591064406089},{"$f":"Circuit2Details!P21*1000*Circuit2!$J$12/(Circuit2!$J$9+Circuit2!$J$12)","v":148.67060709604061},null,{"$f":"Circuit2Details!S21*1000","v":41.126400000000004},null,{"$f":"Circuit2Details!U21*1000","v":5.4003168185866901}]
[{"$f":"Circuit2Details!A22","v":12.6},{"$f":"Circuit2Details!B22*1000","v":90.393055742973857},null,null,null,null,null,null,{"$f":"Circuit2Details!I22*1000","v":556.52427444526791},{"$f":"Circuit2Details!J22*1000","v":294.01619460904806},{"$f":"Circuit2Details!K22*1000","v":122.39999999999999},{"$f":"Circuit2Details!L22*1000","v":62.180999999999976},null,{"$f":"Circuit2Details!N22*1000","v":56.36363636363636},{"$f":"Circuit2Details!O22*1000","v":71.718181818181833},{"$f":"Circuit2Details!P22*1000*Circuit2!$J$9/(Circuit2!$J$9+Circuit2!$J$12)","v":246.23789531560641},{"$f":"Circuit2Details!P22*1000*Circuit2!$J$12/(Circuit2!$J$9+Circuit2!$J$12)","v":164.15859687707095},null,{"$f":"Circuit2Details!S22*1000","v":41.126400000000004},null,{"$f":"Circuit2Details!U22*1000","v":5.4003168185866901}]
[{"$f":"Circuit2Details!A23","v":13.2},{"$f":"Circuit2Details!B23*1000","v":99.714223271616149},null,null,null,null,null,null,{"$f":"Circuit2Details!I23*1000","v":581.25851075994683},{"$f":"Circuit2Details!J23*1000","v":324.01936681830932},{"$f":"Circuit2Details!K23*1000","v":122.39999999999999},{"$f":"Circuit2Details!L23*1000","v":65.141999999999982},null,{"$f":"Circuit2Details!N23*1000","v":56.36363636363636},{"$f":"Circuit2Details!O23*1000","v":71.718181818181833},{"$f":"Circuit2Details!P23*1000*Circuit2!$J$9/(Circuit2!$J$9+Circuit2!$J$12)","v":270.70352088342634},{"$f":"Circuit2Details!P23*1000*Circuit2!$J$12/(Circuit2!$J$9+Circuit2!$J$12)","v":180.46901392228423},null,{"$f":"Circuit2Details!S23*1000","v":41.126400000000004},null,{"$f":"Circuit2Details!U23*1000","v":5.4003168185866901}]
[{"$f":"Circuit2Details!A24","v":13.799999999999999},{"$f":"Circuit2Details!B24*1000","v":109.55842355936636},null,null,null,null,null,null,{"$f":"Circuit2Details!I24*1000","v":605.98005078854578},{"$f":"Circuit2Details!J24*1000","v":355.6814959046597},{"$f":"Circuit2Details!K24*1000","v":122.39999999999999},{"$f":"Circuit2Details!L24*1000","v":68.10299999999998},null,{"$f":"Circuit2Details!N24*1000","v":56.36363636363636},{"$f":"Circuit2Details!O24*1000","v":71.718181818181833},{"$f":"Circuit2Details!P24*1000*Circuit2!$J$9/(Circuit2!$J$9+Circuit2!$J$12)","v":296.41524664198795},{"$f":"Circuit2Details!P24*1000*Circuit2!$J$12/(Circuit2!$J$9+Circuit2!$J$12)","v":197.61016442799195},null,{"$f":"Circuit2Details!S24*1000","v":41.126400000000004},null,{"$f":"Circuit2Details!U24*1000","v":5.4003168185866901}]
[{"$f":"Circuit2Details!A25","v":14.399999999999999},{"$f":"Circuit2Details!B25*1000","v":119.93447312615882},null,null,null,null,null,null,{"$f":"Circuit2Details!I25*1000","v":630.69766877029519},{"$f":"Circuit2Details!J25*1000","v":389.03315663538865},{"$f":"Circuit2Details!K25*1000","v":122.39999999999999},{"$f":"Circuit2Details!L25*1000","v":71.063999999999993},null,{"$f":"Circuit2Details!N25*1000","v":56.36363636363636},{"$f":"Circuit2Details!O25*1000","v":71.718181818181833},{"$f":"Circuit2Details!P25*1000*Circuit2!$J$9/(Circuit2!$J$9+Circuit2!$J$12)","v":323.38571300139546},{"$f":"Circuit2Details!P25*1000*Circuit2!$J$12/(Circuit2!$J$9+Circuit2!$J$12)","v":215.59047533426366},null,{"$f":"Circuit2Details!S25*1000","v":41.126400000000004},null,{"$f":"Circuit2Details!U25*1000","v":5.4003168185866901}]
[{"$f":"Circuit2Details!A26","v":15},{"$f":"Circuit2Details!B26*1000","v":130.85127916894552},null,null,null,null,null,null,{"$f":"Circuit2Details!I26*1000","v":655.41992813551542},{"$f":"Circuit2Details!J26*1000","v":424.1051834910204},{"$f":"Circuit2Details!K26*1000","v":122.39999999999999},{"$f":"Circuit2Details!L26*1000","v":74.024999999999991},null,{"$f":"Circuit2Details!N26*1000","v":56.36363636363636},{"$f":"Circuit2Details!O26*1000","v":71.718181818181833},{"$f":"Circuit2Details!P26*1000*Circuit2!$J$9/(Circuit2!$J$9+Circuit2!$J$12)","v":351.62769123789519},{"$f":"Circuit2Details!P26*1000*Circuit2!$J$12/(Circuit2!$J$9+Circuit2!$J$12)","v":234.41846082526348},null,{"$f":"Circuit2Details!S26*1000","v":41.126400000000004},null,{"$f":"Circuit2Details!U26*1000","v":5.4003168185866901}]
[{"$f":"Circuit2Details!A27","v":15.6},{"$f":"Circuit2Details!B27*1000","v":142.31783845848216},null,null,null,null,null,null,{"$f":"Circuit2Details!I27*1000","v":680.15519120803935},{"$f":"Circuit2Details!J27*1000","v":460.92853751807553},{"$f":"Circuit2Details!K27*1000","v":122.39999999999999},{"$f":"Circuit2Details!L27*1000","v":76.986000000000004},null,{"$f":"Circuit2Details!N27*1000","v":56.36363636363636},{"$f":"Circuit2Details!O27*1000","v":71.718181818181833},{"$f":"Circuit2Details!P27*1000*Circuit2!$J$9/(Circuit2!$J$9+Circuit2!$J$12)","v":381.15403197714221},{"$f":"Circuit2Details!P27*1000*Circuit2!$J$12/(Circuit2!$J$9+Circuit2!$J$12)","v":254.1026879847615},null,{"$f":"Circuit2Details!S27*1000","v":41.126400000000004},null,{"$f":"Circuit2Details!U27*1000","v":5.4003168185866901}]
[{"$f":"Circuit2Details!A28","v":16.2},{"$f":"Circuit2Details!B28*1000","v":154.34323556597025},null,null,null,null,null,null,{"$f":"Circuit2Details!I28*1000","v":704.91162814991162},{"$f":"Circuit2Details!J28*1000","v":499.53417122897679},{"$f":"Circuit2Details!K28*1000","v":122.39999999999999},{"$f":"Circuit2Details!L28*1000","v":79.946999999999989},null,{"$f":"Circuit2Details!N28*1000","v":56.36363636363636},{"$f":"Circuit2Details!O28*1000","v":71.718181818181833},{"$f":"Circuit2Details!P28*1000*Circuit2!$J$9/(Circuit2!$J$9+Circuit2!$J$12)","v":411.97761277965685},{"$f":"Circuit2Details!P28*1000*Circuit2!$J$12/(Circuit2!$J$9+Circuit2!$J$12)","v":274.65174185310457},null,{"$f":"Circuit2Details!S28*1000","v":41.126400000000004},null,{"$f":"Circuit2Details!U28*1000","v":5.4003168185866901}]
[{"$f":"Circuit2Details!A29","v":16.8},{"$f":"Circuit2Details!B29*1000","v":166.93664042123888},null,null,null,null,null,null,{"$f":"Circuit2Details!I29*1000","v":729.69722519024253},{"$f":"Circuit2Details!J29*1000","v":539.95289263081122},{"$f":"Circuit2Details!K29*1000","v":122.39999999999999},{"$f":"Circuit2Details!L29*1000","v":82.907999999999987},null,{"$f":"Circuit2Details!N29*1000","v":56.36363636363636},{"$f":"Circuit2Details!O29*1000","v":71.718181818181833},{"$f":"Circuit2Details!P29*1000*Circuit2!$J$9/(Circuit2!$J$9+Circuit2!$J$12)","v":444.11128524004027},{"$f":"Circuit2Details!P29*1000*Circuit2!$J$12/(Circuit2!$J$9+Circuit2!$J$12)","v":296.07419016002683},null,{"$f":"Circuit2Details!S29*1000","v":41.126400000000004},null,{"$f":"Circuit2Details!U29*1000","v":5.4003168185866901}]
[{"$f":"Circuit2Details!A30","v":17.399999999999999},{"$f":"Circuit2Details!B30*1000","v":180.10730521237181},null,null,null,null,null,null,{"$f":"Circuit2Details!I30*1000","v":754.51979217696294},{"$f":"Circuit2Details!J30*1000","v":582.21522955120565},{"$f":"Circuit2Details!K30*1000","v":122.39999999999999},{"$f":"Circuit2Details!L30*1000","v":85.868999999999986},null,{"$f":"Circuit2Details!N30*1000","v":56.36363636363636},{"$f":"Circuit2Details!O30*1000","v":71.718181818181833},{"$f":"Circuit2Details!P30*1000*Circuit2!$J$9/(Circuit2!$J$9+Circuit2!$J$12)","v":477.56782204775163},{"$f":"Circuit2Details!P30*1000*Circuit2!$J$12/(Circuit2!$J$9+Circuit2!$J$12)","v":318.37854803183438},null,{"$f":"Circuit2Details!S30*1000","v":41.126400000000004},null,{"$f":"Circuit2Details!U30*1000","v":5.4003168185866901}]
[{"$f":"Circuit2Details!A31","v":18},{"$f":"Circuit2Details!B31*1000","v":193.86456064404555},null,null,null,null,null,null,{"$f":"Circuit2Details!I31*1000","v":779.38696948739857},{"$f":"Circuit2Details!J31*1000","v":626.35129549698001},{"$f":"Circuit2Details!K31*1000","v":122.39999999999999},{"$f":"Circuit2Details!L31*1000","v":88.83},null,{"$f":"Circuit2Details!N31*1000","v":56.36363636363636},{"$f":"Circuit2Details!O31*1000","v":71.718181818181833},{"$f":"Circuit2Details!P31*1000*Circuit2!$J$9/(Circuit2!$J$9+Circuit2!$J$12)","v":512.3598644860042},{"$f":"Circuit2Details!P31*1000*Circuit2!$J$12/(Circuit2!$J$9+Circuit2!$J$12)","v":341.57324299066943},null,{"$f":"Circuit2Details!S31*1000","v":41.126400000000004},null,{"$f":"Circuit2Details!U31*1000","v":5.4003168185866901}]
[{"$f":"Circuit2Details!A32","v":18.599999999999998},{"$f":"Circuit2Details!B32*1000","v":208.21781157873525},null,null,null,null,null,null,{"$f":"Circuit2Details!I32*1000","v":804.30623433103324},{"$f":"Circuit2Details!J32*1000","v":672.39065832578478},{"$f":"Circuit2Details!K32*1000","v":122.39999999999999},{"$f":"Circuit2Details!L32*1000","v":91.790999999999968},null,{"$f":"Circuit2Details!N32*1000","v":56.36363636363636},{"$f":"Circuit2Details!O32*1000","v":71.718181818181833},{"$f":"Circuit2Details!P32*1000*Circuit2!$J$9/(Circuit2!$J$9+Circuit2!$J$12)","v":548.49987086519855},{"$f":"Circuit2Details!P32*1000*Circuit2!$J$12/(Circuit2!$J$9+Circuit2!$J$12)","v":365.66658057679905},null,{"$f":"Circuit2Details!S32*1000","v":41.126400000000004},null,{"$f":"Circuit2Details!U32*1000","v":5.4003168185866901}]
[{"$f":"Circuit2Details!A33","v":19.2},{"$f":"Circuit2Details!B33*1000","v":223.17653209153121},null,null,null,null,null,null,{"$f":"Circuit2Details!I33*1000","v":829.28490647552337},{"$f":"Circuit2Details!J33*1000","v":720.36221302950241},{"$f":"Circuit2Details!K33*1000","v":122.39999999999999},{"$f":"Circuit2Details!L33*1000","v":94.751999999999995},null,{"$f":"Circuit2Details!N33*1000","v":56.36363636363636},{"$f":"Circuit2Details!O33*1000","v":71.718181818181833},{"$f":"Circuit2Details!P33*1000*Circuit2!$J$9/(Circuit2!$J$9+Circuit2!$J$12)","v":586.00006639710614},{"$f":"Circuit2Details!P33*1000*Circuit2!$J$12/(Circuit2!$J$9+Circuit2!$J$12)","v":390.66671093140405},null,{"$f":"Circuit2Details!S33*1000","v":41.126400000000004},null,{"$f":"Circuit2Details!U33*1000","v":5.4003168185866901}]
[{"$f":"Circuit2Details!A34","v":19.8},{"$f":"Circuit2Details!B34*1000","v":238.75025997562292},null,null,null,null,null,null,{"$f":"Circuit2Details!I34*1000","v":854.33015342495582},{"$f":"Circuit2Details!J34*1000","v":770.29405991853776},{"$f":"Circuit2Details!K34*1000","v":122.39999999999999},{"$f":"Circuit2Details!L34*1000","v":97.712999999999994},null,{"$f":"Circuit2Details!N34*1000","v":56.36363636363636},{"$f":"Circuit2Details!O34*1000","v":71.718181818181833},{"$f":"Circuit2Details!P34*1000*Circuit2!$J$9/(Circuit2!$J$9+Circuit2!$J$12)","v":624.87239501481031},{"$f":"Circuit2Details!P34*1000*Circuit2!$J$12/(Circuit2!$J$9+Circuit2!$J$12)","v":416.58159667654019},null,{"$f":"Circuit2Details!S34*1000","v":41.126400000000004},null,{"$f":"Circuit2Details!U34*1000","v":5.4003168185866901}]
[{"$f":"Circuit2Details!A35","v":20.399999999999999},{"$f":"Circuit2Details!B35*1000","v":254.94859074151304},null,null,null,null,null,null,{"$f":"Circuit2Details!I35*1000","v":879.44899507748391},{"$f":"Circuit2Details!J35*1000","v":822.21338945701973},{"$f":"Circuit2Details!K35*1000","v":122.39999999999999},{"$f":"Circuit2Details!L35*1000","v":100.67399999999998},null,{"$f":"Circuit2Details!N35*1000","v":56.36363636363636},{"$f":"Circuit2Details!O35*1000","v":71.718181818181833},{"$f":"Circuit2Details!P35*1000*Circuit2!$J$9/(Circuit2!$J$9+Circuit2!$J$12)","v":665.12847363073593},{"$f":"Circuit2Details!P35*1000*Circuit2!$J$12/(Circuit2!$J$9+Circuit2!$J$12)","v":443.41898242049064},null,{"$f":"Circuit2Details!S35*1000","v":41.126400000000004},null,{"$f":"Circuit2Details!U35*1000","v":5.4003168185866901}]
[{"$f":"Circuit2Details!A36","v":21},{"$f":"Circuit2Details!B36*1000","v":271.78117115861613},null,null,null,null,null,null,{"$f":"Circuit2Details!I36*1000","v":904.64830788781296},{"$f":"Circuit2Details!J36*1000","v":876.14637493008081},{"$f":"Circuit2Details!K36*1000","v":122.39999999999999},{"$f":"Circuit2Details!L36*1000","v":103.63499999999999},null,{"$f":"Circuit2Details!N36*1000","v":56.36363636363636},{"$f":"Circuit2Details!O36*1000","v":71.718181818181833},{"$f":"Circuit2Details!P36*1000*Circuit2!$J$9/(Circuit2!$J$9+Circuit2!$J$12)","v":706.77954930073804},{"$f":"Circuit2Details!P36*1000*Circuit2!$J$12/(Circuit2!$J$9+Circuit2!$J$12)","v":471.18636620049199},null,{"$f":"Circuit2Details!S36*1000","v":41.126400000000004},null,{"$f":"Circuit2Details!U36*1000","v":5.4003168185866901}]
[{"$f":"Circuit2Details!A37","v":21.599999999999998},{"$f":"Circuit2Details!B37*1000","v":289.25769239294726},null,null,null,null,null,null,{"$f":"Circuit2Details!I37*1000","v":929.93482855851335},{"$f":"Circuit2Details!J37*1000","v":932.11807402683417},{"$f":"Circuit2Details!K37*1000","v":122.39999999999999},{"$f":"Circuit2Details!L37*1000","v":106.59599999999999},null,{"$f":"Circuit2Details!N37*1000","v":56.36363636363636},{"$f":"Circuit2Details!O37*1000","v":71.718181818181833},{"$f":"Circuit2Details!P37*1000*Circuit2!$J$9/(Circuit2!$J$9+Circuit2!$J$12)","v":749.83645972656268},{"$f":"Circuit2Details!P37*1000*Circuit2!$J$12/(Circuit2!$J$9+Circuit2!$J$12)","v":499.89097315104181},null,{"$f":"Circuit2Details!S37*1000","v":41.126400000000004},null,{"$f":"Circuit2Details!U37*1000","v":5.4003168185866901}]
[{"$f":"Circuit2Details!A38","v":22.2},{"$f":"Circuit2Details!B38*1000","v":307.38788279899182},null,null,null,null,null,null,{"$f":"Circuit2Details!I38*1000","v":955.31515728283591},{"$f":"Circuit2Details!J38*1000","v":990.15234029838757},{"$f":"Circuit2Details!K38*1000","v":122.39999999999999},{"$f":"Circuit2Details!L38*1000","v":109.55699999999999},null,{"$f":"Circuit2Details!N38*1000","v":56.36363636363636},{"$f":"Circuit2Details!O38*1000","v":71.718181818181833},{"$f":"Circuit2Details!P38*1000*Circuit2!$J$9/(Circuit2!$J$9+Circuit2!$J$12)","v":794.30959748272869},{"$f":"Circuit2Details!P38*1000*Circuit2!$J$12/(Circuit2!$J$9+Circuit2!$J$12)","v":529.53973165515242},null,{"$f":"Circuit2Details!S38*1000","v":41.126400000000004},null,{"$f":"Circuit2Details!U38*1000","v":5.4003168185866901}]
[{"$f":"Circuit2Details!A39","v":22.8},{"$f":"Circuit2Details!B39*1000","v":326.18150042741809},null,null,null,null,null,null,{"$f":"Circuit2Details!I39*1000","v":980.79576056052088},{"$f":"Circuit2Details!J39*1000","v":1050.2717453024331},{"$f":"Circuit2Details!K39*1000","v":122.39999999999999},{"$f":"Circuit2Details!L39*1000","v":112.51799999999999},null,{"$f":"Circuit2Details!N39*1000","v":56.36363636363636},{"$f":"Circuit2Details!O39*1000","v":71.718181818181833},{"$f":"Circuit2Details!P39*1000*Circuit2!$J$9/(Circuit2!$J$9+Circuit2!$J$12)","v":840.20887829818753},{"$f":"Circuit2Details!P39*1000*Circuit2!$J$12/(Circuit2!$J$9+Circuit2!$J$12)","v":560.13925219879161},null,{"$f":"Circuit2Details!S39*1000","v":41.126400000000004},null,{"$f":"Circuit2Details!U39*1000","v":5.4003168185866901}]
[{"$f":"Circuit2Details!A40","v":23.4},{"$f":"Circuit2Details!B40*1000","v":345.64832531295809},null,null,null,null,null,null,{"$f":"Circuit2Details!I40*1000","v":1006.3829736070811},{"$f":"Circuit2Details!J40*1000","v":1112.4975120787201},{"$f":"Circuit2Details!K40*1000","v":122.39999999999999},{"$f":"Circuit2Details!L40*1000","v":115.47899999999998},null,{"$f":"Circuit2Details!N40*1000","v":56.36363636363636},{"$f":"Circuit2Details!O40*1000","v":71.718181818181833},{"$f":"Circuit2Details!P40*1000*Circuit2!$J$9/(Circuit2!$J$9+Circuit2!$J$12)","v":887.54371365957627},{"$f":"Circuit2Details!P40*1000*Circuit2!$J$12/(Circuit2!$J$9+Circuit2!$J$12)","v":591.69580910638422},null,{"$f":"Circuit2Details!S40*1000","v":41.126400000000004},null,{"$f":"Circuit2Details!U40*1000","v":5.4003168185866901}]
[{"$f":"Circuit2Details!A41","v":24},{"$f":"Circuit2Details!B41*1000","v":365.79815160842821},null,null,null,null,null,null,{"$f":"Circuit2Details!I41*1000","v":1032.0830023761355},{"$f":"Circuit2Details!J41*1000","v":1176.8494604179321},{"$f":"Circuit2Details!K41*1000","v":122.39999999999999},{"$f":"Circuit2Details!L41*1000","v":118.43999999999997},null,{"$f":"Circuit2Details!N41*1000","v":56.36363636363636},{"$f":"Circuit2Details!O41*1000","v":71.718181818181833},{"$f":"Circuit2Details!P41*1000*Circuit2!$J$9/(Circuit2!$J$9+Circuit2!$J$12)","v":936.32298793327936},{"$f":"Circuit2Details!P41*1000*Circuit2!$J$12/(Circuit2!$J$9+Circuit2!$J$12)","v":624.21532528885291},null,{"$f":"Circuit2Details!S41*1000","v":41.126400000000004},null,{"$f":"Circuit2Details!U41*1000","v":5.4003168185866901}]
[{"$f":"Circuit2Details!A42","v":24.599999999999998},{"$f":"Circuit2Details!B42*1000","v":386.64077963144484},null,null,null,null,null,null,{"$f":"Circuit2Details!I42*1000","v":1057.9019252135881},{"$f":"Circuit2Details!J42*1000","v":1243.3459641955835},{"$f":"Circuit2Details!K42*1000","v":122.39999999999999},{"$f":"Circuit2Details!L42*1000","v":121.40099999999998},null,{"$f":"Circuit2Details!N42*1000","v":56.36363636363636},{"$f":"Circuit2Details!O42*1000","v":71.718181818181833},{"$f":"Circuit2Details!P42*1000*Circuit2!$J$9/(Circuit2!$J$9+Circuit2!$J$12)","v":986.5550401300145},{"$f":"Circuit2Details!P42*1000*Circuit2!$J$12/(Circuit2!$J$9+Circuit2!$J$12)","v":657.7033600866763},null,{"$f":"Circuit2Details!S42*1000","v":41.126400000000004},null,{"$f":"Circuit2Details!U42*1000","v":5.4003168185866901}]
[{"$f":"Circuit2Details!A43","v":25.2},{"$f":"Circuit2Details!B43*1000","v":408.18600788989465},null,null,null,null,null,null,{"$f":"Circuit2Details!I43*1000","v":1083.8456941618074},{"$f":"Circuit2Details!J43*1000","v":1312.0039208483372},{"$f":"Circuit2Details!K43*1000","v":122.39999999999999},{"$f":"Circuit2Details!L43*1000","v":124.36199999999995},null,{"$f":"Circuit2Details!N43*1000","v":56.36363636363636},{"$f":"Circuit2Details!O43*1000","v":71.718181818181833},{"$f":"Circuit2Details!P43*1000*Circuit2!$J$9/(Circuit2!$J$9+Circuit2!$J$12)","v":1038.2476503604473},{"$f":"Circuit2Details!P43*1000*Circuit2!$J$12/(Circuit2!$J$9+Circuit2!$J$12)","v":692.16510024029833},null,{"$f":"Circuit2Details!S43*1000","v":41.126400000000004},null,{"$f":"Circuit2Details!U43*1000","v":5.4003168185866901}]
[{"$f":"Circuit2Details!A44","v":25.8},{"$f":"Circuit2Details!B44*1000","v":430.44362515063636},null,null,null,null,null,null,{"$f":"Circuit2Details!I44*1000","v":1109.9201359313508},{"$f":"Circuit2Details!J44*1000","v":1382.8387328782981},{"$f":"Circuit2Details!K44*1000","v":122.39999999999999},{"$f":"Circuit2Details!L44*1000","v":127.32299999999999},null,{"$f":"Circuit2Details!N44*1000","v":56.36363636363636},{"$f":"Circuit2Details!O44*1000","v":71.718181818181833},{"$f":"Circuit2Details!P44*1000*Circuit2!$J$9/(Circuit2!$J$9+Circuit2!$J$12)","v":1091.4080309556396},{"$f":"Circuit2Details!P44*1000*Circuit2!$J$12/(Circuit2!$J$9+Circuit2!$J$12)","v":727.60535397042634},null,{"$f":"Circuit2Details!S44*1000","v":41.126400000000004},null,{"$f":"Circuit2Details!U44*1000","v":5.4003168185866901}]
[{"$f":"Circuit2Details!A45","v":26.4},{"$f":"Circuit2Details!B45*1000","v":453.42340261332708},null,null,null,null,null,null,{"$f":"Circuit2Details!I45*1000","v":1136.1309525573599},{"$f":"Circuit2Details!J45*1000","v":1455.8643010870421},{"$f":"Circuit2Details!K45*1000","v":122.39999999999999},{"$f":"Circuit2Details!L45*1000","v":130.28399999999996},null,{"$f":"Circuit2Details!N45*1000","v":56.36363636363636},{"$f":"Circuit2Details!O45*1000","v":71.718181818181833},{"$f":"Circuit2Details!P45*1000*Circuit2!$J$9/(Circuit2!$J$9+Circuit2!$J$12)","v":1146.0428221541829},{"$f":"Circuit2Details!P45*1000*Circuit2!$J$12/(Circuit2!$J$9+Circuit2!$J$12)","v":764.0285481027887},null,{"$f":"Circuit2Details!S45*1000","v":41.126400000000004},null,{"$f":"Circuit2Details!U45*1000","v":5.4003168185866901}]
[{"$f":"Circuit2Details!A46","v":27},{"$f":"Circuit2Details!B46*1000","v":477.13508624774431},null,null,null,null,null,null,{"$f":"Circuit2Details!I46*1000","v":1162.4837217573188},{"$f":"Circuit2Details!J46*1000","v":1531.09302907036},{"$f":"Circuit2Details!K46*1000","v":122.39999999999999},{"$f":"Circuit2Details!L46*1000","v":133.245},null,{"$f":"Circuit2Details!N46*1000","v":56.36363636363636},{"$f":"Circuit2Details!O46*1000","v":71.718181818181833},{"$f":"Circuit2Details!P46*1000*Circuit2!$J$9/(Circuit2!$J$9+Circuit2!$J$12)","v":1202.1580921906268},{"$f":"Circuit2Details!P46*1000*Circuit2!$J$12/(Circuit2!$J$9+Circuit2!$J$12)","v":801.43872812708457},null,{"$f":"Circuit2Details!S46*1000","v":41.126400000000004},null,{"$f":"Circuit2Details!U46*1000","v":5.4003168185866901}]
[{"$f":"Circuit2Details!A47","v":27.599999999999998},{"$f":"Circuit2Details!B47*1000","v":501.58838934862706},null,null,null,null,null,null,{"$f":"Circuit2Details!I47*1000","v":1188.9838970065846},{"$f":"Circuit2Details!J47*1000","v":1608.5358383514094},{"$f":"Circuit2Details!K47*1000","v":122.39999999999999},{"$f":"Circuit2Details!L47*1000","v":136.20599999999996},null,{"$f":"Circuit2Details!N47*1000","v":56.36363636363636},{"$f":"Circuit2Details!O47*1000","v":71.718181818181833},{"$f":"Circuit2Details!P47*1000*Circuit2!$J$9/(Circuit2!$J$9+Circuit2!$J$12)","v":1259.759341558987},{"$f":"Circuit2Details!P47*1000*Circuit2!$J$12/(Circuit2!$J$9+Circuit2!$J$12)","v":839.83956103932474},null,{"$f":"Circuit2Details!S47*1000","v":41.126400000000004},null,{"$f":"Circuit2Details!U47*1000","v":5.4003168185866901}]
[{"$f":"Circuit2Details!A48","v":28.2},{"$f":"Circuit2Details!B48*1000","v":526.79298535705129},null,null,null,null,null,null,{"$f":"Circuit2Details!I48*1000","v":1215.6368073478488},{"$f":"Circuit2Details!J48*1000","v":1688.2021933976366},{"$f":"Circuit2Details!K48*1000","v":122.39999999999999},{"$f":"Circuit2Details!L48*1000","v":139.16699999999997},null,{"$f":"Circuit2Details!N48*1000","v":56.36363636363636},{"$f":"Circuit2Details!O48*1000","v":71.718181818181833},{"$f":"Circuit2Details!P48*1000*Circuit2!$J$9/(Circuit2!$J$9+Circuit2!$J$12)","v":1318.851511172265},{"$f":"Circuit2Details!P48*1000*Circuit2!$J$12/(Circuit2!$J$9+Circuit2!$J$12)","v":879.23434078151001},null,{"$f":"Circuit2Details!S48*1000","v":41.126400000000004},null,{"$f":"Circuit2Details!U48*1000","v":5.4003168185866901}]
[{"$f":"Circuit2Details!A49","v":28.799999999999997},{"$f":"Circuit2Details!B49*1000","v":552.75850099180241},null,null,null,null,null,null,{"$f":"Circuit2Details!I49*1000","v":1242.447656950508},{"$f":"Circuit2Details!J49*1000","v":1770.1001356580737},{"$f":"Circuit2Details!K49*1000","v":122.39999999999999},{"$f":"Circuit2Details!L49*1000","v":142.12799999999999},null,{"$f":"Circuit2Details!N49*1000","v":56.36363636363636},{"$f":"Circuit2Details!O49*1000","v":71.718181818181833},{"$f":"Circuit2Details!P49*1000*Circuit2!$J$9/(Circuit2!$J$9+Circuit2!$J$12)","v":1379.4389940949004},{"$f":"Circuit2Details!P49*1000*Circuit2!$J$12/(Circuit2!$J$9+Circuit2!$J$12)","v":919.62599606326694},null,{"$f":"Circuit2Details!S49*1000","v":41.126400000000004},null,{"$f":"Circuit2Details!U49*1000","v":5.4003168185866901}]
[{"$f":"Circuit2Details!A50","v":29.4},{"$f":"Circuit2Details!B50*1000","v":579.49450972831085},null,null,null,null,null,null,{"$f":"Circuit2Details!I50*1000","v":1269.4215244358008},{"$f":"Circuit2Details!J50*1000","v":1854.2363256739825},{"$f":"Circuit2Details!K50*1000","v":122.39999999999999},{"$f":"Circuit2Details!L50*1000","v":145.08899999999997},null,{"$f":"Circuit2Details!N50*1000","v":56.36363636363636},{"$f":"Circuit2Details!O50*1000","v":71.718181818181833},{"$f":"Circuit2Details!P50*1000*Circuit2!$J$9/(Circuit2!$J$9+Circuit2!$J$12)","v":1441.5256504907547},{"$f":"Circuit2Details!P50*1000*Circuit2!$J$12/(Circuit2!$J$9+Circuit2!$J$12)","v":961.01710032716983},null,{"$f":"Circuit2Details!S50*1000","v":41.126400000000004},null,{"$f":"Circuit2Details!U50*1000","v":5.4003168185866901}]
[{"$f":"Circuit2Details!A51","v":30},{"$f":"Circuit2Details!B51*1000","v":607.01052565659052},null,null,null,null,null,null,{"$f":"Circuit2Details!I51*1000","v":1296.5633619834973},{"$f":"Circuit2Details!J51*1000","v":1940.6160922578097},{"$f":"Circuit2Details!K51*1000","v":122.39999999999999},{"$f":"Circuit2Details!L51*1000","v":148.04999999999998},null,{"$f":"Circuit2Details!N51*1000","v":56.36363636363636},{"$f":"Circuit2Details!O51*1000","v":71.718181818181833},{"$f":"Circuit2Details!P51*1000*Circuit2!$J$9/(Circuit2!$J$9+Circuit2!$J$12)","v":1505.1148254047316},{"$f":"Circuit2Details!P51*1000*Circuit2!$J$12/(Circuit2!$J$9+Circuit2!$J$12)","v":1003.4098836031544},null,{"$f":"Circuit2Details!S51*1000","v":41.126400000000004},null,{"$f":"Circuit2Details!U51*1000","v":5.4003168185866901}]
[]
[]
[]
[]
[]
[]
[]
[]
[]
[]
[]
[]
[]
[]
[]
[]
[]
[]
[{"$f":"OFFSET(A1,$A$72,0)","v":27},{"$f":"OFFSET(B1,$A$72,0)+OFFSET(S1,$A$72,0)","v":518.2614862477443},{"$f":"OFFSET(C1,$A$72,0)","v":0},0,0,0,0,0,{"$f":"OFFSET(I1,$A$72,0)","v":1162.4837217573188},{"$f":"OFFSET(J1,$A$72,0)","v":1531.09302907036},{"$f":"OFFSET(K1,$A$72,0)","v":122.39999999999999},{"$f":"OFFSET(L1,$A$72,0)","v":133.245},null,{"$f":"OFFSET(N1,$A$72,0)","v":56.36363636363636},71.718181818181833,1202.1580921906268,801.43872812708457,0,41.126400000000004,0,5.4003168185866901]
[]
[45]
[{"$f":"A2","v":0.6}]
[1.2]
[1.7999999999999998]
[2.4]
[3]
[3.5999999999999996]
[4.2]
[4.8]
[5.3999999999999995]
[6]
[6.6]
[7.1999999999999993]
[7.8]
[8.4]
[9]
[9.6]
[10.199999999999999]
[10.799999999999999]
[11.4]
[12]
[12.6]
[13.2]
[13.799999999999999]
[14.399999999999999]
[15]
[15.6]
[16.2]
[16.8]
[17.399999999999999]
[18]
[18.599999999999998]
[19.2]
[19.8]
[20.399999999999999]
[21]
[21.599999999999998]
[22.2]
[22.8]
[23.4]
[24]
[24.599999999999998]
[25.2]
[25.8]
[26.4]
[27]
[27.599999999999998]
[28.2]
[28.799999999999997]
[29.4]
[30]

{"sheet":"MOSFETSelector","index":12,"n_rows":1010,"n_cols":26,"rows_kept":1010,"cut":false,"hidden":false,"merged":[[1,12,14,14],[15,12,29,14],[0,0,0,14],[32,0,32,4],[18,0,18,2],[12,7,13,7],[32,7,33,14]]}
[{"$f":"CONCATENATE(\"T3 MOSFET Suggestions for \", F15,\"x\",F20,\" Configration \n@Vin=\",B3,\"V;Vout=\",B4,\"V;Iout=\",B10,\"A;fs=\",B5,\"kHz;\",\"Driver=\",F3,\"(\",F4,\"V)\")","v":"T3 MOSFET Suggestions for 1x1 Configration \n@Vin=15V;Vout=1.2V;Iout=30A;fs=300kHz;Driver=NCP5911(6.5V)"}]
["Buck Circuit Parameters:",null,null,"Driver Parameters:",null,null,null,"Desired Efficiency","at Percentage of \nLoad Current","Single MOSFET Pairs or\nDual MOSFETs","Desired Package for HS","Desired Package for LS"]
["Input Voltage ",15,"V",null,"Driver ","NCP5911",null,0.6,0.5,"Single MOSFET Pairs","u-8FL","SO−8FL"]
["Output Voltage",1.2,"V","Driver Voltage Vdr","Vcc",6.5,"V"]
["Switching Frequency",300,"kHz","Sourcing Resistance @ HS",null,{"$f":"IF(ISNUMBER(VLOOKUP(F3,[1]Drivers!A1:J20,3,0)), VLOOKUP(F3,[1]Drivers!A1:J20,3,0),0.001)","v":0.9},"Ω"]
["Duty Cycle",{"$f":"B4/B3","v":0.08},null,"Sinking Resistance @ HS",null,{"$f":"IF(ISNUMBER(VLOOKUP(F3,[1]Drivers!A1:J20,4,0)), VLOOKUP(F3,[1]Drivers!A1:J20,4,0),0.7)","v":0.7},"Ω"]
["Period Ts (s)",{"$f":"1/B5/1000*1000000","v":3.3333333333333339},"us","Rise Delay Timet","tpdHDRVH",{"$f":"IF(ISNUMBER(VLOOKUP(F3,[1]Drivers!A1:J20,5,0)), VLOOKUP(F3,[1]Drivers!A1:J20,5,0),0.00000003)","v":29.999999999999996},"ns"]
["Current Ripple Peak-to-Avg",{"$f":"B6*B7*0.000001*(B3-B4)/F30/2*1000000","v":1.8400000000000005},"A","Fall Delay Time","tpdLDRVH",{"$f":"IF(ISNUMBER(VLOOKUP(F3,[1]Drivers!A1:J20,6,0)), VLOOKUP(F3,[1]Drivers!A1:J20,6,0),0.000000015)","v":15},"ns","Final Suggestions for MOSFET Pairs are:"]
["Voltage Ripple",{"$f":"0.5*B8*0.5*B7*0.000001/F25*1000000*1000+B8*F24","v":26.624242424242436},"mV","Quiescent Current",null,{"$f":"IF(ISNUMBER(VLOOKUP(F3,[1]Drivers!A1:J20,8,0)), VLOOKUP(F3,[1]Drivers!A1:J20,8,0),0.001)","v":1},"mA",null,"HS MOSFET","LS MOSFET","Efficiency"]
["Load Current",30,"A","Maxim Driver Voltage","MAX-Vcc",{"$f":"IF(ISNUMBER(VLOOKUP(F3,[1]Drivers!A1:J20,2,0)), VLOOKUP(F3,[1]Drivers!A1:J20,2,0),0.001)","v":6.5},"V","Closest Match","NTTFS4C25","NTMFS4943N",0.82396522711999665]
["Current Ripple Ratio",{"$f":"B8/B10*100","v":6.1333333333333346},"%",null,null,null,null,"Best Efficiency","NTTFS4928N","NTMFS4983NF",0.89680830392439537]
["Voltage Ripple Ratio",{"$f":"B9/1000/B4*100","v":2.2186868686868695},"%"]
[null,null,null,"High-Side MOSFET:"]
[null,"\n\n=IF(ISBLANK(B1), \"Default\", B1)",null,"External Gate Resistance","Rgex",0,"Ω"]
[null,null,null,"Number of HS MOSFET",null,1]
["Enable auto zoom in and out?","No",null,null,null,null,null,"Desired Efficiency","at Percentage of \nLoad Current","Desired Position","Desired Package ","HighSide MOSFET"]
[null,null,null,null,null,null,null,0.6,0.5,"LowSide","SO−8FL","NTTFS4C05"]
[null,null,null,"Low-Side MOSFET:"]
["Buck converter circuit",null,null,"External Gate Resistance","Rgex",0,"Ω"]
[null,null,null,"Number of LS MOSFET",null,1]
[]
[null,null,null,null,null,null,null,"Final Suggestions for Low Side MOSFET Pair are:"]
[null,null,null,"Output Capacitance",null,null,null,null,"HS MOSFET","LS MOSFET","Efficiency"]
[null,null,null,null,"ESR_Coutput",5,"mΩ","Closest Match","NTTFS4C05","NTMFS4943N",0.82683527255299905]
[null,null,null,null,"Actual Value",88,"uF","Best Efficiency","NTTFS4C05","NTMFS4983NF",0.88990844525027757]
[null,null,null,"PCB Resistance"]
[null,null,null,null,"R-PCB",1,"mΩ"]
[null,null,null,"Output Inductor","Core Loss",30,"mW"]
[null,null,null,null,"WindingResistance",2.2000000000000002,"mΩ"]
[null,null,null,null,"Actual Value",1,"uH"]
[]
["Note:",null,null,null,null,null,null,"Note:"]
["1. In this selector, only one phase of BUCK converter is taken into account. ",null,null,null,null,null,null,"1. Simulation results of \"Suggest T3 MOSFET Pairs or Duals\" and \"Suggest Single T3 MOSFET\" are shown in upper figure and lower figure respectively. Red curve is the simulation curve of closest match pair and blue curve is the simultion curve of best efficiency pair. The purple straight lines are desired efficiency line and load current where desired efficiency is specified."]
["2. Simulaton temperature is 25 ⁰C."]
["3. The selector suggests the best MOSFETs and MOSFET pairs that have cloest efficiency to target."]
[]
[]
[]
[]
[]
[null,null,null,null,null,null,null,null,null,null,null,null,null,null,null,null,null,null,null,null,null,null,null,null,"NTMFS4847N","NTMFS4933N"]
[null,null,null,null,null,null,null,null,null,null,null,null,null,null,null,null,null,null,null,null,null,null,null,null,"NTMFS4851","NTMFS4933N"]
[null,null,null,null,null,null,null,null,null,null,null,null,null,null,null,null,null,null,null,null,null,null,null,null,"NTMFS4852N","NTMFS4825NFE"]
[null,null,null,null,null,null,null,null,null,null,null,null,null,null,null,null,null,null,null,null,null,null,null,null,"NTMFS4852N","NTMFS4897"]
[null,null,null,null,null,null,null,null,null,null,null,null,null,null,null,null,null,null,null,null,null,null,null,null,"NTMFS4852N","NTMFS4933N"]
[null,null,null,null,null,null,null,null,null,null,null,null,null,null,null,null,null,null,null,null,null,null,null,null,"NTMFS4897","NTMFS4825NFE"]
[null,null,null,null,null,null,null,null,null,null,null,null,null,null,null,null,null,null,null,null,null,null,null,null,"NTMFS4897","NTMFS4897"]
[null,null,null,null,null,null,null,null,null,null,null,null,null,null,null,null,null,null,null,null,null,null,null,null,"NTMFS4897","NTMFS4933N"]
[null,null,null,null,null,null,null,null,null,null,null,null,null,null,null,null,null,null,null,null,null,null,null,null,"NTMFS4898N","NTMFS4825NFE"]
[null,null,null,null,null,null,null,null,null,null,null,null,null,null,null,null,null,null,null,null,null,null,null,null,"NTMFS4898N","NTMFS4897"]
[null,null,null,null,null,null,null,null,null,null,null,null,null,null,null,null,null,null,null,null,null,null,null,null,"NTMFS4898N","NTMFS4933N"]
[null,null,null,null,null,null,null,null,null,null,null,null,null,null,null,null,null,null,null,null,null,null,null,null,"NTMFS4899N","NTMFS4933N"]
[null,null,null,null,null,null,null,null,null,null,null,null,null,null,null,null,null,null,null,null,null,null,null,null,"NTMFS4921","NTMFS4933N"]
[null,null,null,null,null,null,null,null,null,null,null,null,null,null,null,null,null,null,null,null,null,null,null,null,"NTMFS4923NE","NTMFS4825NFE"]
[null,null,null,null,null,null,null,null,null,null,null,null,null,null,null,null,null,null,null,null,null,null,null,null,"NTMFS4923NE","NTMFS4897"]
[null,null,null,null,null,null,null,null,null,null,null,null,null,null,null,null,null,null,null,null,null,null,null,null,"NTMFS4923NE","NTMFS4933N"]
[null,null,null,null,null,null,null,null,null,null,null,null,null,null,null,null,null,null,null,null,null,null,null,null,"NTMFS4925","NTMFS4933N"]
[null,null,null,null,null,null,null,null,null,null,null,null,null,null,null,null,null,null,null,null,null,null,null,null,"NTMFS4926","NTMFS4933N"]
[null,null,null,null,null,null,null,null,null,null,null,null,null,null,null,null,null,null,null,null,null,null,null,null,"NTMFS4933N","NTMFS4825NFE"]
[null,null,null,null,null,null,null,null,null,null,null,null,null,null,null,null,null,null,null,null,null,null,null,null,"NTMFS4933N","NTMFS4897"]
[null,null,null,null,null,null,null,null,null,null,null,null,null,null,null,null,null,null,null,null,null,null,null,null,"NTMFS4933N","NTMFS4933N"]
[null,null,null,null,null,null,null,null,null,null,null,null,null,null,null,null,null,null,null,null,null,null,null,null,"NTMFS4933N","NTMFS4934N"]
[null,null,null,null,null,null,null,null,null,null,null,null,null,null,null,null,null,null,null,null,null,null,null,null,"NTMFS4934N","NTMFS4825NFE"]
[null,null,null,null,null,null,null,null,null,null,null,null,null,null,null,null,null,null,null,null,null,null,null,null,"NTMFS4934N","NTMFS4897"]
[null,null,null,null,null,null,null,null,null,null,null,null,null,null,null,null,null,null,null,null,null,null,null,null,"NTMFS4934N","NTMFS4933N"]
[null,null,null,null,null,null,null,null,null,null,null,null,null,null,null,null,null,null,null,null,null,null,null,null,"NTMFS4935N","NTMFS4825NFE"]
[null,null,null,null,null,null,null,null,null,null,null,null,null,null,null,null,null,null,null,null,null,null,null,null,"NTMFS4935N","NTMFS4897"]
[null,null,null,null,null,null,null,null,null,null,null,null,null,null,null,null,null,null,null,null,null,null,null,null,"NTMFS4935N","NTMFS4933N"]
[null,null,null,null,null,null,null,null,null,null,null,null,null,null,null,null,null,null,null,null,null,null,null,null,"NTMFS4936","NTMFS4933N"]
[null,null,null,null,null,null,null,null,null,null,null,null,null,null,null,null,null,null,null,null,null,null,null,null,"NTMFS4937N","NTMFS4933N"]
[null,null,null,null,null,null,null,null,null,null,null,null,null,null,null,null,null,null,null,null,null,null,null,null,"NTMFS4939N","NTMFS4933N"]
[null,null,null,null,null,null,null,null,null,null,null,null,null,null,null,null,null,null,null,null,null,null,null,null,"NTMFS4941N","NTMFS4933N"]
[null,null,null,null,null,null,null,null,null,null,null,null,null,null,null,null,null,null,null,null,null,null,null,null,"NTMFS4943N","NTMFS4933N"]
[null,null,null,null,null,null,null,null,null,null,null,null,null,null,null,null,null,null,null,null,null,null,null,null,"NTTFS4824N","NTMFS4933N"]
[null,null,null,null,null,null,null,null,null,null,null,null,null,null,null,null,null,null,null,null,null,null,null,null,"NTTFS4932N","NTMFS4825NFE"]
[null,null,null,null,null,null,null,null,null,null,null,null,null,null,null,null,null,null,null,null,null,null,null,null,"NTTFS4932N","NTMFS4897"]
[null,null,null,null,null,null,null,null,null,null,null,null,null,null,null,null,null,null,null,null,null,null,null,null,"NTTFS4932N","NTMFS4933N"]
[null,null,null,null,null,null,null,null,null,null,null,null,null,null,null,null,null,null,null,null,null,null,null,null,"NTTFS4937N","NTMFS4933N"]
[null,null,null,null,null,null,null,null,null,null,null,null,null,null,null,null,null,null,null,null,null,null,null,null,"NTTFS4939N","NTMFS4933N"]
[null,null,null,null,null,null,null,null,null,null,null,null,null,null,null,null,null,null,null,null,null,null,null,null,"NTTFS4941N","NTMFS4933N"]
[null,null,null,null,null,null,null,null,null,null,null,null,null,null,null,null,null,null,null,null,null,null,null,null,"NTD4809N","NTMFS4898N"]
[null,null,null,null,null,null,null,null,null,null,null,null,null,null,null,null,null,null,null,null,null,null,null,null,"NTD4809N","NTMFS4923NE"]
[null,null,null,null,null,null,null,null,null,null,null,null,null,null,null,null,null,null,null,null,null,null,null,null,"NTD4809N","NTMFS4933N"]
[null,null,null,null,null,null,null,null,null,null,null,null,null,null,null,null,null,null,null,null,null,null,null,null,"NTD4809N","NTMFS4934N"]
[null,null,null,null,null,null,null,null,null,null,null,null,null,null,null,null,null,null,null,null,null,null,null,null,"NTD4809N","NTMFS4935N"]
[null,null,null,null,null,null,null,null,null,null,null,null,null,null,null,null,null,null,null,null,null,null,null,null,"NTD4809N","NTTFS4932N"]
[null,null,null,null,null,null,null,null,null,null,null,null,null,null,null,null,null,null,null,null,null,null,null,null,"NTD4809NH","NTMFS4825NFE"]
[null,null,null,null,null,null,null,null,null,null,null,null,null,null,null,null,null,null,null,null,null,null,null,null,"NTD4809NH","NTMFS4833N"]
[null,null,null,null,null,null,null,null,null,null,null,null,null,null,null,null,null,null,null,null,null,null,null,null,"NTD4809NH","NTMFS4834N"]
[null,null,null,null,null,null,null,null,null,null,null,null,null,null,null,null,null,null,null,null,null,null,null,null,"NTD4809NH","NTMFS4835N"]
[null,null,null,null,null,null,null,null,null,null,null,null,null,null,null,null,null,null,null,null,null,null,null,null,"NTD4809NH","NTMFS4845"]
[null,null,null,null,null,null,null,null,null,null,null,null,null,null,null,null,null,null,null,null,null,null,null,null,"NTD4809NH","NTMFS4846"]
[null,null,null,null,null,null,null,null,null,null,null,null,null,null,null,null,null,null,null,null,null,null,null,null,"NTD4809NH","NTMFS4852N"]
[null,null,null,null,null,null,null,null,null,null,null,null,null,null,null,null,null,null,null,null,null,null,null,null,"NTD4809NH","NTMFS4897"]
[null,null,null,null,null,null,null,null,null,null,null,null,null,null,null,null,null,null,null,null,null,null,null,null,"NTD4809NH","NTMFS4898N"]
[null,null,null,null,null,null,null,null,null,null,null,null,null,null,null,null,null,null,null,null,null,null,null,null,"NTD4809NH","NTMFS4923NE"]
[null,null,null,null,null,null,null,null,null,null,null,null,null,null,null,null,null,null,null,null,null,null,null,null,"NTD4809NH","NTMFS4933N"]
[null,null,null,null,null,null,null,null,null,null,null,null,null,null,null,null,null,null,null,null,null,null,null,null,"NTD4809NH","NTMFS4934N"]
[null,null,null,null,null,null,null,null,null,null,null,null,null,null,null,null,null,null,null,null,null,null,null,null,"NTD4809NH","NTMFS4935N"]
[null,null,null,null,null,null,null,null,null,null,null,null,null,null,null,null,null,null,null,null,null,null,null,null,"NTD4809NH","NTMFS4936"]
[null,null,null,null,null,null,null,null,null,null,null,null,null,null,null,null,null,null,null,null,null,null,null,null,"NTD4809NH","NTTFS4932N"]
[null,null,null,null,null,null,null,null,null,null,null,null,null,null,null,null,null,null,null,null,null,null,null,null,"NTD4810N","NTMFS4825NFE"]
[null,null,null,null,null,null,null,null,null,null,null,null,null,null,null,null,null,null,null,null,null,null,null,null,"NTD4810N","NTMFS4833N"]
[null,null,null,null,null,null,null,null,null,null,null,null,null,null,null,null,null,null,null,null,null,null,null,null,"NTD4810N","NTMFS4834N"]
[null,null,null,null,null,null,null,null,null,null,null,null,null,null,null,null,null,null,null,null,null,null,null,null,"NTD4810N","NTMFS4845"]
[null,null,null,null,null,null,null,null,null,null,null,null,null,null,null,null,null,null,null,null,null,null,null,null,"NTD4810N","NTMFS4846"]
[null,null,null,null,null,null,null,null,null,null,null,null,null,null,null,null,null,null,null,null,null,null,null,null,"NTD4810N","NTMFS4852N"]
[null,null,null,null,null,null,null,null,null,null,null,null,null,null,null,null,null,null,null,null,null,null,null,null,"NTD4810N","NTMFS4897"]
[null,null,null,null,null,null,null,null,null,null,null,null,null,null,null,null,null,null,null,null,null,null,null,null,"NTD4810N","NTMFS4898N"]
[null,null,null,null,null,null,null,null,null,null,null,null,null,null,null,null,null,null,null,null,null,null,null,null,"NTD4810N","NTMFS4923NE"]
[null,null,null,null,null,null,null,null,null,null,null,null,null,null,null,null,null,null,null,null,null,null,null,null,"NTD4810N","NTMFS4933N"]
[null,null,null,null,null,null,null,null,null,null,null,null,null,null,null,null,null,null,null,null,null,null,null,null,"NTD4810N","NTMFS4934N"]
[null,null,null,null,null,null,null,null,null,null,null,null,null,null,null,null,null,null,null,null,null,null,null,null,"NTD4810N","NTMFS4935N"]
[null,null,null,null,null,null,null,null,null,null,null,null,null,null,null,null,null,null,null,null,null,null,null,null,"NTD4810N","NTTFS4932N"]
[null,null,null,null,null,null,null,null,null,null,null,null,null,null,null,null,null,null,null,null,null,null,null,null,"NTD4813NH","NTMFS4825NFE"]
[null,null,null,null,null,null,null,null,null,null,null,null,null,null,null,null,null,null,null,null,null,null,null,null,"NTD4813NH","NTMFS4833N"]
[null,null,null,null,null,null,null,null,null,null,null,null,null,null,null,null,null,null,null,null,null,null,null,null,"NTD4813NH","NTMFS4852N"]
[null,null,null,null,null,null,null,null,null,null,null,null,null,null,null,null,null,null,null,null,null,null,null,null,"NTD4813NH","NTMFS4897"]
[null,null,null,null,null,null,null,null,null,null,null,null,null,null,null,null,null,null,null,null,null,null,null,null,"NTD4813NH","NTMFS4933N"]
[null,null,null,null,null,null,null,null,null,null,null,null,null,null,null,null,null,null,null,null,null,null,null,null,"NTD4813NH","NTMFS4934N"]
[null,null,null,null,null,null,null,null,null,null,null,null,null,null,null,null,null,null,null,null,null,null,null,null,"NTD4815N","NTMFS4825NFE"]
[null,null,null,null,null,null,null,null,null,null,null,null,null,null,null,null,null,null,null,null,null,null,null,null,"NTD4815N","NTMFS4833N"]
[null,null,null,null,null,null,null,null,null,null,null,null,null,null,null,null,null,null,null,null,null,null,null,null,"NTD4815N","NTMFS4852N"]
[null,null,null,null,null,null,null,null,null,null,null,null,null,null,null,null,null,null,null,null,null,null,null,null,"NTD4815N","NTMFS4897"]
[null,null,null,null,null,null,null,null,null,null,null,null,null,null,null,null,null,null,null,null,null,null,null,null,"NTD4815N","NTMFS4933N"]
[null,null,null,null,null,null,null,null,null,null,null,null,null,null,null,null,null,null,null,null,null,null,null,null,"NTD4815N","NTMFS4934N"]
[null,null,null,null,null,null,null,null,null,null,null,null,null,null,null,null,null,null,null,null,null,null,null,null,"NTD4855N","NTD4904N"]
[null,null,null,null,null,null,null,null,null,null,null,null,null,null,null,null,null,null,null,null,null,null,null,null,"NTD4855N","NTMFS4825NFE"]
[null,null,null,null,null,null,null,null,null,null,null,null,null,null,null,null,null,null,null,null,null,null,null,null,"NTD4855N","NTMFS4833N"]
[null,null,null,null,null,null,null,null,null,null,null,null,null,null,null,null,null,null,null,null,null,null,null,null,"NTD4855N","NTMFS4834N"]
[null,null,null,null,null,null,null,null,null,null,null,null,null,null,null,null,null,null,null,null,null,null,null,null,"NTD4855N","NTMFS4835N"]
[null,null,null,null,null,null,null,null,null,null,null,null,null,null,null,null,null,null,null,null,null,null,null,null,"NTD4855N","NTMFS4845"]
[null,null,null,null,null,null,null,null,null,null,null,null,null,null,null,null,null,null,null,null,null,null,null,null,"NTD4855N","NTMFS4846"]
[null,null,null,null,null,null,null,null,null,null,null,null,null,null,null,null,null,null,null,null,null,null,null,null,"NTD4855N","NTMFS4852N"]
[null,null,null,null,null,null,null,null,null,null,null,null,null,null,null,null,null,null,null,null,null,null,null,null,"NTD4855N","NTMFS4897"]
[null,null,null,null,null,null,null,null,null,null,null,null,null,null,null,null,null,null,null,null,null,null,null,null,"NTD4855N","NTMFS4898N"]
[null,null,null,null,null,null,null,null,null,null,null,null,null,null,null,null,null,null,null,null,null,null,null,null,"NTD4855N","NTMFS4923NE"]
[null,null,null,null,null,null,null,null,null,null,null,null,null,null,null,null,null,null,null,null,null,null,null,null,"NTD4855N","NTMFS4933N"]
[null,null,null,null,null,null,null,null,null,null,null,null,null,null,null,null,null,null,null,null,null,null,null,null,"NTD4855N","NTMFS4934N"]
[null,null,null,null,null,null,null,null,null,null,null,null,null,null,null,null,null,null,null,null,null,null,null,null,"NTD4855N","NTMFS4935N"]
[null,null,null,null,null,null,null,null,null,null,null,null,null,null,null,null,null,null,null,null,null,null,null,null,"NTD4855N","NTMFS4936"]
[null,null,null,null,null,null,null,null,null,null,null,null,null,null,null,null,null,null,null,null,null,null,null,null,"NTD4855N","NTTFS4932N"]
[null,null,null,null,null,null,null,null,null,null,null,null,null,null,null,null,null,null,null,null,null,null,null,null,"NTD4856N","NTD4904N"]
[null,null,null,null,null,null,null,null,null,null,null,null,null,null,null,null,null,null,null,null,null,null,null,null,"NTD4856N","NTMFS4825NFE"]
[null,null,null,null,null,null,null,null,null,null,null,null,null,null,null,null,null,null,null,null,null,null,null,null,"NTD4856N","NTMFS4833N"]
[null,null,null,null,null,null,null,null,null,null,null,null,null,null,null,null,null,null,null,null,null,null,null,null,"NTD4856N","NTMFS4834N"]
[null,null,null,null,null,null,null,null,null,null,null,null,null,null,null,null,null,null,null,null,null,null,null,null,"NTD4856N","NTMFS4835N"]
[null,null,null,null,null,null,null,null,null,null,null,null,null,null,null,null,null,null,null,null,null,null,null,null,"NTD4856N","NTMFS4845"]
[null,null,null,null,null,null,null,null,null,null,null,null,null,null,null,null,null,null,null,null,null,null,null,null,"NTD4856N","NTMFS4846"]
[null,null,null,null,null,null,null,null,null,null,null,null,null,null,null,null,null,null,null,null,null,null,null,null,"NTD4856N","NTMFS4852N"]
[null,null,null,null,null,null,null,null,null,null,null,null,null,null,null,null,null,null,null,null,null,null,null,null,"NTD4856N","NTMFS4897"]
[null,null,null,null,null,null,null,null,null,null,null,null,null,null,null,null,null,null,null,null,null,null,null,null,"NTD4856N","NTMFS4898N"]
[null,null,null,null,null,null,null,null,null,null,null,null,null,null,null,null,null,null,null,null,null,null,null,null,"NTD4856N","NTMFS4923NE"]
[null,null,null,null,null,null,null,null,null,null,null,null,null,null,null,null,null,null,null,null,null,null,null,null,"NTD4856N","NTMFS4933N"]
[null,null,null,null,null,null,null,null,null,null,null,null,null,null,null,null,null,null,null,null,null,null,null,null,"NTD4856N","NTMFS4934N"]
[null,null,null,null,null,null,null,null,null,null,null,null,null,null,null,null,null,null,null,null,null,null,null,null,"NTD4856N","NTMFS4935N"]
[null,null,null,null,null,null,null,null,null,null,null,null,null,null,null,null,null,null,null,null,null,null,null,null,"NTD4856N","NTMFS4936"]
[null,null,null,null,null,null,null,null,null,null,null,null,null,null,null,null,null,null,null,null,null,null,null,null,"NTD4856N","NTTFS4932N"]
[null,null,null,null,null,null,null,null,null,null,null,null,null,null,null,null,null,null,null,null,null,null,null,null,"NTD4857N","NTD4904N"]
[null,null,null,null,null,null,null,null,null,null,null,null,null,null,null,null,null,null,null,null,null,null,null,null,"NTD4857N","NTMFS4825NFE"]
[null,null,null,null,null,null,null,null,null,null,null,null,null,null,null,null,null,null,null,null,null,null,null,null,"NTD4857N","NTMFS4833N"]
[null,null,null,null,null,null,null,null,null,null,null,null,null,null,null,null,null,null,null,null,null,null,null,null,"NTD4857N","NTMFS4834N"]
[null,null,null,null,null,null,null,null,null,null,null,null,null,null,null,null,null,null,null,null,null,null,null,null,"NTD4857N","NTMFS4835N"]
[null,null,null,null,null,null,null,null,null,null,null,null,null,null,null,null,null,null,null,null,null,null,null,null,"NTD4857N","NTMFS4845"]
[null,null,null,null,null,null,null,null,null,null,null,null,null,null,null,null,null,null,null,null,null,null,null,null,"NTD4857N","NTMFS4846"]
[null,null,null,null,null,null,null,null,null,null,null,null,null,null,null,null,null,null,null,null,null,null,null,null,"NTD4857N","NTMFS4852N"]
[null,null,null,null,null,null,null,null,null,null,null,null,null,null,null,null,null,null,null,null,null,null,null,null,"NTD4857N","NTMFS4897"]
[null,null,null,null,null,null,null,null,null,null,null,null,null,null,null,null,null,null,null,null,null,null,null,null,"NTD4857N","NTMFS4898N"]
[null,null,null,null,null,null,null,null,null,null,null,null,null,null,null,null,null,null,null,null,null,null,null,null,"NTD4857N","NTMFS4923NE"]
[null,null,null,null,null,null,null,null,null,null,null,null,null,null,null,null,null,null,null,null,null,null,null,null,"NTD4857N","NTMFS4933N"]
[null,null,null,null,null,null,null,null,null,null,null,null,null,null,null,null,null,null,null,null,null,null,null,null,"NTD4857N","NTMFS4934N"]
[null,null,null,null,null,null,null,null,null,null,null,null,null,null,null,null,null,null,null,null,null,null,null,null,"NTD4857N","NTMFS4935N"]
[null,null,null,null,null,null,null,null,null,null,null,null,null,null,null,null,null,null,null,null,null,null,null,null,"NTD4857N","NTMFS4936"]
[null,null,null,null,null,null,null,null,null,null,null,null,null,null,null,null,null,null,null,null,null,null,null,null,"NTD4857N","NTTFS4932N"]
[null,null,null,null,null,null,null,null,null,null,null,null,null,null,null,null,null,null,null,null,null,null,null,null,"NTD4858N","NTD4904N"]
[null,null,null,null,null,null,null,null,null,null,null,null,null,null,null,null,null,null,null,null,null,null,null,null,"NTD4858N","NTMFS4825NFE"]
[null,null,null,null,null,null,null,null,null,null,null,null,null,null,null,null,null,null,null,null,null,null,null,null,"NTD4858N","NTMFS4833N"]
[null,null,null,null,null,null,null,null,null,null,null,null,null,null,null,null,null,null,null,null,null,null,null,null,"NTD4858N","NTMFS4834N"]
[null,null,null,null,null,null,null,null,null,null,null,null,null,null,null,null,null,null,null,null,null,null,null,null,"NTD4858N","NTMFS4835N"]
[null,null,null,null,null,null,null,null,null,null,null,null,null,null,null,null,null,null,null,null,null,null,null,null,"NTD4858N","NTMFS4845"]
[null,null,null,null,null,null,null,null,null,null,null,null,null,null,null,null,null,null,null,null,null,null,null,null,"NTD4858N","NTMFS4846"]
[null,null,null,null,null,null,null,null,null,null,null,null,null,null,null,null,null,null,null,null,null,null,null,null,"NTD4858N","NTMFS4852N"]
[null,null,null,null,null,null,null,null,null,null,null,null,null,null,null,null,null,null,null,null,null,null,null,null,"NTD4858N","NTMFS4897"]
[null,null,null,null,null,null,null,null,null,null,null,null,null,null,null,null,null,null,null,null,null,null,null,null,"NTD4858N","NTMFS4898N"]
[null,null,null,null,null,null,null,null,null,null,null,null,null,null,null,null,null,null,null,null,null,null,null,null,"NTD4858N","NTMFS4923NE"]
[null,null,null,null,null,null,null,null,null,null,null,null,null,null,null,null,null,null,null,null,null,null,null,null,"NTD4858N","NTMFS4933N"]
[null,null,null,null,null,null,null,null,null,null,null,null,null,null,null,null,null,null,null,null,null,null,null,null,"NTD4858N","NTMFS4934N"]
[null,null,null,null,null,null,null,null,null,null,null,null,null,null,null,null,null,null,null,null,null,null,null,null,"NTD4858N","NTMFS4935N"]
[null,null,null,null,null,null,null,null,null,null,null,null,null,null,null,null,null,null,null,null,null,null,null,null,"NTD4858N","NTMFS4936"]
[null,null,null,null,null,null,null,null,null,null,null,null,null,null,null,null,null,null,null,null,null,null,null,null,"NTD4858N","NTTFS4932N"]
[null,null,null,null,null,null,null,null,null,null,null,null,null,null,null,null,null,null,null,null,null,null,null,null,"NTD4863N","NTMFS4825NFE"]
[null,null,null,null,null,null,null,null,null,null,null,null,null,null,null,null,null,null,null,null,null,null,null,null,"NTD4863N","NTMFS4833N"]
[null,null,null,null,null,null,null,null,null,null,null,null,null,null,null,null,null,null,null,null,null,null,null,null,"NTD4863N","NTMFS4834N"]
[null,null,null,null,null,null,null,null,null,null,null,null,null,null,null,null,null,null,null,null,null,null,null,null,"NTD4863N","NTMFS4845"]
[null,null,null,null,null,null,null,null,null,null,null,null,null,null,null,null,null,null,null,null,null,null,null,null,"NTD4863N","NTMFS4852N"]
[null,null,null,null,null,null,null,null,null,null,null,null,null,null,null,null,null,null,null,null,null,null,null,null,"NTD4863N","NTMFS4897"]
[null,null,null,null,null,null,null,null,null,null,null,null,null,null,null,null,null,null,null,null,null,null,null,null,"NTD4863N","NTMFS4898N"]
[null,null,null,null,null,null,null,null,null,null,null,null,null,null,null,null,null,null,null,null,null,null,null,null,"NTD4863N","NTMFS4933N"]
[null,null,null,null,null,null,null,null,null,null,null,null,null,null,null,null,null,null,null,null,null,null,null,null,"NTD4863N","NTMFS4934N"]
[null,null,null,null,null,null,null,null,null,null,null,null,null,null,null,null,null,null,null,null,null,null,null,null,"NTD4863N","NTTFS4932N"]
[null,null,null,null,null,null,null,null,null,null,null,null,null,null,null,null,null,null,null,null,null,null,null,null,"NTD4904N","NTD4804N"]
[null,null,null,null,null,null,null,null,null,null,null,null,null,null,null,null,null,null,null,null,null,null,null,null,"NTD4904N","NTD4855N"]
[null,null,null,null,null,null,null,null,null,null,null,null,null,null,null,null,null,null,null,null,null,null,null,null,"NTD4904N","NTD4904N"]
[null,null,null,null,null,null,null,null,null,null,null,null,null,null,null,null,null,null,null,null,null,null,null,null,"NTD4904N","NTMFS4825NFE"]
[null,null,null,null,null,null,null,null,null,null,null,null,null,null,null,null,null,null,null,null,null,null,null,null,"NTD4904N","NTMFS4833N"]
[null,null,null,null,null,null,null,null,null,null,null,null,null,null,null,null,null,null,null,null,null,null,null,null,"NTD4904N","NTMFS4834N"]
[null,null,null,null,null,null,null,null,null,null,null,null,null,null,null,null,null,null,null,null,null,null,null,null,"NTD4904N","NTMFS4835N"]
[null,null,null,null,null,null,null,null,null,null,null,null,null,null,null,null,null,null,null,null,null,null,null,null,"NTD4904N","NTMFS4845"]
[null,null,null,null,null,null,null,null,null,null,null,null,null,null,null,null,null,null,null,null,null,null,null,null,"NTD4904N","NTMFS4846"]
[null,null,null,null,null,null,null,null,null,null,null,null,null,null,null,null,null,null,null,null,null,null,null,null,"NTD4904N","NTMFS4852N"]
[null,null,null,null,null,null,null,null,null,null,null,null,null,null,null,null,null,null,null,null,null,null,null,null,"NTD4904N","NTMFS4897"]
[null,null,null,null,null,null,null,null,null,null,null,null,null,null,null,null,null,null,null,null,null,null,null,null,"NTD4904N","NTMFS4898N"]
[null,null,null,null,null,null,null,null,null,null,null,null,null,null,null,null,null,null,null,null,null,null,null,null,"NTD4904N","NTMFS4923NE"]
[null,null,null,null,null,null,null,null,null,null,null,null,null,null,null,null,null,null,null,null,null,null,null,null,"NTD4904N","NTMFS4933N"]
[null,null,null,null,null,null,null,null,null,null,null,null,null,null,null,null,null,null,null,null,null,null,null,null,"NTD4904N","NTMFS4934N"]
[null,null,null,null,null,null,null,null,null,null,null,null,null,null,null,null,null,null,null,null,null,null,null,null,"NTD4904N","NTMFS4935N"]
[null,null,null,null,null,null,null,null,null,null,null,null,null,null,null,null,null,null,null,null,null,null,null,null,"NTD4904N","NTMFS4936"]
[null,null,null,null,null,null,null,null,null,null,null,null,null,null,null,null,null,null,null,null,null,null,null,null,"NTD4904N","NTTFS4932N"]
[null,null,null,null,null,null,null,null,null,null,null,null,null,null,null,null,null,null,null,null,null,null,null,null,"NTD4906N","NTD4904N"]
[null,null,null,null,null,null,null,null,null,null,null,null,null,null,null,null,null,null,null,null,null,null,null,null,"NTD4906N","NTMFS4825NFE"]
[null,null,null,null,null,null,null,null,null,null,null,null,null,null,null,null,null,null,null,null,null,null,null,null,"NTD4906N","NTMFS4833N"]
[null,null,null,null,null,null,null,null,null,null,null,null,null,null,null,null,null,null,null,null,null,null,null,null,"NTD4906N","NTMFS4834N"]
[null,null,null,null,null,null,null,null,null,null,null,null,null,null,null,null,null,null,null,null,null,null,null,null,"NTD4906N","NTMFS4835N"]
[null,null,null,null,null,null,null,null,null,null,null,null,null,null,null,null,null,null,null,null,null,null,null,null,"NTD4906N","NTMFS4845"]
[null,null,null,null,null,null,null,null,null,null,null,null,null,null,null,null,null,null,null,null,null,null,null,null,"NTD4906N","NTMFS4846"]
[null,null,null,null,null,null,null,null,null,null,null,null,null,null,null,null,null,null,null,null,null,null,null,null,"NTD4906N","NTMFS4852N"]
[null,null,null,null,null,null,null,null,null,null,null,null,null,null,null,null,null,null,null,null,null,null,null,null,"NTD4906N","NTMFS4897"]
[null,null,null,null,null,null,null,null,null,null,null,null,null,null,null,null,null,null,null,null,null,null,null,null,"NTD4906N","NTMFS4898N"]
[null,null,null,null,null,null,null,null,null,null,null,null,null,null,null,null,null,null,null,null,null,null,null,null,"NTD4906N","NTMFS4923NE"]
[null,null,null,null,null,null,null,null,null,null,null,null,null,null,null,null,null,null,null,null,null,null,null,null,"NTD4906N","NTMFS4933N"]
[null,null,null,null,null,null,null,null,null,null,null,null,null,null,null,null,null,null,null,null,null,null,null,null,"NTD4906N","NTMFS4934N"]
[null,null,null,null,null,null,null,null,null,null,null,null,null,null,null,null,null,null,null,null,null,null,null,null,"NTD4906N","NTMFS4935N"]
[null,null,null,null,null,null,null,null,null,null,null,null,null,null,null,null,null,null,null,null,null,null,null,null,"NTD4906N","NTMFS4936"]
[null,null,null,null,null,null,null,null,null,null,null,null,null,null,null,null,null,null,null,null,null,null,null,null,"NTD4906N","NTTFS4932N"]
[null,null,null,null,null,null,null,null,null,null,null,null,null,null,null,null,null,null,null,null,null,null,null,null,"NTD4909N","NTD4904N"]
[null,null,null,null,null,null,null,null,null,null,null,null,null,null,null,null,null,null,null,null,null,null,null,null,"NTD4909N","NTMFS4825NFE"]
[null,null,null,null,null,null,null,null,null,null,null,null,null,null,null,null,null,null,null,null,null,null,null,null,"NTD4909N","NTMFS4833N"]
[null,null,null,null,null,null,null,null,null,null,null,null,null,null,null,null,null,null,null,null,null,null,null,null,"NTD4909N","NTMFS4834N"]
[null,null,null,null,null,null,null,null,null,null,null,null,null,null,null,null,null,null,null,null,null,null,null,null,"NTD4909N","NTMFS4835N"]
[null,null,null,null,null,null,null,null,null,null,null,null,null,null,null,null,null,null,null,null,null,null,null,null,"NTD4909N","NTMFS4845"]
[null,null,null,null,null,null,null,null,null,null,null,null,null,null,null,null,null,null,null,null,null,null,null,null,"NTD4909N","NTMFS4846"]
[null,null,null,null,null,null,null,null,null,null,null,null,null,null,null,null,null,null,null,null,null,null,null,null,"NTD4909N","NTMFS4852N"]
[null,null,null,null,null,null,null,null,null,null,null,null,null,null,null,null,null,null,null,null,null,null,null,null,"NTD4909N","NTMFS4897"]
[null,null,null,null,null,null,null,null,null,null,null,null,null,null,null,null,null,null,null,null,null,null,null,null,"NTD4909N","NTMFS4898N"]
[null,null,null,null,null,null,null,null,null,null,null,null,null,null,null,null,null,null,null,null,null,null,null,null,"NTD4909N","NTMFS4923NE"]
[null,null,null,null,null,null,null,null,null,null,null,null,null,null,null,null,null,null,null,null,null,null,null,null,"NTD4909N","NTMFS4933N"]
[null,null,null,null,null,null,null,null,null,null,null,null,null,null,null,null,null,null,null,null,null,null,null,null,"NTD4909N","NTMFS4934N"]
[null,null,null,null,null,null,null,null,null,null,null,null,null,null,null,null,null,null,null,null,null,null,null,null,"NTD4909N","NTMFS4935N"]
[null,null,null,null,null,null,null,null,null,null,null,null,null,null,null,null,null,null,null,null,null,null,null,null,"NTD4909N","NTMFS4936"]
[null,null,null,null,null,null,null,null,null,null,null,null,null,null,null,null,null,null,null,null,null,null,null,null,"NTD4909N","NTTFS4932N"]
[null,null,null,null,null,null,null,null,null,null,null,null,null,null,null,null,null,null,null,null,null,null,null,null,"NTD4910N","NTMFS4825NFE"]
[null,null,null,null,null,null,null,null,null,null,null,null,null,null,null,null,null,null,null,null,null,null,null,null,"NTD4910N","NTMFS4833N"]
[null,null,null,null,null,null,null,null,null,null,null,null,null,null,null,null,null,null,null,null,null,null,null,null,"NTD4910N","NTMFS4834N"]
[null,null,null,null,null,null,null,null,null,null,null,null,null,null,null,null,null,null,null,null,null,null,null,null,"NTD4910N","NTMFS4835N"]
[null,null,null,null,null,null,null,null,null,null,null,null,null,null,null,null,null,null,null,null,null,null,null,null,"NTD4910N","NTMFS4845"]
[null,null,null,null,null,null,null,null,null,null,null,null,null,null,null,null,null,null,null,null,null,null,null,null,"NTD4910N","NTMFS4846"]
[null,null,null,null,null,null,null,null,null,null,null,null,null,null,null,null,null,null,null,null,null,null,null,null,"NTD4910N","NTMFS4852N"]
[null,null,null,null,null,null,null,null,null,null,null,null,null,null,null,null,null,null,null,null,null,null,null,null,"NTD4910N","NTMFS4897"]
[null,null,null,null,null,null,null,null,null,null,null,null,null,null,null,null,null,null,null,null,null,null,null,null,"NTD4910N","NTMFS4898N"]
[null,null,null,null,null,null,null,null,null,null,null,null,null,null,null,null,null,null,null,null,null,null,null,null,"NTD4910N","NTMFS4923NE"]
[null,null,null,null,null,null,null,null,null,null,null,null,null,null,null,null,null,null,null,null,null,null,null,null,"NTD4910N","NTMFS4933N"]
[null,null,null,null,null,null,null,null,null,null,null,null,null,null,null,null,null,null,null,null,null,null,null,null,"NTD4910N","NTMFS4934N"]
[null,null,null,null,null,null,null,null,null,null,null,null,null,null,null,null,null,null,null,null,null,null,null,null,"NTD4910N","NTMFS4935N"]
[null,null,null,null,null,null,null,null,null,null,null,null,null,null,null,null,null,null,null,null,null,null,null,null,"NTD4910N","NTTFS4932N"]
[null,null,null,null,null,null,null,null,null,null,null,null,null,null,null,null,null,null,null,null,null,null,null,null,"NTD4913N","NTMFS4825NFE"]
[null,null,null,null,null,null,null,null,null,null,null,null,null,null,null,null,null,null,null,null,null,null,null,null,"NTD4913N","NTMFS4833N"]
[null,null,null,null,null,null,null,null,null,null,null,null,null,null,null,null,null,null,null,null,null,null,null,null,"NTD4913N","NTMFS4834N"]
[null,null,null,null,null,null,null,null,null,null,null,null,null,null,null,null,null,null,null,null,null,null,null,null,"NTD4913N","NTMFS4845"]
[null,null,null,null,null,null,null,null,null,null,null,null,null,null,null,null,null,null,null,null,null,null,null,null,"NTD4913N","NTMFS4852N"]
[null,null,null,null,null,null,null,null,null,null,null,null,null,null,null,null,null,null,null,null,null,null,null,null,"NTD4913N","NTMFS4897"]
[null,null,null,null,null,null,null,null,null,null,null,null,null,null,null,null,null,null,null,null,null,null,null,null,"NTD4913N","NTMFS4898N"]
[null,null,null,null,null,null,null,null,null,null,null,null,null,null,null,null,null,null,null,null,null,null,null,null,"NTD4913N","NTMFS4933N"]
[null,null,null,null,null,null,null,null,null,null,null,null,null,null,null,null,null,null,null,null,null,null,null,null,"NTD4913N","NTMFS4934N"]
[null,null,null,null,null,null,null,null,null,null,null,null,null,null,null,null,null,null,null,null,null,null,null,null,"NTD4913N","NTTFS4932N"]
[null,null,null,null,null,null,null,null,null,null,null,null,null,null,null,null,null,null,null,null,null,null,null,null,"NTD4960N","NTMFS4825NFE"]
[null,null,null,null,null,null,null,null,null,null,null,null,null,null,null,null,null,null,null,null,null,null,null,null,"NTD4960N","NTMFS4833N"]
[null,null,null,null,null,null,null,null,null,null,null,null,null,null,null,null,null,null,null,null,null,null,null,null,"NTD4960N","NTMFS4834N"]
[null,null,null,null,null,null,null,null,null,null,null,null,null,null,null,null,null,null,null,null,null,null,null,null,"NTD4960N","NTMFS4835N"]
[null,null,null,null,null,null,null,null,null,null,null,null,null,null,null,null,null,null,null,null,null,null,null,null,"NTD4960N","NTMFS4845"]
[null,null,null,null,null,null,null,null,null,null,null,null,null,null,null,null,null,null,null,null,null,null,null,null,"NTD4960N","NTMFS4846"]
[null,null,null,null,null,null,null,null,null,null,null,null,null,null,null,null,null,null,null,null,null,null,null,null,"NTD4960N","NTMFS4852N"]
[null,null,null,null,null,null,null,null,null,null,null,null,null,null,null,null,null,null,null,null,null,null,null,null,"NTD4960N","NTMFS4897"]
[null,null,null,null,null,null,null,null,null,null,null,null,null,null,null,null,null,null,null,null,null,null,null,null,"NTD4960N","NTMFS4898N"]
[null,null,null,null,null,null,null,null,null,null,null,null,null,null,null,null,null,null,null,null,null,null,null,null,"NTD4960N","NTMFS4923NE"]
[null,null,null,null,null,null,null,null,null,null,null,null,null,null,null,null,null,null,null,null,null,null,null,null,"NTD4960N","NTMFS4933N"]
[null,null,null,null,null,null,null,null,null,null,null,null,null,null,null,null,null,null,null,null,null,null,null,null,"NTD4960N","NTMFS4934N"]
[null,null,null,null,null,null,null,null,null,null,null,null,null,null,null,null,null,null,null,null,null,null,null,null,"NTD4960N","NTMFS4935N"]
[null,null,null,null,null,null,null,null,null,null,null,null,null,null,null,null,null,null,null,null,null,null,null,null,"NTD4960N","NTMFS4936"]
[null,null,null,null,null,null,null,null,null,null,null,null,null,null,null,null,null,null,null,null,null,null,null,null,"NTD4960N","NTTFS4932N"]
[null,null,null,null,null,null,null,null,null,null,null,null,null,null,null,null,null,null,null,null,null,null,null,null,"NTD4963N","NTMFS4825NFE"]
[null,null,null,null,null,null,null,null,null,null,null,null,null,null,null,null,null,null,null,null,null,null,null,null,"NTD4963N","NTMFS4833N"]
[null,null,null,null,null,null,null,null,null,null,null,null,null,null,null,null,null,null,null,null,null,null,null,null,"NTD4963N","NTMFS4834N"]
[null,null,null,null,null,null,null,null,null,null,null,null,null,null,null,null,null,null,null,null,null,null,null,null,"NTD4963N","NTMFS4845"]
[null,null,null,null,null,null,null,null,null,null,null,null,null,null,null,null,null,null,null,null,null,null,null,null,"NTD4963N","NTMFS4852N"]
[null,null,null,null,null,null,null,null,null,null,null,null,null,null,null,null,null,null,null,null,null,null,null,null,"NTD4963N","NTMFS4897"]
[null,null,null,null,null,null,null,null,null,null,null,null,null,null,null,null,null,null,null,null,null,null,null,null,"NTD4963N","NTMFS4898N"]
[null,null,null,null,null,null,null,null,null,null,null,null,null,null,null,null,null,null,null,null,null,null,null,null,"NTD4963N","NTMFS4933N"]
[null,null,null,null,null,null,null,null,null,null,null,null,null,null,null,null,null,null,null,null,null,null,null,null,"NTD4963N","NTMFS4934N"]
[null,null,null,null,null,null,null,null,null,null,null,null,null,null,null,null,null,null,null,null,null,null,null,null,"NTD4965N","NTD4904N"]
[null,null,null,null,null,null,null,null,null,null,null,null,null,null,null,null,null,null,null,null,null,null,null,null,"NTD4965N","NTMFS4825NFE"]
[null,null,null,null,null,null,null,null,null,null,null,null,null,null,null,null,null,null,null,null,null,null,null,null,"NTD4965N","NTMFS4833N"]
[null,null,null,null,null,null,null,null,null,null,null,null,null,null,null,null,null,null,null,null,null,null,null,null,"NTD4965N","NTMFS4834N"]
[null,null,null,null,null,null,null,null,null,null,null,null,null,null,null,null,null,null,null,null,null,null,null,null,"NTD4965N","NTMFS4835N"]
[null,null,null,null,null,null,null,null,null,null,null,null,null,null,null,null,null,null,null,null,null,null,null,null,"NTD4965N","NTMFS4845"]
[null,null,null,null,null,null,null,null,null,null,null,null,null,null,null,null,null,null,null,null,null,null,null,null,"NTD4965N","NTMFS4846"]
[null,null,null,null,null,null,null,null,null,null,null,null,null,null,null,null,null,null,null,null,null,null,null,null,"NTD4965N","NTMFS4852N"]
[null,null,null,null,null,null,null,null,null,null,null,null,null,null,null,null,null,null,null,null,null,null,null,null,"NTD4965N","NTMFS4897"]
[null,null,null,null,null,null,null,null,null,null,null,null,null,null,null,null,null,null,null,null,null,null,null,null,"NTD4965N","NTMFS4898N"]
[null,null,null,null,null,null,null,null,null,null,null,null,null,null,null,null,null,null,null,null,null,null,null,null,"NTD4965N","NTMFS4923NE"]
[null,null,null,null,null,null,null,null,null,null,null,null,null,null,null,null,null,null,null,null,null,null,null,null,"NTD4965N","NTMFS4933N"]
[null,null,null,null,null,null,null,null,null,null,null,null,null,null,null,null,null,null,null,null,null,null,null,null,"NTD4965N","NTMFS4934N"]
[null,null,null,null,null,null,null,null,null,null,null,null,null,null,null,null,null,null,null,null,null,null,null,null,"NTD4965N","NTMFS4935N"]
[null,null,null,null,null,null,null,null,null,null,null,null,null,null,null,null,null,null,null,null,null,null,null,null,"NTD4965N","NTMFS4936"]
[null,null,null,null,null,null,null,null,null,null,null,null,null,null,null,null,null,null,null,null,null,null,null,null,"NTD4965N","NTTFS4932N"]
[null,null,null,null,null,null,null,null,null,null,null,null,null,null,null,null,null,null,null,null,null,null,null,null,"NTD4969N","NTMFS4825NFE"]
[null,null,null,null,null,null,null,null,null,null,null,null,null,null,null,null,null,null,null,null,null,null,null,null,"NTD4969N","NTMFS4833N"]
[null,null,null,null,null,null,null,null,null,null,null,null,null,null,null,null,null,null,null,null,null,null,null,null,"NTD4969N","NTMFS4834N"]
[null,null,null,null,null,null,null,null,null,null,null,null,null,null,null,null,null,null,null,null,null,null,null,null,"NTD4969N","NTMFS4845"]
[null,null,null,null,null,null,null,null,null,null,null,null,null,null,null,null,null,null,null,null,null,null,null,null,"NTD4969N","NTMFS4852N"]
[null,null,null,null,null,null,null,null,null,null,null,null,null,null,null,null,null,null,null,null,null,null,null,null,"NTD4969N","NTMFS4897"]
[null,null,null,null,null,null,null,null,null,null,null,null,null,null,null,null,null,null,null,null,null,null,null,null,"NTD4969N","NTMFS4898N"]
[null,null,null,null,null,null,null,null,null,null,null,null,null,null,null,null,null,null,null,null,null,null,null,null,"NTD4969N","NTMFS4933N"]
[null,null,null,null,null,null,null,null,null,null,null,null,null,null,null,null,null,null,null,null,null,null,null,null,"NTD4969N","NTMFS4934N"]
[null,null,null,null,null,null,null,null,null,null,null,null,null,null,null,null,null,null,null,null,null,null,null,null,"NTD4969N","NTTFS4932N"]
[null,null,null,null,null,null,null,null,null,null,null,null,null,null,null,null,null,null,null,null,null,null,null,null,"NTD4970N","NTMFS4825NFE"]
[null,null,null,null,null,null,null,null,null,null,null,null,null,null,null,null,null,null,null,null,null,null,null,null,"NTD4970N","NTMFS4833N"]
[null,null,null,null,null,null,null,null,null,null,null,null,null,null,null,null,null,null,null,null,null,null,null,null,"NTD4970N","NTMFS4834N"]
[null,null,null,null,null,null,null,null,null,null,null,null,null,null,null,null,null,null,null,null,null,null,null,null,"NTD4970N","NTMFS4845"]
[null,null,null,null,null,null,null,null,null,null,null,null,null,null,null,null,null,null,null,null,null,null,null,null,"NTD4970N","NTMFS4852N"]
[null,null,null,null,null,null,null,null,null,null,null,null,null,null,null,null,null,null,null,null,null,null,null,null,"NTD4970N","NTMFS4897"]
[null,null,null,null,null,null,null,null,null,null,null,null,null,null,null,null,null,null,null,null,null,null,null,null,"NTD4970N","NTMFS4898N"]
[null,null,null,null,null,null,null,null,null,null,null,null,null,null,null,null,null,null,null,null,null,null,null,null,"NTD4970N","NTMFS4933N"]
[null,null,null,null,null,null,null,null,null,null,null,null,null,null,null,null,null,null,null,null,null,null,null,null,"NTD4970N","NTMFS4934N"]
[null,null,null,null,null,null,null,null,null,null,null,null,null,null,null,null,null,null,null,null,null,null,null,null,"NTD4970N","NTTFS4932N"]
[null,null,null,null,null,null,null,null,null,null,null,null,null,null,null,null,null,null,null,null,null,null,null,null,"NTMFS4821","NTD4904N"]
[null,null,null,null,null,null,null,null,null,null,null,null,null,null,null,null,null,null,null,null,null,null,null,null,"NTMFS4821","NTMFS4825NFE"]
[null,null,null,null,null,null,null,null,null,null,null,null,null,null,null,null,null,null,null,null,null,null,null,null,"NTMFS4821","NTMFS4833N"]
[null,null,null,null,null,null,null,null,null,null,null,null,null,null,null,null,null,null,null,null,null,null,null,null,"NTMFS4821","NTMFS4834N"]
[null,null,null,null,null,null,null,null,null,null,null,null,null,null,null,null,null,null,null,null,null,null,null,null,"NTMFS4821","NTMFS4835N"]
[null,null,null,null,null,null,null,null,null,null,null,null,null,null,null,null,null,null,null,null,null,null,null,null,"NTMFS4821","NTMFS4845"]
[null,null,null,null,null,null,null,null,null,null,null,null,null,null,null,null,null,null,null,null,null,null,null,null,"NTMFS4821","NTMFS4846"]
[null,null,null,null,null,null,null,null,null,null,null,null,null,null,null,null,null,null,null,null,null,null,null,null,"NTMFS4821","NTMFS4852N"]
[null,null,null,null,null,null,null,null,null,null,null,null,null,null,null,null,null,null,null,null,null,null,null,null,"NTMFS4821","NTMFS4897"]
[null,null,null,null,null,null,null,null,null,null,null,null,null,null,null,null,null,null,null,null,null,null,null,null,"NTMFS4821","NTMFS4898N"]
[null,null,null,null,null,null,null,null,null,null,null,null,null,null,null,null,null,null,null,null,null,null,null,null,"NTMFS4821","NTMFS4923NE"]
[null,null,null,null,null,null,null,null,null,null,null,null,null,null,null,null,null,null,null,null,null,null,null,null,"NTMFS4821","NTMFS4933N"]
[null,null,null,null,null,null,null,null,null,null,null,null,null,null,null,null,null,null,null,null,null,null,null,null,"NTMFS4821","NTMFS4934N"]
[null,null,null,null,null,null,null,null,null,null,null,null,null,null,null,null,null,null,null,null,null,null,null,null,"NTMFS4821","NTMFS4935N"]
[null,null,null,null,null,null,null,null,null,null,null,null,null,null,null,null,null,null,null,null,null,null,null,null,"NTMFS4821","NTMFS4936"]
[null,null,null,null,null,null,null,null,null,null,null,null,null,null,null,null,null,null,null,null,null,null,null,null,"NTMFS4821","NTTFS4932N"]
[null,null,null,null,null,null,null,null,null,null,null,null,null,null,null,null,null,null,null,null,null,null,null,null,"NTMFS4823","NTMFS4825NFE"]
[null,null,null,null,null,null,null,null,null,null,null,null,null,null,null,null,null,null,null,null,null,null,null,null,"NTMFS4823","NTMFS4833N"]
[null,null,null,null,null,null,null,null,null,null,null,null,null,null,null,null,null,null,null,null,null,null,null,null,"NTMFS4823","NTMFS4834N"]
[null,null,null,null,null,null,null,null,null,null,null,null,null,null,null,null,null,null,null,null,null,null,null,null,"NTMFS4823","NTMFS4845"]
[null,null,null,null,null,null,null,null,null,null,null,null,null,null,null,null,null,null,null,null,null,null,null,null,"NTMFS4823","NTMFS4852N"]
[null,null,null,null,null,null,null,null,null,null,null,null,null,null,null,null,null,null,null,null,null,null,null,null,"NTMFS4823","NTMFS4897"]
[null,null,null,null,null,null,null,null,null,null,null,null,null,null,null,null,null,null,null,null,null,null,null,null,"NTMFS4823","NTMFS4898N"]
[null,null,null,null,null,null,null,null,null,null,null,null,null,null,null,null,null,null,null,null,null,null,null,null,"NTMFS4823","NTMFS4933N"]
[null,null,null,null,null,null,null,null,null,null,null,null,null,null,null,null,null,null,null,null,null,null,null,null,"NTMFS4823","NTMFS4934N"]
[null,null,null,null,null,null,null,null,null,null,null,null,null,null,null,null,null,null,null,null,null,null,null,null,"NTMFS4825NFE","NTD4804N"]
[null,null,null,null,null,null,null,null,null,null,null,null,null,null,null,null,null,null,null,null,null,null,null,null,"NTMFS4825NFE","NTD4855N"]
[null,null,null,null,null,null,null,null,null,null,null,null,null,null,null,null,null,null,null,null,null,null,null,null,"NTMFS4825NFE","NTD4904N"]
[null,null,null,null,null,null,null,null,null,null,null,null,null,null,null,null,null,null,null,null,null,null,null,null,"NTMFS4825NFE","NTMFS4825NFE"]
[null,null,null,null,null,null,null,null,null,null,null,null,null,null,null,null,null,null,null,null,null,null,null,null,"NTMFS4825NFE","NTMFS4833N"]
[null,null,null,null,null,null,null,null,null,null,null,null,null,null,null,null,null,null,null,null,null,null,null,null,"NTMFS4825NFE","NTMFS4834N"]
[null,null,null,null,null,null,null,null,null,null,null,null,null,null,null,null,null,null,null,null,null,null,null,null,"NTMFS4825NFE","NTMFS4835N"]
[null,null,null,null,null,null,null,null,null,null,null,null,null,null,null,null,null,null,null,null,null,null,null,null,"NTMFS4825NFE","NTMFS4836N"]
[null,null,null,null,null,null,null,null,null,null,null,null,null,null,null,null,null,null,null,null,null,null,null,null,"NTMFS4825NFE","NTMFS4845"]
[null,null,null,null,null,null,null,null,null,null,null,null,null,null,null,null,null,null,null,null,null,null,null,null,"NTMFS4825NFE","NTMFS4846"]
[null,null,null,null,null,null,null,null,null,null,null,null,null,null,null,null,null,null,null,null,null,null,null,null,"NTMFS4825NFE","NTMFS4852N"]
[null,null,null,null,null,null,null,null,null,null,null,null,null,null,null,null,null,null,null,null,null,null,null,null,"NTMFS4825NFE","NTMFS4897"]
[null,null,null,null,null,null,null,null,null,null,null,null,null,null,null,null,null,null,null,null,null,null,null,null,"NTMFS4825NFE","NTMFS4898N"]
[null,null,null,null,null,null,null,null,null,null,null,null,null,null,null,null,null,null,null,null,null,null,null,null,"NTMFS4825NFE","NTMFS4923NE"]
[null,null,null,null,null,null,null,null,null,null,null,null,null,null,null,null,null,null,null,null,null,null,null,null,"NTMFS4825NFE","NTMFS4933N"]
[null,null,null,null,null,null,null,null,null,null,null,null,null,null,null,null,null,null,null,null,null,null,null,null,"NTMFS4825NFE","NTMFS4934N"]
[null,null,null,null,null,null,null,null,null,null,null,null,null,null,null,null,null,null,null,null,null,null,null,null,"NTMFS4825NFE","NTMFS4935N"]
[null,null,null,null,null,null,null,null,null,null,null,null,null,null,null,null,null,null,null,null,null,null,null,null,"NTMFS4825NFE","NTMFS4936"]
[null,null,null,null,null,null,null,null,null,null,null,null,null,null,null,null,null,null,null,null,null,null,null,null,"NTMFS4825NFE","NTTFS4932N"]
[null,null,null,null,null,null,null,null,null,null,null,null,null,null,null,null,null,null,null,null,null,null,null,null,"NTMFS4825NFE","NTTFS4937N"]
[null,null,null,null,null,null,null,null,null,null,null,null,null,null,null,null,null,null,null,null,null,null,null,null,"NTMFS4826NE","NTD4904N"]
[null,null,null,null,null,null,null,null,null,null,null,null,null,null,null,null,null,null,null,null,null,null,null,null,"NTMFS4826NE","NTMFS4825NFE"]
[null,null,null,null,null,null,null,null,null,null,null,null,null,null,null,null,null,null,null,null,null,null,null,null,"NTMFS4826NE","NTMFS4833N"]
[null,null,null,null,null,null,null,null,null,null,null,null,null,null,null,null,null,null,null,null,null,null,null,null,"NTMFS4826NE","NTMFS4834N"]
[null,null,null,null,null,null,null,null,null,null,null,null,null,null,null,null,null,null,null,null,null,null,null,null,"NTMFS4826NE","NTMFS4835N"]
[null,null,null,null,null,null,null,null,null,null,null,null,null,null,null,null,null,null,null,null,null,null,null,null,"NTMFS4826NE","NTMFS4845"]
[null,null,null,null,null,null,null,null,null,null,null,null,null,null,null,null,null,null,null,null,null,null,null,null,"NTMFS4826NE","NTMFS4846"]
[null,null,null,null,null,null,null,null,null,null,null,null,null,null,null,null,null,null,null,null,null,null,null,null,"NTMFS4826NE","NTMFS4852N"]
[null,null,null,null,null,null,null,null,null,null,null,null,null,null,null,null,null,null,null,null,null,null,null,null,"NTMFS4826NE","NTMFS4897"]
[null,null,null,null,null,null,null,null,null,null,null,null,null,null,null,null,null,null,null,null,null,null,null,null,"NTMFS4826NE","NTMFS4898N"]
[null,null,null,null,null,null,null,null,null,null,null,null,null,null,null,null,null,null,null,null,null,null,null,null,"NTMFS4826NE","NTMFS4923NE"]
[null,null,null,null,null,null,null,null,null,null,null,null,null,null,null,null,null,null,null,null,null,null,null,null,"NTMFS4826NE","NTMFS4933N"]
[null,null,null,null,null,null,null,null,null,null,null,null,null,null,null,null,null,null,null,null,null,null,null,null,"NTMFS4826NE","NTMFS4934N"]
[null,null,null,null,null,null,null,null,null,null,null,null,null,null,null,null,null,null,null,null,null,null,null,null,"NTMFS4826NE","NTMFS4935N"]
[null,null,null,null,null,null,null,null,null,null,null,null,null,null,null,null,null,null,null,null,null,null,null,null,"NTMFS4826NE","NTMFS4936"]
[null,null,null,null,null,null,null,null,null,null,null,null,null,null,null,null,null,null,null,null,null,null,null,null,"NTMFS4826NE","NTTFS4932N"]
[null,null,null,null,null,null,null,null,null,null,null,null,null,null,null,null,null,null,null,null,null,null,null,null,"NTMFS4833N","NTD4804N"]
[null,null,null,null,null,null,null,null,null,null,null,null,null,null,null,null,null,null,null,null,null,null,null,null,"NTMFS4833N","NTD4855N"]
[null,null,null,null,null,null,null,null,null,null,null,null,null,null,null,null,null,null,null,null,null,null,null,null,"NTMFS4833N","NTD4904N"]
[null,null,null,null,null,null,null,null,null,null,null,null,null,null,null,null,null,null,null,null,null,null,null,null,"NTMFS4833N","NTMFS4825NFE"]
[null,null,null,null,null,null,null,null,null,null,null,null,null,null,null,null,null,null,null,null,null,null,null,null,"NTMFS4833N","NTMFS4833N"]
[null,null,null,null,null,null,null,null,null,null,null,null,null,null,null,null,null,null,null,null,null,null,null,null,"NTMFS4833N","NTMFS4834N"]
[null,null,null,null,null,null,null,null,null,null,null,null,null,null,null,null,null,null,null,null,null,null,null,null,"NTMFS4833N","NTMFS4835N"]
[null,null,null,null,null,null,null,null,null,null,null,null,null,null,null,null,null,null,null,null,null,null,null,null,"NTMFS4833N","NTMFS4836N"]
[null,null,null,null,null,null,null,null,null,null,null,null,null,null,null,null,null,null,null,null,null,null,null,null,"NTMFS4833N","NTMFS4845"]
[null,null,null,null,null,null,null,null,null,null,null,null,null,null,null,null,null,null,null,null,null,null,null,null,"NTMFS4833N","NTMFS4846"]
[null,null,null,null,null,null,null,null,null,null,null,null,null,null,null,null,null,null,null,null,null,null,null,null,"NTMFS4833N","NTMFS4852N"]
[null,null,null,null,null,null,null,null,null,null,null,null,null,null,null,null,null,null,null,null,null,null,null,null,"NTMFS4833N","NTMFS4897"]
[null,null,null,null,null,null,null,null,null,null,null,null,null,null,null,null,null,null,null,null,null,null,null,null,"NTMFS4833N","NTMFS4898N"]
[null,null,null,null,null,null,null,null,null,null,null,null,null,null,null,null,null,null,null,null,null,null,null,null,"NTMFS4833N","NTMFS4923NE"]
[null,null,null,null,null,null,null,null,null,null,null,null,null,null,null,null,null,null,null,null,null,null,null,null,"NTMFS4833N","NTMFS4933N"]
[null,null,null,null,null,null,null,null,null,null,null,null,null,null,null,null,null,null,null,null,null,null,null,null,"NTMFS4833N","NTMFS4934N"]
[null,null,null,null,null,null,null,null,null,null,null,null,null,null,null,null,null,null,null,null,null,null,null,null,"NTMFS4833N","NTMFS4935N"]
[null,null,null,null,null,null,null,null,null,null,null,null,null,null,null,null,null,null,null,null,null,null,null,null,"NTMFS4833N","NTMFS4936"]
[null,null,null,null,null,null,null,null,null,null,null,null,null,null,null,null,null,null,null,null,null,null,null,null,"NTMFS4833N","NTTFS4932N"]
[null,null,null,null,null,null,null,null,null,null,null,null,null,null,null,null,null,null,null,null,null,null,null,null,"NTMFS4833N","NTTFS4937N"]
[null,null,null,null,null,null,null,null,null,null,null,null,null,null,null,null,null,null,null,null,null,null,null,null,"NTMFS4834N","NTD4804N"]
[null,null,null,null,null,null,null,null,null,null,null,null,null,null,null,null,null,null,null,null,null,null,null,null,"NTMFS4834N","NTD4855N"]
[null,null,null,null,null,null,null,null,null,null,null,null,null,null,null,null,null,null,null,null,null,null,null,null,"NTMFS4834N","NTD4904N"]
[null,null,null,null,null,null,null,null,null,null,null,null,null,null,null,null,null,null,null,null,null,null,null,null,"NTMFS4834N","NTMFS4825NFE"]
[null,null,null,null,null,null,null,null,null,null,null,null,null,null,null,null,null,null,null,null,null,null,null,null,"NTMFS4834N","NTMFS4833N"]
[null,null,null,null,null,null,null,null,null,null,null,null,null,null,null,null,null,null,null,null,null,null,null,null,"NTMFS4834N","NTMFS4834N"]
[null,null,null,null,null,null,null,null,null,null,null,null,null,null,null,null,null,null,null,null,null,null,null,null,"NTMFS4834N","NTMFS4835N"]
[null,null,null,null,null,null,null,null,null,null,null,null,null,null,null,null,null,null,null,null,null,null,null,null,"NTMFS4834N","NTMFS4845"]
[null,null,null,null,null,null,null,null,null,null,null,null,null,null,null,null,null,null,null,null,null,null,null,null,"NTMFS4834N","NTMFS4846"]
[null,null,null,null,null,null,null,null,null,null,null,null,null,null,null,null,null,null,null,null,null,null,null,null,"NTMFS4834N","NTMFS4852N"]
[null,null,null,null,null,null,null,null,null,null,null,null,null,null,null,null,null,null,null,null,null,null,null,null,"NTMFS4834N","NTMFS4897"]
[null,null,null,null,null,null,null,null,null,null,null,null,null,null,null,null,null,null,null,null,null,null,null,null,"NTMFS4834N","NTMFS4898N"]
[null,null,null,null,null,null,null,null,null,null,null,null,null,null,null,null,null,null,null,null,null,null,null,null,"NTMFS4834N","NTMFS4923NE"]
[null,null,null,null,null,null,null,null,null,null,null,null,null,null,null,null,null,null,null,null,null,null,null,null,"NTMFS4834N","NTMFS4933N"]
[null,null,null,null,null,null,null,null,null,null,null,null,null,null,null,null,null,null,null,null,null,null,null,null,"NTMFS4834N","NTMFS4934N"]
[null,null,null,null,null,null,null,null,null,null,null,null,null,null,null,null,null,null,null,null,null,null,null,null,"NTMFS4834N","NTMFS4935N"]
[null,null,null,null,null,null,null,null,null,null,null,null,null,null,null,null,null,null,null,null,null,null,null,null,"NTMFS4834N","NTMFS4936"]
[null,null,null,null,null,null,null,null,null,null,null,null,null,null,null,null,null,null,null,null,null,null,null,null,"NTMFS4834N","NTTFS4932N"]
[null,null,null,null,null,null,null,null,null,null,null,null,null,null,null,null,null,null,null,null,null,null,null,null,"NTMFS4835N","NTD4804N"]
[null,null,null,null,null,null,null,null,null,null,null,null,null,null,null,null,null,null,null,null,null,null,null,null,"NTMFS4835N","NTD4855N"]
[null,null,null,null,null,null,null,null,null,null,null,null,null,null,null,null,null,null,null,null,null,null,null,null,"NTMFS4835N","NTD4904N"]
[null,null,null,null,null,null,null,null,null,null,null,null,null,null,null,null,null,null,null,null,null,null,null,null,"NTMFS4835N","NTMFS4825NFE"]
[null,null,null,null,null,null,null,null,null,null,null,null,null,null,null,null,null,null,null,null,null,null,null,null,"NTMFS4835N","NTMFS4833N"]
[null,null,null,null,null,null,null,null,null,null,null,null,null,null,null,null,null,null,null,null,null,null,null,null,"NTMFS4835N","NTMFS4834N"]
[null,null,null,null,null,null,null,null,null,null,null,null,null,null,null,null,null,null,null,null,null,null,null,null,"NTMFS4835N","NTMFS4835N"]
[null,null,null,null,null,null,null,null,null,null,null,null,null,null,null,null,null,null,null,null,null,null,null,null,"NTMFS4835N","NTMFS4845"]
[null,null,null,null,null,null,null,null,null,null,null,null,null,null,null,null,null,null,null,null,null,null,null,null,"NTMFS4835N","NTMFS4846"]
[null,null,null,null,null,null,null,null,null,null,null,null,null,null,null,null,null,null,null,null,null,null,null,null,"NTMFS4835N","NTMFS4852N"]
[null,null,null,null,null,null,null,null,null,null,null,null,null,null,null,null,null,null,null,null,null,null,null,null,"NTMFS4835N","NTMFS4897"]
[null,null,null,null,null,null,null,null,null,null,null,null,null,null,null,null,null,null,null,null,null,null,null,null,"NTMFS4835N","NTMFS4898N"]
[null,null,null,null,null,null,null,null,null,null,null,null,null,null,null,null,null,null,null,null,null,null,null,null,"NTMFS4835N","NTMFS4923NE"]
[null,null,null,null,null,null,null,null,null,null,null,null,null,null,null,null,null,null,null,null,null,null,null,null,"NTMFS4835N","NTMFS4933N"]
[null,null,null,null,null,null,null,null,null,null,null,null,null,null,null,null,null,null,null,null,null,null,null,null,"NTMFS4835N","NTMFS4934N"]
[null,null,null,null,null,null,null,null,null,null,null,null,null,null,null,null,null,null,null,null,null,null,null,null,"NTMFS4835N","NTMFS4935N"]
[null,null,null,null,null,null,null,null,null,null,null,null,null,null,null,null,null,null,null,null,null,null,null,null,"NTMFS4835N","NTMFS4936"]
[null,null,null,null,null,null,null,null,null,null,null,null,null,null,null,null,null,null,null,null,null,null,null,null,"NTMFS4835N","NTTFS4932N"]
[null,null,null,null,null,null,null,null,null,null,null,null,null,null,null,null,null,null,null,null,null,null,null,null,"NTMFS4836N","NTD4904N"]
[null,null,null,null,null,null,null,null,null,null,null,null,null,null,null,null,null,null,null,null,null,null,null,null,"NTMFS4836N","NTMFS4825NFE"]
[null,null,null,null,null,null,null,null,null,null,null,null,null,null,null,null,null,null,null,null,null,null,null,null,"NTMFS4836N","NTMFS4833N"]
[null,null,null,null,null,null,null,null,null,null,null,null,null,null,null,null,null,null,null,null,null,null,null,null,"NTMFS4836N","NTMFS4834N"]
[null,null,null,null,null,null,null,null,null,null,null,null,null,null,null,null,null,null,null,null,null,null,null,null,"NTMFS4836N","NTMFS4835N"]
[null,null,null,null,null,null,null,null,null,null,null,null,null,null,null,null,null,null,null,null,null,null,null,null,"NTMFS4836N","NTMFS4845"]
[null,null,null,null,null,null,null,null,null,null,null,null,null,null,null,null,null,null,null,null,null,null,null,null,"NTMFS4836N","NTMFS4846"]
[null,null,null,null,null,null,null,null,null,null,null,null,null,null,null,null,null,null,null,null,null,null,null,null,"NTMFS4836N","NTMFS4852N"]
[null,null,null,null,null,null,null,null,null,null,null,null,null,null,null,null,null,null,null,null,null,null,null,null,"NTMFS4836N","NTMFS4897"]
[null,null,null,null,null,null,null,null,null,null,null,null,null,null,null,null,null,null,null,null,null,null,null,null,"NTMFS4836N","NTMFS4898N"]
[null,null,null,null,null,null,null,null,null,null,null,null,null,null,null,null,null,null,null,null,null,null,null,null,"NTMFS4836N","NTMFS4923NE"]
[null,null,null,null,null,null,null,null,null,null,null,null,null,null,null,null,null,null,null,null,null,null,null,null,"NTMFS4836N","NTMFS4933N"]
[null,null,null,null,null,null,null,null,null,null,null,null,null,null,null,null,null,null,null,null,null,null,null,null,"NTMFS4836N","NTMFS4934N"]
[null,null,null,null,null,null,null,null,null,null,null,null,null,null,null,null,null,null,null,null,null,null,null,null,"NTMFS4836N","NTMFS4935N"]
[null,null,null,null,null,null,null,null,null,null,null,null,null,null,null,null,null,null,null,null,null,null,null,null,"NTMFS4836N","NTMFS4936"]
[null,null,null,null,null,null,null,null,null,null,null,null,null,null,null,null,null,null,null,null,null,null,null,null,"NTMFS4836N","NTTFS4932N"]
[null,null,null,null,null,null,null,null,null,null,null,null,null,null,null,null,null,null,null,null,null,null,null,null,"NTMFS4837NH","NTD4904N"]
[null,null,null,null,null,null,null,null,null,null,null,null,null,null,null,null,null,null,null,null,null,null,null,null,"NTMFS4837NH","NTMFS4825NFE"]
[null,null,null,null,null,null,null,null,null,null,null,null,null,null,null,null,null,null,null,null,null,null,null,null,"NTMFS4837NH","NTMFS4833N"]
[null,null,null,null,null,null,null,null,null,null,null,null,null,null,null,null,null,null,null,null,null,null,null,null,"NTMFS4837NH","NTMFS4834N"]
[null,null,null,null,null,null,null,null,null,null,null,null,null,null,null,null,null,null,null,null,null,null,null,null,"NTMFS4837NH","NTMFS4835N"]
[null,null,null,null,null,null,null,null,null,null,null,null,null,null,null,null,null,null,null,null,null,null,null,null,"NTMFS4837NH","NTMFS4845"]
[null,null,null,null,null,null,null,null,null,null,null,null,null,null,null,null,null,null,null,null,null,null,null,null,"NTMFS4837NH","NTMFS4846"]
[null,null,null,null,null,null,null,null,null,null,null,null,null,null,null,null,null,null,null,null,null,null,null,null,"NTMFS4837NH","NTMFS4852N"]
[null,null,null,null,null,null,null,null,null,null,null,null,null,null,null,null,null,null,null,null,null,null,null,null,"NTMFS4837NH","NTMFS4897"]
[null,null,null,null,null,null,null,null,null,null,null,null,null,null,null,null,null,null,null,null,null,null,null,null,"NTMFS4837NH","NTMFS4898N"]
[null,null,null,null,null,null,null,null,null,null,null,null,null,null,null,null,null,null,null,null,null,null,null,null,"NTMFS4837NH","NTMFS4923NE"]
[null,null,null,null,null,null,null,null,null,null,null,null,null,null,null,null,null,null,null,null,null,null,null,null,"NTMFS4837NH","NTMFS4933N"]
[null,null,null,null,null,null,null,null,null,null,null,null,null,null,null,null,null,null,null,null,null,null,null,null,"NTMFS4837NH","NTMFS4934N"]
[null,null,null,null,null,null,null,null,null,null,null,null,null,null,null,null,null,null,null,null,null,null,null,null,"NTMFS4837NH","NTMFS4935N"]
[null,null,null,null,null,null,null,null,null,null,null,null,null,null,null,null,null,null,null,null,null,null,null,null,"NTMFS4837NH","NTMFS4936"]
[null,null,null,null,null,null,null,null,null,null,null,null,null,null,null,null,null,null,null,null,null,null,null,null,"NTMFS4837NH","NTTFS4932N"]
[null,null,null,null,null,null,null,null,null,null,null,null,null,null,null,null,null,null,null,null,null,null,null,null,"NTMFS4839NH","NTD4904N"]
[null,null,null,null,null,null,null,null,null,null,null,null,null,null,null,null,null,null,null,null,null,null,null,null,"NTMFS4839NH","NTMFS4825NFE"]
[null,null,null,null,null,null,null,null,null,null,null,null,null,null,null,null,null,null,null,null,null,null,null,null,"NTMFS4839NH","NTMFS4833N"]
[null,null,null,null,null,null,null,null,null,null,null,null,null,null,null,null,null,null,null,null,null,null,null,null,"NTMFS4839NH","NTMFS4834N"]
[null,null,null,null,null,null,null,null,null,null,null,null,null,null,null,null,null,null,null,null,null,null,null,null,"NTMFS4839NH","NTMFS4835N"]
[null,null,null,null,null,null,null,null,null,null,null,null,null,null,null,null,null,null,null,null,null,null,null,null,"NTMFS4839NH","NTMFS4845"]
[null,null,null,null,null,null,null,null,null,null,null,null,null,null,null,null,null,null,null,null,null,null,null,null,"NTMFS4839NH","NTMFS4846"]
[null,null,null,null,null,null,null,null,null,null,null,null,null,null,null,null,null,null,null,null,null,null,null,null,"NTMFS4839NH","NTMFS4852N"]
[null,null,null,null,null,null,null,null,null,null,null,null,null,null,null,null,null,null,null,null,null,null,null,null,"NTMFS4839NH","NTMFS4897"]
[null,null,null,null,null,null,null,null,null,null,null,null,null,null,null,null,null,null,null,null,null,null,null,null,"NTMFS4839NH","NTMFS4898N"]
[null,null,null,null,null,null,null,null,null,null,null,null,null,null,null,null,null,null,null,null,null,null,null,null,"NTMFS4839NH","NTMFS4923NE"]
[null,null,null,null,null,null,null,null,null,null,null,null,null,null,null,null,null,null,null,null,null,null,null,null,"NTMFS4839NH","NTMFS4933N"]
[null,null,null,null,null,null,null,null,null,null,null,null,null,null,null,null,null,null,null,null,null,null,null,null,"NTMFS4839NH","NTMFS4934N"]
[null,null,null,null,null,null,null,null,null,null,null,null,null,null,null,null,null,null,null,null,null,null,null,null,"NTMFS4839NH","NTMFS4935N"]
[null,null,null,null,null,null,null,null,null,null,null,null,null,null,null,null,null,null,null,null,null,null,null,null,"NTMFS4839NH","NTMFS4936"]
[null,null,null,null,null,null,null,null,null,null,null,null,null,null,null,null,null,null,null,null,null,null,null,null,"NTMFS4839NH","NTTFS4932N"]
[null,null,null,null,null,null,null,null,null,null,null,null,null,null,null,null,null,null,null,null,null,null,null,null,"NTMFS4841N","NTD4904N"]
[null,null,null,null,null,null,null,null,null,null,null,null,null,null,null,null,null,null,null,null,null,null,null,null,"NTMFS4841N","NTMFS4825NFE"]
[null,null,null,null,null,null,null,null,null,null,null,null,null,null,null,null,null,null,null,null,null,null,null,null,"NTMFS4841N","NTMFS4833N"]
[null,null,null,null,null,null,null,null,null,null,null,null,null,null,null,null,null,null,null,null,null,null,null,null,"NTMFS4841N","NTMFS4834N"]
[null,null,null,null,null,null,null,null,null,null,null,null,null,null,null,null,null,null,null,null,null,null,null,null,"NTMFS4841N","NTMFS4835N"]
[null,null,null,null,null,null,null,null,null,null,null,null,null,null,null,null,null,null,null,null,null,null,null,null,"NTMFS4841N","NTMFS4845"]
[null,null,null,null,null,null,null,null,null,null,null,null,null,null,null,null,null,null,null,null,null,null,null,null,"NTMFS4841N","NTMFS4846"]
[null,null,null,null,null,null,null,null,null,null,null,null,null,null,null,null,null,null,null,null,null,null,null,null,"NTMFS4841N","NTMFS4852N"]
[null,null,null,null,null,null,null,null,null,null,null,null,null,null,null,null,null,null,null,null,null,null,null,null,"NTMFS4841N","NTMFS4897"]
[null,null,null,null,null,null,null,null,null,null,null,null,null,null,null,null,null,null,null,null,null,null,null,null,"NTMFS4841N","NTMFS4898N"]
[null,null,null,null,null,null,null,null,null,null,null,null,null,null,null,null,null,null,null,null,null,null,null,null,"NTMFS4841N","NTMFS4923NE"]
[null,null,null,null,null,null,null,null,null,null,null,null,null,null,null,null,null,null,null,null,null,null,null,null,"NTMFS4841N","NTMFS4933N"]
[null,null,null,null,null,null,null,null,null,null,null,null,null,null,null,null,null,null,null,null,null,null,null,null,"NTMFS4841N","NTMFS4934N"]
[null,null,null,null,null,null,null,null,null,null,null,null,null,null,null,null,null,null,null,null,null,null,null,null,"NTMFS4841N","NTMFS4935N"]
[null,null,null,null,null,null,null,null,null,null,null,null,null,null,null,null,null,null,null,null,null,null,null,null,"NTMFS4841N","NTMFS4936"]
[null,null,null,null,null,null,null,null,null,null,null,null,null,null,null,null,null,null,null,null,null,null,null,null,"NTMFS4841N","NTTFS4932N"]
[null,null,null,null,null,null,null,null,null,null,null,null,null,null,null,null,null,null,null,null,null,null,null,null,"NTMFS4841NH","NTD4904N"]
[null,null,null,null,null,null,null,null,null,null,null,null,null,null,null,null,null,null,null,null,null,null,null,null,"NTMFS4841NH","NTMFS4825NFE"]
[null,null,null,null,null,null,null,null,null,null,null,null,null,null,null,null,null,null,null,null,null,null,null,null,"NTMFS4841NH","NTMFS4833N"]
[null,null,null,null,null,null,null,null,null,null,null,null,null,null,null,null,null,null,null,null,null,null,null,null,"NTMFS4841NH","NTMFS4834N"]
[null,null,null,null,null,null,null,null,null,null,null,null,null,null,null,null,null,null,null,null,null,null,null,null,"NTMFS4841NH","NTMFS4835N"]
[null,null,null,null,null,null,null,null,null,null,null,null,null,null,null,null,null,null,null,null,null,null,null,null,"NTMFS4841NH","NTMFS4845"]
[null,null,null,null,null,null,null,null,null,null,null,null,null,null,null,null,null,null,null,null,null,null,null,null,"NTMFS4841NH","NTMFS4846"]
[null,null,null,null,null,null,null,null,null,null,null,null,null,null,null,null,null,null,null,null,null,null,null,null,"NTMFS4841NH","NTMFS4852N"]
[null,null,null,null,null,null,null,null,null,null,null,null,null,null,null,null,null,null,null,null,null,null,null,null,"NTMFS4841NH","NTMFS4897"]
[null,null,null,null,null,null,null,null,null,null,null,null,null,null,null,null,null,null,null,null,null,null,null,null,"NTMFS4841NH","NTMFS4898N"]
[null,null,null,null,null,null,null,null,null,null,null,null,null,null,null,null,null,null,null,null,null,null,null,null,"NTMFS4841NH","NTMFS4923NE"]
[null,null,null,null,null,null,null,null,null,null,null,null,null,null,null,null,null,null,null,null,null,null,null,null,"NTMFS4841NH","NTMFS4933N"]
[null,null,null,null,null,null,null,null,null,null,null,null,null,null,null,null,null,null,null,null,null,null,null,null,"NTMFS4841NH","NTMFS4934N"]
[null,null,null,null,null,null,null,null,null,null,null,null,null,null,null,null,null,null,null,null,null,null,null,null,"NTMFS4841NH","NTMFS4935N"]
[null,null,null,null,null,null,null,null,null,null,null,null,null,null,null,null,null,null,null,null,null,null,null,null,"NTMFS4841NH","NTMFS4936"]
[null,null,null,null,null,null,null,null,null,null,null,null,null,null,null,null,null,null,null,null,null,null,null,null,"NTMFS4841NH","NTTFS4932N"]
[null,null,null,null,null,null,null,null,null,null,null,null,null,null,null,null,null,null,null,null,null,null,null,null,"NTMFS4845","NTD4804N"]
[null,null,null,null,null,null,null,null,null,null,null,null,null,null,null,null,null,null,null,null,null,null,null,null,"NTMFS4845","NTD4855N"]
[null,null,null,null,null,null,null,null,null,null,null,null,null,null,null,null,null,null,null,null,null,null,null,null,"NTMFS4845","NTD4904N"]
[null,null,null,null,null,null,null,null,null,null,null,null,null,null,null,null,null,null,null,null,null,null,null,null,"NTMFS4845","NTMFS4825NFE"]
[null,null,null,null,null,null,null,null,null,null,null,null,null,null,null,null,null,null,null,null,null,null,null,null,"NTMFS4845","NTMFS4833N"]
[null,null,null,null,null,null,null,null,null,null,null,null,null,null,null,null,null,null,null,null,null,null,null,null,"NTMFS4845","NTMFS4834N"]
[null,null,null,null,null,null,null,null,null,null,null,null,null,null,null,null,null,null,null,null,null,null,null,null,"NTMFS4845","NTMFS4835N"]
[null,null,null,null,null,null,null,null,null,null,null,null,null,null,null,null,null,null,null,null,null,null,null,null,"NTMFS4845","NTMFS4845"]
[null,null,null,null,null,null,null,null,null,null,null,null,null,null,null,null,null,null,null,null,null,null,null,null,"NTMFS4845","NTMFS4846"]
[null,null,null,null,null,null,null,null,null,null,null,null,null,null,null,null,null,null,null,null,null,null,null,null,"NTMFS4845","NTMFS4852N"]
[null,null,null,null,null,null,null,null,null,null,null,null,null,null,null,null,null,null,null,null,null,null,null,null,"NTMFS4845","NTMFS4897"]
[null,null,null,null,null,null,null,null,null,null,null,null,null,null,null,null,null,null,null,null,null,null,null,null,"NTMFS4845","NTMFS4898N"]
[null,null,null,null,null,null,null,null,null,null,null,null,null,null,null,null,null,null,null,null,null,null,null,null,"NTMFS4845","NTMFS4923NE"]
[null,null,null,null,null,null,null,null,null,null,null,null,null,null,null,null,null,null,null,null,null,null,null,null,"NTMFS4845","NTMFS4933N"]
[null,null,null,null,null,null,null,null,null,null,null,null,null,null,null,null,null,null,null,null,null,null,null,null,"NTMFS4845","NTMFS4934N"]
[null,null,null,null,null,null,null,null,null,null,null,null,null,null,null,null,null,null,null,null,null,null,null,null,"NTMFS4845","NTMFS4935N"]
[null,null,null,null,null,null,null,null,null,null,null,null,null,null,null,null,null,null,null,null,null,null,null,null,"NTMFS4845","NTMFS4936"]
[null,null,null,null,null,null,null,null,null,null,null,null,null,null,null,null,null,null,null,null,null,null,null,null,"NTMFS4845","NTTFS4932N"]
[null,null,null,null,null,null,null,null,null,null,null,null,null,null,null,null,null,null,null,null,null,null,null,null,"NTMFS4846","NTD4804N"]
[null,null,null,null,null,null,null,null,null,null,null,null,null,null,null,null,null,null,null,null,null,null,null,null,"NTMFS4846","NTD4855N"]
[null,null,null,null,null,null,null,null,null,null,null,null,null,null,null,null,null,null,null,null,null,null,null,null,"NTMFS4846","NTD4904N"]
[null,null,null,null,null,null,null,null,null,null,null,null,null,null,null,null,null,null,null,null,null,null,null,null,"NTMFS4846","NTMFS4825NFE"]
[null,null,null,null,null,null,null,null,null,null,null,null,null,null,null,null,null,null,null,null,null,null,null,null,"NTMFS4846","NTMFS4833N"]
[null,null,null,null,null,null,null,null,null,null,null,null,null,null,null,null,null,null,null,null,null,null,null,null,"NTMFS4846","NTMFS4834N"]
[null,null,null,null,null,null,null,null,null,null,null,null,null,null,null,null,null,null,null,null,null,null,null,null,"NTMFS4846","NTMFS4835N"]
[null,null,null,null,null,null,null,null,null,null,null,null,null,null,null,null,null,null,null,null,null,null,null,null,"NTMFS4846","NTMFS4845"]
[null,null,null,null,null,null,null,null,null,null,null,null,null,null,null,null,null,null,null,null,null,null,null,null,"NTMFS4846","NTMFS4846"]
[null,null,null,null,null,null,null,null,null,null,null,null,null,null,null,null,null,null,null,null,null,null,null,null,"NTMFS4846","NTMFS4852N"]
[null,null,null,null,null,null,null,null,null,null,null,null,null,null,null,null,null,null,null,null,null,null,null,null,"NTMFS4846","NTMFS4897"]
[null,null,null,null,null,null,null,null,null,null,null,null,null,null,null,null,null,null,null,null,null,null,null,null,"NTMFS4846","NTMFS4898N"]
[null,null,null,null,null,null,null,null,null,null,null,null,null,null,null,null,null,null,null,null,null,null,null,null,"NTMFS4846","NTMFS4923NE"]
[null,null,null,null,null,null,null,null,null,null,null,null,null,null,null,null,null,null,null,null,null,null,null,null,"NTMFS4846","NTMFS4933N"]
[null,null,null,null,null,null,null,null,null,null,null,null,null,null,null,null,null,null,null,null,null,null,null,null,"NTMFS4846","NTMFS4934N"]
[null,null,null,null,null,null,null,null,null,null,null,null,null,null,null,null,null,null,null,null,null,null,null,null,"NTMFS4846","NTMFS4935N"]
[null,null,null,null,null,null,null,null,null,null,null,null,null,null,null,null,null,null,null,null,null,null,null,null,"NTMFS4846","NTMFS4936"]
[null,null,null,null,null,null,null,null,null,null,null,null,null,null,null,null,null,null,null,null,null,null,null,null,"NTMFS4846","NTTFS4932N"]
[null,null,null,null,null,null,null,null,null,null,null,null,null,null,null,null,null,null,null,null,null,null,null,null,"NTMFS4847N","NTD4904N"]
[null,null,null,null,null,null,null,null,null,null,null,null,null,null,null,null,null,null,null,null,null,null,null,null,"NTMFS4847N","NTMFS4825NFE"]
[null,null,null,null,null,null,null,null,null,null,null,null,null,null,null,null,null,null,null,null,null,null,null,null,"NTMFS4847N","NTMFS4833N"]
[null,null,null,null,null,null,null,null,null,null,null,null,null,null,null,null,null,null,null,null,null,null,null,null,"NTMFS4847N","NTMFS4834N"]
[null,null,null,null,null,null,null,null,null,null,null,null,null,null,null,null,null,null,null,null,null,null,null,null,"NTMFS4847N","NTMFS4835N"]
[null,null,null,null,null,null,null,null,null,null,null,null,null,null,null,null,null,null,null,null,null,null,null,null,"NTMFS4847N","NTMFS4845"]
[null,null,null,null,null,null,null,null,null,null,null,null,null,null,null,null,null,null,null,null,null,null,null,null,"NTMFS4847N","NTMFS4846"]
[null,null,null,null,null,null,null,null,null,null,null,null,null,null,null,null,null,null,null,null,null,null,null,null,"NTMFS4847N","NTMFS4852N"]
[null,null,null,null,null,null,null,null,null,null,null,null,null,null,null,null,null,null,null,null,null,null,null,null,"NTMFS4847N","NTMFS4897"]
[null,null,null,null,null,null,null,null,null,null,null,null,null,null,null,null,null,null,null,null,null,null,null,null,"NTMFS4847N","NTMFS4898N"]
[null,null,null,null,null,null,null,null,null,null,null,null,null,null,null,null,null,null,null,null,null,null,null,null,"NTMFS4847N","NTMFS4923NE"]
[null,null,null,null,null,null,null,null,null,null,null,null,null,null,null,null,null,null,null,null,null,null,null,null,"NTMFS4847N","NTMFS4933N"]
[null,null,null,null,null,null,null,null,null,null,null,null,null,null,null,null,null,null,null,null,null,null,null,null,"NTMFS4847N","NTMFS4934N"]
[null,null,null,null,null,null,null,null,null,null,null,null,null,null,null,null,null,null,null,null,null,null,null,null,"NTMFS4847N","NTMFS4935N"]
[null,null,null,null,null,null,null,null,null,null,null,null,null,null,null,null,null,null,null,null,null,null,null,null,"NTMFS4847N","NTMFS4936"]
[null,null,null,null,null,null,null,null,null,null,null,null,null,null,null,null,null,null,null,null,null,null,null,null,"NTMFS4847N","NTTFS4932N"]
[null,null,null,null,null,null,null,null,null,null,null,null,null,null,null,null,null,null,null,null,null,null,null,null,"NTMFS4851","NTD4904N"]
[null,null,null,null,null,null,null,null,null,null,null,null,null,null,null,null,null,null,null,null,null,null,null,null,"NTMFS4851","NTMFS4825NFE"]
[null,null,null,null,null,null,null,null,null,null,null,null,null,null,null,null,null,null,null,null,null,null,null,null,"NTMFS4851","NTMFS4833N"]
[null,null,null,null,null,null,null,null,null,null,null,null,null,null,null,null,null,null,null,null,null,null,null,null,"NTMFS4851","NTMFS4834N"]
[null,null,null,null,null,null,null,null,null,null,null,null,null,null,null,null,null,null,null,null,null,null,null,null,"NTMFS4851","NTMFS4835N"]
[null,null,null,null,null,null,null,null,null,null,null,null,null,null,null,null,null,null,null,null,null,null,null,null,"NTMFS4851","NTMFS4845"]
[null,null,null,null,null,null,null,null,null,null,null,null,null,null,null,null,null,null,null,null,null,null,null,null,"NTMFS4851","NTMFS4846"]
[null,null,null,null,null,null,null,null,null,null,null,null,null,null,null,null,null,null,null,null,null,null,null,null,"NTMFS4851","NTMFS4852N"]
[null,null,null,null,null,null,null,null,null,null,null,null,null,null,null,null,null,null,null,null,null,null,null,null,"NTMFS4851","NTMFS4897"]
[null,null,null,null,null,null,null,null,null,null,null,null,null,null,null,null,null,null,null,null,null,null,null,null,"NTMFS4851","NTMFS4898N"]
[null,null,null,null,null,null,null,null,null,null,null,null,null,null,null,null,null,null,null,null,null,null,null,null,"NTMFS4851","NTMFS4923NE"]
[null,null,null,null,null,null,null,null,null,null,null,null,null,null,null,null,null,null,null,null,null,null,null,null,"NTMFS4851","NTMFS4933N"]
[null,null,null,null,null,null,null,null,null,null,null,null,null,null,null,null,null,null,null,null,null,null,null,null,"NTMFS4851","NTMFS4934N"]
[null,null,null,null,null,null,null,null,null,null,null,null,null,null,null,null,null,null,null,null,null,null,null,null,"NTMFS4851","NTMFS4935N"]
[null,null,null,null,null,null,null,null,null,null,null,null,null,null,null,null,null,null,null,null,null,null,null,null,"NTMFS4851","NTMFS4936"]
[null,null,null,null,null,null,null,null,null,null,null,null,null,null,null,null,null,null,null,null,null,null,null,null,"NTMFS4851","NTTFS4932N"]
[null,null,null,null,null,null,null,null,null,null,null,null,null,null,null,null,null,null,null,null,null,null,null,null,"NTMFS4852N","NTD4804N"]
[null,null,null,null,null,null,null,null,null,null,null,null,null,null,null,null,null,null,null,null,null,null,null,null,"NTMFS4852N","NTD4855N"]
[null,null,null,null,null,null,null,null,null,null,null,null,null,null,null,null,null,null,null,null,null,null,null,null,"NTMFS4852N","NTD4904N"]
[null,null,null,null,null,null,null,null,null,null,null,null,null,null,null,null,null,null,null,null,null,null,null,null,"NTMFS4852N","NTMFS4825NFE"]
[null,null,null,null,null,null,null,null,null,null,null,null,null,null,null,null,null,null,null,null,null,null,null,null,"NTMFS4852N","NTMFS4833N"]
[null,null,null,null,null,null,null,null,null,null,null,null,null,null,null,null,null,null,null,null,null,null,null,null,"NTMFS4852N","NTMFS4834N"]
[null,null,null,null,null,null,null,null,null,null,null,null,null,null,null,null,null,null,null,null,null,null,null,null,"NTMFS4852N","NTMFS4835N"]
[null,null,null,null,null,null,null,null,null,null,null,null,null,null,null,null,null,null,null,null,null,null,null,null,"NTMFS4852N","NTMFS4836N"]
[null,null,null,null,null,null,null,null,null,null,null,null,null,null,null,null,null,null,null,null,null,null,null,null,"NTMFS4852N","NTMFS4845"]
[null,null,null,null,null,null,null,null,null,null,null,null,null,null,null,null,null,null,null,null,null,null,null,null,"NTMFS4852N","NTMFS4846"]
[null,null,null,null,null,null,null,null,null,null,null,null,null,null,null,null,null,null,null,null,null,null,null,null,"NTMFS4852N","NTMFS4852N"]
[null,null,null,null,null,null,null,null,null,null,null,null,null,null,null,null,null,null,null,null,null,null,null,null,"NTMFS4852N","NTMFS4897"]
[null,null,null,null,null,null,null,null,null,null,null,null,null,null,null,null,null,null,null,null,null,null,null,null,"NTMFS4852N","NTMFS4898N"]
[null,null,null,null,null,null,null,null,null,null,null,null,null,null,null,null,null,null,null,null,null,null,null,null,"NTMFS4852N","NTMFS4923NE"]
[null,null,null,null,null,null,null,null,null,null,null,null,null,null,null,null,null,null,null,null,null,null,null,null,"NTMFS4852N","NTMFS4933N"]
[null,null,null,null,null,null,null,null,null,null,null,null,null,null,null,null,null,null,null,null,null,null,null,null,"NTMFS4852N","NTMFS4934N"]
[null,null,null,null,null,null,null,null,null,null,null,null,null,null,null,null,null,null,null,null,null,null,null,null,"NTMFS4852N","NTMFS4935N"]
[null,null,null,null,null,null,null,null,null,null,null,null,null,null,null,null,null,null,null,null,null,null,null,null,"NTMFS4852N","NTMFS4936"]
[null,null,null,null,null,null,null,null,null,null,null,null,null,null,null,null,null,null,null,null,null,null,null,null,"NTMFS4852N","NTTFS4932N"]
[null,null,null,null,null,null,null,null,null,null,null,null,null,null,null,null,null,null,null,null,null,null,null,null,"NTMFS4852N","NTTFS4937N"]
[null,null,null,null,null,null,null,null,null,null,null,null,null,null,null,null,null,null,null,null,null,null,null,null,"NTMFS4897","NTD4804N"]
[null,null,null,null,null,null,null,null,null,null,null,null,null,null,null,null,null,null,null,null,null,null,null,null,"NTMFS4897","NTD4855N"]
[null,null,null,null,null,null,null,null,null,null,null,null,null,null,null,null,null,null,null,null,null,null,null,null,"NTMFS4897","NTD4904N"]
[null,null,null,null,null,null,null,null,null,null,null,null,null,null,null,null,null,null,null,null,null,null,null,null,"NTMFS4897","NTMFS4825NFE"]
[null,null,null,null,null,null,null,null,null,null,null,null,null,null,null,null,null,null,null,null,null,null,null,null,"NTMFS4897","NTMFS4833N"]
[null,null,null,null,null,null,null,null,null,null,null,null,null,null,null,null,null,null,null,null,null,null,null,null,"NTMFS4897","NTMFS4834N"]
[null,null,null,null,null,null,null,null,null,null,null,null,null,null,null,null,null,null,null,null,null,null,null,null,"NTMFS4897","NTMFS4835N"]
[null,null,null,null,null,null,null,null,null,null,null,null,null,null,null,null,null,null,null,null,null,null,null,null,"NTMFS4897","NTMFS4836N"]
[null,null,null,null,null,null,null,null,null,null,null,null,null,null,null,null,null,null,null,null,null,null,null,null,"NTMFS4897","NTMFS4845"]
[null,null,null,null,null,null,null,null,null,null,null,null,null,null,null,null,null,null,null,null,null,null,null,null,"NTMFS4897","NTMFS4846"]
[null,null,null,null,null,null,null,null,null,null,null,null,null,null,null,null,null,null,null,null,null,null,null,null,"NTMFS4897","NTMFS4852N"]
[null,null,null,null,null,null,null,null,null,null,null,null,null,null,null,null,null,null,null,null,null,null,null,null,"NTMFS4897","NTMFS4897"]
[null,null,null,null,null,null,null,null,null,null,null,null,null,null,null,null,null,null,null,null,null,null,null,null,"NTMFS4897","NTMFS4898N"]
[null,null,null,null,null,null,null,null,null,null,null,null,null,null,null,null,null,null,null,null,null,null,null,null,"NTMFS4897","NTMFS4923NE"]
[null,null,null,null,null,null,null,null,null,null,null,null,null,null,null,null,null,null,null,null,null,null,null,null,"NTMFS4897","NTMFS4933N"]
[null,null,null,null,null,null,null,null,null,null,null,null,null,null,null,null,null,null,null,null,null,null,null,null,"NTMFS4897","NTMFS4934N"]
[null,null,null,null,null,null,null,null,null,null,null,null,null,null,null,null,null,null,null,null,null,null,null,null,"NTMFS4897","NTMFS4935N"]
[null,null,null,null,null,null,null,null,null,null,null,null,null,null,null,null,null,null,null,null,null,null,null,null,"NTMFS4897","NTMFS4936"]
[null,null,null,null,null,null,null,null,null,null,null,null,null,null,null,null,null,null,null,null,null,null,null,null,"NTMFS4897","NTTFS4932N"]
[null,null,null,null,null,null,null,null,null,null,null,null,null,null,null,null,null,null,null,null,null,null,null,null,"NTMFS4897","NTTFS4937N"]
[null,null,null,null,null,null,null,null,null,null,null,null,null,null,null,null,null,null,null,null,null,null,null,null,"NTMFS4898N","NTD4804N"]
[null,null,null,null,null,null,null,null,null,null,null,null,null,null,null,null,null,null,null,null,null,null,null,null,"NTMFS4898N","NTD4855N"]
[null,null,null,null,null,null,null,null,null,null,null,null,null,null,null,null,null,null,null,null,null,null,null,null,"NTMFS4898N","NTD4904N"]
[null,null,null,null,null,null,null,null,null,null,null,null,null,null,null,null,null,null,null,null,null,null,null,null,"NTMFS4898N","NTMFS4825NFE"]
[null,null,null,null,null,null,null,null,null,null,null,null,null,null,null,null,null,null,null,null,null,null,null,null,"NTMFS4898N","NTMFS4833N"]
[null,null,null,null,null,null,null,null,null,null,null,null,null,null,null,null,null,null,null,null,null,null,null,null,"NTMFS4898N","NTMFS4834N"]
[null,null,null,null,null,null,null,null,null,null,null,null,null,null,null,null,null,null,null,null,null,null,null,null,"NTMFS4898N","NTMFS4835N"]
[null,null,null,null,null,null,null,null,null,null,null,null,null,null,null,null,null,null,null,null,null,null,null,null,"NTMFS4898N","NTMFS4845"]
[null,null,null,null,null,null,null,null,null,null,null,null,null,null,null,null,null,null,null,null,null,null,null,null,"NTMFS4898N","NTMFS4846"]
[null,null,null,null,null,null,null,null,null,null,null,null,null,null,null,null,null,null,null,null,null,null,null,null,"NTMFS4898N","NTMFS4852N"]
[null,null,null,null,null,null,null,null,null,null,null,null,null,null,null,null,null,null,null,null,null,null,null,null,"NTMFS4898N","NTMFS4897"]
[null,null,null,null,null,null,null,null,null,null,null,null,null,null,null,null,null,null,null,null,null,null,null,null,"NTMFS4898N","NTMFS4898N"]
[null,null,null,null,null,null,null,null,null,null,null,null,null,null,null,null,null,null,null,null,null,null,null,null,"NTMFS4898N","NTMFS4923NE"]
[null,null,null,null,null,null,null,null,null,null,null,null,null,null,null,null,null,null,null,null,null,null,null,null,"NTMFS4898N","NTMFS4933N"]
[null,null,null,null,null,null,null,null,null,null,null,null,null,null,null,null,null,null,null,null,null,null,null,null,"NTMFS4898N","NTMFS4934N"]
[null,null,null,null,null,null,null,null,null,null,null,null,null,null,null,null,null,null,null,null,null,null,null,null,"NTMFS4898N","NTMFS4935N"]
[null,null,null,null,null,null,null,null,null,null,null,null,null,null,null,null,null,null,null,null,null,null,null,null,"NTMFS4898N","NTMFS4936"]
[null,null,null,null,null,null,null,null,null,null,null,null,null,null,null,null,null,null,null,null,null,null,null,null,"NTMFS4898N","NTTFS4932N"]
[null,null,null,null,null,null,null,null,null,null,null,null,null,null,null,null,null,null,null,null,null,null,null,null,"NTMFS4899N","NTD4904N"]
[null,null,null,null,null,null,null,null,null,null,null,null,null,null,null,null,null,null,null,null,null,null,null,null,"NTMFS4899N","NTMFS4825NFE"]
[null,null,null,null,null,null,null,null,null,null,null,null,null,null,null,null,null,null,null,null,null,null,null,null,"NTMFS4899N","NTMFS4833N"]
[null,null,null,null,null,null,null,null,null,null,null,null,null,null,null,null,null,null,null,null,null,null,null,null,"NTMFS4899N","NTMFS4834N"]
[null,null,null,null,null,null,null,null,null,null,null,null,null,null,null,null,null,null,null,null,null,null,null,null,"NTMFS4899N","NTMFS4835N"]
[null,null,null,null,null,null,null,null,null,null,null,null,null,null,null,null,null,null,null,null,null,null,null,null,"NTMFS4899N","NTMFS4845"]
[null,null,null,null,null,null,null,null,null,null,null,null,null,null,null,null,null,null,null,null,null,null,null,null,"NTMFS4899N","NTMFS4846"]
[null,null,null,null,null,null,null,null,null,null,null,null,null,null,null,null,null,null,null,null,null,null,null,null,"NTMFS4899N","NTMFS4852N"]
[null,null,null,null,null,null,null,null,null,null,null,null,null,null,null,null,null,null,null,null,null,null,null,null,"NTMFS4899N","NTMFS4897"]
[null,null,null,null,null,null,null,null,null,null,null,null,null,null,null,null,null,null,null,null,null,null,null,null,"NTMFS4899N","NTMFS4898N"]
[null,null,null,null,null,null,null,null,null,null,null,null,null,null,null,null,null,null,null,null,null,null,null,null,"NTMFS4899N","NTMFS4923NE"]
[null,null,null,null,null,null,null,null,null,null,null,null,null,null,null,null,null,null,null,null,null,null,null,null,"NTMFS4899N","NTMFS4933N"]
[null,null,null,null,null,null,null,null,null,null,null,null,null,null,null,null,null,null,null,null,null,null,null,null,"NTMFS4899N","NTMFS4934N"]
[null,null,null,null,null,null,null,null,null,null,null,null,null,null,null,null,null,null,null,null,null,null,null,null,"NTMFS4899N","NTMFS4935N"]
[null,null,null,null,null,null,null,null,null,null,null,null,null,null,null,null,null,null,null,null,null,null,null,null,"NTMFS4899N","NTMFS4936"]
[null,null,null,null,null,null,null,null,null,null,null,null,null,null,null,null,null,null,null,null,null,null,null,null,"NTMFS4899N","NTTFS4932N"]
[null,null,null,null,null,null,null,null,null,null,null,null,null,null,null,null,null,null,null,null,null,null,null,null,"NTMFS4921","NTD4904N"]
[null,null,null,null,null,null,null,null,null,null,null,null,null,null,null,null,null,null,null,null,null,null,null,null,"NTMFS4921","NTMFS4825NFE"]
[null,null,null,null,null,null,null,null,null,null,null,null,null,null,null,null,null,null,null,null,null,null,null,null,"NTMFS4921","NTMFS4833N"]
[null,null,null,null,null,null,null,null,null,null,null,null,null,null,null,null,null,null,null,null,null,null,null,null,"NTMFS4921","NTMFS4834N"]
[null,null,null,null,null,null,null,null,null,null,null,null,null,null,null,null,null,null,null,null,null,null,null,null,"NTMFS4921","NTMFS4835N"]
[null,null,null,null,null,null,null,null,null,null,null,null,null,null,null,null,null,null,null,null,null,null,null,null,"NTMFS4921","NTMFS4845"]
[null,null,null,null,null,null,null,null,null,null,null,null,null,null,null,null,null,null,null,null,null,null,null,null,"NTMFS4921","NTMFS4846"]
[null,null,null,null,null,null,null,null,null,null,null,null,null,null,null,null,null,null,null,null,null,null,null,null,"NTMFS4921","NTMFS4852N"]
[null,null,null,null,null,null,null,null,null,null,null,null,null,null,null,null,null,null,null,null,null,null,null,null,"NTMFS4921","NTMFS4897"]
[null,null,null,null,null,null,null,null,null,null,null,null,null,null,null,null,null,null,null,null,null,null,null,null,"NTMFS4921","NTMFS4898N"]
[null,null,null,null,null,null,null,null,null,null,null,null,null,null,null,null,null,null,null,null,null,null,null,null,"NTMFS4921","NTMFS4923NE"]
[null,null,null,null,null,null,null,null,null,null,null,null,null,null,null,null,null,null,null,null,null,null,null,null,"NTMFS4921","NTMFS4933N"]
[null,null,null,null,null,null,null,null,null,null,null,null,null,null,null,null,null,null,null,null,null,null,null,null,"NTMFS4921","NTMFS4934N"]
[null,null,null,null,null,null,null,null,null,null,null,null,null,null,null,null,null,null,null,null,null,null,null,null,"NTMFS4921","NTMFS4935N"]
[null,null,null,null,null,null,null,null,null,null,null,null,null,null,null,null,null,null,null,null,null,null,null,null,"NTMFS4921","NTMFS4936"]
[null,null,null,null,null,null,null,null,null,null,null,null,null,null,null,null,null,null,null,null,null,null,null,null,"NTMFS4921","NTTFS4932N"]
[null,null,null,null,null,null,null,null,null,null,null,null,null,null,null,null,null,null,null,null,null,null,null,null,"NTMFS4923NE","NTD4804N"]
[null,null,null,null,null,null,null,null,null,null,null,null,null,null,null,null,null,null,null,null,null,null,null,null,"NTMFS4923NE","NTD4855N"]
[null,null,null,null,null,null,null,null,null,null,null,null,null,null,null,null,null,null,null,null,null,null,null,null,"NTMFS4923NE","NTD4904N"]
[null,null,null,null,null,null,null,null,null,null,null,null,null,null,null,null,null,null,null,null,null,null,null,null,"NTMFS4923NE","NTMFS4825NFE"]
[null,null,null,null,null,null,null,null,null,null,null,null,null,null,null,null,null,null,null,null,null,null,null,null,"NTMFS4923NE","NTMFS4833N"]
[null,null,null,null,null,null,null,null,null,null,null,null,null,null,null,null,null,null,null,null,null,null,null,null,"NTMFS4923NE","NTMFS4834N"]
[null,null,null,null,null,null,null,null,null,null,null,null,null,null,null,null,null,null,null,null,null,null,null,null,"NTMFS4923NE","NTMFS4835N"]
[null,null,null,null,null,null,null,null,null,null,null,null,null,null,null,null,null,null,null,null,null,null,null,null,"NTMFS4923NE","NTMFS4845"]
[null,null,null,null,null,null,null,null,null,null,null,null,null,null,null,null,null,null,null,null,null,null,null,null,"NTMFS4923NE","NTMFS4846"]
[null,null,null,null,null,null,null,null,null,null,null,null,null,null,null,null,null,null,null,null,null,null,null,null,"NTMFS4923NE","NTMFS4852N"]
[null,null,null,null,null,null,null,null,null,null,null,null,null,null,null,null,null,null,null,null,null,null,null,null,"NTMFS4923NE","NTMFS4897"]
[null,null,null,null,null,null,null,null,null,null,null,null,null,null,null,null,null,null,null,null,null,null,null,null,"NTMFS4923NE","NTMFS4898N"]
[null,null,null,null,null,null,null,null,null,null,null,null,null,null,null,null,null,null,null,null,null,null,null,null,"NTMFS4923NE","NTMFS4923NE"]
[null,null,null,null,null,null,null,null,null,null,null,null,null,null,null,null,null,null,null,null,null,null,null,null,"NTMFS4923NE","NTMFS4933N"]
[null,null,null,null,null,null,null,null,null,null,null,null,null,null,null,null,null,null,null,null,null,null,null,null,"NTMFS4923NE","NTMFS4934N"]
[null,null,null,null,null,null,null,null,null,null,null,null,null,null,null,null,null,null,null,null,null,null,null,null,"NTMFS4923NE","NTMFS4935N"]
[null,null,null,null,null,null,null,null,null,null,null,null,null,null,null,null,null,null,null,null,null,null,null,null,"NTMFS4923NE","NTMFS4936"]
[null,null,null,null,null,null,null,null,null,null,null,null,null,null,null,null,null,null,null,null,null,null,null,null,"NTMFS4923NE","NTTFS4932N"]
[null,null,null,null,null,null,null,null,null,null,null,null,null,null,null,null,null,null,null,null,null,null,null,null,"NTMFS4925","NTD4904N"]
[null,null,null,null,null,null,null,null,null,null,null,null,null,null,null,null,null,null,null,null,null,null,null,null,"NTMFS4925","NTMFS4825NFE"]
[null,null,null,null,null,null,null,null,null,null,null,null,null,null,null,null,null,null,null,null,null,null,null,null,"NTMFS4925","NTMFS4833N"]
[null,null,null,null,null,null,null,null,null,null,null,null,null,null,null,null,null,null,null,null,null,null,null,null,"NTMFS4925","NTMFS4834N"]
[null,null,null,null,null,null,null,null,null,null,null,null,null,null,null,null,null,null,null,null,null,null,null,null,"NTMFS4925","NTMFS4835N"]
[null,null,null,null,null,null,null,null,null,null,null,null,null,null,null,null,null,null,null,null,null,null,null,null,"NTMFS4925","NTMFS4845"]
[null,null,null,null,null,null,null,null,null,null,null,null,null,null,null,null,null,null,null,null,null,null,null,null,"NTMFS4925","NTMFS4846"]
[null,null,null,null,null,null,null,null,null,null,null,null,null,null,null,null,null,null,null,null,null,null,null,null,"NTMFS4925","NTMFS4852N"]
[null,null,null,null,null,null,null,null,null,null,null,null,null,null,null,null,null,null,null,null,null,null,null,null,"NTMFS4925","NTMFS4897"]
[null,null,null,null,null,null,null,null,null,null,null,null,null,null,null,null,null,null,null,null,null,null,null,null,"NTMFS4925","NTMFS4898N"]
[null,null,null,null,null,null,null,null,null,null,null,null,null,null,null,null,null,null,null,null,null,null,null,null,"NTMFS4925","NTMFS4923NE"]
[null,null,null,null,null,null,null,null,null,null,null,null,null,null,null,null,null,null,null,null,null,null,null,null,"NTMFS4925","NTMFS4933N"]
[null,null,null,null,null,null,null,null,null,null,null,null,null,null,null,null,null,null,null,null,null,null,null,null,"NTMFS4925","NTMFS4934N"]
[null,null,null,null,null,null,null,null,null,null,null,null,null,null,null,null,null,null,null,null,null,null,null,null,"NTMFS4925","NTMFS4935N"]
[null,null,null,null,null,null,null,null,null,null,null,null,null,null,null,null,null,null,null,null,null,null,null,null,"NTMFS4925","NTMFS4936"]
[null,null,null,null,null,null,null,null,null,null,null,null,null,null,null,null,null,null,null,null,null,null,null,null,"NTMFS4925","NTTFS4932N"]
[null,null,null,null,null,null,null,null,null,null,null,null,null,null,null,null,null,null,null,null,null,null,null,null,"NTMFS4926","NTD4904N"]
[null,null,null,null,null,null,null,null,null,null,null,null,null,null,null,null,null,null,null,null,null,null,null,null,"NTMFS4926","NTMFS4825NFE"]
[null,null,null,null,null,null,null,null,null,null,null,null,null,null,null,null,null,null,null,null,null,null,null,null,"NTMFS4926","NTMFS4833N"]
[null,null,null,null,null,null,null,null,null,null,null,null,null,null,null,null,null,null,null,null,null,null,null,null,"NTMFS4926","NTMFS4834N"]
[null,null,null,null,null,null,null,null,null,null,null,null,null,null,null,null,null,null,null,null,null,null,null,null,"NTMFS4926","NTMFS4835N"]
[null,null,null,null,null,null,null,null,null,null,null,null,null,null,null,null,null,null,null,null,null,null,null,null,"NTMFS4926","NTMFS4845"]
[null,null,null,null,null,null,null,null,null,null,null,null,null,null,null,null,null,null,null,null,null,null,null,null,"NTMFS4926","NTMFS4846"]
[null,null,null,null,null,null,null,null,null,null,null,null,null,null,null,null,null,null,null,null,null,null,null,null,"NTMFS4926","NTMFS4852N"]
[null,null,null,null,null,null,null,null,null,null,null,null,null,null,null,null,null,null,null,null,null,null,null,null,"NTMFS4926","NTMFS4897"]
[null,null,null,null,null,null,null,null,null,null,null,null,null,null,null,null,null,null,null,null,null,null,null,null,"NTMFS4926","NTMFS4898N"]
[null,null,null,null,null,null,null,null,null,null,null,null,null,null,null,null,null,null,null,null,null,null,null,null,"NTMFS4926","NTMFS4923NE"]
[null,null,null,null,null,null,null,null,null,null,null,null,null,null,null,null,null,null,null,null,null,null,null,null,"NTMFS4926","NTMFS4933N"]
[null,null,null,null,null,null,null,null,null,null,null,null,null,null,null,null,null,null,null,null,null,null,null,null,"NTMFS4926","NTMFS4934N"]
[null,null,null,null,null,null,null,null,null,null,null,null,null,null,null,null,null,null,null,null,null,null,null,null,"NTMFS4926","NTMFS4935N"]
[null,null,null,null,null,null,null,null,null,null,null,null,null,null,null,null,null,null,null,null,null,null,null,null,"NTMFS4926","NTMFS4936"]
[null,null,null,null,null,null,null,null,null,null,null,null,null,null,null,null,null,null,null,null,null,null,null,null,"NTMFS4926","NTTFS4932N"]
[null,null,null,null,null,null,null,null,null,null,null,null,null,null,null,null,null,null,null,null,null,null,null,null,"NTMFS4927","NTD4904N"]
[null,null,null,null,null,null,null,null,null,null,null,null,null,null,null,null,null,null,null,null,null,null,null,null,"NTMFS4927","NTMFS4825NFE"]
[null,null,null,null,null,null,null,null,null,null,null,null,null,null,null,null,null,null,null,null,null,null,null,null,"NTMFS4927","NTMFS4833N"]
[null,null,null,null,null,null,null,null,null,null,null,null,null,null,null,null,null,null,null,null,null,null,null,null,"NTMFS4927","NTMFS4834N"]
[null,null,null,null,null,null,null,null,null,null,null,null,null,null,null,null,null,null,null,null,null,null,null,null,"NTMFS4927","NTMFS4835N"]
[null,null,null,null,null,null,null,null,null,null,null,null,null,null,null,null,null,null,null,null,null,null,null,null,"NTMFS4927","NTMFS4845"]
[null,null,null,null,null,null,null,null,null,null,null,null,null,null,null,null,null,null,null,null,null,null,null,null,"NTMFS4927","NTMFS4846"]
[null,null,null,null,null,null,null,null,null,null,null,null,null,null,null,null,null,null,null,null,null,null,null,null,"NTMFS4927","NTMFS4852N"]
[null,null,null,null,null,null,null,null,null,null,null,null,null,null,null,null,null,null,null,null,null,null,null,null,"NTMFS4927","NTMFS4897"]
[null,null,null,null,null,null,null,null,null,null,null,null,null,null,null,null,null,null,null,null,null,null,null,null,"NTMFS4927","NTMFS4898N"]
[null,null,null,null,null,null,null,null,null,null,null,null,null,null,null,null,null,null,null,null,null,null,null,null,"NTMFS4927","NTMFS4923NE"]
[null,null,null,null,null,null,null,null,null,null,null,null,null,null,null,null,null,null,null,null,null,null,null,null,"NTMFS4927","NTMFS4933N"]
[null,null,null,null,null,null,null,null,null,null,null,null,null,null,null,null,null,null,null,null,null,null,null,null,"NTMFS4927","NTMFS4934N"]
[null,null,null,null,null,null,null,null,null,null,null,null,null,null,null,null,null,null,null,null,null,null,null,null,"NTMFS4927","NTMFS4935N"]
[null,null,null,null,null,null,null,null,null,null,null,null,null,null,null,null,null,null,null,null,null,null,null,null,"NTMFS4927","NTMFS4936"]
[null,null,null,null,null,null,null,null,null,null,null,null,null,null,null,null,null,null,null,null,null,null,null,null,"NTMFS4927","NTTFS4932N"]
[null,null,null,null,null,null,null,null,null,null,null,null,null,null,null,null,null,null,null,null,null,null,null,null,"NTMFS4933N","NTD4804N"]
[null,null,null,null,null,null,null,null,null,null,null,null,null,null,null,null,null,null,null,null,null,null,null,null,"NTMFS4933N","NTD4855N"]
[null,null,null,null,null,null,null,null,null,null,null,null,null,null,null,null,null,null,null,null,null,null,null,null,"NTMFS4933N","NTD4904N"]
[null,null,null,null,null,null,null,null,null,null,null,null,null,null,null,null,null,null,null,null,null,null,null,null,"NTMFS4933N","NTMFS4825NFE"]
[null,null,null,null,null,null,null,null,null,null,null,null,null,null,null,null,null,null,null,null,null,null,null,null,"NTMFS4933N","NTMFS4833N"]
[null,null,null,null,null,null,null,null,null,null,null,null,null,null,null,null,null,null,null,null,null,null,null,null,"NTMFS4933N","NTMFS4834N"]
[null,null,null,null,null,null,null,null,null,null,null,null,null,null,null,null,null,null,null,null,null,null,null,null,"NTMFS4933N","NTMFS4835N"]
[null,null,null,null,null,null,null,null,null,null,null,null,null,null,null,null,null,null,null,null,null,null,null,null,"NTMFS4933N","NTMFS4836N"]
[null,null,null,null,null,null,null,null,null,null,null,null,null,null,null,null,null,null,null,null,null,null,null,null,"NTMFS4933N","NTMFS4845"]
[null,null,null,null,null,null,null,null,null,null,null,null,null,null,null,null,null,null,null,null,null,null,null,null,"NTMFS4933N","NTMFS4846"]
[null,null,null,null,null,null,null,null,null,null,null,null,null,null,null,null,null,null,null,null,null,null,null,null,"NTMFS4933N","NTMFS4852N"]
[null,null,null,null,null,null,null,null,null,null,null,null,null,null,null,null,null,null,null,null,null,null,null,null,"NTMFS4933N","NTMFS4897"]
[null,null,null,null,null,null,null,null,null,null,null,null,null,null,null,null,null,null,null,null,null,null,null,null,"NTMFS4933N","NTMFS4898N"]
[null,null,null,null,null,null,null,null,null,null,null,null,null,null,null,null,null,null,null,null,null,null,null,null,"NTMFS4933N","NTMFS4923NE"]
[null,null,null,null,null,null,null,null,null,null,null,null,null,null,null,null,null,null,null,null,null,null,null,null,"NTMFS4933N","NTMFS4933N"]
[null,null,null,null,null,null,null,null,null,null,null,null,null,null,null,null,null,null,null,null,null,null,null,null,"NTMFS4933N","NTMFS4934N"]
[null,null,null,null,null,null,null,null,null,null,null,null,null,null,null,null,null,null,null,null,null,null,null,null,"NTMFS4933N","NTMFS4935N"]
[null,null,null,null,null,null,null,null,null,null,null,null,null,null,null,null,null,null,null,null,null,null,null,null,"NTMFS4933N","NTMFS4936"]
[null,null,null,null,null,null,null,null,null,null,null,null,null,null,null,null,null,null,null,null,null,null,null,null,"NTMFS4933N","NTTFS4932N"]
[null,null,null,null,null,null,null,null,null,null,null,null,null,null,null,null,null,null,null,null,null,null,null,null,"NTMFS4933N","NTTFS4937N"]
[null,null,null,null,null,null,null,null,null,null,null,null,null,null,null,null,null,null,null,null,null,null,null,null,"NTMFS4934N","NTD4804N"]
[null,null,null,null,null,null,null,null,null,null,null,null,null,null,null,null,null,null,null,null,null,null,null,null,"NTMFS4934N","NTD4855N"]
[null,null,null,null,null,null,null,null,null,null,null,null,null,null,null,null,null,null,null,null,null,null,null,null,"NTMFS4934N","NTD4904N"]
[null,null,null,null,null,null,null,null,null,null,null,null,null,null,null,null,null,null,null,null,null,null,null,null,"NTMFS4934N","NTMFS4825NFE"]
[null,null,null,null,null,null,null,null,null,null,null,null,null,null,null,null,null,null,null,null,null,null,null,null,"NTMFS4934N","NTMFS4833N"]
[null,null,null,null,null,null,null,null,null,null,null,null,null,null,null,null,null,null,null,null,null,null,null,null,"NTMFS4934N","NTMFS4834N"]
[null,null,null,null,null,null,null,null,null,null,null,null,null,null,null,null,null,null,null,null,null,null,null,null,"NTMFS4934N","NTMFS4835N"]
[null,null,null,null,null,null,null,null,null,null,null,null,null,null,null,null,null,null,null,null,null,null,null,null,"NTMFS4934N","NTMFS4836N"]
[null,null,null,null,null,null,null,null,null,null,null,null,null,null,null,null,null,null,null,null,null,null,null,null,"NTMFS4934N","NTMFS4845"]
[null,null,null,null,null,null,null,null,null,null,null,null,null,null,null,null,null,null,null,null,null,null,null,null,"NTMFS4934N","NTMFS4846"]
[null,null,null,null,null,null,null,null,null,null,null,null,null,null,null,null,null,null,null,null,null,null,null,null,"NTMFS4934N","NTMFS4852N"]
[null,null,null,null,null,null,null,null,null,null,null,null,null,null,null,null,null,null,null,null,null,null,null,null,"NTMFS4934N","NTMFS4897"]
[null,null,null,null,null,null,null,null,null,null,null,null,null,null,null,null,null,null,null,null,null,null,null,null,"NTMFS4934N","NTMFS4898N"]
[null,null,null,null,null,null,null,null,null,null,null,null,null,null,null,null,null,null,null,null,null,null,null,null,"NTMFS4934N","NTMFS4923NE"]
[null,null,null,null,null,null,null,null,null,null,null,null,null,null,null,null,null,null,null,null,null,null,null,null,"NTMFS4934N","NTMFS4933N"]
[null,null,null,null,null,null,null,null,null,null,null,null,null,null,null,null,null,null,null,null,null,null,null,null,"NTMFS4934N","NTMFS4934N"]
[null,null,null,null,null,null,null,null,null,null,null,null,null,null,null,null,null,null,null,null,null,null,null,null,"NTMFS4934N","NTMFS4935N"]
[null,null,null,null,null,null,null,null,null,null,null,null,null,null,null,null,null,null,null,null,null,null,null,null,"NTMFS4934N","NTMFS4936"]
[null,null,null,null,null,null,null,null,null,null,null,null,null,null,null,null,null,null,null,null,null,null,null,null,"NTMFS4934N","NTTFS4932N"]
[null,null,null,null,null,null,null,null,null,null,null,null,null,null,null,null,null,null,null,null,null,null,null,null,"NTMFS4934N","NTTFS4937N"]
[null,null,null,null,null,null,null,null,null,null,null,null,null,null,null,null,null,null,null,null,null,null,null,null,"NTMFS4935N","NTD4804N"]
[null,null,null,null,null,null,null,null,null,null,null,null,null,null,null,null,null,null,null,null,null,null,null,null,"NTMFS4935N","NTD4855N"]
[null,null,null,null,null,null,null,null,null,null,null,null,null,null,null,null,null,null,null,null,null,null,null,null,"NTMFS4935N","NTD4904N"]
[null,null,null,null,null,null,null,null,null,null,null,null,null,null,null,null,null,null,null,null,null,null,null,null,"NTMFS4935N","NTMFS4825NFE"]
[null,null,null,null,null,null,null,null,null,null,null,null,null,null,null,null,null,null,null,null,null,null,null,null,"NTMFS4935N","NTMFS4833N"]
[null,null,null,null,null,null,null,null,null,null,null,null,null,null,null,null,null,null,null,null,null,null,null,null,"NTMFS4935N","NTMFS4834N"]
[null,null,null,null,null,null,null,null,null,null,null,null,null,null,null,null,null,null,null,null,null,null,null,null,"NTMFS4935N","NTMFS4835N"]
[null,null,null,null,null,null,null,null,null,null,null,null,null,null,null,null,null,null,null,null,null,null,null,null,"NTMFS4935N","NTMFS4845"]
[null,null,null,null,null,null,null,null,null,null,null,null,null,null,null,null,null,null,null,null,null,null,null,null,"NTMFS4935N","NTMFS4846"]
[null,null,null,null,null,null,null,null,null,null,null,null,null,null,null,null,null,null,null,null,null,null,null,null,"NTMFS4935N","NTMFS4852N"]
[null,null,null,null,null,null,null,null,null,null,null,null,null,null,null,null,null,null,null,null,null,null,null,null,"NTMFS4935N","NTMFS4897"]
[null,null,null,null,null,null,null,null,null,null,null,null,null,null,null,null,null,null,null,null,null,null,null,null,"NTMFS4935N","NTMFS4898N"]
[null,null,null,null,null,null,null,null,null,null,null,null,null,null,null,null,null,null,null,null,null,null,null,null,"NTMFS4935N","NTMFS4923NE"]
[null,null,null,null,null,null,null,null,null,null,null,null,null,null,null,null,null,null,null,null,null,null,null,null,"NTMFS4935N","NTMFS4933N"]
[null,null,null,null,null,null,null,null,null,null,null,null,null,null,null,null,null,null,null,null,null,null,null,null,"NTMFS4935N","NTMFS4934N"]
[null,null,null,null,null,null,null,null,null,null,null,null,null,null,null,null,null,null,null,null,null,null,null,null,"NTMFS4935N","NTMFS4935N"]
[null,null,null,null,null,null,null,null,null,null,null,null,null,null,null,null,null,null,null,null,null,null,null,null,"NTMFS4935N","NTMFS4936"]
[null,null,null,null,null,null,null,null,null,null,null,null,null,null,null,null,null,null,null,null,null,null,null,null,"NTMFS4935N","NTTFS4932N"]
[null,null,null,null,null,null,null,null,null,null,null,null,null,null,null,null,null,null,null,null,null,null,null,null,"NTMFS4936","NTD4804N"]
[null,null,null,null,null,null,null,null,null,null,null,null,null,null,null,null,null,null,null,null,null,null,null,null,"NTMFS4936","NTD4855N"]
[null,null,null,null,null,null,null,null,null,null,null,null,null,null,null,null,null,null,null,null,null,null,null,null,"NTMFS4936","NTD4904N"]
[null,null,null,null,null,null,null,null,null,null,null,null,null,null,null,null,null,null,null,null,null,null,null,null,"NTMFS4936","NTMFS4825NFE"]
[null,null,null,null,null,null,null,null,null,null,null,null,null,null,null,null,null,null,null,null,null,null,null,null,"NTMFS4936","NTMFS4833N"]
[null,null,null,null,null,null,null,null,null,null,null,null,null,null,null,null,null,null,null,null,null,null,null,null,"NTMFS4936","NTMFS4834N"]
[null,null,null,null,null,null,null,null,null,null,null,null,null,null,null,null,null,null,null,null,null,null,null,null,"NTMFS4936","NTMFS4835N"]
[null,null,null,null,null,null,null,null,null,null,null,null,null,null,null,null,null,null,null,null,null,null,null,null,"NTMFS4936","NTMFS4845"]
[null,null,null,null,null,null,null,null,null,null,null,null,null,null,null,null,null,null,null,null,null,null,null,null,"NTMFS4936","NTMFS4846"]
[null,null,null,null,null,null,null,null,null,null,null,null,null,null,null,null,null,null,null,null,null,null,null,null,"NTMFS4936","NTMFS4852N"]
[null,null,null,null,null,null,null,null,null,null,null,null,null,null,null,null,null,null,null,null,null,null,null,null,"NTMFS4936","NTMFS4897"]
[null,null,null,null,null,null,null,null,null,null,null,null,null,null,null,null,null,null,null,null,null,null,null,null,"NTMFS4936","NTMFS4898N"]
[null,null,null,null,null,null,null,null,null,null,null,null,null,null,null,null,null,null,null,null,null,null,null,null,"NTMFS4936","NTMFS4923NE"]
[null,null,null,null,null,null,null,null,null,null,null,null,null,null,null,null,null,null,null,null,null,null,null,null,"NTMFS4936","NTMFS4933N"]
[null,null,null,null,null,null,null,null,null,null,null,null,null,null,null,null,null,null,null,null,null,null,null,null,"NTMFS4936","NTMFS4934N"]
[null,null,null,null,null,null,null,null,null,null,null,null,null,null,null,null,null,null,null,null,null,null,null,null,"NTMFS4936","NTMFS4935N"]
[null,null,null,null,null,null,null,null,null,null,null,null,null,null,null,null,null,null,null,null,null,null,null,null,"NTMFS4936","NTMFS4936"]
[null,null,null,null,null,null,null,null,null,null,null,null,null,null,null,null,null,null,null,null,null,null,null,null,"NTMFS4936","NTTFS4932N"]
[null,null,null,null,null,null,null,null,null,null,null,null,null,null,null,null,null,null,null,null,null,null,null,null,"NTMFS4937N","NTD4904N"]
[null,null,null,null,null,null,null,null,null,null,null,null,null,null,null,null,null,null,null,null,null,null,null,null,"NTMFS4937N","NTMFS4825NFE"]
[null,null,null,null,null,null,null,null,null,null,null,null,null,null,null,null,null,null,null,null,null,null,null,null,"NTMFS4937N","NTMFS4833N"]
[null,null,null,null,null,null,null,null,null,null,null,null,null,null,null,null,null,null,null,null,null,null,null,null,"NTMFS4937N","NTMFS4834N"]
[null,null,null,null,null,null,null,null,null,null,null,null,null,null,null,null,null,null,null,null,null,null,null,null,"NTMFS4937N","NTMFS4835N"]
[null,null,null,null,null,null,null,null,null,null,null,null,null,null,null,null,null,null,null,null,null,null,null,null,"NTMFS4937N","NTMFS4845"]
[null,null,null,null,null,null,null,null,null,null,null,null,null,null,null,null,null,null,null,null,null,null,null,null,"NTMFS4937N","NTMFS4846"]
[null,null,null,null,null,null,null,null,null,null,null,null,null,null,null,null,null,null,null,null,null,null,null,null,"NTMFS4937N","NTMFS4852N"]
[null,null,null,null,null,null,null,null,null,null,null,null,null,null,null,null,null,null,null,null,null,null,null,null,"NTMFS4937N","NTMFS4897"]
[null,null,null,null,null,null,null,null,null,null,null,null,null,null,null,null,null,null,null,null,null,null,null,null,"NTMFS4937N","NTMFS4898N"]
[null,null,null,null,null,null,null,null,null,null,null,null,null,null,null,null,null,null,null,null,null,null,null,null,"NTMFS4937N","NTMFS4923NE"]
[null,null,null,null,null,null,null,null,null,null,null,null,null,null,null,null,null,null,null,null,null,null,null,null,"NTMFS4937N","NTMFS4933N"]
[null,null,null,null,null,null,null,null,null,null,null,null,null,null,null,null,null,null,null,null,null,null,null,null,"NTMFS4937N","NTMFS4934N"]
[null,null,null,null,null,null,null,null,null,null,null,null,null,null,null,null,null,null,null,null,null,null,null,null,"NTMFS4937N","NTMFS4935N"]
[null,null,null,null,null,null,null,null,null,null,null,null,null,null,null,null,null,null,null,null,null,null,null,null,"NTMFS4937N","NTMFS4936"]
[null,null,null,null,null,null,null,null,null,null,null,null,null,null,null,null,null,null,null,null,null,null,null,null,"NTMFS4937N","NTTFS4932N"]
[null,null,null,null,null,null,null,null,null,null,null,null,null,null,null,null,null,null,null,null,null,null,null,null,"NTMFS4939N","NTD4904N"]
[null,null,null,null,null,null,null,null,null,null,null,null,null,null,null,null,null,null,null,null,null,null,null,null,"NTMFS4939N","NTMFS4825NFE"]
[null,null,null,null,null,null,null,null,null,null,null,null,null,null,null,null,null,null,null,null,null,null,null,null,"NTMFS4939N","NTMFS4833N"]
[null,null,null,null,null,null,null,null,null,null,null,null,null,null,null,null,null,null,null,null,null,null,null,null,"NTMFS4939N","NTMFS4834N"]
[null,null,null,null,null,null,null,null,null,null,null,null,null,null,null,null,null,null,null,null,null,null,null,null,"NTMFS4939N","NTMFS4835N"]
[null,null,null,null,null,null,null,null,null,null,null,null,null,null,null,null,null,null,null,null,null,null,null,null,"NTMFS4939N","NTMFS4845"]
[null,null,null,null,null,null,null,null,null,null,null,null,null,null,null,null,null,null,null,null,null,null,null,null,"NTMFS4939N","NTMFS4846"]
[null,null,null,null,null,null,null,null,null,null,null,null,null,null,null,null,null,null,null,null,null,null,null,null,"NTMFS4939N","NTMFS4852N"]
[null,null,null,null,null,null,null,null,null,null,null,null,null,null,null,null,null,null,null,null,null,null,null,null,"NTMFS4939N","NTMFS4897"]
[null,null,null,null,null,null,null,null,null,null,null,null,null,null,null,null,null,null,null,null,null,null,null,null,"NTMFS4939N","NTMFS4898N"]
[null,null,null,null,null,null,null,null,null,null,null,null,null,null,null,null,null,null,null,null,null,null,null,null,"NTMFS4939N","NTMFS4923NE"]
[null,null,null,null,null,null,null,null,null,null,null,null,null,null,null,null,null,null,null,null,null,null,null,null,"NTMFS4939N","NTMFS4933N"]
[null,null,null,null,null,null,null,null,null,null,null,null,null,null,null,null,null,null,null,null,null,null,null,null,"NTMFS4939N","NTMFS4934N"]
[null,null,null,null,null,null,null,null,null,null,null,null,null,null,null,null,null,null,null,null,null,null,null,null,"NTMFS4939N","NTMFS4935N"]
[null,null,null,null,null,null,null,null,null,null,null,null,null,null,null,null,null,null,null,null,null,null,null,null,"NTMFS4939N","NTMFS4936"]
[null,null,null,null,null,null,null,null,null,null,null,null,null,null,null,null,null,null,null,null,null,null,null,null,"NTMFS4939N","NTTFS4932N"]
[null,null,null,null,null,null,null,null,null,null,null,null,null,null,null,null,null,null,null,null,null,null,null,null,"NTMFS4941N","NTD4904N"]
[null,null,null,null,null,null,null,null,null,null,null,null,null,null,null,null,null,null,null,null,null,null,null,null,"NTMFS4941N","NTMFS4825NFE"]
[null,null,null,null,null,null,null,null,null,null,null,null,null,null,null,null,null,null,null,null,null,null,null,null,"NTMFS4941N","NTMFS4833N"]
[null,null,null,null,null,null,null,null,null,null,null,null,null,null,null,null,null,null,null,null,null,null,null,null,"NTMFS4941N","NTMFS4834N"]
[null,null,null,null,null,null,null,null,null,null,null,null,null,null,null,null,null,null,null,null,null,null,null,null,"NTMFS4941N","NTMFS4835N"]
[null,null,null,null,null,null,null,null,null,null,null,null,null,null,null,null,null,null,null,null,null,null,null,null,"NTMFS4941N","NTMFS4845"]
[null,null,null,null,null,null,null,null,null,null,null,null,null,null,null,null,null,null,null,null,null,null,null,null,"NTMFS4941N","NTMFS4846"]
[null,null,null,null,null,null,null,null,null,null,null,null,null,null,null,null,null,null,null,null,null,null,null,null,"NTMFS4941N","NTMFS4852N"]
[null,null,null,null,null,null,null,null,null,null,null,null,null,null,null,null,null,null,null,null,null,null,null,null,"NTMFS4941N","NTMFS4897"]
[null,null,null,null,null,null,null,null,null,null,null,null,null,null,null,null,null,null,null,null,null,null,null,null,"NTMFS4941N","NTMFS4898N"]
[null,null,null,null,null,null,null,null,null,null,null,null,null,null,null,null,null,null,null,null,null,null,null,null,"NTMFS4941N","NTMFS4923NE"]
[null,null,null,null,null,null,null,null,null,null,null,null,null,null,null,null,null,null,null,null,null,null,null,null,"NTMFS4941N","NTMFS4933N"]
[null,null,null,null,null,null,null,null,null,null,null,null,null,null,null,null,null,null,null,null,null,null,null,null,"NTMFS4941N","NTMFS4934N"]
[null,null,null,null,null,null,null,null,null,null,null,null,null,null,null,null,null,null,null,null,null,null,null,null,"NTMFS4941N","NTMFS4935N"]
[null,null,null,null,null,null,null,null,null,null,null,null,null,null,null,null,null,null,null,null,null,null,null,null,"NTMFS4941N","NTMFS4936"]
[null,null,null,null,null,null,null,null,null,null,null,null,null,null,null,null,null,null,null,null,null,null,null,null,"NTMFS4941N","NTTFS4932N"]
[null,null,null,null,null,null,null,null,null,null,null,null,null,null,null,null,null,null,null,null,null,null,null,null,"NTMFS4943N","NTD4904N"]
[null,null,null,null,null,null,null,null,null,null,null,null,null,null,null,null,null,null,null,null,null,null,null,null,"NTMFS4943N","NTMFS4825NFE"]
[null,null,null,null,null,null,null,null,null,null,null,null,null,null,null,null,null,null,null,null,null,null,null,null,"NTMFS4943N","NTMFS4833N"]
[null,null,null,null,null,null,null,null,null,null,null,null,null,null,null,null,null,null,null,null,null,null,null,null,"NTMFS4943N","NTMFS4834N"]
[null,null,null,null,null,null,null,null,null,null,null,null,null,null,null,null,null,null,null,null,null,null,null,null,"NTMFS4943N","NTMFS4835N"]
[null,null,null,null,null,null,null,null,null,null,null,null,null,null,null,null,null,null,null,null,null,null,null,null,"NTMFS4943N","NTMFS4845"]
[null,null,null,null,null,null,null,null,null,null,null,null,null,null,null,null,null,null,null,null,null,null,null,null,"NTMFS4943N","NTMFS4846"]
[null,null,null,null,null,null,null,null,null,null,null,null,null,null,null,null,null,null,null,null,null,null,null,null,"NTMFS4943N","NTMFS4852N"]
[null,null,null,null,null,null,null,null,null,null,null,null,null,null,null,null,null,null,null,null,null,null,null,null,"NTMFS4943N","NTMFS4897"]
[null,null,null,null,null,null,null,null,null,null,null,null,null,null,null,null,null,null,null,null,null,null,null,null,"NTMFS4943N","NTMFS4898N"]
[null,null,null,null,null,null,null,null,null,null,null,null,null,null,null,null,null,null,null,null,null,null,null,null,"NTMFS4943N","NTMFS4923NE"]
[null,null,null,null,null,null,null,null,null,null,null,null,null,null,null,null,null,null,null,null,null,null,null,null,"NTMFS4943N","NTMFS4933N"]
[null,null,null,null,null,null,null,null,null,null,null,null,null,null,null,null,null,null,null,null,null,null,null,null,"NTMFS4943N","NTMFS4934N"]
[null,null,null,null,null,null,null,null,null,null,null,null,null,null,null,null,null,null,null,null,null,null,null,null,"NTMFS4943N","NTMFS4935N"]
[null,null,null,null,null,null,null,null,null,null,null,null,null,null,null,null,null,null,null,null,null,null,null,null,"NTMFS4943N","NTMFS4936"]
[null,null,null,null,null,null,null,null,null,null,null,null,null,null,null,null,null,null,null,null,null,null,null,null,"NTMFS4943N","NTTFS4932N"]
[null,null,null,null,null,null,null,null,null,null,null,null,null,null,null,null,null,null,null,null,null,null,null,null,"NTTFS4821N","NTD4904N"]
[null,null,null,null,null,null,null,null,null,null,null,null,null,null,null,null,null,null,null,null,null,null,null,null,"NTTFS4821N","NTMFS4825NFE"]
[null,null,null,null,null,null,null,null,null,null,null,null,null,null,null,null,null,null,null,null,null,null,null,null,"NTTFS4821N","NTMFS4833N"]
[null,null,null,null,null,null,null,null,null,null,null,null,null,null,null,null,null,null,null,null,null,null,null,null,"NTTFS4821N","NTMFS4834N"]
[null,null,null,null,null,null,null,null,null,null,null,null,null,null,null,null,null,null,null,null,null,null,null,null,"NTTFS4821N","NTMFS4835N"]
[null,null,null,null,null,null,null,null,null,null,null,null,null,null,null,null,null,null,null,null,null,null,null,null,"NTTFS4821N","NTMFS4845"]
[null,null,null,null,null,null,null,null,null,null,null,null,null,null,null,null,null,null,null,null,null,null,null,null,"NTTFS4821N","NTMFS4846"]
[null,null,null,null,null,null,null,null,null,null,null,null,null,null,null,null,null,null,null,null,null,null,null,null,"NTTFS4821N","NTMFS4852N"]
[null,null,null,null,null,null,null,null,null,null,null,null,null,null,null,null,null,null,null,null,null,null,null,null,"NTTFS4821N","NTMFS4897"]
[null,null,null,null,null,null,null,null,null,null,null,null,null,null,null,null,null,null,null,null,null,null,null,null,"NTTFS4821N","NTMFS4898N"]
[null,null,null,null,null,null,null,null,null,null,null,null,null,null,null,null,null,null,null,null,null,null,null,null,"NTTFS4821N","NTMFS4923NE"]
[null,null,null,null,null,null,null,null,null,null,null,null,null,null,null,null,null,null,null,null,null,null,null,null,"NTTFS4821N","NTMFS4933N"]
[null,null,null,null,null,null,null,null,null,null,null,null,null,null,null,null,null,null,null,null,null,null,null,null,"NTTFS4821N","NTMFS4934N"]
[null,null,null,null,null,null,null,null,null,null,null,null,null,null,null,null,null,null,null,null,null,null,null,null,"NTTFS4821N","NTMFS4935N"]
[null,null,null,null,null,null,null,null,null,null,null,null,null,null,null,null,null,null,null,null,null,null,null,null,"NTTFS4821N","NTMFS4936"]
[null,null,null,null,null,null,null,null,null,null,null,null,null,null,null,null,null,null,null,null,null,null,null,null,"NTTFS4821N","NTTFS4932N"]
[null,null,null,null,null,null,null,null,null,null,null,null,null,null,null,null,null,null,null,null,null,null,null,null,"NTTFS4823N","NTMFS4825NFE"]
[null,null,null,null,null,null,null,null,null,null,null,null,null,null,null,null,null,null,null,null,null,null,null,null,"NTTFS4823N","NTMFS4833N"]
[null,null,null,null,null,null,null,null,null,null,null,null,null,null,null,null,null,null,null,null,null,null,null,null,"NTTFS4823N","NTMFS4834N"]
[null,null,null,null,null,null,null,null,null,null,null,null,null,null,null,null,null,null,null,null,null,null,null,null,"NTTFS4823N","NTMFS4845"]
[null,null,null,null,null,null,null,null,null,null,null,null,null,null,null,null,null,null,null,null,null,null,null,null,"NTTFS4823N","NTMFS4852N"]
[null,null,null,null,null,null,null,null,null,null,null,null,null,null,null,null,null,null,null,null,null,null,null,null,"NTTFS4823N","NTMFS4897"]
[null,null,null,null,null,null,null,null,null,null,null,null,null,null,null,null,null,null,null,null,null,null,null,null,"NTTFS4823N","NTMFS4898N"]
[null,null,null,null,null,null,null,null,null,null,null,null,null,null,null,null,null,null,null,null,null,null,null,null,"NTTFS4823N","NTMFS4933N"]
[null,null,null,null,null,null,null,null,null,null,null,null,null,null,null,null,null,null,null,null,null,null,null,null,"NTTFS4823N","NTMFS4934N"]
[null,null,null,null,null,null,null,null,null,null,null,null,null,null,null,null,null,null,null,null,null,null,null,null,"NTTFS4823N","NTTFS4932N"]
[null,null,null,null,null,null,null,null,null,null,null,null,null,null,null,null,null,null,null,null,null,null,null,null,"NTTFS4824N","NTD4904N"]
[null,null,null,null,null,null,null,null,null,null,null,null,null,null,null,null,null,null,null,null,null,null,null,null,"NTTFS4824N","NTMFS4825NFE"]
[null,null,null,null,null,null,null,null,null,null,null,null,null,null,null,null,null,null,null,null,null,null,null,null,"NTTFS4824N","NTMFS4833N"]
[null,null,null,null,null,null,null,null,null,null,null,null,null,null,null,null,null,null,null,null,null,null,null,null,"NTTFS4824N","NTMFS4834N"]
[null,null,null,null,null,null,null,null,null,null,null,null,null,null,null,null,null,null,null,null,null,null,null,null,"NTTFS4824N","NTMFS4835N"]
[null,null,null,null,null,null,null,null,null,null,null,null,null,null,null,null,null,null,null,null,null,null,null,null,"NTTFS4824N","NTMFS4845"]
[null,null,null,null,null,null,null,null,null,null,null,null,null,null,null,null,null,null,null,null,null,null,null,null,"NTTFS4824N","NTMFS4846"]
[null,null,null,null,null,null,null,null,null,null,null,null,null,null,null,null,null,null,null,null,null,null,null,null,"NTTFS4824N","NTMFS4852N"]
[null,null,null,null,null,null,null,null,null,null,null,null,null,null,null,null,null,null,null,null,null,null,null,null,"NTTFS4824N","NTMFS4897"]
[null,null,null,null,null,null,null,null,null,null,null,null,null,null,null,null,null,null,null,null,null,null,null,null,"NTTFS4824N","NTMFS4898N"]
[null,null,null,null,null,null,null,null,null,null,null,null,null,null,null,null,null,null,null,null,null,null,null,null,"NTTFS4824N","NTMFS4923NE"]
[null,null,null,null,null,null,null,null,null,null,null,null,null,null,null,null,null,null,null,null,null,null,null,null,"NTTFS4824N","NTMFS4933N"]
[null,null,null,null,null,null,null,null,null,null,null,null,null,null,null,null,null,null,null,null,null,null,null,null,"NTTFS4824N","NTMFS4934N"]
[null,null,null,null,null,null,null,null,null,null,null,null,null,null,null,null,null,null,null,null,null,null,null,null,"NTTFS4824N","NTMFS4935N"]
[null,null,null,null,null,null,null,null,null,null,null,null,null,null,null,null,null,null,null,null,null,null,null,null,"NTTFS4824N","NTMFS4936"]
[null,null,null,null,null,null,null,null,null,null,null,null,null,null,null,null,null,null,null,null,null,null,null,null,"NTTFS4824N","NTTFS4932N"]
[null,null,null,null,null,null,null,null,null,null,null,null,null,null,null,null,null,null,null,null,null,null,null,null,"NTTFS4928N","NTD4904N"]
[null,null,null,null,null,null,null,null,null,null,null,null,null,null,null,null,null,null,null,null,null,null,null,null,"NTTFS4928N","NTMFS4825NFE"]
[null,null,null,null,null,null,null,null,null,null,null,null,null,null,null,null,null,null,null,null,null,null,null,null,"NTTFS4928N","NTMFS4833N"]
[null,null,null,null,null,null,null,null,null,null,null,null,null,null,null,null,null,null,null,null,null,null,null,null,"NTTFS4928N","NTMFS4834N"]
[null,null,null,null,null,null,null,null,null,null,null,null,null,null,null,null,null,null,null,null,null,null,null,null,"NTTFS4928N","NTMFS4835N"]
[null,null,null,null,null,null,null,null,null,null,null,null,null,null,null,null,null,null,null,null,null,null,null,null,"NTTFS4928N","NTMFS4845"]
[null,null,null,null,null,null,null,null,null,null,null,null,null,null,null,null,null,null,null,null,null,null,null,null,"NTTFS4928N","NTMFS4846"]
[null,null,null,null,null,null,null,null,null,null,null,null,null,null,null,null,null,null,null,null,null,null,null,null,"NTTFS4928N","NTMFS4852N"]
[null,null,null,null,null,null,null,null,null,null,null,null,null,null,null,null,null,null,null,null,null,null,null,null,"NTTFS4928N","NTMFS4897"]
[null,null,null,null,null,null,null,null,null,null,null,null,null,null,null,null,null,null,null,null,null,null,null,null,"NTTFS4928N","NTMFS4898N"]
[null,null,null,null,null,null,null,null,null,null,null,null,null,null,null,null,null,null,null,null,null,null,null,null,"NTTFS4928N","NTMFS4923NE"]
[null,null,null,null,null,null,null,null,null,null,null,null,null,null,null,null,null,null,null,null,null,null,null,null,"NTTFS4928N","NTMFS4933N"]
[null,null,null,null,null,null,null,null,null,null,null,null,null,null,null,null,null,null,null,null,null,null,null,null,"NTTFS4928N","NTMFS4934N"]
[null,null,null,null,null,null,null,null,null,null,null,null,null,null,null,null,null,null,null,null,null,null,null,null,"NTTFS4928N","NTMFS4935N"]
[null,null,null,null,null,null,null,null,null,null,null,null,null,null,null,null,null,null,null,null,null,null,null,null,"NTTFS4928N","NTMFS4936"]
[null,null,null,null,null,null,null,null,null,null,null,null,null,null,null,null,null,null,null,null,null,null,null,null,"NTTFS4928N","NTTFS4932N"]
[null,null,null,null,null,null,null,null,null,null,null,null,null,null,null,null,null,null,null,null,null,null,null,null,"NTTFS4929N","NTMFS4825NFE"]
[null,null,null,null,null,null,null,null,null,null,null,null,null,null,null,null,null,null,null,null,null,null,null,null,"NTTFS4929N","NTMFS4833N"]
[null,null,null,null,null,null,null,null,null,null,null,null,null,null,null,null,null,null,null,null,null,null,null,null,"NTTFS4929N","NTMFS4834N"]
[null,null,null,null,null,null,null,null,null,null,null,null,null,null,null,null,null,null,null,null,null,null,null,null,"NTTFS4929N","NTMFS4845"]
[null,null,null,null,null,null,null,null,null,null,null,null,null,null,null,null,null,null,null,null,null,null,null,null,"NTTFS4929N","NTMFS4852N"]
[null,null,null,null,null,null,null,null,null,null,null,null,null,null,null,null,null,null,null,null,null,null,null,null,"NTTFS4929N","NTMFS4897"]
[null,null,null,null,null,null,null,null,null,null,null,null,null,null,null,null,null,null,null,null,null,null,null,null,"NTTFS4929N","NTMFS4898N"]
[null,null,null,null,null,null,null,null,null,null,null,null,null,null,null,null,null,null,null,null,null,null,null,null,"NTTFS4929N","NTMFS4933N"]
[null,null,null,null,null,null,null,null,null,null,null,null,null,null,null,null,null,null,null,null,null,null,null,null,"NTTFS4929N","NTMFS4934N"]
[null,null,null,null,null,null,null,null,null,null,null,null,null,null,null,null,null,null,null,null,null,null,null,null,"NTTFS4929N","NTTFS4932N"]
[null,null,null,null,null,null,null,null,null,null,null,null,null,null,null,null,null,null,null,null,null,null,null,null,"NTTFS4932N","NTD4804N"]
[null,null,null,null,null,null,null,null,null,null,null,null,null,null,null,null,null,null,null,null,null,null,null,null,"NTTFS4932N","NTD4855N"]
[null,null,null,null,null,null,null,null,null,null,null,null,null,null,null,null,null,null,null,null,null,null,null,null,"NTTFS4932N","NTD4904N"]
[null,null,null,null,null,null,null,null,null,null,null,null,null,null,null,null,null,null,null,null,null,null,null,null,"NTTFS4932N","NTMFS4825NFE"]
[null,null,null,null,null,null,null,null,null,null,null,null,null,null,null,null,null,null,null,null,null,null,null,null,"NTTFS4932N","NTMFS4833N"]
[null,null,null,null,null,null,null,null,null,null,null,null,null,null,null,null,null,null,null,null,null,null,null,null,"NTTFS4932N","NTMFS4834N"]
[null,null,null,null,null,null,null,null,null,null,null,null,null,null,null,null,null,null,null,null,null,null,null,null,"NTTFS4932N","NTMFS4835N"]
[null,null,null,null,null,null,null,null,null,null,null,null,null,null,null,null,null,null,null,null,null,null,null,null,"NTTFS4932N","NTMFS4845"]
[null,null,null,null,null,null,null,null,null,null,null,null,null,null,null,null,null,null,null,null,null,null,null,null,"NTTFS4932N","NTMFS4846"]
[null,null,null,null,null,null,null,null,null,null,null,null,null,null,null,null,null,null,null,null,null,null,null,null,"NTTFS4932N","NTMFS4852N"]
[null,null,null,null,null,null,null,null,null,null,null,null,null,null,null,null,null,null,null,null,null,null,null,null,"NTTFS4932N","NTMFS4897"]
[null,null,null,null,null,null,null,null,null,null,null,null,null,null,null,null,null,null,null,null,null,null,null,null,"NTTFS4932N","NTMFS4898N"]
[null,null,null,null,null,null,null,null,null,null,null,null,null,null,null,null,null,null,null,null,null,null,null,null,"NTTFS4932N","NTMFS4923NE"]
[null,null,null,null,null,null,null,null,null,null,null,null,null,null,null,null,null,null,null,null,null,null,null,null,"NTTFS4932N","NTMFS4933N"]
[null,null,null,null,null,null,null,null,null,null,null,null,null,null,null,null,null,null,null,null,null,null,null,null,"NTTFS4932N","NTMFS4934N"]
[null,null,null,null,null,null,null,null,null,null,null,null,null,null,null,null,null,null,null,null,null,null,null,null,"NTTFS4932N","NTMFS4935N"]
[null,null,null,null,null,null,null,null,null,null,null,null,null,null,null,null,null,null,null,null,null,null,null,null,"NTTFS4932N","NTMFS4936"]
[null,null,null,null,null,null,null,null,null,null,null,null,null,null,null,null,null,null,null,null,null,null,null,null,"NTTFS4932N","NTTFS4932N"]
[null,null,null,null,null,null,null,null,null,null,null,null,null,null,null,null,null,null,null,null,null,null,null,null,"NTTFS4937N","NTD4904N"]
[null,null,null,null,null,null,null,null,null,null,null,null,null,null,null,null,null,null,null,null,null,null,null,null,"NTTFS4937N","NTMFS4825NFE"]
[null,null,null,null,null,null,null,null,null,null,null,null,null,null,null,null,null,null,null,null,null,null,null,null,"NTTFS4937N","NTMFS4833N"]
[null,null,null,null,null,null,null,null,null,null,null,null,null,null,null,null,null,null,null,null,null,null,null,null,"NTTFS4937N","NTMFS4834N"]
[null,null,null,null,null,null,null,null,null,null,null,null,null,null,null,null,null,null,null,null,null,null,null,null,"NTTFS4937N","NTMFS4835N"]
[null,null,null,null,null,null,null,null,null,null,null,null,null,null,null,null,null,null,null,null,null,null,null,null,"NTTFS4937N","NTMFS4845"]
[null,null,null,null,null,null,null,null,null,null,null,null,null,null,null,null,null,null,null,null,null,null,null,null,"NTTFS4937N","NTMFS4846"]
[null,null,null,null,null,null,null,null,null,null,null,null,null,null,null,null,null,null,null,null,null,null,null,null,"NTTFS4937N","NTMFS4852N"]
[null,null,null,null,null,null,null,null,null,null,null,null,null,null,null,null,null,null,null,null,null,null,null,null,"NTTFS4937N","NTMFS4897"]
[null,null,null,null,null,null,null,null,null,null,null,null,null,null,null,null,null,null,null,null,null,null,null,null,"NTTFS4937N","NTMFS4898N"]
[null,null,null,null,null,null,null,null,null,null,null,null,null,null,null,null,null,null,null,null,null,null,null,null,"NTTFS4937N","NTMFS4923NE"]
[null,null,null,null,null,null,null,null,null,null,null,null,null,null,null,null,null,null,null,null,null,null,null,null,"NTTFS4937N","NTMFS4933N"]
[null,null,null,null,null,null,null,null,null,null,null,null,null,null,null,null,null,null,null,null,null,null,null,null,"NTTFS4937N","NTMFS4934N"]
[null,null,null,null,null,null,null,null,null,null,null,null,null,null,null,null,null,null,null,null,null,null,null,null,"NTTFS4937N","NTMFS4935N"]
[null,null,null,null,null,null,null,null,null,null,null,null,null,null,null,null,null,null,null,null,null,null,null,null,"NTTFS4937N","NTMFS4936"]
[null,null,null,null,null,null,null,null,null,null,null,null,null,null,null,null,null,null,null,null,null,null,null,null,"NTTFS4937N","NTTFS4932N"]
[null,null,null,null,null,null,null,null,null,null,null,null,null,null,null,null,null,null,null,null,null,null,null,null,"NTTFS4939N","NTD4904N"]
[null,null,null,null,null,null,null,null,null,null,null,null,null,null,null,null,null,null,null,null,null,null,null,null,"NTTFS4939N","NTMFS4825NFE"]
[null,null,null,null,null,null,null,null,null,null,null,null,null,null,null,null,null,null,null,null,null,null,null,null,"NTTFS4939N","NTMFS4833N"]
[null,null,null,null,null,null,null,null,null,null,null,null,null,null,null,null,null,null,null,null,null,null,null,null,"NTTFS4939N","NTMFS4834N"]
[null,null,null,null,null,null,null,null,null,null,null,null,null,null,null,null,null,null,null,null,null,null,null,null,"NTTFS4939N","NTMFS4835N"]
[null,null,null,null,null,null,null,null,null,null,null,null,null,null,null,null,null,null,null,null,null,null,null,null,"NTTFS4939N","NTMFS4845"]
[null,null,null,null,null,null,null,null,null,null,null,null,null,null,null,null,null,null,null,null,null,null,null,null,"NTTFS4939N","NTMFS4846"]
[null,null,null,null,null,null,null,null,null,null,null,null,null,null,null,null,null,null,null,null,null,null,null,null,"NTTFS4939N","NTMFS4852N"]
[null,null,null,null,null,null,null,null,null,null,null,null,null,null,null,null,null,null,null,null,null,null,null,null,"NTTFS4939N","NTMFS4897"]
[null,null,null,null,null,null,null,null,null,null,null,null,null,null,null,null,null,null,null,null,null,null,null,null,"NTTFS4939N","NTMFS4898N"]
[null,null,null,null,null,null,null,null,null,null,null,null,null,null,null,null,null,null,null,null,null,null,null,null,"NTTFS4939N","NTMFS4923NE"]
[null,null,null,null,null,null,null,null,null,null,null,null,null,null,null,null,null,null,null,null,null,null,null,null,"NTTFS4939N","NTMFS4933N"]
[null,null,null,null,null,null,null,null,null,null,null,null,null,null,null,null,null,null,null,null,null,null,null,null,"NTTFS4939N","NTMFS4934N"]

{"sheet":"SelectorConstants","index":13,"n_rows":180,"n_cols":49,"rows_kept":180,"cut":false,"hidden":true,"merged":[[0,38,0,39],[0,40,0,41]]}
["Nominal Values of Capacitance (uC)",null,"NominalValueofInductor(Uh)",null,"LowSide_MOSFET","HighSide_MOSFET",{"$f":"CONCATENATE(#REF!,\"x\",#REF!,\"+\",#REF!,\"x\",#REF!,\"@\",#REF!,\"kHz;\")","v":{"$error":"#REF!"}},null,null,null,"SO8FL","DPAK","HighSide","Duals","LowSide_MOSFET","HighSide_MOSFET","Duals","suggest HS MOSFET","suggest LS MOSFET","efficiency",null,null,null,"constant","suggest LS MOSFET","efficiency",null,null,"suggest HS MOSFET","constant","efficiency",null,null,"suggested duals","efficiency",null,null,null,"Pair suggestions",null,"Single MOSFET Suggestions"]
[0.01,null,"0.0018  ",null,"NTD4804N","NTD4804N",{"$f":"CONCATENATE(\"Vin=\",#REF!,\"V;\",\"Vout=\",#REF!,\"V;\",\"Driver=\",#REF!,\"(\",#REF!,\"V)\")","v":{"$error":"#REF!"}},null,null,null,"WDFN","SOIC−8","LowSide","NTLLD4901NF","NTD4904N","NTD4965N","NTMFD4901NF","NTTFS4928N","NTMFS4983NF",0.89680830392439537,0.10319169607560463,null,null,"NTTFS4C05","NTMFS4983NF",0.88990844525027757,0.11009155474972243,null,"NTD4970N","NTTFS4985NF",0.93080618978239638,6.9193810217603624E-2,null,null,null,null,"Maximum Load Current","Selection Point pairs","Closest Match","Best Efficiency","Closest Match","Best Efficiency","Desired Efficiency SINGLE","Desired Efficiency Pairs",null,"Selection Point singles"]
[1.4999999999999999E-2,null,2.2000000000000001E-3,null,"NTD4805N","NTD4805N",null,null,null,null,null,"SO−8FL",null,null,"NTD4906N","NTD4969N","NTMFD4902NF","NTTFS4929N","NTMFS4983NF",0.89318160712381067,0.10681839287618933,null,null,"NTTFS4C05","NTMFS4934N",0.88346161657159361,0.11653838342840639,null,"NTD4969N","NTTFS4985NF",0.92896991211545232,7.1030087884547677E-2,null,null,null,null,{"$f":"AU3*MOSFETSelector!$B$10/50","v":0.6},{"$f":"MOSFETSelector!$B$10*MOSFETSelector!$I$3","v":15},0.79135479574915757,0.6357978422383469,0.7049012124568117,0.58713668209856384,{"$f":"MOSFETSelector!$H$17","v":0.6},{"$f":"MOSFETSelector!$H$3","v":0.6},{"$f":"AU3/50","v":0.02},{"$f":"MOSFETSelector!$B$10*MOSFETSelector!$I$17","v":15},1,{"$f":"MOSFETSelector!$B$10*MOSFETSelector!$I$3","v":15},{"$f":"MOSFETSelector!$H$3","v":0.6}]
[2.1999999999999999E-2,null,2.7000000000000001E-3,null,"NTD4806N","NTD4806N",{"$f":"CONCATENATE(#REF!,\"x\",#REF!,\"+\",#REF!,\"x\",#REF!,\"@\",#REF!,\"kHz;\")","v":{"$error":"#REF!"}},null,null,null,null,"u-8FL",null,null,"NTD4909N","NTD4970N",null,"NTTFS4928N","NTMFS4934N",0.89023481411961669,0.10976518588038331,null,null,"NTTFS4C05","NTMFS4985NF",0.87904317448076386,0.12095682551923614,null,"NTD4965N","NTTFS4985NF",0.92676903014983292,7.3230969850167082E-2,null,null,null,null,{"$f":"AU4*MOSFETSelector!$B$10/50","v":1.2},{"$f":"MOSFETSelector!$B$10*MOSFETSelector!$I$3","v":15},0.8704388393134459,0.77061332996745113,0.8136931118343308,0.73240270357960602,{"$f":"MOSFETSelector!$H$17","v":0.6},{"$f":"MOSFETSelector!$H$3","v":0.6},0.04,{"$f":"MOSFETSelector!$B$10*MOSFETSelector!$I$17","v":15},2,{"$f":"MOSFETSelector!$B$10*MOSFETSelector!$I$17","v":15},{"$f":"MOSFETSelector!$H$17","v":0.6}]
[3.3000000000000002E-2,null,3.3E-3,null,"NTD4808N","NTD4808N",{"$f":"CONCATENATE(\"Vin=\",#REF!,\"V;\",\"Vout=\",#REF!,\"V;\",\"Driver=\",#REF!,\"(\",#REF!,\"V)\")","v":{"$error":"#REF!"}},null,null,null,null,null,null,null,"NTD4910N","NTMFS4925N",null,"NTTFS4C10","NTMFS4983NF",0.8901482246065674,0.1098517753934326,null,null,"NTTFS4C05","NTMFS4933N",0.87698500007943703,0.12301499992056297,null,null,null,null,null,null,null,null,null,{"$f":"AU5*MOSFETSelector!$B$10/50","v":1.8},{"$f":"MOSFETSelector!$B$10*MOSFETSelector!$I$3","v":15},0.8975387303965755,0.82813442991246189,0.85515182261681355,0.79715550101301724,{"$f":"MOSFETSelector!$H$17","v":0.6},{"$f":"MOSFETSelector!$H$3","v":0.6},0.06,{"$f":"MOSFETSelector!$B$10*MOSFETSelector!$I$17","v":15},3]
[4.7E-2,null,3.8999999999999998E-3,null,"NTD4809N","NTD4809N",null,null,null,null,null,null,null,null,"NTD4913N","NTMFS4926N",null,"NTTFS4C05","NTMFS4983NF",0.88990844525027757,0.11009155474972243,null,null,"NTTFS4C05","NTMFS4936N",0.87231390673138387,0.12768609326861613,null,null,null,null,null,null,null,null,null,{"$f":"AU6*MOSFETSelector!$B$10/50","v":2.4},{"$f":"MOSFETSelector!$B$10*MOSFETSelector!$I$3","v":15},0.90871804714721804,0.85860800522207315,0.87448370690732913,0.83216604351859635,{"$f":"MOSFETSelector!$H$17","v":0.6},{"$f":"MOSFETSelector!$H$3","v":0.6},0.08,{"$f":"MOSFETSelector!$B$10*MOSFETSelector!$I$17","v":15},4]
[6.8000000000000005E-2,null,4.7000000000000002E-3,null,"NTD4809NH","NTD4809NH",null,null,null,null,null,null,null,null,"NTD4965N","NTMFS4927N",null,"NTTFS4930N","NTMFS4983NF",0.88911204427430768,0.11088795572569232,null,null,"NTTFS4C05","NTMFS4923NE",0.87219717048441836,0.12780282951558164,null,null,null,null,null,null,null,null,null,{"$f":"AU7*MOSFETSelector!$B$10/50","v":3},{"$f":"MOSFETSelector!$B$10*MOSFETSelector!$I$3","v":15},0.9134675045880094,0.87705096680342509,0.88473793668568179,0.85382290250632853,{"$f":"MOSFETSelector!$H$17","v":0.6},{"$f":"MOSFETSelector!$H$3","v":0.6},0.1,{"$f":"MOSFETSelector!$B$10*MOSFETSelector!$I$17","v":15},5]
[0.1,null,5.5999999999999999E-3,null,"NTD4810N","NTD4810N",null,null,null,null,null,null,null,null,"NTD4969N","NTMS4916N",null,"NTTFS4C25","NTMFS4983NF",0.88781049774174658,0.11218950225825342,null,null,"NTTFS4C05","NTMFS4935N",0.87219717048441836,0.12780282951558164,null,null,null,null,null,null,null,null,null,{"$f":"AU8*MOSFETSelector!$B$10/50","v":3.6},{"$f":"MOSFETSelector!$B$10*MOSFETSelector!$I$3","v":15},0.91489272734124327,0.88901213404616353,0.89022240667597541,0.86819610114091705,{"$f":"MOSFETSelector!$H$17","v":0.6},{"$f":"MOSFETSelector!$H$3","v":0.6},0.12,{"$f":"MOSFETSelector!$B$10*MOSFETSelector!$I$17","v":15},6]
[0.15,null,6.7999999999999996E-3,null,"NTD4813NH","NTD4813NH",null,null,null,null,null,null,null,null,"NTD4970N","NTMS4917N",null,"NTTFS4929N","NTMFS4934N",0.88662869571093117,0.11337130428906883,null,null,"NTTFS4C05","NTMFS4937N",0.86850576835581195,0.13149423164418805,null,null,null,null,null,null,null,null,null,{"$f":"AU9*MOSFETSelector!$B$10/50","v":4.2},{"$f":"MOSFETSelector!$B$10*MOSFETSelector!$I$3","v":15},0.91435162456345442,0.89707215032732857,0.89285886693422223,0.87814324163423774,{"$f":"MOSFETSelector!$H$17","v":0.6},{"$f":"MOSFETSelector!$H$3","v":0.6},0.14000000000000001,{"$f":"MOSFETSelector!$B$10*MOSFETSelector!$I$17","v":15},7]
[0.22,null,8.2000000000000007E-3,null,"NTD4815N","NTD4815N",null,null,null,null,null,null,null,null,"NTMFS4923NE","NTTFS4928N",null,"NTTFS4928N","NTMFS4985NF",0.88571696309755477,0.11428303690244523,null,null,"NTTFS4C05","NTMFS4925N",0.85312879792644636,0.14687120207355364,null,null,null,null,null,null,null,null,null,{"$f":"AU10*MOSFETSelector!$B$10/50","v":4.8},{"$f":"MOSFETSelector!$B$10*MOSFETSelector!$I$3","v":15},0.91253692053857294,0.90260196687938066,0.89364561515045882,0.88519982855208312,{"$f":"MOSFETSelector!$H$17","v":0.6},{"$f":"MOSFETSelector!$H$3","v":0.6},0.16,{"$f":"MOSFETSelector!$B$10*MOSFETSelector!$I$17","v":15},8]
[0.33,null,"0.010  ",null,"NTD4855N","NTD4855N","-",null,null,null,null,null,null,null,"NTMFS4925N","NTTFS4929N",null,"NTTFS4C10","NTMFS4934N",0.88366588615878561,0.11633411384121439,null,null,"NTTFS4C05","NTMFS4939N",0.8484229072313304,0.1515770927686696,null,null,null,null,null,null,null,null,null,{"$f":"AU11*MOSFETSelector!$B$10/50","v":5.4},{"$f":"MOSFETSelector!$B$10*MOSFETSelector!$I$3","v":15},0.90983753958310976,0.90639714055319121,0.89315121071259218,0.89026442424215124,{"$f":"MOSFETSelector!$H$17","v":0.6},{"$f":"MOSFETSelector!$H$3","v":0.6},0.18,{"$f":"MOSFETSelector!$B$10*MOSFETSelector!$I$17","v":15},9]
[0.47,{"$f":"INDEX(A2:A15,1+MATCH(0.9,A2:A15))","v":1},1.2E-2,null,"NTD4856N","NTD4856N","-",null,null,null,null,null,null,null,"NTMFS4926N","NTTFS4930N",null,"NTTFS4928N","NTMFS4933N",0.88363404043836524,0.11636595956163476,null,null,"NTTFS4C05","NTMFS4926N",0.8425143735192393,0.1574856264807607,null,null,null,null,null,null,null,null,null,{"$f":"AU12*MOSFETSelector!$B$10/50","v":6},{"$f":"MOSFETSelector!$B$10*MOSFETSelector!$I$3","v":15},0.90648787759143801,0.90895088096494847,0.89172247316513664,0.89389772911008925,{"$f":"MOSFETSelector!$H$17","v":0.6},{"$f":"MOSFETSelector!$H$3","v":0.6},0.2,{"$f":"MOSFETSelector!$B$10*MOSFETSelector!$I$17","v":15},10]
[0.68,null,1.4999999999999999E-2,null,"NTD4857N","NTD4857N","-",null,null,null,null,null,null,null,"NTMFS4927N","NTMFS4C05",null,"NTTFS4C05","NTMFS4934N",0.88346161657159361,0.11653838342840639,null,null,"NTTFS4C05","NTMFS4941N",0.83673143814013262,0.16326856185986738,null,null,null,null,null,null,null,null,null,{"$f":"AU13*MOSFETSelector!$B$10/50","v":6.6},{"$f":"MOSFETSelector!$B$10*MOSFETSelector!$I$3","v":15},0.90263734731082035,0.91058509648537966,0.88958272875768107,0.89646761668809305,{"$f":"MOSFETSelector!$H$17","v":0.6},{"$f":"MOSFETSelector!$H$3","v":0.6},0.22,{"$f":"MOSFETSelector!$B$10*MOSFETSelector!$I$17","v":15},11]
[1,null,1.7999999999999999E-2,null,"NTD4858N","NTD4858N",null,null,null,null,null,null,null,null,"NTMFS4933N","NTMFS4C06",null,"NTTFS4930N","NTMFS4934N",0.88253834076716942,0.11746165923283058,null,null,"NTTFS4C05","NTMFS4927N",0.8326089666320603,0.1673910333679397,null,null,null,null,null,null,null,null,null,{"$f":"AU14*MOSFETSelector!$B$10/50","v":7.2},{"$f":"MOSFETSelector!$B$10*MOSFETSelector!$I$3","v":15},0.89838584725862092,0.91151872713020932,0.88688243520816112,0.89822537341268394,{"$f":"MOSFETSelector!$H$17","v":0.6},{"$f":"MOSFETSelector!$H$3","v":0.6},0.24,{"$f":"MOSFETSelector!$B$10*MOSFETSelector!$I$17","v":15},12]
[1.5,null,2.1999999999999999E-2,null,"NTD4860N","NTD4860N",null,null,null,null,null,null,null,null,"NTMFS4934N","NTMFS4C08",null,"NTTFS4929N","NTMFS4985NF",0.88213713249872416,0.11786286750127584,null,null,"NTTFS4C05","NTMFS4943N",0.82683527255299905,0.17316472744700095,null,null,null,null,null,null,null,null,null,{"$f":"AU15*MOSFETSelector!$B$10/50","v":7.8},{"$f":"MOSFETSelector!$B$10*MOSFETSelector!$I$3","v":15},0.89380318077629806,0.91190579281385675,0.88372711927011383,0.89934842519580438,{"$f":"MOSFETSelector!$H$17","v":0.6},{"$f":"MOSFETSelector!$H$3","v":0.6},0.26,{"$f":"MOSFETSelector!$B$10*MOSFETSelector!$I$17","v":15},13]
[2.2000000000000002,null,2.7E-2,null,"NTD4863N","NTD4863N",null,null,null,null,null,null,null,null,"NTMFS4935N","NTMFS4C09",null,"NTTFS4C25","NTMFS4934N",0.88126808312993765,0.11873191687006235,null,null,null,null,null,null,null,null,null,null,null,null,null,null,null,{"$f":"AU16*MOSFETSelector!$B$10/50","v":8.4},{"$f":"MOSFETSelector!$B$10*MOSFETSelector!$I$3","v":15},0.8889403069915941,0.91185773933326431,0.88019366823733025,0.89996556483932044,{"$f":"MOSFETSelector!$H$17","v":0.6},{"$f":"MOSFETSelector!$H$3","v":0.6},0.28000000000000003,{"$f":"MOSFETSelector!$B$10*MOSFETSelector!$I$17","v":15},14]
[3.3,null,3.3000000000000002E-2,null,"NTD4865N","NTD4865N",null,{"$f":"MIN(MAX(IF(ISNUMBER(VLOOKUP(#REF!,[1]MOSFETs!A1:S100,2,0)+(#REF!-4.5)*(VLOOKUP(#REF!,[1]MOSFETs!A1:AD1000,13,0)-VLOOKUP(#REF!,[1]MOSFETs!A1:S100,2,0))/5.5),VLOOKUP(#REF!,[1]MOSFETs!A1:S100,2,0), 0.001),0.001),1000)","v":1E-3},{"$f":"MIN(MAX(IF(ISNUMBER(VLOOKUP(#REF!,[1]MOSFETs!A1:S100,2,0)+(#REF!-4.5)*(VLOOKUP(#REF!,[1]MOSFETs!A1:AD1000,13,0)-VLOOKUP(#REF!,[1]MOSFETs!A1:S100,2,0))/5.5),VLOOKUP(#REF!,[1]MOSFETs!A1:S100,2,0), 0.001),0.001),1000)","v":1E-3},{"$f":"MIN(MAX(IF(ISNUMBER(VLOOKUP(#REF!,[1]MOSFETs!A1:S100,2,0)+(#REF!-4.5)*(VLOOKUP(#REF!,[1]MOSFETs!A1:AD1000,13,0)-VLOOKUP(#REF!,[1]MOSFETs!A1:S100,2,0))/5.5),VLOOKUP(#REF!,[1]MOSFETs!A1:S100,2,0), 0.001),0.001),1000)","v":1E-3},{"$f":"MIN(MAX(IF(ISNUMBER(VLOOKUP(#REF!,[1]MOSFETs!A1:S100,2,0)+(#REF!-4.5)*(VLOOKUP(#REF!,[1]MOSFETs!A1:AD1000,13,0)-VLOOKUP(#REF!,[1]MOSFETs!A1:S100,2,0))/5.5),VLOOKUP(#REF!,[1]MOSFETs!A1:S100,2,0), 0.001),0.001),1000)","v":1E-3},null,null,null,"NTMFS4936N","NTMFS4C10",null,"NTTFS4929N","NTMFS4933N",0.88004579182719977,0.11995420817280023,null,null,null,null,null,null,null,null,null,null,null,null,null,null,null,{"$f":"AU17*MOSFETSelector!$B$10/50","v":9},{"$f":"MOSFETSelector!$B$10*MOSFETSelector!$I$3","v":15},0.88383615795060744,0.91145715615630263,0.87634026131423903,0.90017250776610791,{"$f":"MOSFETSelector!$H$17","v":0.6},{"$f":"MOSFETSelector!$H$3","v":0.6},0.3,{"$f":"MOSFETSelector!$B$10*MOSFETSelector!$I$17","v":15},15]
[4.7,null,3.9E-2,null,"NTD4904N","NTD4960N",null,{"$f":"MIN(MAX(IF(ISNUMBER(VLOOKUP(#REF!, [1]MOSFETs!A2:S100,17,0)+(#REF!-4.5)*(VLOOKUP(#REF!, [1]MOSFETs!A2:S100,18,0)-VLOOKUP(#REF!, [1]MOSFETs!A2:S100,17,0))/5.5),VLOOKUP(#REF!, [1]MOSFETs!A2:S100,17,0),20),0.001),1000000)","v":20},{"$f":"MIN(MAX(IF(ISNUMBER(VLOOKUP(#REF!, [1]MOSFETs!A2:S100,17,0)+(#REF!-4.5)*(VLOOKUP(#REF!, [1]MOSFETs!A2:S100,18,0)-VLOOKUP(#REF!, [1]MOSFETs!A2:S100,17,0))/5.5),VLOOKUP(#REF!, [1]MOSFETs!A2:S100,17,0),20),0.001),1000000)","v":20},{"$f":"MIN(MAX(IF(ISNUMBER(VLOOKUP(#REF!, [1]MOSFETs!A2:S100,17,0)+(#REF!-4.5)*(VLOOKUP(#REF!, [1]MOSFETs!A2:S100,18,0)-VLOOKUP(#REF!, [1]MOSFETs!A2:S100,17,0))/5.5),VLOOKUP(#REF!, [1]MOSFETs!A2:S100,17,0),20),0.001),1000000)","v":20},{"$f":"MIN(MAX(IF(ISNUMBER(VLOOKUP(#REF!, [1]MOSFETs!A2:S100,17,0)+(#REF!-4.5)*(VLOOKUP(#REF!, [1]MOSFETs!A2:S100,18,0)-VLOOKUP(#REF!, [1]MOSFETs!A2:S100,17,0))/5.5),VLOOKUP(#REF!, [1]MOSFETs!A2:S100,17,0),20),0.001),1000000)","v":20},null,null,null,"NTMFS4937N","NTMFS4C13",null,"NTTFS4C10","NTMFS4985NF",0.87922631140716989,0.12077368859283011,null,null,null,null,null,null,null,null,null,null,null,null,null,null,null,{"$f":"AU18*MOSFETSelector!$B$10/50","v":9.6},{"$f":"MOSFETSelector!$B$10*MOSFETSelector!$I$3","v":15},0.87852191022635295,0.91076651803313191,0.87221263767244972,0.90004184239949192,{"$f":"MOSFETSelector!$H$17","v":0.6},{"$f":"MOSFETSelector!$H$3","v":0.6},0.32,{"$f":"MOSFETSelector!$B$10*MOSFETSelector!$I$17","v":15},16]
[6.8,null,4.7E-2,null,"NTD4906N","NTD4963N",null,{"$f":"IF(ISNUMBER(VLOOKUP(#REF!,[1]MOSFETs!A1:S100,4,0)),VLOOKUP(#REF!,[1]MOSFETs!A1:S100,4,0),0.000000001)","v":1.0000000000000001E-9},{"$f":"IF(ISNUMBER(VLOOKUP(#REF!,[1]MOSFETs!A2:S100,4,0)),VLOOKUP(#REF!,[1]MOSFETs!A2:S100,4,0),0.000000001)","v":1.0000000000000001E-9},{"$f":"IF(ISNUMBER(VLOOKUP(#REF!,[1]MOSFETs!A1:S100,4,0)),VLOOKUP(#REF!,[1]MOSFETs!A1:S100,4,0),0.000000001)","v":1.0000000000000001E-9},{"$f":"IF(ISNUMBER(VLOOKUP(#REF!,[1]MOSFETs!A2:S100,4,0)),VLOOKUP(#REF!,[1]MOSFETs!A2:S100,4,0),0.000000001)","v":1.0000000000000001E-9},null,null,null,"NTMFS4939N","NTTFS4C05",null,"NTTFS4C05","NTMFS4985NF",0.87904317448076386,0.12095682551923614,null,null,null,null,null,null,null,null,null,null,null,null,null,null,null,{"$f":"AU19*MOSFETSelector!$B$10/50","v":10.199999999999999},{"$f":"MOSFETSelector!$B$10*MOSFETSelector!$I$3","v":15},0.87302371958811598,0.90983393654765643,0.86784815255164072,0.89962959833773082,{"$f":"MOSFETSelector!$H$17","v":0.6},{"$f":"MOSFETSelector!$H$3","v":0.6},0.34,{"$f":"MOSFETSelector!$B$10*MOSFETSelector!$I$17","v":15},17]
[10,null,5.6000000000000001E-2,null,"NTD4909N","NTD4965N",null,{"$f":"IF(ISNUMBER(VLOOKUP(#REF!,[1]MOSFETs!A1:S100,5,0)),VLOOKUP(#REF!,[1]MOSFETs!A1:S100,5,0),0.000000001)","v":1.0000000000000001E-9},{"$f":"IF(ISNUMBER(VLOOKUP(#REF!,[1]MOSFETs!A2:S100,14,0)),VLOOKUP(#REF!,[1]MOSFETs!A2:S100,14,0),1)","v":1},{"$f":"IF(ISNUMBER(VLOOKUP(#REF!,[1]MOSFETs!A1:S100,5,0)),VLOOKUP(#REF!,[1]MOSFETs!A1:S100,5,0),0.000000001)","v":1.0000000000000001E-9},{"$f":"IF(ISNUMBER(VLOOKUP(#REF!,[1]MOSFETs!A2:S100,14,0)),VLOOKUP(#REF!,[1]MOSFETs!A2:S100,14,0),1)","v":1},null,null,null,"NTMFS4941N","NTTFS4C10",null,"NTTFS4928N","NTMFS4936N",0.87885479118294541,0.12114520881705459,null,null,null,null,null,null,null,null,null,null,null,null,null,null,null,{"$f":"AU20*MOSFETSelector!$B$10/50","v":10.8},{"$f":"MOSFETSelector!$B$10*MOSFETSelector!$I$3","v":15},0.86736448439246538,0.90869705061458339,0.86327844002136844,0.89897970179491737,{"$f":"MOSFETSelector!$H$17","v":0.6},{"$f":"MOSFETSelector!$H$3","v":0.6},0.36,{"$f":"MOSFETSelector!$B$10*MOSFETSelector!$I$17","v":15},18]
[15,null,6.8000000000000005E-2,null,"NTD4910N","NTD4969N",null,{"$f":"IF(ISNUMBER(VLOOKUP(#REF!,[1]MOSFETs!A1:S100,6,0)),VLOOKUP(#REF!,[1]MOSFETs!A1:S100,6,0),0.000000001)","v":1.0000000000000001E-9},{"$f":"IF(ISNUMBER(VLOOKUP(#REF!, [1]MOSFETs!A2:S100,8,0)),VLOOKUP(#REF!, [1]MOSFETs!A2:S100,8,0),0.7)","v":0.7},{"$f":"IF(ISNUMBER(VLOOKUP(#REF!,[1]MOSFETs!A1:S100,6,0)),VLOOKUP(#REF!,[1]MOSFETs!A1:S100,6,0),0.000000001)","v":1.0000000000000001E-9},{"$f":"IF(ISNUMBER(VLOOKUP(#REF!, [1]MOSFETs!A2:S100,8,0)),VLOOKUP(#REF!, [1]MOSFETs!A2:S100,8,0),0.7)","v":0.7},null,null,null,"NTMFS4943N","NTTFS4C25",null,"NTTFS4928N","NTMFS4923NE",0.87873695936517426,0.12126304063482574,null,null,null,null,null,null,null,null,null,null,null,null,null,null,null,{"$f":"AU21*MOSFETSelector!$B$10/50","v":11.4},{"$f":"MOSFETSelector!$B$10*MOSFETSelector!$I$3","v":15},0.86156497046228842,0.90738572263832062,0.85853116503050109,0.89812707091784627,{"$f":"MOSFETSelector!$H$17","v":0.6},{"$f":"MOSFETSelector!$H$3","v":0.6},0.38,{"$f":"MOSFETSelector!$B$10*MOSFETSelector!$I$17","v":15},19]
[22,null,8.2000000000000003E-2,null,"NTD4913N","NTD4970N",null,{"$f":"IF(ISNUMBER(VLOOKUP(#REF!,[1]MOSFETs!A1:S100,7,0)),VLOOKUP(#REF!,[1]MOSFETs!A1:S100,7,0),0.000000001)","v":1.0000000000000001E-9},{"$f":"IF(ISNUMBER(VLOOKUP(#REF!, [1]MOSFETs!A2:S100,11,0)),VLOOKUP(#REF!, [1]MOSFETs!A2:S100,11,0),50)","v":50},{"$f":"IF(ISNUMBER(VLOOKUP(#REF!,[1]MOSFETs!A1:S100,7,0)),VLOOKUP(#REF!,[1]MOSFETs!A1:S100,7,0),0.000000001)","v":1.0000000000000001E-9},{"$f":"IF(ISNUMBER(VLOOKUP(#REF!, [1]MOSFETs!A2:S100,11,0)),VLOOKUP(#REF!, [1]MOSFETs!A2:S100,11,0),50)","v":50},null,null,null,"NTMS4916N",null,null,"NTTFS4928N","NTMFS4935N",0.87873695936517426,0.12126304063482574,null,null,null,null,null,null,null,null,null,null,null,null,null,null,null,{"$f":"AU22*MOSFETSelector!$B$10/50","v":12},{"$f":"MOSFETSelector!$B$10*MOSFETSelector!$I$3","v":15},0.85564450352202825,0.90592394734070447,0.85363116245336834,0.89709981200021971,{"$f":"MOSFETSelector!$H$17","v":0.6},{"$f":"MOSFETSelector!$H$3","v":0.6},0.4,{"$f":"MOSFETSelector!$B$10*MOSFETSelector!$I$17","v":15},20]
[33,null,"0.100  ",null,"NTD4960N","NTMFS4821N",null,{"$f":"IF(ISNUMBER(VLOOKUP(#REF!,[1]MOSFETs!A1:S100,9,0)),VLOOKUP(#REF!,[1]MOSFETs!A1:S100,9,0),10)","v":10},{"$f":"IF(ISNUMBER(VLOOKUP(#REF!, [1]MOSFETs!A2:S100,12,0)),VLOOKUP(#REF!, [1]MOSFETs!A2:S100,12,0),0.005)*100","v":0.5},{"$f":"IF(ISNUMBER(VLOOKUP(#REF!,[1]MOSFETs!A1:S100,9,0)),VLOOKUP(#REF!,[1]MOSFETs!A1:S100,9,0),10)","v":10},{"$f":"IF(ISNUMBER(VLOOKUP(#REF!, [1]MOSFETs!A2:S100,12,0)),VLOOKUP(#REF!, [1]MOSFETs!A2:S100,12,0),0.005)*100","v":0.5},null,null,null,"NTMS4917N",null,null,"NTTFS4930N","NTMFS4985NF",0.8780521381070181,0.1219478618929819,null,null,null,null,null,null,null,null,null,null,null,null,null,null,null,{"$f":"AU23*MOSFETSelector!$B$10/50","v":12.6},{"$f":"MOSFETSelector!$B$10*MOSFETSelector!$I$3","v":15},0.8496213642851641,0.90433122907802821,0.84860115588000884,0.89592080724521295,{"$f":"MOSFETSelector!$H$17","v":0.6},{"$f":"MOSFETSelector!$H$3","v":0.6},0.42,{"$f":"MOSFETSelector!$B$10*MOSFETSelector!$I$17","v":15},21]
[47,null,0.12,null,"NTD4963N","NTMFS4823N",null,{"$f":"IF(ISNUMBER(VLOOKUP(#REF!,[1]MOSFETs!A1:S100,10,0)),VLOOKUP(#REF!,[1]MOSFETs!A1:S100,10,0),0)","v":0},{"$f":"IF(ISNUMBER(VLOOKUP(#REF!,[1]MOSFETs!A1:AD100,20,0)),VLOOKUP(#REF!,[1]MOSFETs!A1:AD100,20,0),\"IDSMAX UNKOWN\")","v":"IDSMAX UNKOWN"},{"$f":"IF(ISNUMBER(VLOOKUP(#REF!,[1]MOSFETs!A1:S100,10,0)),VLOOKUP(#REF!,[1]MOSFETs!A1:S100,10,0),0)","v":0},{"$f":"IF(ISNUMBER(VLOOKUP(#REF!,[1]MOSFETs!A1:AD100,20,0)),VLOOKUP(#REF!,[1]MOSFETs!A1:AD100,20,0),\"IDSMAX UNKOWN\")","v":"IDSMAX UNKOWN"},null,null,null,"NTMS4920N",null,null,"NTTFS4C10","NTMFS4933N",0.87715293983037612,0.12284706016962388,null,null,null,null,null,null,null,null,null,null,null,null,null,null,null,{"$f":"AU24*MOSFETSelector!$B$10/50","v":13.2},{"$f":"MOSFETSelector!$B$10*MOSFETSelector!$I$3","v":15},0.84351298015968423,0.90262359265335168,0.84346218735693068,0.89460888205574574,{"$f":"MOSFETSelector!$H$17","v":0.6},{"$f":"MOSFETSelector!$H$3","v":0.6},0.44,{"$f":"MOSFETSelector!$B$10*MOSFETSelector!$I$17","v":15},22]
[68,null,0.15,null,"NTD4965N","NTMFS4826NE",null,{"$f":"IF(ISNUMBER(VLOOKUP(#REF!,[1]MOSFETs!A1:S100,11,0)),VLOOKUP(#REF!,[1]MOSFETs!A1:S100,11,0),50)","v":50},null,{"$f":"IF(ISNUMBER(VLOOKUP(#REF!,[1]MOSFETs!A1:S100,11,0)),VLOOKUP(#REF!,[1]MOSFETs!A1:S100,11,0),50)","v":50},null,null,null,null,"NTMS4935N",null,null,"NTTFS4C05","NTMFS4933N",0.87698500007943703,0.12301499992056297,null,null,null,null,null,null,null,null,null,null,null,null,null,null,null,{"$f":"AU25*MOSFETSelector!$B$10/50","v":13.8},{"$f":"MOSFETSelector!$B$10*MOSFETSelector!$I$3","v":15},0.83733598238609219,0.90081433653928278,0.83823385158026742,0.8931796762330414,{"$f":"MOSFETSelector!$H$17","v":0.6},{"$f":"MOSFETSelector!$H$3","v":0.6},0.46,{"$f":"MOSFETSelector!$B$10*MOSFETSelector!$I$17","v":15},23]
[100,null,0.18,null,"NTD4969N","NTMFS4833N",null,{"$f":"IF(ISNUMBER(VLOOKUP(#REF!,[1]MOSFETs!A1:S100,12,0)),VLOOKUP(#REF!,[1]MOSFETs!A1:S100,12,0),0.005)*100","v":0.5},null,{"$f":"IF(ISNUMBER(VLOOKUP(#REF!,[1]MOSFETs!A1:S100,12,0)),VLOOKUP(#REF!,[1]MOSFETs!A1:S100,12,0),0.005)*100","v":0.5},null,null,null,null,"NTMS4937N",null,null,"NTTFS4C25","NTMFS4985NF",0.87680465139851871,0.12319534860148129,null,null,null,null,null,null,null,null,null,null,null,null,null,null,null,{"$f":"AU26*MOSFETSelector!$B$10/50","v":14.4},{"$f":"MOSFETSelector!$B$10*MOSFETSelector!$I$3","v":15},0.8311061806578236,0.89891460190879691,0.83293440339242519,0.89164630308706117,{"$f":"MOSFETSelector!$H$17","v":0.6},{"$f":"MOSFETSelector!$H$3","v":0.6},0.48,{"$f":"MOSFETSelector!$B$10*MOSFETSelector!$I$17","v":15},24]
[150,null,0.22,null,"NTD4970N","NTMFS4834N",null,{"$f":"IF(ISNUMBER(VLOOKUP(#REF!,[1]MOSFETs!A1:AD100,20,0)),VLOOKUP(#REF!,[1]MOSFETs!A1:AD100,20,0),0)","v":0},null,{"$f":"IF(ISNUMBER(VLOOKUP(#REF!,[1]MOSFETs!A1:AD100,20,0)),VLOOKUP(#REF!,[1]MOSFETs!A1:AD100,20,0),0)","v":0},null,null,null,null,"NTMS4939N",null,null,"NTTFS4930N","NTMFS4933N",0.87592999680285222,0.12407000319714778,null,null,null,null,null,null,null,null,null,null,null,null,null,null,null,{"$f":"AU27*MOSFETSelector!$B$10/50","v":15},{"$f":"MOSFETSelector!$B$10*MOSFETSelector!$I$3","v":15},0.82483849479868165,0.8969338078716953,0.82758078989955308,0.89001985425393815,{"$f":"MOSFETSelector!$H$17","v":0.6},{"$f":"MOSFETSelector!$H$3","v":0.6},0.5,{"$f":"MOSFETSelector!$B$10*MOSFETSelector!$I$17","v":15},25]
[220,null,0.27,null,"NTMFS4821N","NTMFS4835N",null,null,null,null,null,null,null,null,"NTTFS4928N",null,null,"NTTFS4929N","NTMFS4936N",0.87529950325083461,0.12470049674916539,null,null,null,null,null,null,null,null,null,null,null,null,null,null,null,{"$f":"AU28*MOSFETSelector!$B$10/50","v":15.6},{"$f":"MOSFETSelector!$B$10*MOSFETSelector!$I$3","v":15},0.81854687283667005,0.89487998811550629,0.82218864497018962,0.88830979065929438,{"$f":"MOSFETSelector!$H$17","v":0.6},{"$f":"MOSFETSelector!$H$3","v":0.6},0.52,{"$f":"MOSFETSelector!$B$10*MOSFETSelector!$I$17","v":15},26]
[330,null,0.33,null,"NTMFS4823N","NTMFS4836N",null,null,null,null,null,null,null,null,"NTTFS4929N",null,null,"NTTFS4929N","NTMFS4923NE",0.87518084774586846,0.12481915225413154,null,null,null,null,null,null,null,null,null,null,null,null,null,null,null,{"$f":"AU29*MOSFETSelector!$B$10/50","v":16.2},{"$f":"MOSFETSelector!$B$10*MOSFETSelector!$I$3","v":15},0.81224421597209095,0.89276005391945823,0.81677227278945463,0.88652424836099497,{"$f":"MOSFETSelector!$H$17","v":0.6},{"$f":"MOSFETSelector!$H$3","v":0.6},0.54,{"$f":"MOSFETSelector!$B$10*MOSFETSelector!$I$17","v":15},27]
[470,null,0.39,null,"NTMFS4825NFE","NTMFS4837NH",null,null,null,null,null,null,null,null,"NTTFS4930N",null,null,"NTTFS4929N","NTMFS4935N",0.87518084774586846,0.12481915225413154,null,null,null,null,null,null,null,null,null,null,null,null,null,null,null,{"$f":"AU30*MOSFETSelector!$B$10/50","v":16.8},{"$f":"MOSFETSelector!$B$10*MOSFETSelector!$I$3","v":15},0.8059423232967271,0.89058000150784411,0.81134463793296363,0.88467027997831094,{"$f":"MOSFETSelector!$H$17","v":0.6},{"$f":"MOSFETSelector!$H$3","v":0.6},0.56000000000000005,{"$f":"MOSFETSelector!$B$10*MOSFETSelector!$I$17","v":15},28]
[680,null,0.47,null,"NTMFS4826NE","NTMFS4839NH",null,1,null,null,null,null,null,null,"NTTFS4932N",null,null,"NTTFS4928N","NTMFS4937N",0.87497225284494928,0.12502774715505072,null,null,null,null,null,null,null,null,null,null,null,null,null,null,null,{"$f":"AU31*MOSFETSelector!$B$10/50","v":17.399999999999999},{"$f":"MOSFETSelector!$B$10*MOSFETSelector!$I$3","v":15},0.79965186276542177,0.88834507684209363,0.80591737193113033,0.88275404682609737,{"$f":"MOSFETSelector!$H$17","v":0.6},{"$f":"MOSFETSelector!$H$3","v":0.6},0.57999999999999996,{"$f":"MOSFETSelector!$B$10*MOSFETSelector!$I$17","v":15},29]
[1000,null,0.56000000000000005,null,"NTMFS4833N","NTMFS4841N",null,2,null,null,null,null,null,null,"NTTFS4937N",null,null,"NTTFS4C25","NTMFS4933N",0.87469084185835699,0.12530915814164301,null,null,null,null,null,null,null,null,null,null,null,null,null,null,null,{"$f":"AU32*MOSFETSelector!$B$10/50","v":18},{"$f":"MOSFETSelector!$B$10*MOSFETSelector!$I$3","v":15},0.79338236997393141,0.88605990752012942,0.80050080049336225,0.88078097292709101,{"$f":"MOSFETSelector!$H$17","v":0.6},{"$f":"MOSFETSelector!$H$3","v":0.6},0.6,{"$f":"MOSFETSelector!$B$10*MOSFETSelector!$I$17","v":15},30]
[1500,null,0.68,null,"NTMFS4834N","NTMFS4841NH",null,3,null,null,null,null,null,null,"NTTFS4939N",null,null,"NTTFS4C10","NTMFS4936N",0.87246174841752122,0.12753825158247878,null,null,null,null,null,null,null,null,null,null,null,null,null,null,null,{"$f":"AU33*MOSFETSelector!$B$10/50","v":18.600000000000001},{"$f":"MOSFETSelector!$B$10*MOSFETSelector!$I$3","v":15},0.78714227278920446,0.88372860900180228,0.79510399139702592,0.87875586925382154,{"$f":"MOSFETSelector!$H$17","v":0.6},{"$f":"MOSFETSelector!$H$3","v":0.6},0.62,{"$f":"MOSFETSelector!$B$10*MOSFETSelector!$I$17","v":15},31]
[2200,null,0.82,null,"NTMFS4835N","NTMFS4845N",null,4,null,null,null,null,null,null,"NTTFS4941N",null,null,"NTTFS4C10","NTMFS4923NE",0.87234403977239572,0.12765596022760428,null,null,null,null,null,null,null,null,null,null,null,null,null,null,null,{"$f":"AU34*MOSFETSelector!$B$10/50","v":19.2},{"$f":"MOSFETSelector!$B$10*MOSFETSelector!$I$3","v":15},0.78093893771198908,0.88135487060893514,0.78973482036729636,0.87668303450971874,{"$f":"MOSFETSelector!$H$17","v":0.6},{"$f":"MOSFETSelector!$H$3","v":0.6},0.64,{"$f":"MOSFETSelector!$B$10*MOSFETSelector!$I$17","v":15},32]
[3300,null,"1.0  ",null,"NTMFS4836N","NTMFS4846N",null,5,null,null,null,null,null,null,"NTMFS4983NF",null,null,"NTTFS4C10","NTMFS4935N",0.87234403977239572,0.12765596022760428,null,null,null,null,null,null,null,null,null,null,null,null,null,null,null,{"$f":"AU35*MOSFETSelector!$B$10/50","v":19.8},{"$f":"MOSFETSelector!$B$10*MOSFETSelector!$I$3","v":15},0.77477873281886178,0.87894202545512623,0.78440005084044884,0.87456633726504451,{"$f":"MOSFETSelector!$H$17","v":0.6},{"$f":"MOSFETSelector!$H$3","v":0.6},{"$f":"AU35/50","v":0.66},{"$f":"MOSFETSelector!$B$10*MOSFETSelector!$I$17","v":15},33]
[4700,null,1.2,null,"NTMFS4837NH","NTMFS4847N",null,6,null,null,null,null,null,null,"NTTFS4985NF",null,null,"NTTFS4C05","NTMFS4936N",0.87231390673138387,0.12768609326861613,null,null,null,null,null,null,null,null,null,null,null,null,null,null,null,{"$f":"AU36*MOSFETSelector!$B$10/50","v":20.399999999999999},{"$f":"MOSFETSelector!$B$10*MOSFETSelector!$I$3","v":15},0.76866710196178789,0.87649310750577603,0.77910542302328867,0.8724092831590462,{"$f":"MOSFETSelector!$H$17","v":0.6},{"$f":"MOSFETSelector!$H$3","v":0.6},0.68,{"$f":"MOSFETSelector!$B$10*MOSFETSelector!$I$17","v":15},34]
[6800,null,1.5,null,"NTMFS4839NH","NTMFS4851N",null,7,null,null,null,null,null,null,"NTMFS4985NF",null,null,"NTTFS4C05","NTMFS4923NE",0.87219717048441836,0.12780282951558164,null,null,null,null,null,null,null,null,null,null,null,null,null,null,null,{"$f":"AU37*MOSFETSelector!$B$10/50","v":21},{"$f":"MOSFETSelector!$B$10*MOSFETSelector!$I$3","v":15},0.76260864531861072,0.87401089825736022,0.77385574783932976,0.87021507005573551,{"$f":"MOSFETSelector!$H$17","v":0.6},{"$f":"MOSFETSelector!$H$3","v":0.6},0.7,{"$f":"MOSFETSelector!$B$10*MOSFETSelector!$I$17","v":15},35]
[10000,null,1.8,null,"NTMFS4841N","NTMFS4852N",null,8,null,null,null,null,null,null,"NTMFS4C05",null,null,"NTTFS4C05","NTMFS4935N",0.87219717048441836,0.12780282951558164,null,null,null,null,null,null,null,null,null,null,null,null,null,null,null,{"$f":"AU38*MOSFETSelector!$B$10/50","v":21.6},{"$f":"MOSFETSelector!$B$10*MOSFETSelector!$I$3","v":15},0.75660720213744981,0.87149796498997056,0.76865500192489622,0.86798663342026694,{"$f":"MOSFETSelector!$H$17","v":0.6},{"$f":"MOSFETSelector!$H$3","v":0.6},0.72,{"$f":"MOSFETSelector!$B$10*MOSFETSelector!$I$17","v":15},36]
[null,null,2.2000000000000002,null,"NTMFS4841NH","NTMFS4921N",null,9,null,null,null,null,null,null,"NTMFS4C06",null,null,"NTTFS4929N","NTMFS4937N",0.87143025814381136,0.12856974185618864,null,null,null,null,null,null,null,null,null,null,null,null,null,null,null,{"$f":"AU39*MOSFETSelector!$B$10/50","v":22.2},{"$f":"MOSFETSelector!$B$10*MOSFETSelector!$I$3","v":15},0.75066593240398072,0.86895669214132876,0.76350642059632756,0.86572668371170169,{"$f":"MOSFETSelector!$H$17","v":0.6},{"$f":"MOSFETSelector!$H$3","v":0.6},0.74,{"$f":"MOSFETSelector!$B$10*MOSFETSelector!$I$17","v":15},37]
[null,null,2.7,null,"NTMFS4845N","NTMFS4925N",null,10,null,null,null,null,null,null,"NTMFS4C08",null,null,"NTTFS4930N","NTMFS4936N",0.87119892764751095,0.12880107235248905,null,null,null,null,null,null,null,null,null,null,null,null,null,null,null,{"$f":"AU40*MOSFETSelector!$B$10/50","v":22.8},{"$f":"MOSFETSelector!$B$10*MOSFETSelector!$I$3","v":15},0.74478739504347702,0.86638930704002481,0.75841258650371479,0.86343773722708261,{"$f":"MOSFETSelector!$H$17","v":0.6},{"$f":"MOSFETSelector!$H$3","v":0.6},0.76,{"$f":"MOSFETSelector!$B$10*MOSFETSelector!$I$17","v":15},38]
[null,null,3.3,null,"NTMFS4846N","NTMFS4926N",null,11,null,null,null,null,null,null,"NTMFS4C09",null,null,"NTTFS4930N","NTMFS4923NE",0.87107793477974482,0.12892206522025518,null,null,null,null,null,null,null,null,null,null,null,null,null,null,null,{"$f":"AU41*MOSFETSelector!$B$10/50","v":23.4},{"$f":"MOSFETSelector!$B$10*MOSFETSelector!$I$3","v":15},0.73897362106355313,0.86379790099621767,0.75337551242283263,0.86112214155309064,{"$f":"MOSFETSelector!$H$17","v":0.6},{"$f":"MOSFETSelector!$H$3","v":0.6},0.78,{"$f":"MOSFETSelector!$B$10*MOSFETSelector!$I$17","v":15},39]
[null,null,3.9,null,"NTMFS4847N","NTMFS4927N",null,12,null,null,null,null,null,null,"NTMFS4C10",null,null,"NTTFS4930N","NTMFS4935N",0.87107793477974482,0.12892206522025518,null,null,null,null,null,null,null,null,null,null,null,null,null,null,null,{"$f":"AU42*MOSFETSelector!$B$10/50","v":24},{"$f":"MOSFETSelector!$B$10*MOSFETSelector!$I$3","v":15},0.73322618070596668,0.86118444656164594,0.74839671726520574,0.85878209656456139,{"$f":"MOSFETSelector!$H$17","v":0.6},{"$f":"MOSFETSelector!$H$3","v":0.6},0.8,{"$f":"MOSFETSelector!$B$10*MOSFETSelector!$I$17","v":15},40]
[null,null,4.7,null,"NTMFS4851N","NTMS4800N",null,13,null,null,null,null,null,null,"NTMFS4C13",null,null,"NTTFS4C25","NTMFS4936N",0.86998376252045606,0.13001623747954394,null,null,null,null,null,null,null,null,null,null,null,null,null,null,null,{"$f":"AU43*MOSFETSelector!$B$10/50","v":24.6},{"$f":"MOSFETSelector!$B$10*MOSFETSelector!$I$3","v":15},0.72754624419456759,0.85855081162443903,0.74347729488837822,0.85641967173870848,{"$f":"MOSFETSelector!$H$17","v":0.6},{"$f":"MOSFETSelector!$H$3","v":0.6},0.82,{"$f":"MOSFETSelector!$B$10*MOSFETSelector!$I$17","v":15},41]
[null,null,5.6,null,"NTMFS4852N","NTMS4801N",null,14,null,null,null,null,null,null,"NTTFS4C05",null,null,"NTTFS4C25","NTMFS4923NE",0.86986321967100122,0.13013678032899878,null,null,null,null,null,null,null,null,null,null,null,null,null,null,null,{"$f":"AU44*MOSFETSelector!$B$10/50","v":25.2},{"$f":"MOSFETSelector!$B$10*MOSFETSelector!$I$3","v":15},0.72193463604889085,0.85589877088820976,0.7386179756667679,0.85403682041882878,{"$f":"MOSFETSelector!$H$17","v":0.6},{"$f":"MOSFETSelector!$H$3","v":0.6},0.84,{"$f":"MOSFETSelector!$B$10*MOSFETSelector!$I$17","v":15},42]
[null,null,6.8,null,"NTMFS4897NF","NTMS4802N",null,15,null,null,null,null,null,null,"NTTFS4C10",null,null,"NTTFS4C25","NTMFS4935N",0.86986321967100122,0.13013678032899878,null,null,null,null,null,null,null,null,null,null,null,null,null,null,null,{"$f":"AU45*MOSFETSelector!$B$10/50","v":25.8},{"$f":"MOSFETSelector!$B$10*MOSFETSelector!$I$3","v":15},0.7163918831968451,0.85323001519203301,0.73381918105170696,0.8516353915532181,{"$f":"MOSFETSelector!$H$17","v":0.6},{"$f":"MOSFETSelector!$H$3","v":0.6},0.86,{"$f":"MOSFETSelector!$B$10*MOSFETSelector!$I$17","v":15},43]
[null,null,8.1999999999999993,null,"NTMFS4898NF","NTMS4807N",null,16,null,null,null,null,null,null,"NTTFS4C25",null,null,"NTTFS4C10","NTMFS4937N",0.86863356990336382,0.13136643009663618,null,null,null,null,null,null,null,null,null,null,null,null,null,null,null,{"$f":"AU46*MOSFETSelector!$B$10/50","v":26.4},{"$f":"MOSFETSelector!$B$10*MOSFETSelector!$I$3","v":15},0.71091825728746938,0.85054615905277986,0.7290810715260746,0.84921713934773746,{"$f":"MOSFETSelector!$H$17","v":0.6},{"$f":"MOSFETSelector!$H$3","v":0.6},0.88,{"$f":"MOSFETSelector!$B$10*MOSFETSelector!$I$17","v":15},44]
[null,null,"10  ",null,"NTMFS4899NF","NTMS4816N",null,17,null,null,null,null,null,null,null,"MOSFETs for selector to choose from",null,"NTTFS4C05","NTMFS4937N",0.86850576835581195,0.13149423164418805,null,null,null,null,null,null,null,null,null,null,null,null,null,null,null,{"$f":"AU47*MOSFETSelector!$B$10/50","v":27},{"$f":"MOSFETSelector!$B$10*MOSFETSelector!$I$3","v":15},0.70551381169788552,0.84784874674984056,0.72440358846381792,0.8467837311992471,{"$f":"MOSFETSelector!$H$17","v":0.6},{"$f":"MOSFETSelector!$H$3","v":0.6},0.9,{"$f":"MOSFETSelector!$B$10*MOSFETSelector!$I$17","v":15},45]
[null,null,12,null,"NTMFS4921N","NTMS4916N",null,18,null,null,null,null,null,null,null,null,null,"NTTFS4930N","NTMFS4937N",0.86731996255469035,0.13268003744530965,null,null,null,null,null,null,null,null,null,null,null,null,null,null,null,{"$f":"AU48*MOSFETSelector!$B$10/50","v":27.6},{"$f":"MOSFETSelector!$B$10*MOSFETSelector!$I$3","v":15},0.70017841376726986,0.84513925722148187,0.71978649045557663,0.84433675421842014,{"$f":"MOSFETSelector!$H$17","v":0.6},{"$f":"MOSFETSelector!$H$3","v":0.6},0.92,{"$f":"MOSFETSelector!$B$10*MOSFETSelector!$I$17","v":15},46]
[null,null,15,null,"NTMFS4923NE","NTMS4917N",null,19,null,null,null,null,null,null,null,null,null,"NTTFS4C25","NTMFS4937N",0.86612298355690454,0.13387701644309546,null,null,null,null,null,null,null,null,null,null,null,null,null,null,null,{"$f":"AU49*MOSFETSelector!$B$10/50","v":28.2},{"$f":"MOSFETSelector!$B$10*MOSFETSelector!$I$3","v":15},0.69491177279157512,0.84241910799967079,0.71522938467389074,0.84187772060157762,{"$f":"MOSFETSelector!$H$17","v":0.6},{"$f":"MOSFETSelector!$H$3","v":0.6},0.94,{"$f":"MOSFETSelector!$B$10*MOSFETSelector!$I$17","v":15},47]
[null,null,18,null,"NTMFS4925N","NTTFS4821N",null,20,null,null,null,null,null,null,null,null,null,"NTTFS4928N","NTMFS4925N",0.85928507221939243,0.14071492778060757,null,null,null,null,null,null,null,null,null,null,null,null,null,null,null,{"$f":"AU50*MOSFETSelector!$B$10/50","v":28.8},{"$f":"MOSFETSelector!$B$10*MOSFETSelector!$I$3","v":15},0.68971346428909763,0.83968965837441933,0.71073175383740128,0.83940807207012902,{"$f":"MOSFETSelector!$H$17","v":0.6},{"$f":"MOSFETSelector!$H$3","v":0.6},0.96,{"$f":"MOSFETSelector!$B$10*MOSFETSelector!$I$17","v":15},48]
[null,null,22,null,"NTMFS4926N","NTTFS4823N",null,21,null,null,null,null,null,null,null,null,null,"NTTFS4929N","NTMFS4925N",0.85581085693521342,0.14418914306478658,null,null,null,null,null,null,null,null,null,null,null,null,null,null,null,{"$f":"AU51*MOSFETSelector!$B$10/50","v":29.4},{"$f":"MOSFETSelector!$B$10*MOSFETSelector!$I$3","v":15},0.68458295100882582,0.83695221194826985,0.70629297930260049,0.83692918356141677,{"$f":"MOSFETSelector!$H$17","v":0.6},{"$f":"MOSFETSelector!$H$3","v":0.6},0.98,{"$f":"MOSFETSelector!$B$10*MOSFETSelector!$I$17","v":15},49]
[null,null,27,null,"NTMFS4927N","NTTFS4824N",null,22,null,null,null,null,null,null,null,null,null,"NTTFS4928N","NTMFS4939N",0.85448669606234862,0.14551330393765138,null,null,null,null,null,null,null,null,null,null,null,null,null,null,null,{"$f":"AU52*MOSFETSelector!$B$10/50","v":30},{"$f":"MOSFETSelector!$B$10*MOSFETSelector!$I$3","v":15},0.67951960110809762,0.83420801871547356,0.70191236077112862,0.83444236632509017,{"$f":"MOSFETSelector!$H$17","v":0.6},{"$f":"MOSFETSelector!$H$3","v":0.6},1,{"$f":"MOSFETSelector!$B$10*MOSFETSelector!$I$17","v":15},50]
[null,null,33,null,"NTMFS4933N","NTTFS4928N",null,23,null,null,null,null,null,null,null,null,null,"NTTFS4C10","NTMFS4925N",0.85318121097805666,0.14681878902194334]
[null,null,39,null,"NTMFS4934N","NTTFS4929N",null,24,null,null,null,null,null,null,null,null,null,"NTTFS4C05","NTMFS4925N",0.85312879792644636,0.14687120207355364]
[null,null,47,null,"NTMFS4935N","NTTFS4930N",null,25,null,null,null,null,null,null,null,null,null,"NTTFS4930N","NTMFS4925N",0.85168629828578457,0.14831370171421543]
[null,null,null,null,"NTMFS4936N","NVMFS4841N",null,26,null,null,null,null,null,null,null,null,null,"NTTFS4929N","NTMFS4939N",0.85103205414312566,0.14896794585687434]
[null,null,null,null,"NTMFS4937N","NVTFS4823N",null,27,null,null,null,null,null,null,null,null,null,"NTTFS4C25","NTMFS4925N",0.85056296938053644,0.14943703061946356]
[null,null,null,null,"NTMFS4939N","NTMD4820N",null,28,null,null,null,null,null,null,null,null,null,"NTTFS4928N","NTMFS4926N",0.84846353386354212,0.15153646613645788]
[null,null,null,null,"NTMFS4941N","NTMD4840N",null,29,null,null,null,null,null,null,null,null,null,"NTTFS4C10","NTMFS4939N",0.84845242259614562,0.15154757740385438]
[null,null,null,null,"NTMFS4943N","NTMFD4901NF",null,30,null,null,null,null,null,null,null,null,null,"NTTFS4C05","NTMFS4939N",0.8484229072313304,0.1515770927686696]
[null,null,null,null,"NTMS4800N","NTMFD4902NF",null,31,null,null,null,null,null,null,null,null,null,"NTTFS4930N","NTMFS4939N",0.84690179264484722,0.15309820735515278]
[null,null,null,null,"NTMS4801N","NTLLD4901NF",null,32,null,null,null,null,null,null,null,null,null,"NTTFS4C25","NTMFS4939N",0.84580054789652126,0.15419945210347874]
[null,null,null,null,"NTMS4802N",null,null,33,null,null,null,null,null,null,null,null,null,"NTTFS4929N","NTMFS4926N",0.84503331353601085,0.15496668646398915]
[null,null,null,null,"NTMS4807N",null,null,34,null,null,null,null,null,null,null,null,null,"NTTFS4928N","NTMFS4941N",0.84256988557182544,0.15743011442817456]
[null,null,null,null,"NTMS4816N",null,null,35,null,null,null,null,null,null,null,null,null,"NTTFS4C10","NTMFS4926N",0.84251564087216491,0.15748435912783509]
[null,null,null,null,"NTMS4873NF",null,null,36,null,null,null,null,null,null,null,null,null,"NTTFS4C05","NTMFS4926N",0.8425143735192393,0.1574856264807607]
[null,null,null,null,"NTMS4916N",null,null,37,null,null,null,null,null,null,null,null,null,"NTTFS4930N","NTMFS4926N",0.84089632008513482,0.15910367991486518]
[null,null,null,null,"NTMS4917N",null,null,38,null,null,null,null,null,null,null,null,null,"NTTFS4C25","NTMFS4926N",0.83982242879336555,0.16017757120663445]
[null,null,null,null,"NTMS4920N",null,null,39,null,null,null,null,null,null,null,null,null,"NTTFS4929N","NTMFS4941N",0.83916282605006265,0.16083717394993735]
[null,null,null,null,"NTMS4935N",null,null,40,null,null,null,null,null,null,null,null,null,"NTTFS4928N","NTMFS4927N",0.83836863587657495,0.16163136412342505]
[null,null,null,null,"NTMS4937N",null,null,41,null,null,null,null,null,null,null,null,null,"NTTFS4C05","NTMFS4941N",0.83673143814013262,0.16326856185986738]
[null,null,null,null,"NTMS4939N",null,null,42,null,null,null,null,null,null,null,null,null,"NTTFS4C10","NTMFS4941N",0.83670512580021639,0.16329487419978361]
[null,null,null,null,"NTTFS4821N",null,null,43,null,null,null,null,null,null,null,null,null,"NTTFS4930N","NTMFS4941N",0.83501833093846589,0.16498166906153411]
[null,null,null,null,"NTTFS4823N",null,null,44,null,null,null,null,null,null,null,null,null,"NTTFS4929N","NTMFS4927N",0.83497874783660231,0.16502125216339769]
[null,null,null,null,"NTTFS4824N",null,null,45,null,null,null,null,null,null,null,null,null,"NTTFS4C25","NTMFS4941N",0.8339709427211166,0.1660290572788834]
[null,null,null,null,"NTTFS4928N",null,null,46,null,null,null,null,null,null,null,null,null,"NTTFS4C05","NTMFS4927N",0.8326089666320603,0.1673910333679397]
[null,null,null,null,"NTTFS4929N",null,null,47,null,null,null,null,null,null,null,null,null,"NTTFS4C10","NTMFS4927N",0.83256350715249383,0.16743649284750617]
[null,null,null,null,"NTTFS4930N",null,null,48,null,null,null,null,null,null,null,null,null,"NTTFS4928N","NTMFS4943N",0.83248440464162787,0.16751559535837213]
[null,null,null,null,"NTTFS4932N",null,null,49,null,null,null,null,null,null,null,null,null,"NTTFS4930N","NTMFS4927N",0.83083038947676224,0.16916961052323776]
[null,null,null,null,"NTTFS4937N",null,null,50,null,null,null,null,null,null,null,null,null,"NTTFS4C25","NTMFS4927N",0.82980174499156623,0.17019825500843377]
[null,null,null,null,"NTTFS4939N",null,null,51,null,null,null,null,null,null,null,null,null,"NTTFS4929N","NTMFS4943N",0.82911955267650506,0.17088044732349494]
[null,null,null,null,"NTTFS4941N",null,null,52,null,null,null,null,null,null,null,null,null,"NTTFS4C05","NTMFS4943N",0.82683527255299905,0.17316472744700095]
[null,null,null,null,"NVMFS4841N",null,null,53,null,null,null,null,null,null,null,null,null,"NTTFS4C10","NTMFS4943N",0.82676355433485171,0.17323644566514829]
[null,null,null,null,"NVTFS4823N",null,null,54,null,null,null,null,null,null,null,null,null,"NTTFS4930N","NTMFS4943N",0.82496773747209162,0.17503226252790838]
[null,null,null,null,"NTMD4820N",null,null,55,null,null,null,null,null,null,null,null,null,"NTTFS4C25","NTMFS4943N",0.82396522711999665,0.17603477288000335]
[null,null,null,null,"NTMD4840N",null,null,56]
[null,null,null,null,"NTMFD4901NF",null,null,57]
[null,null,null,null,"NTMFD4902NF",null,null,58]
[null,null,null,null,"NTLLD4901NF",null,null,59]
[null,null,null,null,null,null,null,60]
[null,null,null,null,null,null,null,61]
[null,null,null,null,null,null,null,62]
[null,null,null,null,null,null,null,63]
[null,null,null,null,null,null,null,64]
[null,null,null,null,null,null,null,65]
[null,null,null,null,null,null,null,66]
[null,null,null,null,null,null,null,67]
[null,null,null,null,null,null,null,68]
[null,null,null,null,null,null,null,69]
[null,null,null,null,null,null,null,70]
[null,null,null,null,null,null,null,71]
[null,null,null,null,null,null,null,72]
[null,null,null,null,null,null,null,73]
[null,null,null,null,null,null,null,74]
[null,null,null,null,null,null,null,75]
[null,null,null,null,null,null,null,76]
[null,null,null,null,null,null,null,77]
[null,null,null,null,null,null,null,78]
[null,null,null,null,null,null,null,79]
[null,null,null,null,null,null,null,80]
[null,null,null,null,null,null,null,81]
[null,null,null,null,null,null,null,82]
[null,null,null,null,null,null,null,83]
[null,null,null,null,null,null,null,84]
[null,null,null,null,null,null,null,85]
[null,null,null,null,null,null,null,86]
[null,null,null,null,null,null,null,87]
[null,null,null,null,null,null,null,88]
[null,null,null,null,null,null,null,89]
[null,null,null,null,null,null,null,90]
[null,null,null,null,null,null,null,91]
[null,null,null,null,null,null,null,92]
[null,null,null,null,null,null,null,93]
[null,null,null,null,null,null,null,94]
[null,null,null,null,null,null,null,95]
[null,null,null,null,null,null,null,96]
[null,null,null,null,null,null,null,97]
[null,null,null,null,null,null,null,98]
[null,null,null,null,null,null,null,99]
[null,null,null,null,null,null,null,100]
[null,null,null,null,null,null,null,101]
[null,null,null,null,null,null,null,102]
[null,null,null,null,null,null,null,103]
[null,null,null,null,null,null,null,104]
[null,null,null,null,null,null,null,105]
[null,null,null,null,null,null,null,106]
[null,null,null,null,null,null,null,107]
[null,null,null,null,null,null,null,108]
[null,null,null,null,null,null,null,109]
[null,null,null,null,null,null,null,110]
[null,null,null,null,null,null,null,111]
[null,null,null,null,null,null,null,112]
[null,null,null,null,null,null,null,113]
[null,null,null,null,null,null,null,114]
[null,null,null,null,null,null,null,115]
[null,null,null,null,null,null,null,116]
[null,null,null,null,null,null,null,117]
[null,null,null,null,null,null,null,118]
[null,null,null,null,null,null,null,119]
[null,null,null,null,null,null,null,120]
[null,null,null,null,null,null,null,121]
[null,null,null,null,null,null,null,122]
[null,null,null,null,null,null,null,123]
[null,null,null,null,null,null,null,124]
[null,null,null,null,null,null,null,125]
[null,null,null,null,null,null,null,126]
[null,null,null,null,null,null,null,127]
[null,null,null,null,null,null,null,128]
[null,null,null,null,null,null,null,129]
[null,null,null,null,null,null,null,130]
[null,null,null,null,null,null,null,131]
[null,null,null,null,null,null,null,132]
[null,null,null,null,null,null,null,133]
[null,null,null,null,null,null,null,134]
[null,null,null,null,null,null,null,135]
[null,null,null,null,null,null,null,136]
[null,null,null,null,null,null,null,137]
[null,null,null,null,null,null,null,138]
[null,null,null,null,null,null,null,139]
[null,null,null,null,null,null,null,140]
[null,null,null,null,null,null,null,141]
[null,null,null,null,null,null,null,142]
[null,null,null,null,null,null,null,143]
[null,null,null,null,null,null,null,144]
[null,null,null,null,null,null,null,145]
[null,null,null,null,null,null,null,146]
[null,null,null,null,null,null,null,147]
[null,null,null,null,null,null,null,148]
[null,null,null,null,null,null,null,149]
[null,null,null,null,null,null,null,150]

{"sheet":"Duals","index":14,"n_rows":20,"n_cols":24,"rows_kept":20,"cut":false,"hidden":true,"merged":[]}
[null,"Highside Rdson(mΩ)(4.5V)","Highside Rdson(mΩ)(10V)","Highside QG(TOT)(nC)(4.5V)","Highside QG(TOT)(nC)(10V)","Highside Coss(pC)","Highside QGD(nC)","Highside QGS(nC)","Highside VGS(TH)","Highside gfs","Highside RG","Highside Rtja","Highside Temperature\nCoefficient","Highside Idmax","Lowside Rdson(mΩ)(4.5V)","Lowside Rdson(mΩ)(4.5V)","Lowside QG(TOT)(nC)(4.5V)","Lowside QG(TOT)(nC)(10V)","Lowside Coss(pC)","Lowside QRR(nC)","Lowside VSD","Lowside Rtja","Lowside Temperature\nCoefficient","Lowside Idmax"]
["NTMD4820N",20,15,7.7,15.2,225,3.2,3.3,2.2000000000000002,21,1.5,62,4.4000000000000003E-3,8,20,15,7.7,15.2,225,8,0.75,62,4.4000000000000003E-3,8]
["NTMD4840N",26,16,4.8,9.5,140,1.9,2.1,2.2000000000000002,15,2,64,4.1999999999999997E-3,7.5,26,16,4.8,9.5,140,6,0.76,64,4.1999999999999997E-3,7.7]
["NTMFD4901NF",7.7,4.8,10.1,20,390,4,3.7,1.7,27,0.8,65.900000000000006,5.0000000000000001E-3,15,2.8,1.9,23.7,46,1100,40,0.45,60.5,5.0000000000000001E-3,25]
["NTMFD4902NF",7.7,4.8,10,20,390,4,3.7,1.7,27,0.8,65.900000000000006,5.0000000000000001E-3,15,4.9000000000000004,3.1,11,25,600,20,0.31,52.8,5.0000000000000001E-3,20]
["NTLLD4901NF",22.5,15.9,5.9,10.9,160,2.9,1.9,1.7,16,0.8,68.8,5.0000000000000001E-3,9.5,16,12,5.5,11.9,300,12,0.8,66.400000000000006,5.0000000000000001E-3,11]
[]
[]
[]
[]
[]
[]
[]
[]
[]
[]
[]
[]
[]
["Datasheet unfinished:",null,"NTMD4903NF"]

{"sheet":"MOSFETs","index":15,"n_rows":120,"n_cols":29,"rows_kept":120,"cut":false,"hidden":false,"merged":[]}
["MOSFET","RDSon (Vg=4.5V) (mΩ)","Ciss(Q1) (pF)","Coss(Q1) (pF)","Qgd (nC)","Qgs (nC)","Vth (V)","SD Diode Forward Voltage (V)","Transconductance gm (S)","Internal Rgin (Ω)","Thermal Resistance  qJA","RDSon Temperature Coefficient","RDSon (Vg=10V) (mΩ)","measured Qrr (nC)","Forward conducting current in measuring Qrr (A)","Qrr Characterization voltage","Qg(VGS=4.5V) (nC)","Qg(VGS-10V) (nC)","V(BR)DSS Min (V)","ID Max (A)","LowSideMOSFET only or Both","Packgage","PD Max (W)",null,"MOSFET after current filter",null,"Sort for MOSFET after current filter"]
["NTD4804N",4.5999999999999996,4490,952,13,13,2,0.8,23,0.6,60,{"$f":"0.7/150","v":4.6666666666666662E-3},3.4,30,30,15,30,73,30,117,"both","DPAK",93.75,null,{"$f":"IF(T2>Circuit1!$B$10, A2,\"X-CELL\")","v":"NTD4804N"},"NTD4804N",{"$f":"IF(Z2=\"X-CELL\",\"\", Z2)","v":"NTD4804N"}]
["NTD4805N",5.8,2865,610,8.34,8.2800000000000011,2,0.8,17,0.8,67,{"$f":"0.8/150","v":5.333333333333334E-3},4.2,18,30,15,20.5,48,30,88,"both","DPAK",66,null,{"$f":"IF(T3>Circuit1!$B$10, A3,\"X-CELL\")","v":"NTD4805N"},"NTD4805N",{"$f":"IF(Z3=\"X-CELL\",\"\", Z3)","v":"NTD4805N"}]
["NTD4806N",7.5,2142,480,7,7,2,0.8,14,1,70,{"$f":"0.6/150","v":4.0000000000000001E-3},4.8,16,30,15,15,37,30,76,"both","DPAK",60,null,{"$f":"IF(T4>Circuit1!$B$10, A4,\"X-CELL\")","v":"NTD4806N"},"NTD4806N","NTD4806N"]
["NTD4808N",9.7999999999999989,1538,334,4.9000000000000004,4.9000000000000004,2,0.8,11.4,1.1000000000000001,73.5,{"$f":"0.73/150","v":4.8666666666666667E-3},6.6,9.6999999999999993,30,15,11.3,26,30,63,"both","DPAK",54.6,7,{"$f":"IF(T5>Circuit1!$B$10, A5,\"X-CELL\")","v":"NTD4808N"},"NTD4808N","NTD4808N"]
["NTD4809N",11,1456,315,5,4.8,2,0.8,9,2.4,74,{"$f":"0.77/150","v":5.1333333333333335E-3},7,9.1999999999999993,30,15,11,25,30,58,"both","DPAK",52,null,{"$f":"IF(T6>Circuit1!$B$10, A6,\"X-CELL\")","v":"NTD4809N"},"NTD4809N","NTD4809N"]
["NTD4809NH",9.9500000000000011,1596,331,5.1000000000000005,5.3000000000000007,2.1,0.8,9,0.75,74,{"$f":"0.73/150","v":4.8666666666666667E-3},7,7.5,30,15,12.5,29.3,30,58,"both","DPAK",52,null,{"$f":"IF(T7>Circuit1!$B$10, A7,\"X-CELL\")","v":"NTD4809NH"},"NTD4809NH","NTD4809NH"]
["NTD4810N",11,1165,284,4.3999999999999995,3.3000000000000003,2,0.8,9,2.4,75,{"$f":"0.8/150","v":5.333333333333334E-3},7.8,8.8000000000000007,30,15,9.1999999999999993,21,30,54,"both","DPAK",50,null,{"$f":"IF(T8>Circuit1!$B$10, A8,\"X-CELL\")","v":"NTD4810N"},"NTD4810N","NTD4810N"]
["NTD4813NH",18.5,940.00000000000011,201,3,3.4,2,0.8,6.7,0.55000000000000004,77.5,5.0000000000000001E-3,10.7,7,30,15,7.1,18.2,30,40,"both","DPAK",35.299999999999997,null,{"$f":"IF(T9>Circuit1!$B$10, A9,\"X-CELL\")","v":"NTD4813NH"},"NTD4813NH","NTD4813NH"]
["NTD4815N",18.3,770,181,3.1,2.5,2,0.8,6,2.6,78,5.0000000000000001E-3,11.5,5.5,30,15,6,14.1,30,35,"both","DPAK",32.6,null,{"$f":"IF(T10>Circuit1!$B$10, A10,\"X-CELL\")","v":"NTD4815N"},"NTD4815N","NTD4815N"]
["NTD4855N",4.5999999999999996,2950,740,8.6,7.8999999999999995,2,0.8,80,0.8,67,{"$f":"0.6/150","v":4.0000000000000001E-3},3.5,13.8,30,15,21.8,44,25,98,"both","DPAK",2.2400000000000002,null,{"$f":"IF(T11>Circuit1!$B$10, A11,\"X-CELL\")","v":"NTD4855N"},"NTD4855N","NTD4855N"]
["NTD4856N",5.3,2241,567,6.6000000000000005,6.6999999999999993,2,0.8,73,0.6,70,4.0000000000000001E-3,3.9,8,30,15,18,38,25,89,"both","DPAK",2.14,null,{"$f":"IF(T12>Circuit1!$B$10, A12,\"X-CELL\")","v":"NTD4856N"},"NTD4856N","NTD4856N"]
["NTD4857N",6.3,1959.9999999999998,495.00000000000006,6.6000000000000005,5.7,2,0.8,77,0.6,72,{"$f":"0.58/150","v":3.8666666666666663E-3},4.5999999999999996,3.2,30,15,16,32,25,78,"both","DPAK",2.1,null,{"$f":"IF(T13>Circuit1!$B$10, A13,\"X-CELL\")","v":"NTD4857N"},"NTD4857N","NTD4857N"]
["NTD4858N",7.3,1563,405,5.2,4.7,2,0.8,55,0.7,73.5,3.8600000000000001E-3,5.2,3,30,15,12.8,25.7,25,73,"both","DPAK",2,null,{"$f":"IF(T14>Circuit1!$B$10, A14,\"X-CELL\")","v":"NTD4858N"},"NTD4858N","NTD4858N"]
["NTD4860N",8.9,1308,342,4.7,3.9000000000000004,2,0.8,48,0.75,75,4.0000000000000001E-3,6.1000000000000005,3.5,30,15,11,21.8,25,12.6,"both","DPAK",2,null,{"$f":"IF(T15>Circuit1!$B$10, A15,\"X-CELL\")","v":"X-CELL"},"NTD4863N","NTD4863N"]
["NTD4863N",12.8,990.00000000000011,253,4.1000000000000005,3.4,2,0.9,45,0.5,77,{"$f":"0.65/150","v":4.3333333333333331E-3},8.4,2.7,30,15,9,17.8,25,49,"both","DPAK",1.95,null,{"$f":"IF(T16>Circuit1!$B$10, A16,\"X-CELL\")","v":"NTD4863N"},"NTD4904N","NTD4904N"]
["NTD4865N",13.899999999999999,827,223,3.3000000000000003,3,2,0.85,39,0.75,78,4.0000000000000001E-3,8.9,1.7,30,15,7.2,14.6,25,10.199999999999999,"both","DPAK",1.92,null,{"$f":"IF(T17>Circuit1!$B$10, A17,\"X-CELL\")","v":"X-CELL"},"NTD4906N","NTD4906N"]
["NTD4904N",4,3520,975.99999999999989,3,8.2000000000000011,1.6,0.8,76,1,57,{"$f":"1.15/150","v":7.6666666666666662E-3},3,35,30,15,16.8,41,30,79,"low","DPAK",52,null,{"$f":"IF(T18>Circuit1!$B$10, A18,\"X-CELL\")","v":"NTD4904N"},"NTD4909N","NTD4909N"]
["NTD4906N",6.5,1932,642,18,5.8999999999999995,1.6,0.85,52,1,58,{"$f":"1/150","v":6.6666666666666671E-3},4.5999999999999996,25,30,15,11,24,30,54,"low","DPAK",37.5,null,{"$f":"IF(T19>Circuit1!$B$10, A19,\"X-CELL\")","v":"NTD4906N"},"NTD4910N","NTD4910N"]
["NTD4909N",9.5,1314,487,1.3,4.3,1.7,0.8,52,1,58.2,6.6699999999999997E-3,6.5,20,30,15,7.6,17.5,30,41,"low","DPAK",29.4,null,{"$f":"IF(T20>Circuit1!$B$10, A20,\"X-CELL\")","v":"NTD4909N"},"NTD4913N","NTD4913N"]
["NTD4910N",10.6,1203,460,1.0999999999999999,3.9000000000000004,1.6,0.8,40,1,58.5,6.6699999999999997E-3,7.5,17,30,15,6.8,15.4,30,37,"low","DPAK",27.3,null,{"$f":"IF(T21>Circuit1!$B$10, A21,\"X-CELL\")","v":"NTD4910N"},"NTD4960N","NTD4960N"]
["NTD4913N",12.5,1012.9999999999999,370,0.9,3.7,1.67,0.9,39,1,59,{"$f":"1.1/150","v":7.3333333333333341E-3},8.2000000000000011,15,30,15,6.2,13,30,32,"low","DPAK",24,null,{"$f":"IF(T22>Circuit1!$B$10, A22,\"X-CELL\")","v":"NTD4913N"},"NTD4963N","NTD4963N"]
["NTD4960N",10,1300,342,4.7,4,2,0.8,48,1,74.5,{"$f":"0.7/150","v":4.6666666666666662E-3},6.1000000000000005,4,30,15,11,22,30,55,"both","DPAK",35.700000000000003,null,{"$f":"IF(T23>Circuit1!$B$10, A23,\"X-CELL\")","v":"NTD4960N"},"NTD4965N","NTD4965N"]
["NTD4963N",13.6,1.3499999999999999,220,3.5,3.5,2,0.85,40,1,77,{"$f":"0.65/150","v":4.3333333333333331E-3},8.2000000000000011,6,30,15,8.1,16.2,30,44,"both","DPAK",35.700000000000003,null,{"$f":"IF(T24>Circuit1!$B$10, A24,\"X-CELL\")","v":"NTD4963N"},"NTD4969N","NTD4969N"]
["NTD4965N",5.3,1710,664,8.5,5.1000000000000005,1.8,0.8,52,1,57.6,5.0000000000000001E-3,3.4,16,30,15,17.2,28.2,30,64,"both","DPAK",38.5,null,{"$f":"IF(T25>Circuit1!$B$10, A25,\"X-CELL\")","v":"NTD4965N"},"NTD4970N","NTD4970N"]
["NTD4969N",13.2,837,347,4.8,2.8,1.8,0.85,36,1,58.6,5.0000000000000001E-3,6.8999999999999995,8,30,15,9,16.5,30,40,"both","DPAK",26.3,null,{"$f":"IF(T26>Circuit1!$B$10, A26,\"X-CELL\")","v":"NTD4969N"},"NTMFS4821N","NTMFS4821N"]
["NTD4970N",13.2,774,306,4,3,1.9,0.9,34,0.8,58.9,{"$f":"0.725/150","v":4.8333333333333336E-3},8.2000000000000011,7,30,15,8.1999999999999993,15.8,30,38,"both","DPAK",22,null,{"$f":"IF(T27>Circuit1!$B$10, A27,\"X-CELL\")","v":"NTD4970N"},"NTMFS4825NFE","NTMFS4825NFE"]
["NTMFS4821N",8.4,1400,282,3.8000000000000003,4.1000000000000005,1.8,0.85,54,1.1000000000000001,58.3,5.4000000000000003E-3,5.2,2,30,15,10.7,25,30,58.5,"both","SO−8FL"]
["NTMFS4823N",15.100000000000001,795,163,2.5,2.6,1.9,0.85,26,1,59.4,{"$f":"0.75/125","v":6.0000000000000001E-3},9.1,0.6,30,15,6,13,30,30,"both","SO−8FL",38.5,null,{"$f":"IF(T28>Circuit1!$B$10, A28,\"X-CELL\")","v":"NTMFS4821N"},"NTMFS4833N","NTMFS4833N"]
["NTMFS4825NFE",2,5660,1150,13.399999999999999,15.3,2,0.35,90,0.7,45.7,{"$f":"0.625/125","v":5.0000000000000001E-3},1.3,34,23,15,40.200000000000003,83.6,30,171,"low","SO−8FL",32.5,null,{"$f":"IF(T29>Circuit1!$B$10, A29,\"X-CELL\")","v":"X-CELL"},"NTMFS4834N","NTMFS4834N"]
["NTMFS4826NE",6.5,1850,333,4.5,5.1000000000000005,1.8,0.8,62,0.9,57.8,{"$f":"0.55/125","v":4.4000000000000003E-3},4.2,3.5,30,15,13.5,32,30,66,"both","SO−8FL",2.74,null,{"$f":"IF(T30>Circuit1!$B$10, A30,\"X-CELL\")","v":"NTMFS4825NFE"},"NTMFS4835N","NTMFS4835N"]
["NTMFS4833N",2.2999999999999998,5600,1200,17,16,2,0.7,30,1,53.2,{"$f":"0.7/125","v":5.5999999999999999E-3},1.3,36,30,15,39,88,30,191,"both","SO−8FL",2.16,null,{"$f":"IF(T31>Circuit1!$B$10, A31,\"X-CELL\")","v":"NTMFS4826NE"},"NTMFS4836N","NTMFS4836N"]
["NTMFS4834N",3.4,4500,960,11,12,2,0.75,35.200000000000003,1.4,54,{"$f":"0.6/125","v":4.7999999999999996E-3},2.5,25.9,30,15,32,74,30,130,"both","SO−8FL",125,null,{"$f":"IF(T32>Circuit1!$B$10, A32,\"X-CELL\")","v":"NTMFS4833N"},"NTMFS4837NH","NTMFS4837NH"]
["NTMFS4835N",3.9,3100,670,8.7999999999999989,8.3000000000000007,1.9,0.75,21,1,55.1,{"$f":"0.65/125","v":5.1999999999999998E-3},2.5,18,30,15,22,52,30,104,"both","SO−8FL",86.2,null,{"$f":"IF(T33>Circuit1!$B$10, A33,\"X-CELL\")","v":"NTMFS4834N"},"NTMFS4839NH","NTMFS4839NH"]
["NTMFS4836N",4.8,2677,565,8,8,2,0.8,24,1.2,55.6,{"$f":"0.7/125","v":5.5999999999999999E-3},2.8,16,30,15,20,45,30,90,"both","SO−8FL",62.5,null,{"$f":"IF(T34>Circuit1!$B$10, A34,\"X-CELL\")","v":"NTMFS4835N"},"NTMFS4841N","NTMFS4841N",null,"This FET has  Independent Pin-Out for MOSFET and Schottky"]
["NTMFS4837NH",6.4,2234,450,6.6000000000000005,6.4,2.1,0.8,67,0.9,56.6,{"$f":"0.7/125","v":5.5999999999999999E-3},3.7,8,30,15,15.9,34.4,30,75,"both","SO−8FL",55.6,null,{"$f":"IF(T35>Circuit1!$B$10, A35,\"X-CELL\")","v":"NTMFS4836N"},"NTMFS4841NH","NTMFS4841NH"]
["NTMFS4839NH",7.8,1744,355,5.4,5.2,2.1,0.8,60,0.9,57.6,{"$f":"0.65/120","v":5.4166666666666669E-3},4.3,6.3,30,15,12.9,31,30,64,"both","SO−8FL",48,null,{"$f":"IF(T36>Circuit1!$B$10, A36,\"X-CELL\")","v":"NTMFS4837NH"},"NTMFS4845N","NTMFS4845N"]
["NTMFS4841N",8.5,1436,348,5.1000000000000005,5,2,0.82499999999999996,16,3.2,57.7,{"$f":"0.8/125","v":6.4000000000000003E-3},4.5999999999999996,10.7,30,15,11.5,25.4,30,57,"both","SO−8FL",42.4,null,{"$f":"IF(T37>Circuit1!$B$10, A37,\"X-CELL\")","v":"NTMFS4839NH"},"NTMFS4846N","NTMFS4846N"]
["NTMFS4841NH",8.5,1565,325,4.5,5.3000000000000007,2.1,0.82499999999999996,57,0.9,57.8,{"$f":"0.5/95","v":5.263157894736842E-3},4.8,6.7,30,15,11.3,22.4,30,59,"both","SO−8FL",41.7,null,{"$f":"IF(T38>Circuit1!$B$10, A38,\"X-CELL\")","v":"NTMFS4841N"},"NTMFS4847N","NTMFS4847N"]
["NTMFS4845N",3.4,3720,650,8.6,9.4,1.8,0.75,87,1.3,55.1,{"$f":"0.65/125","v":5.1999999999999998E-3},2.2000000000000002,9,30,15,25.6,62,30,115,"both","SO−8FL",41.7,null,{"$f":"IF(T39>Circuit1!$B$10, A39,\"X-CELL\")","v":"NTMFS4841NH"},"NTMFS4851N","NTMFS4851N"]
["NTMFS4846N",3.8,3250,562,7.4,8.1,1.8,0.75,85,1.4,55.6,{"$f":"0.6/125","v":4.7999999999999996E-3},2.4,8.5,30,15,12.8,53,30,100,"both","SO−8FL",62.5,null,{"$f":"IF(T40>Circuit1!$B$10, A40,\"X-CELL\")","v":"NTMFS4845N"},"NTMFS4852N","NTMFS4852N"]
["NTMFS4847N",5,2614,466.00000000000006,6.1,7.3,1.8,0.75,74,0.9,56.6,{"$f":"0.6/125","v":4.7999999999999996E-3},3.2,6,30,15,19.2,43.8,30,85,"both","SO−8FL",55.5,null,{"$f":"IF(T41>Circuit1!$B$10, A41,\"X-CELL\")","v":"NTMFS4846N"},"NTMFS4897N","NTMFS4897N"]
["NTMFS4851N",6.5,1850,333,4.5,5.1000000000000005,1.8,0.8,65,0.9,57.8,{"$f":"0.55/125","v":4.4000000000000003E-3},4.2,3.5,30,15,13.5,32,30,66,"both","SO−8FL",48.1,null,{"$f":"IF(T42>Circuit1!$B$10, A42,\"X-CELL\")","v":"NTMFS4847N"},"NTMFS4898N","NTMFS4898N"]
["NTMFS4852N",2.4,4970,970,11.3,13,1.8,0.8,47,1,54,{"$f":"0.7/125","v":5.5999999999999999E-3},1.6,28.6,30,15,34.299999999999997,71.3,30,155,"both","SO−8FL",41.7,null,{"$f":"IF(T43>Circuit1!$B$10, A43,\"X-CELL\")","v":"NTMFS4851N"},"NTMFS4899N","NTMFS4899N"]
["NTMFS4897NF",2,5660,1150,13.399999999999999,15.3,2,0.35,90,0.7,45.7,5.1999999999999998E-3,1.3,34,23,15,40.200000000000003,83.6,30,171,"low","SO−8FL",86.2,null,{"$f":"IF(T44>Circuit1!$B$10, A44,\"X-CELL\")","v":"NTMFS4852N"},"NTMFS4921N","NTMFS4921N"]
["NTMFS4898NF",3.4,3233,700,9,10,2,0.7,77,1.4,46,{"$f":"0.8/125","v":6.4000000000000003E-3},2.2000000000000002,17.3,30,15,24.5,49.5,30,117,"low","SO−8FL",125,null,{"$f":"IF(T45>Circuit1!$B$10, A45,\"X-CELL\")","v":"NTMFS4897NF"},"NTMFS4923NE","NTMFS4923NE"]
["NTMFS4899NF",5.8,1600,360,4.5999999999999996,4.5999999999999996,2,0.75,57,1.5,46.3,{"$f":"0.7/125","v":5.5999999999999999E-3},3.8,5.7,30,15,12.2,25,30,75,"low","SO−8FL",74,null,{"$f":"IF(T46>Circuit1!$B$10, A46,\"X-CELL\")","v":"NTMFS4898NF"},"NTMFS4925N","NTMFS4925N"]
["NTMFS4921N",8.4,1400,282,3.8000000000000003,4.1000000000000005,1.8,0.85,54,1.1000000000000001,58.3,5.1999999999999998E-3,5.2,2,30,15,10.7,25,30,58.5,"both","SO−8FL",7.18,null,{"$f":"IF(T47>Circuit1!$B$10, A47,\"X-CELL\")","v":"NTMFS4899NF"},"NTMFS4926N","NTMFS4926N"]
["NTMFS4923NE",3.7,3579,1264,3,10.200000000000001,1.63,0.8,32,1.1000000000000001,47.5,{"$f":"0.75/125","v":6.0000000000000001E-3},2.7,45,30,15,22,49.4,30,91,"low","SO−8FL",5.6,null,{"$f":"IF(T48>Circuit1!$B$10, A48,\"X-CELL\")","v":"NTMFS4921N"},"NTMFS4927N","NTMFS4927N"]
["NTMFS4925N",6.4,1264,483,4.2,3.8000000000000003,1.7,0.86,52,0.8,46.3,5.1999999999999998E-3,4,13.6,30,15,10.8,21.5,30,80.5,"both","SO−8FL",2.63,null,{"$f":"IF(T49>Circuit1!$B$10, A49,\"X-CELL\")","v":"NTMFS4923NE"},"NTMFS4933N","NTMFS4933N"]
["NTMFS4926N",7.5,1004,390,3.5,3,1.6,0.87,40,1,46.3,5.1999999999999998E-3,4.8,8,30,15,8.6999999999999993,17.3,30,74.599999999999994,"both","SO−8FL",66.14,null,{"$f":"IF(T50>Circuit1!$B$10, A50,\"X-CELL\")","v":"NTMFS4925N"},"NTMFS4934N","NTMFS4934N"]
["NTMFS4927N",8.5,913,366,3.1,3.1,1.6,0.87,40,0.9,46.3,5.1999999999999998E-3,5.3,8.4,30,15,8,16,30,65.8,"both","SO−8FL",66.14,null,{"$f":"IF(T51>Circuit1!$B$10, A51,\"X-CELL\")","v":"NTMFS4926N"},"NTMFS4935N","NTMFS4935N"]
["NTMFS4933N",1.5,10930,3230,10.1,21,1.6,0.75,82,1.1000000000000001,45.7,{"$f":"1/125","v":8.0000000000000002E-3},0.9,117,30,15,62.1,148,30,166,"low","SO−8FL",66.14,null,{"$f":"IF(T52>Circuit1!$B$10, A52,\"X-CELL\")","v":"NTMFS4927N"},"NTMFS4936N","NTMFS4936N"]
["NTMFS4934N",2.2000000000000002,5505,2355,8.1,13.9,1.6,0.75,80,0.8,46,{"$f":"0.6/125","v":4.7999999999999996E-3},1.45,70,30,15,34,76.5,30,147,"low","SO−8FL",104,null,{"$f":"IF(T53>Circuit1!$B$10, A53,\"X-CELL\")","v":"NTMFS4933N"},"NTMFS4937N","NTMFS4937N"]
["NTMFS4935N",3.7,3579,1265,3,10.200000000000001,1.63,0.8,32,1.1000000000000001,47.5,{"$f":"0.75/125","v":6.0000000000000001E-3},2.7,45,30,15,22,49.4,30,93,"low","SO−8FL",2.72,null,{"$f":"IF(T54>Circuit1!$B$10, A54,\"X-CELL\")","v":"NTMFS4934N"},"NTMFS4939N","NTMFS4939N"]
["NTMFS4936N",3.9,3044,1014,2.4,9.1999999999999993,1.6,0.8,50,1.1000000000000001,47.7,5.5999999999999999E-3,2.9,36,30,15,19,43,30,79,"low","SO−8FL",48,null,{"$f":"IF(T55>Circuit1!$B$10, A55,\"X-CELL\")","v":"NTMFS4935N"},"NTMFS4941N","NTMFS4941N"]
["NTMFS4937N",5,2516,840,2.1999999999999997,7.6000000000000005,1.63,0.85,37,1.1000000000000001,48,{"$f":"0.9/1250","v":7.2000000000000005E-4},3.5,35,30,15,15.9,31,30,70,"low","SO−8FL",43,null,{"$f":"IF(T56>Circuit1!$B$10, A56,\"X-CELL\")","v":"NTMFS4936N"},"NTMFS4943N","NTMFS4943N"]
["NTMFS4939N",6,1954,642,2.5,6,1.6,0.8,34,1.1000000000000001,48.5,{"$f":"0.95/125","v":7.6E-3},4.1000000000000005,26,30,15,12.8,28.5,30,53,"low","SO−8FL",43,null,{"$f":"IF(T57>Circuit1!$B$10, A57,\"X-CELL\")","v":"NTMFS4937N"},"NTTFS4821N","NTTFS4821N"]
["NTMFS4941N",7.1000000000000005,1650,570,1.64,5.7,1.67,0.85,32,1.1000000000000001,48.8,{"$f":"0.9/125","v":7.1999999999999998E-3},4.7,25,30,15,11.3,25.5,30,47,"low","SO−8FL",30,null,{"$f":"IF(T58>Circuit1!$B$10, A58,\"X-CELL\")","v":"NTMFS4939N"},"NTTFS4823N","NTTFS4823N"]
["NTMFS4943N",8.1999999999999993,1401,446,1.9000000000000001,4.4000000000000004,1.66,0.85,32,1.1000000000000001,49.1,{"$f":"0.85/125","v":6.7999999999999996E-3},5.8,10,30,15,9.1999999999999993,20.9,30,41,"low","SO−8FL",25.5,null,{"$f":"IF(T59>Circuit1!$B$10, A59,\"X-CELL\")","v":"NTMFS4941N"},"NTTFS4824N","NTTFS4824N"]
["NTMS4800N",20,940.00000000000011,225,3.2,3.2,2.25,0.75,21,1.5,62.5,{"$f":"0.55/125","v":4.4000000000000003E-3},12.5,8,2,15,7.7,15.2,30,6.4,"both","SOIC−8",22.3,null,{"$f":"IF(T60>Circuit1!$B$10, A60,\"X-CELL\")","v":"NTMFS4943N"},"NTTFS4928N","NTTFS4928N"]
["NTMS4801N",9.5,1630,288,4.0999999999999996,5.4,2,0.75,26,1.1000000000000001,60.5,{"$f":"0.6/125","v":4.7999999999999996E-3},7,13,2.1,15,12.2,25,30,9.9,"both","SOIC−8",1.29,null,{"$f":"IF(T61>Circuit1!$B$10, A61,\"X-CELL\")","v":"X-CELL"},"NTTFS4929N","NTTFS4929N"]
["NTMS4802N",4.3,5300,880,13,14,2,0.7,55,1,75.5,{"$f":"0.8/125","v":6.4000000000000003E-3},3.2,40,2.5,15,36,75,30,15,"both","SOIC−8",1.41,null,{"$f":"IF(T62>Circuit1!$B$10, A62,\"X-CELL\")","v":"X-CELL"},"NTTFS4932N","NTTFS4932N"]
["NTMS4807N",6.5,2900,562,10.4,7.6999999999999993,2.25,0.75,16,0.9,80.5,4.0000000000000001E-3,5.0999999999999996,23,2.9,15,24,46,30,12.2,"both","SOIC−8",1.66,null,{"$f":"IF(T63>Circuit1!$B$10, A63,\"X-CELL\")","v":"X-CELL"},"NTTFS4937N","NTTFS4937N"]
["NTMS4816N",12.7,1060,220,3.8000000000000003,4.4000000000000004,2.25,0.75,26,1.5,91.5,4.0000000000000001E-3,8.1999999999999993,9,2.7,15,9.1999999999999993,18.3,30,9,"both","SOIC−8",0.86,null,{"$f":"IF(T64>Circuit1!$B$10, A64,\"X-CELL\")","v":"X-CELL"},"NTTFS4939N","NTTFS4939N"]
["NTMS4873NF",12,1275,345,3.9000000000000004,3.7,1.8,0.5,22,1.5,89.9,{"$f":"0.45/125","v":3.5999999999999999E-3},9,9,10,15,10.5,20.399999999999999,30,11.7,"low","SOIC−8",1.37,null,{"$f":"IF(T65>Circuit1!$B$10, A65,\"X-CELL\")","v":"X-CELL"},"NTTFS4941N","NTTFS4941N"]
["NTMS4916N",9,1376,401,6.5,4,1.7,0.75,23,0.77,96,{"$f":"0.65/125","v":5.1999999999999998E-3},6.75,20,2,15,15,28,30,11.4,"both","SOIC−8",2.4500000000000002,null,{"$f":"IF(T66>Circuit1!$B$10, A66,\"X-CELL\")","v":"X-CELL"},"NVMFS4841N",{"$f":"IF(Z67=\"X-CELL\",\"\", Z67)","v":"NVMFS4841N"}]
["NTMS4917N",11.25,1054,325,7,4.2,1.7,0.75,19,0.7,97.1,{"$f":"0.6/125","v":4.7999999999999996E-3},8.25,20,2,15,15.6,29,30,10.5,"both","SOIC−8",1.98,null,{"$f":"IF(T67>Circuit1!$B$10, A67,\"X-CELL\")","v":"X-CELL"},"X-CELL",""]
["NTMS4920N",4.5999999999999996,4067.9999999999995,1170,3.8000000000000003,10.4,2.25,0.7,30.8,0.4,85.5,{"$f":"0.7/125","v":5.5999999999999999E-3},3.6,65,2,15,26.3,58.9,30,17,"low","SOIC−8",1.95,null,{"$f":"IF(T68>Circuit1!$B$10, A68,\"X-CELL\")","v":"X-CELL"},"X-CELL",""]
["NTMS4935N",5.3,3639,971.00000000000011,3.8000000000000003,9.6999999999999993,1.75,0.75,28,0.5,91.9,{"$f":"0.6/125","v":4.7999999999999996E-3},4.2,57,2,15,23.3,52.1,30,16,"low","SOIC−8",2.12,null,{"$f":"IF(T69>Circuit1!$B$10, A69,\"X-CELL\")","v":"X-CELL"},"X-CELL",""]
["NTMS4937N",7.1,2563,715,3.3,6.6,1.75,0.75,27.3,0.4,91.9,{"$f":"0.7/125","v":5.5999999999999999E-3},5.4,38,2,15,17.399999999999999,38.5,30,13.6,"low","SOIC−8",2.1,null,{"$f":"IF(T70>Circuit1!$B$10, A70,\"X-CELL\")","v":"X-CELL"},"X-CELL",""]
["NTMS4939N",9,2000.0000000000002,620,1.85,5.3,1.75,0.75,23.8,0.4,92.7,{"$f":"0.65/125","v":5.1999999999999998E-3},7,32,2,15,12.4,25,30,12.5,"low","SOIC−8",2,null,{"$f":"IF(T71>Circuit1!$B$10, A71,\"X-CELL\")","v":"X-CELL"},"X-CELL",""]
["NTTFS4821N",8.6,1300,300,4.5,3.9000000000000004,1.9,0.8,53,0.6,58.3,{"$f":"0.7/125","v":5.5999999999999999E-3},5.7,1.7,20,15,10.5,24,30,57,"both","u-8FL",2,null,{"$f":"IF(T72>Circuit1!$B$10, A72,\"X-CELL\")","v":"X-CELL"},"X-CELL",""]
["NTTFS4823N",13,750,175,2.9,2.5,1.9,0.9,34,0.65,59.4,{"$f":"0.6/125","v":4.7999999999999996E-3},8,4,20,15,6.5,15,30,50,"both","u-8FL",2.1,null,{"$f":"IF(T73>Circuit1!$B$10, A73,\"X-CELL\")","v":"NTTFS4821N"},"X-CELL",""]
["NTTFS4824N",5.7,1750,350,4.8,4.7,1.9,0.85,53,0.9,57.7,{"$f":"0.55/125","v":4.4000000000000003E-3},3.6,10,20,15,12.6,29,30,69,"both","u-8FL",2.1,null,{"$f":"IF(T74>Circuit1!$B$10, A74,\"X-CELL\")","v":"NTTFS4823N"},"X-CELL",""]
["NTTFS4928N",8.5,913,366,3.1,3.1,1.6,0.85,40,0.9,59.1,{"$f":"0.6/125","v":4.7999999999999996E-3},5.3,8.4,20,15,8,16,30,41,"both","u-8FL",2.2000000000000002,null,{"$f":"IF(T75>Circuit1!$B$10, A75,\"X-CELL\")","v":"NTTFS4824N"},"X-CELL",""]
["NTTFS4929N",12.7,920,337,4.4000000000000004,2.8,1.6,0.9,26,0.6,59.2,{"$f":"0.55/125","v":4.4000000000000003E-3},8.8000000000000007,9.1,20,15,8.8000000000000007,16.3,30,34,"both","u-8FL",22.7,null,{"$f":"IF(T76>Circuit1!$B$10, A76,\"X-CELL\")","v":"NTTFS4928N"},"X-CELL",""]
["NTTFS4930N",22.7,476,175,2.2999999999999998,1.5,1.6,0.8,13,0.6,60.7,5.0000000000000001E-3,15,0,20,15,4.5999999999999996,8.4,30,23,"both","u-8FL",22.3,null,{"$f":"IF(T77>Circuit1!$B$10, A77,\"X-CELL\")","v":"NTTFS4929N"},"X-CELL",""]
["NTTFS4932N",3.6,3111,1.64,3.3,8.9,1.6,0.8,46,1.1000000000000001,56.5,{"$f":"0.7/125","v":5.5999999999999999E-3},2.5,37.5,20,15,20,46.5,30,79,"low","u-8FL",20.2,null,{"$f":"IF(T78>Circuit1!$B$10, A78,\"X-CELL\")","v":"X-CELL"},"X-CELL",""]
["NTTFS4937N",4.8,2540,893,1.9000000000000001,7.6000000000000005,1.6,0.85,37,1.1000000000000001,55.9,{"$f":"0.9/125","v":7.1999999999999998E-3},3.4,33,20,15,15.7,37.5,30,75,"low","u-8FL",2.2000000000000002,null,{"$f":"IF(T79>Circuit1!$B$10, A79,\"X-CELL\")","v":"NTTFS4932N"},"X-CELL",""]
["NTTFS4939N",5.9,1979,711,1.8,6,1.7,0.85,35,1.1000000000000001,56.5,8.0000000000000002E-3,4.0999999999999996,28,20,15,12.4,28,30,56,"low","u-8FL",4.5999999999999996,null,{"$f":"IF(T80>Circuit1!$B$10, A80,\"X-CELL\")","v":"NTTFS4937N"},"X-CELL",""]
["NTTFS4941N",7,1619,573,1.3,4.9000000000000004,1.7,0.85,33,1.1000000000000001,57,8.0000000000000002E-3,4.8,22,20,15,10.1,22.8,30,46,"low","u-8FL",4.4800000000000004,null,{"$f":"IF(T81>Circuit1!$B$10, A81,\"X-CELL\")","v":"NTTFS4939N"},"X-CELL",""]
["NVMFS4841N",9.1999999999999993,1436,348,5.0999999999999996,5,2,0.85,16,2,41,{"$f":"0.9/150","v":6.0000000000000001E-3},4.7,10.7,30,15,11.5,25.4,30,89,"both","SO−8FL",4.42,null,{"$f":"IF(T82>Circuit1!$B$10, A82,\"X-CELL\")","v":"NTTFS4941N"},"X-CELL",""]
["NVTFS4823N",13.5,750,175,2.4,2.4,2,0.85,34,2,47,{"$f":"0.8/150","v":5.333333333333334E-3},8.1,5,15,15,6,12,30,30,"both","u-8FL",112,null,{"$f":"IF(T83>Circuit1!$B$10, A83,\"X-CELL\")","v":"NVMFS4841N"},"X-CELL",""]
["NTMFS4983NF",2.5,null,1340,6.9,7,1.7,0.4,60,1,40,4.7999999999999996E-3,1.6,50,2,15,22.6,47.9,null,100,"low","SO−8FL",21,null,{"$f":"IF(T84>Circuit1!$B$10, A84,\"X-CELL\")","v":"X-CELL"},"X-CELL",""]
["NTTFS4985NF",4.13,null,876,4.0999999999999996,5.8,1.6,0.4,3.4,1,46.4,4.7999999999999996E-3,2.8,32,2,15,13.6,29.4,null,64,"low","u-8FL",null,null,{"$f":"IF(V86>Circuit1!$B$10, A86,\"X-CELL\")","v":"NTTFS4985NF"},"X-CELL",""]
["NTMFS4985NF",4,null,900,4.2,5.9,1.6,0.4,43,1,41.15,4.7999999999999996E-3,2.7,32,2,15,14.2,30.5,null,65,"low","SO−8FL",null,null,{"$f":"IF(V87>Circuit1!$B$10, A87,\"X-CELL\")","v":"NTMFS4985NF"},"X-CELL",""]
["NTMFS4C05",4,null,1215,5,6,1.7,0.77,68,0.69,48.6,4.8799999999999998E-3,2.7,30.2,30,15,14,30,null,50,"both","SO-8FL",null,null,{"$f":"IF(V88>Circuit1!$B$10, A88,\"X-CELL\")","v":"NTMFS4C05"},"X-CELL",""]
["NTMFS4C06",4.8,null,841,4,4.7,1.7,0.8,58,1,49,5.1999999999999998E-3,3.2,22,30,15,11.6,26,null,69,"both","SO-8FL",null,null,{"$f":"IF(V89>Circuit1!$B$10, A89,\"X-CELL\")","v":"NTMFS4C06"},"X-CELL",""]
["NTMFS4C08",6.8,null,702,3.3,3.5,1.7,0.79,42,1,49.8,4.7200000000000002E-3,4.5999999999999996,15.3,30,15,8.4,18.2,null,50,"both","SO-8FL",null,null,{"$f":"IF(V90>Circuit1!$B$10, A90,\"X-CELL\")","v":"NTMFS4C08"},"X-CELL",""]
["NTMFS4C09",6.8,null,610,5.4,3.4,1.7,0.79,50,1,49.8,5.1999999999999998E-3,4.5999999999999996,15,30,15,10.9,22.2,null,52,"both","SO-8FL",null,null,{"$f":"IF(V91>Circuit1!$B$10, A91,\"X-CELL\")","v":"NTMFS4C09"},"X-CELL",""]
["NTMFS4C10",8.9,null,574,3.7,2.7,1.7,0.8,43,0.68,50.3,4.64E-3,5.8,13.7,30,15,9.8000000000000007,18.899999999999999,null,50,"both","SO-8FL",null,null,{"$f":"IF(V92>Circuit1!$B$10, A92,\"X-CELL\")","v":"NTMFS4C10"},"X-CELL",""]
["NTMFS4C13",11.4,null,443,3.7,2.9,1.7,0.82,40,1,50.8,4.7999999999999996E-3,7.3,9.6999999999999993,30,15,7.8,15.2,null,50,"both","SO-8FL",null,null,{"$f":"IF(V93>Circuit1!$B$10, A93,\"X-CELL\")","v":"NTMFS4C13"},"X-CELL",""]
["NTTFS4C05",4.0999999999999996,null,1224,5.5,5.2,1.75,0.77,68,1,57.8,4.96E-3,2.9,34.4,30,15,14.5,31,null,75,"both","u-8FL",null,null,{"$f":"IF(V94>Circuit1!$B$10, A94,\"X-CELL\")","v":"NTTFS4C05"},"X-CELL",""]
["NTTFS4C10",8.8000000000000007,null,574,6.1,2.6,1.75,0.8,43,1,59.9,4.64E-3,5.9,8.3000000000000007,30,15,10.1,19.3,null,44,"both","u-8FL",null,null,{"$f":"IF(V95>Circuit1!$B$10, A95,\"X-CELL\")","v":"NTTFS4C10"},"X-CELL",""]
["NTTFS4C25",21,null,295,2.7,1.7,1.75,0.87,23,1,76.7,4.64E-3,13,5.7,30,15,5.0999999999999996,10.3,null,27,"both","u-8FL",null,null,{"$f":"IF(V96>Circuit1!$B$10, A96,\"X-CELL\")","v":"NTTFS4C25"},"X-CELL",""]
[null,null,null,null,null,null,null,null,null,null,null,null,null,null,null,null,null,null,null,null,null,null,null,null,{"$f":"IF(V97>Circuit1!$B$10, A97,\"X-CELL\")","v":"X-CELL"},"X-CELL",""]
[]
[]
[]
[]
[]
[]
[]
[]
[]
[]
[]
[]
[]
[]
[]
[]
[]
[]
[]
[]
[null,null,null,null,null,null,null,null,null,null,null,null,null,null,null,null,null,null,null,null,null,null,null,null,{"$f":"IF(V118>Circuit1!$B$10, A118,\"X-CELL\")","v":"X-CELL"},"X-CELL",""]
[null,null,null,null,null,null,null,null,null,null,null,null,null,null,null,null,null,null,null,null,null,null,null,null,{"$f":"IF(V119>Circuit1!$B$10, A119,\"X-CELL\")","v":"X-CELL"},"X-CELL",""]
[null,null,null,null,null,null,null,null,null,null,null,null,null,null,null,null,null,null,null,null,null,null,null,null,{"$f":"IF(V120>Circuit1!$B$10, A120,\"X-CELL\")","v":"X-CELL"},"X-CELL",""]

{"sheet":"Drivers","index":16,"n_rows":5,"n_cols":8,"rows_kept":5,"cut":false,"hidden":false,"merged":[]}
["Driver ","Maxim Driver Voltage Vdr (V)","Enter Sourcing Resistance @ HS Ω","Enter Sinking Resistance @ HS (Ω)","Enter Rise Delay TimetpdhDRVH (ns)","Enter Fall Delay Time tpdlDRVH (ns)","Enter External Gate Resistance Rgex (Ω)","Enter Quiescent Current (mA)"]
["NCP5911",6.5,0.9,0.7,{"$f":"0.00000003*1000000000","v":29.999999999999996},15,0,1]
["NCP5901",15,2,1,{"$f":"0.000000027*1000000000","v":27},20,0,2.2000000000000002]
["NCP5359A",15,2,1,{"$f":"0.00000002*1000000000","v":20},20,0,5]
["NCP3418",15,1.8,1,30,25,0,0]

{"sheet":"RevisionHistory","index":17,"n_rows":9,"n_cols":1,"rows_kept":9,"cut":false,"hidden":false,"merged":[]}
["Revision History"]
[]
["Version 1.0 (Sept 1st 2011)"]
[]
["Initial release for MS Office 2007."]
["Version 2.0 (Jan 11th 2012)"]
[]
["Version 3.1 (Jan 18th 2013) "]
["Combine MOSFET Efficiency Simulator and Selector together for customers."]